{"text_format":"1","workbook":"xlsx","n_sheets":27,"sheets":["Instructions","Raw Data","Journal","Daily Snapshot","Calculations","Scatter Plot","Profitability R's","5 ORB Edge","15 ORB Edge","MA Edge","Calendar","Trades","Trade Analysis","Psychology Analysis","Sample Set","Rule Following","Weekly Report","Monthly Report","Yearly Report","Total Report","Dashboard","Performance","Overall Stats","Detailed Stats","Updating Fields","Demon Finder","About"],"not_rendered":{"charts":181,"images":12,"macros":1,"external_links":4,"defined_names":144,"comments":0,"pivot_tables":0},"unopened":[],"bounds":{"document_bytes":16777216,"sheet_cells":100000,"rows_first":2000,"rows_last":500,"rows_between":2000,"halvings":0,"cell_chars":16384,"cell_head_chars":4096},"cells_cut":0,"cells_raw":0,"read":"whole","date_system":"1900"}

{"sheet":"Instructions","index":0,"n_rows":20,"n_cols":23,"rows_kept":20,"cut":false,"hidden":false,"merged":[[49,24,49,33],[0,4,4,16],[5,4,5,13],[6,8,6,10],[15,20,16,27],[20,15,22,21],[36,24,36,33],[22,24,22,33],[0,20,0,21],[0,22,0,24],[17,3,17,12],[19,3,19,12]]}
[null,null,null,null,"Total Trader - the best free trading journal",null,null,null,null,null,null,null,null,null,null,null,null,"v2.0",null,null,"Enter account start balance:",null,25000]
[]
[]
[]
[null,null,null,null,null,null,null,null,null,null,null,null,null,null,null,null,null,null,null,"Today is:",{"$f":"TODAY()","v":"2020-05-12"}]
[null,null,null,null,"© Copyright 2018 Bart Puszko "]
[null,null,null,null,null,null,null,null,"http://daytradearcade.com",null,null,null,null,null,null,null,null,"Enter date for trades below:",null,"format must be dd-mmm-yyyy"]
[null,null,null,"1. Instructions: "]
[null,null,null,"1) Copy your raw data to Raw Data (excluding headers)"]
[null,null,null,"2) Don't delete the existing top headers from Raw Data"]
[null,null,null,"3) Add date to textbox provided on this sheet",null,null,null,null,null,null,null,null,null,null,null,null,null,null,null,null,"Runs the macro and updates your stats and charts"]
[null,null,null,"4) Click Enable Links so that you can link your charts to particular trades"]
[null,null,null,"5) Click Analyze Data",null,null,null,null,null,null,null,null,null,null,null,null,null,null,null,null,"Clears all data from Raw Data"]
[]
[null,null,null,null,null,null,null,null,null,null,null,null,null,null,null,null,null,null,null,null,"Turns on URL links to link your charts"]
[null,null,null,null,null,null,null,null,null,null,null,null,null,null,null,null,null,null,null,null,"Note: you don't need to enable links every time you analyse your data, but you do need to run again if you get any macro errors."]
[null,null,null,"2. Demon Finder"]
[null,null,null,"Alongside the journal, keep track of your most common errors with the DEMON FINDER"]
[null,null,null,"3. Trader Personality",null,null,null,null,null,null,null,null,null,null,null,null,null,null,null,null,"Disables URL links to your charts"]
[null,null,null,"To choose your trader personality for a trade go to TRADER PERSONALITY"]

{"sheet":"Raw Data","index":1,"n_rows":1,"n_cols":10,"rows_kept":1,"cut":false,"hidden":false,"merged":[]}
["Time","Symb","Side","Price","Qty","Route","Type","P / L",null,"Strategy"]

{"sheet":"Journal","index":2,"n_rows":1445,"n_cols":48,"rows_kept":1445,"cut":false,"hidden":false,"merged":[]}
["Day","Date","Time","Symb","Side","Price","Qty","Route","Type","P / L",null,"Strategy","Direction","Total Profit","R","Comms","CommsTOTAL","Trade Id","W/L","Holding Time (Minutes)","Total Outlay ($) ",null,"Timeframe Chart","Technical setup","Entry Grade","Exit Grade","Size + Management Grade","Total Grade","Rules Broken #1","Rules Broken #2","Rules Broken #3","Description","Lessons from this trade","What to do for the next trade","Trader Personality",null,null,null,"for price performance-TRADE?","for price performance-PRICE","for price performance-PROFIT",null,"NET Profit/Loss per trade - FOR EQUITY CURVE",null,"for hold time in min","for price performance-PROFIT",null,"Strategy for % avg ret."]
["Mon","2020-01-13","14:26:29","AMD","B",48.55,188,"LAMP","Margin",0,null,"MA-X-L","Long",25.380000000000003,null,0.752,1.75,1,"W",77,9127.4,null,null,null,null,null,null,null,null,null,null,null,null,null,null,null,null,null,{"$f":"IF(OR(L2=\"5 Min ORBO\",L2=\"5 Min ORBD\",L2=\"15 Min ORBO\",L2=\"15 Min ORBD\",L2=\"MA-X-L\",L2=\"MA-X-S\",L2=\"FOMO\",L2=\"Revenge\",L2=\"Hot Key Mistake\",L2=\"VWAP Reversal Long\",L2=\"VWAP Reversal Short\",L2=\"VWAP False Breakout Long\",L2=\"VWAP False Breakout Short\",L2=\"S&R Long\",L2=\"S&R Short\",L2=\"Moving Average Long\",L2=\"Moving Average Short\",L2=\"Bearish Engulfing Crack\",L2=\"Top Reversal\",L2=\"ABCD\"),\"Yes\", \"No\")","v":"Yes"},{"$f":"IF(AM2=\"Yes\", F2,\"\")","v":48.55},{"$f":"N2","v":25.380000000000003},null,{"$f":"N2-Q2","v":23.630000000000003},null,{"$f":"T2","v":77},{"$f":"N2","v":25.380000000000003},null,{"$f":"L2","v":"MA-X-L"}]
["Mon","2020-01-13","15:05:04","AMD","S",48.64,94,"SMAT","Margin",8.4600000000000009,null,null,null,null,null,0.5,null,null,null,null,null,null,null,null,null,null,null,null,null,null,null,null,null,null,null,null,null,null,"No","",0,null,0,null,0,0,null,0]
["Mon","2020-01-13","15:43:25","AMD","S",48.73,94,"LAMP","Margin",16.920000000000002,null,null,null,null,null,0.5,null,null,null,null,null,null,null,null,null,null,null,null,null,null,null,null,null,null,null,null,null,null,"No","",0,null,0,null,0,0,null,0]
[null,null,null,null,null,null,null,null,null,null,null,null,null,null,null,null,null,null,null,null,null,null,null,null,null,null,null,null,null,null,null,null,null,null,null,null,null,null,"No",{"$f":"IF(AM5=\"Yes\", F5,\"\")","v":""},{"$f":"N5","v":0},null,{"$f":"N5-Q5","v":0},null,{"$f":"T5","v":0},{"$f":"N5","v":0},null,{"$f":"L5","v":0}]
[null,null,null,null,null,null,null,null,null,null,null,null,null,null,null,null,null,null,null,null,null,null,null,null,null,null,null,null,null,null,null,null,null,null,null,null,null,null,"No","",0,null,0,null,0,0,null,0]
[null,null,null,null,null,null,null,null,null,null,null,null,null,null,null,null,null,null,null,null,null,null,null,null,null,null,null,null,null,null,null,null,null,null,null,null,null,null,"No","",0,null,0,null,0,0,null,0]
[null,null,null,null,null,null,null,null,null,null,null,null,null,null,null,null,null,null,null,null,null,null,null,null,null,null,null,null,null,null,null,null,null,null,null,null,null,null,"No","",0,null,0,null,0,0,null,0]
[null,null,null,null,null,null,null,null,null,null,null,null,null,null,null,null,null,null,null,null,null,null,null,null,null,null,null,null,null,null,null,null,null,null,null,null,null,null,"No","",0,null,0,null,0,0,null,0]
[null,null,null,null,null,null,null,null,null,null,null,null,null,null,null,null,null,null,null,null,null,null,null,null,null,null,null,null,null,null,null,null,null,null,null,null,null,null,"No","",0,null,0,null,0,0,null,0]
[null,null,null,null,null,null,null,null,null,null,null,null,null,null,null,null,null,null,null,null,null,null,null,null,null,null,null,null,null,null,null,null,null,null,null,null,null,null,"No","",0,null,0,null,0,0,null,0]
[null,null,null,null,null,null,null,null,null,null,null,null,null,null,null,null,null,null,null,null,null,null,null,null,null,null,null,null,null,null,null,null,null,null,null,null,null,null,"No","",0,null,0,null,0,0,null,0]
[null,null,null,null,null,null,null,null,null,null,null,null,null,null,null,null,null,null,null,null,null,null,null,null,null,null,null,null,null,null,null,null,null,null,null,null,null,null,"No","",0,null,0,null,0,0,null,0]
[null,null,null,null,null,null,null,null,null,null,null,null,null,null,null,null,null,null,null,null,null,null,null,null,null,null,null,null,null,null,null,null,null,null,null,null,null,null,"No","",0,null,0,null,0,0,null,0]
[null,null,null,null,null,null,null,null,null,null,null,null,null,null,null,null,null,null,null,null,null,null,null,null,null,null,null,null,null,null,null,null,null,null,null,null,null,null,"No","",0,null,0,null,0,0,null,0]
[null,null,null,null,null,null,null,null,null,null,null,null,null,null,null,null,null,null,null,null,null,null,null,null,null,null,null,null,null,null,null,null,null,null,null,null,null,null,"No","",0,null,0,null,0,0,null,0]
[null,null,null,null,null,null,null,null,null,null,null,null,null,null,null,null,null,null,null,null,null,null,null,null,null,null,null,null,null,null,null,null,null,null,null,null,null,null,"No","",0,null,0,null,0,0,null,0]
[null,null,null,null,null,null,null,null,null,null,null,null,null,null,null,null,null,null,null,null,null,null,null,null,null,null,null,null,null,null,null,null,null,null,null,null,null,null,"No","",0,null,0,null,0,0,null,0]
[null,null,null,null,null,null,null,null,null,null,null,null,null,null,null,null,null,null,null,null,null,null,null,null,null,null,null,null,null,null,null,null,null,null,null,null,null,null,"No","",0,null,0,null,0,0,null,0]
[null,null,null,null," ",null,null,null,null,null,null,null,null,null,null,null,null,null,null,null,null,null,null,null,null,null,null,null,null,null,null,null,null,null,null,null,null,null,"No","",0,null,0,null,0,0,null,0]
[null,null,null,null,null,null,null,null,null,null,null,null,null,null,null,null,null,null,null,null,null,null,null,null,null,null,null,null,null,null,null,null,null,null,null,null,null,null,"No","",0,null,0,null,0,0,null,0]
[null,null,null,null,null,null,null,null,null,null,null,null,null,null,null,null,null,null,null,null,null,null,null,null,null,null,null,null,null,null,null,null,null,null,null,null,null,null,"No","",0,null,0,null,0,0,null,0]
[null,null,null,null,null,null,null,null,null,null,null,null,null,null,null,null,null,null,null,null,null,null,null,null,null,null,null,null,null,null,null,null,null,null,null,null,null,null,"No","",0,null,0,null,0,0,null,0]
[null,null,null,null,null,null,null,null,null,null,null,null,null,null,null,null,null,null,null,null,null,null,null,null,null,null,null,null,null,null,null,null,null,null,null,null,null,null,"No","",0,null,0,null,0,0,null,0]
[null,null,null,null,null,null,null,null,null,null,null,null,null,null,null,null,null,null,null,null,null,null,null,null,null,null,null,null,null,null,null,null,null,null,null,null,null,null,"No","",0,null,0,null,0,0,null,0]
[null,null,null,null,null,null,null,null,null,null,null,null,null,null,null,null,null,null,null,null,null,null,null,null,null,null,null,null,null,null,null,null,null,null,null,null,null,null,"No","",0,null,0,null,0,0,null,0]
[null,null,null,null,null,null,null,null,null,null,null,null,null,null,null,null,null,null,null,null,null,null,null,null,null,null,null,null,null,null,null,null,null,null,null,null,null,null,"No","",0,null,0,null,0,0,null,0]
[null,null,null,null,null,null,null,null,null,null,null,null,null,null,null,null,null,null,null,null,null,null,null,null,null,null,null,null,null,null,null,null,null,null,null,null,null,null,"No","",0,null,0,null,0,0,null,0]
[null,null,null,null,null,null,null,null,null,null,null,null,null,null,null,null,null,null,null,null,null,null,null,null,null,null,null,null,null,null,null,null,null,null,null,null,null,null,"No","",0,null,0,null,0,0,null,0]
[null,null,null,null,null,null,null,null,null,null,null,null,null,null,null,null,null,null,null,null,null,null,null,null,null,null,null,null,null,null,null,null,null,null,null,null,null,null,"No","",0,null,0,null,0,0,null,0]
[null,null,null,null,null,null,null,null,null,null,null,null,null,null,null,null,null,null,null,null,null,null,null,null,null,null,null,null,null,null,null,null,null,null,null,null,null,null,"No","",0,null,0,null,0,0,null,0]
[null,null,null,null,null,null,null,null,null,null,null,null,null,null,null,null,null,null,null,null,null,null,null,null,null,null,null,null,null,null,null,null,null,null,null,null,null,null,{"$f":"IF(OR(L32=\"5 Min ORBO\",L32=\"5 Min ORBD\",L32=\"15 Min ORBO\",L32=\"15 Min ORBD\",L32=\"MA-X-L\",L32=\"MA-X-S\",L32=\"FOMO\",L32=\"Revenge\",L32=\"Hot Key Mistake\",L32=\"VWAP Reversal Long\",L32=\"VWAP Reversal Short\",L32=\"VWAP False Breakout Long\",L32=\"VWAP False Breakout Short\",L32=\"S&R Long\",L32=\"S&R Short\",L32=\"Moving Average Long\",L32=\"Moving Average Short\",L32=\"Bearish Engulfing Crack\",L32=\"Top Reversal\",L32=\"ABCD\"),\"Yes\", \"No\")","v":"No"},"",0,null,0,null,0,0,null,0]
[null,null,null,null,null,null,null,null,null,null,null,null,null,null,null,null,null,null,null,null,null,null,null,null,null,null,null,null,null,null,null,null,null,null,null,null,null,null,"No","",0,null,0,null,0,0,null,0]
[null,null,null,null,null,null,null,null,null,null,null,null,null,null,null,null,null,null,null,null,null,null,null,null,null,null,null,null,null,null,null,null,null,null,null,null,null,null,"No","",0,null,0,null,0,0,null,0]
[null,null,null,null,null,null,null,null,null,null,null,null,null,null,null,null,null,null,null,null,null,null,null,null,null,null,null,null,null,null,null,null,null,null,null,null,null,null,"No","",0,null,0,null,0,0,null,0]
[null,null,null,null,null,null,null,null,null,null,null,null,null,null,null,null,null,null,null,null,null,null,null,null,null,null,null,null,null,null,null,null,null,null,null,null,null,null,"No","",0,null,0,null,0,0,null,0]
[null,null,null,null,null,null,null,null,null,null,null,null,null,null,null,null,null,null,null,null,null,null,null,null,null,null,null,null,null,null,null,null,null,null,null,null,null,null,"No","",0,null,0,null,0,0,null,0]
[null,null,null,null,null,null,null,null,null,null,null,null,null,null,null,null,null,null,null,null,null,null,null,null,null,null,null,null,null,null,null,null,null,null,null,null,null,null,"No","",0,null,0,null,0,0,null,0]
[null,null,null,null,null,null,null,null,null,null,null,null,null,null,null,null,null,null,null,null,null,null,null,null,null,null,null,null,null,null,null,null,null,null,null,null,null,null,"No","",0,null,0,null,0,0,null,0]
[null,null,null,null,null,null,null,null,null,null,null,null,null,null,null,null,null,null,null,null,null,null,null,null,null,null,null,null,null,null,null,null,null,null,null,null,null,null,"No","",0,null,0,null,0,0,null,0]
[null,null,null,null,null,null,null,null,null,null,null,null,null,null,null,null,null,null,null,null,null,null,null,null,null,null,null,null,null,null,null,null,null,null,null,null,null,null,"No","",0,null,0,null,0,0,null,0]
[null,null,null,null,null,null,null,null,null,null,null,null,null,null,null,null,null,null,null,null,null,null,null,null,null,null,null,null,null,null,null,null,null,null,null,null,null,null,"No","",0,null,0,null,0,0,null,0]
[null,null,null,null,null,null,null,null,null,null,null,null,null,null,null,null,null,null,null,null,null,null,null,null,null,null,null,null,null,null,null,null,null,null,null,null,null,null,"No",{"$f":"IF(AM43=\"Yes\", F43,\"\")","v":""},{"$f":"N43","v":0},null,{"$f":"N43-Q43","v":0},null,{"$f":"T43","v":0},{"$f":"N43","v":0},null,{"$f":"L43","v":0}]
[null,null,null,null,null,null,null,null,null,null,null,null,null,null,null,null,null,null,null,null,null,null,null,null,null,null,null,null,null,null,null,null,null,null,null,null,null,null,"No","",0,null,0,null,0,0,null,0]
[null,null,null,null,null,null,null,null,null,null,null,null,null,null,null,null,null,null,null,null,null,null,null,null,null,null,null,null,null,null,null,null,null,null,null,null,null,null,"No","",0,null,0,null,0,0,null,0]
[null,null,null,null,null,null,null,null,null,null,null,null,null,null,null,null,null,null,null,null,null,null,null,null,null,null,null,null,null,null,null,null,null,null,null,null,null,null,"No","",0,null,0,null,0,0,null,0]
[null,null,null,null,null,null,null,null,null,null,null,null,null,null,null,null,null,null,null,null,null,null,null,null,null,null,null,null,null,null,null,null,null,null,null,null,null,null,"No","",0,null,0,null,0,0,null,0]
[null,null,null,null,null,null,null,null,null,null,null,null,null,null,null,null,null,null,null,null,null,null,null,null,null,null,null,null,null,null,null,null,null,null,null,null,null,null,"No","",0,null,0,null,0,0,null,0]
[null,null,null,null,null,null,null,null,null,null,null,null,null,null,null,null,null,null,null,null,null,null,null,null,null,null,null,null,null,null,null,null,null,null,null,null,null,null,"No","",0,null,0,null,0,0,null,0]
[null,null,null,null,null,null,null,null,null,null,null,null,null,null,null,null,null,null,null,null,null,null,null,null,null,null,null,null,null,null,null,null,null,null,null,null,null,null,"No","",0,null,0,null,0,0,null,0]
[null,null,null,null,null,null,null,null,null,null,null,null,null,null,null,null,null,null,null,null,null,null,null,null,null,null,null,null,null,null,null,null,null,null,null,null,null,null,"No","",0,null,0,null,0,0,null,0]
[null,null,null,null,null,null,null,null,null,null,null,null,null,null,null,null,null,null,null,null,null,null,null,null,null,null,null,null,null,null,null,null,null,null,null,null,null,null,"No","",0,null,0,null,0,0,null,0]
[null,null,null,null,null,null,null,null,null,null,null,null,null,null,null,null,null,null,null,null,null,null,null,null,null,null,null,null,null,null,null,null,null,null,null,null,null,null,"No","",0,null,0,null,0,0,null,0]
[null,null,null,null,null,null,null,null,null,null,null,null,null,null,null,null,null,null,null,null,null,null,null,null,null,null,null,null,null,null,null,null,null,null,null,null,null,null,"No","",0,null,0,null,0,0,null,0]
[null,null,null,null,null,null,null,null,null,null,null,null,null,null,null,null,null,null,null,null,null,null,null,null,null,null,null,null,null,null,null,null,null,null,null,null,null,null,"No","",0,null,0,null,0,0,null,0]
[null,null,null,null,null,null,null,null,null,null,null,null,null,null,null,null,null,null,null,null,null,null,null,null,null,null,null,null,null,null,null,null,null,null,null,null,null,null,"No","",0,null,0,null,0,0,null,0]
[null,null,null,null,null,null,null,null,null,null,null,null,null,null,null,null,null,null,null,null,null,null,null,null,null,null,null,null,null,null,null,null,null,null,null,null,null,null,"No","",0,null,0,null,0,0,null,0]
[null,null,null,null,null,null,null,null,null,null,null,null,null,null,null,null,null,null,null,null,null,null,null,null,null,null,null,null,null,null,null,null,null,null,null,null,null,null,"No","",0,null,0,null,0,0,null,0]
[null,null,null,null,null,null,null,null,null,null,null,null,null,null,null,null,null,null,null,null,null,null,null,null,null,null,null,null,null,null,null,null,null,null,null,null,null,null,"No","",0,null,0,null,0,0,null,0]
[null,null,null,null,null,null,null,null,null,null,null,null,null,null,null,null,null,null,null,null,null,null,null,null,null,null,null,null,null,null,null,null,null,null,null,null,null,null,"No","",0,null,0,null,0,0,null,0]
[null,null,null,null,null,null,null,null,null,null,null,null,null,null,null,null,null,null,null,null,null,null,null,null,null,null,null,null,null,null,null,null,null,null,null,null,null,null,"No","",0,null,0,null,0,0,null,0]
[null,null,null,null,null,null,null,null,null,null,null,null,null,null,null,null,null,null,null,null,null,null,null,null,null,null,null,null,null,null,null,null,null,null,null,null,null,null,"No","",0,null,0,null,0,0,null,0]
[null,null,null,null,null,null,null,null,null,null,null,null,null,null,null,null,null,null,null,null,null,null,null,null,null,null,null,null,null,null,null,null,null,null,null,null,null,null,"No","",0,null,0,null,0,0,null,0]
[null,null,null,null,null,null,null,null,null,null,null,null,null,null,null,null,null,null,null,null,null,null,null,null,null,null,null,null,null,null,null,null,null,null,null,null,null,null,"No","",0,null,0,null,0,0,null,0]
[null,null,null,null,null,null,null,null,null,null,null,null,null,null,null,null,null,null,null,null,null,null,null,null,null,null,null,null,null,null,null,null,null,null,null,null,null,null,"No","",0,null,0,null,0,0,null,0]
[null,null,null,null,null,null,null,null,null,null,null,null,null,null,null,null,null,null,null,null,null,null,null,null,null,null,null,null,null,null,null,null,null,null,null,null,null,null,"No","",0,null,0,null,0,0,null,0]
[null,null,null,null,null,null,null,null,null,null,null,null,null,null,null,null,null,null,null,null,null,null,null,null,null,null,null,null,null,null,null,null,null,null,null,null,null,null,"No","",0,null,0,null,0,0,null,0]
[null,null,null,null,null,null,null,null,null,null,null,null,null,null,null,null,null,null,null,null,null,null,null,null,null,null,null,null,null,null,null,null,null,null,null,null,null,null,"No","",0,null,0,null,0,0,null,0]
[null,null,null,null,null,null,null,null,null,null,null,null,null,null,null,null,null,null,null,null,null,null,null,null,null,null,null,null,null,null,null,null,null,null,null,null,null,null,"No","",0,null,0,null,0,0,null,0]
[null,null,null,null,null,null,null,null,null,null,null,null,null,null,null,null,null,null,null,null,null,null,null,null,null,null,null,null,null,null,null,null,null,null,null,null,null,null,"No","",0,null,0,null,0,0,null,0]
[null,null,null,null,null,null,null,null,null,null,null,null,null,null,null,null,null,null,null,null,null,null,null,null,null,null,null,null,null,null,null,null,null,null,null,null,null,null,"No","",0,null,0,null,0,0,null,0]
[null,null,null,null,null,null,null,null,null,null,null,null,null,null,null,null,null,null,null,null,null,null,null,null,null,null,null,null,null,null,null,null,null,null,null,null,null,null,"No","",0,null,0,null,0,0,null,0]
[null,null,null,null,null,null,null,null,null,null,null,null,null,null,null,null,null,null,null,null,null,null,null,null,null,null,null,null,null,null,null,null,null,null,null,null,null,null,"No","",0,null,0,null,0,0,null,0]
[null,null,null,null,null,null,null,null,null,null,null,null,null,null,null,null,null,null,null,null,null,null,null,null,null,null,null,null,null,null,null,null,null,null,null,null,null,null,"No","",0,null,0,null,0,0,null,0]
[null,null,null,null,null,null,null,null,null,null,null,null,null,null,null,null,null,null,null,null,null,null,null,null,null,null,null,null,null,null,null,null,null,null,null,null,null,null,"No","",0,null,0,null,0,0,null,0]
[null,null,null,null,null,null,null,null,null,null,null,null,null,null,null,null,null,null,null,null,null,null,null,null,null,null,null,null,null,null,null,null,null,null,null,null,null,null,"No","",0,null,0,null,0,0,null,0]
[null,null,null,null,null,null,null,null,null,null,null,null,null,null,null,null,null,null,null,null,null,null,null,null,null,null,null,null,null,null,null,null,null,null,null,null,null,null,"No","",0,null,0,null,0,0,null,0]
[null,null,null,null,null,null,null,null,null,null,null,null,null,null,null,null,null,null,null,null,null,null,null,null,null,null,null,null,null,null,null,null,null,null,null,null,null,null,"No","",0,null,0,null,0,0,null,0]
[null,null,null,null,null,null,null,null,null,null,null,null,null,null,null,null,null,null,null,null,null,null,null,null,null,null,null,null,null,null,null,null,null,null,null,null,null,null,"No","",0,null,0,null,0,0,null,0]
[null,null,null,null,null,null,null,null,null,null,null,null,null,null,null,null,null,null,null,null,null,null,null,null,null,null,null,null,null,null,null,null,null,null,null,null,null,null,"No","",0,null,0,null,0,0,null,0]
[null,null,null,null,null,null,null,null,null,null,null,null,null,null,null,null,null,null,null,null,null,null,null,null,null,null,null,null,null,null,null,null,null,null,null,null,null,null,"No","",0,null,0,null,0,0,null,0]
[null,null,null,null,null,null,null,null,null,null,null,null,null,null,null,null,null,null,null,null,null,null,null,null,null,null,null,null,null,null,null,null,null,null,null,null,null,null,"No","",0,null,0,null,0,0,null,0]
[null,null,null,null,null,null,null,null,null,null,null,null,null,null,null,null,null,null,null,null,null,null,null,null,null,null,null,null,null,null,null,null,null,null,null,null,null,null,"No","",0,null,0,null,0,0,null,0]
[null,null,null,null,null,null,null,null,null,null,null,null,null,null,null,null,null,null,null,null,null,null,null,null,null,null,null,null,null,null,null,null,null,null,null,null,null,null,"No","",0,null,0,null,0,0,null,0]
[null,null,null,null,null,null,null,null,null,null,null,null,null,null,null,null,null,null,null,null,null,null,null,null,null,null,null,null,null,null,null,null,null,null,null,null,null,null,"No","",0,null,0,null,0,0,null,0]
[null,null,null,null,null,null,null,null,null,null,null,null,null,null,null,null,null,null,null,null,null,null,null,null,null,null,null,null,null,null,null,null,null,null,null,null,null,null,"No","",0,null,0,null,0,0,null,0]
[null,null,null,null,null,null,null,null,null,null,null,null,null,null,null,null,null,null,null,null,null,null,null,null,null,null,null,null,null,null,null,null,null,null,null,null,null,null,"No","",0,null,0,null,0,0,null,0]
[null,null,null,null,null,null,null,null,null,null,null,null,null,null,null,null,null,null,null,null,null,null,null,null,null,null,null,null,null,null,null,null,null,null,null,null,null,null,"No","",0,null,0,null,0,0,null,0]
[null,null,null,null,null,null,null,null,null,null,null,null,null,null,null,null,null,null,null,null,null,null,null,null,null,null,null,null,null,null,null,null,null,null,null,null,null,null,"No","",0,null,0,null,0,0,null,0]
[null,null,null,null,null,null,null,null,null,null,null,null,null,null,null,null,null,null,null,null,null,null,null,null,null,null,null,null,null,null,null,null,null,null,null,null,null,null,"No","",0,null,0,null,0,0,null,0]
[null,null,null,null,null,null,null,null,null,null,null,null,null,null,null,null,null,null,null,null,null,null,null,null,null,null,null,null,null,null,null,null,null,null,null,null,null,null,"No","",0,null,0,null,0,0,null,0]
[null,null,null,null,null,null,null,null,null,null,null,null,null,null,null,null,null,null,null,null,null,null,null,null,null,null,null,null,null,null,null,null,null,null,null,null,null,null,"No","",0,null,0,null,0,0,null,0]
[null,null,null,null,null,null,null,null,null,null,null,null,null,null,null,null,null,null,null,null,null,null,null,null,null,null,null,null,null,null,null,null,null,null,null,null,null,null,"No","",0,null,0,null,0,0,null,0]
[null,null,null,null,null,null,null,null,null,null,null,null,null,null,null,null,null,null,null,null,null,null,null,null,null,null,null,null,null,null,null,null,null,null,null,null,null,null,"No","",0,null,0,null,0,0,null,0]
[null,null,null,null,null,null,null,null,null,null,null,null,null,null,null,null,null,null,null,null,null,null,null,null,null,null,null,null,null,null,null,null,null,null,null,null,null,null,"No","",0,null,0,null,0,0,null,0]
[null,null,null,null,null,null,null,null,null,null,null,null,null,null,null,null,null,null,null,null,null,null,null,null,null,null,null,null,null,null,null,null,null,null,null,null,null,null,{"$f":"IF(OR(L96=\"5 Min ORBO\",L96=\"5 Min ORBD\",L96=\"15 Min ORBO\",L96=\"15 Min ORBD\",L96=\"MA-X-L\",L96=\"MA-X-S\",L96=\"FOMO\",L96=\"Revenge\",L96=\"Hot Key Mistake\",L96=\"VWAP Reversal Long\",L96=\"VWAP Reversal Short\",L96=\"VWAP False Breakout Long\",L96=\"VWAP False Breakout Short\",L96=\"S&R Long\",L96=\"S&R Short\",L96=\"Moving Average Long\",L96=\"Moving Average Short\",L96=\"Bearish Engulfing Crack\",L96=\"Top Reversal\",L96=\"ABCD\"),\"Yes\", \"No\")","v":"No"},"",0,null,0,null,0,0,null,0]
[null,null,null,null,null,null,null,null,null,null,null,null,null,null,null,null,null,null,null,null,null,null,null,null,null,null,null,null,null,null,null,null,null,null,null,null,null,null,"No","",0,null,0,null,0,0,null,0]
[null,null,null,null,null,null,null,null,null,null,null,null,null,null,null,null,null,null,null,null,null,null,null,null,null,null,null,null,null,null,null,null,null,null,null,null,null,null,"No","",0,null,0,null,0,0,null,0]
[null,null,null,null,null,null,null,null,null,null,null,null,null,null,null,null,null,null,null,null,null,null,null,null,null,null,null,null,null,null,null,null,null,null,null,null,null,null,"No","",0,null,0,null,0,0,null,0]
[null,null,null,null,null,null,null,null,null,null,null,null,null,null,null,null,null,null,null,null,null,null,null,null,null,null,null,null,null,null,null,null,null,null,null,null,null,null,"No","",0,null,0,null,0,0,null,0]
[null,null,null,null,null,null,null,null,null,null,null,null,null,null,null,null,null,null,null,null,null,null,null,null,null,null,null,null,null,null,null,null,null,null,null,null,null,null,"No","",0,null,0,null,0,0,null,0]
[null,null,null,null,null,null,null,null,null,null,null,null,null,null,null,null,null,null,null,null,null,null,null,null,null,null,null,null,null,null,null,null,null,null,null,null,null,null,"No","",0,null,0,null,0,0,null,0]
[null,null,null,null,null,null,null,null,null,null,null,null,null,null,null,null,null,null,null,null,null,null,null,null,null,null,null,null,null,null,null,null,null,null,null,null,null,null,"No","",0,null,0,null,0,0,null,0]
[null,null,null,null,null,null,null,null,null,null,null,null,null,null,null,null,null,null,null,null,null,null,null,null,null,null,null,null,null,null,null,null,null,null,null,null,null,null,"No","",0,null,0,null,0,0,null,0]
[null,null,null,null,null,null,null,null,null,null,null,null,null,null,null,null,null,null,null,null,null,null,null,null,null,null,null,null,null,null,null,null,null,null,null,null,null,null,"No","",0,null,0,null,0,0,null,0]
[null,null,null,null,null,null,null,null,null,null,null,null,null,null,null,null,null,null,null,null,null,null,null,null,null,null,null,null,null,null,null,null,null,null,null,null,null,null,"No","",0,null,0,null,0,0,null,0]
[null,null,null,null,null,null,null,null,null,null,null,null,null,null,null,null,null,null,null,null,null,null,null,null,null,null,null,null,null,null,null,null,null,null,null,null,null,null,"No",{"$f":"IF(AM107=\"Yes\", F107,\"\")","v":""},{"$f":"N107","v":0},null,{"$f":"N107-Q107","v":0},null,{"$f":"T107","v":0},{"$f":"N107","v":0},null,{"$f":"L107","v":0}]
[null,null,null,null,null,null,null,null,null,null,null,null,null,null,null,null,null,null,null,null,null,null,null,null,null,null,null,null,null,null,null,null,null,null,null,null,null,null,"No","",0,null,0,null,0,0,null,0]
[null,null,null,null,null,null,null,null,null,null,null,null,null,null,null,null,null,null,null,null,null,null,null,null,null,null,null,null,null,null,null,null,null,null,null,null,null,null,"No","",0,null,0,null,0,0,null,0]
[null,null,null,null,null,null,null,null,null,null,null,null,null,null,null,null,null,null,null,null,null,null,null,null,null,null,null,null,null,null,null,null,null,null,null,null,null,null,"No","",0,null,0,null,0,0,null,0]
[null,null,null,null,null,null,null,null,null,null,null,null,null,null,null,null,null,null,null,null,null,null,null,null,null,null,null,null,null,null,null,null,null,null,null,null,null,null,"No","",0,null,0,null,0,0,null,0]
[null,null,null,null,null,null,null,null,null,null,null,null,null,null,null,null,null,null,null,null,null,null,null,null,null,null,null,null,null,null,null,null,null,null,null,null,null,null,"No","",0,null,0,null,0,0,null,0]
[null,null,null,null,null,null,null,null,null,null,null,null,null,null,null,null,null,null,null,null,null,null,null,null,null,null,null,null,null,null,null,null,null,null,null,null,null,null,"No","",0,null,0,null,0,0,null,0]
[null,null,null,null,null,null,null,null,null,null,null,null,null,null,null,null,null,null,null,null,null,null,null,null,null,null,null,null,null,null,null,null,null,null,null,null,null,null,"No","",0,null,0,null,0,0,null,0]
[null,null,null,null,null,null,null,null,null,null,null,null,null,null,null,null,null,null,null,null,null,null,null,null,null,null,null,null,null,null,null,null,null,null,null,null,null,null,"No","",0,null,0,null,0,0,null,0]
[null,null,null,null,null,null,null,null,null,null,null,null,null,null,null,null,null,null,null,null,null,null,null,null,null,null,null,null,null,null,null,null,null,null,null,null,null,null,"No","",0,null,0,null,0,0,null,0]
[null,null,null,null,null,null,null,null,null,null,null,null,null,null,null,null,null,null,null,null,null,null,null,null,null,null,null,null,null,null,null,null,null,null,null,null,null,null,"No","",0,null,0,null,0,0,null,0]
[null,null,null,null,null,null,null,null,null,null,null,null,null,null,null,null,null,null,null,null,null,null,null,null,null,null,null,null,null,null,null,null,null,null,null,null,null,null,"No","",0,null,0,null,0,0,null,0]
[null,null,null,null,null,null,null,null,null,null,null,null,null,null,null,null,null,null,null,null,null,null,null,null,null,null,null,null,null,null,null,null,null,null,null,null,null,null,"No","",0,null,0,null,0,0,null,0]
[null,null,null,null,null,null,null,null,null,null,null,null,null,null,null,null,null,null,null,null,null,null,null,null,null,null,null,null,null,null,null,null,null,null,null,null,null,null,"No","",0,null,0,null,0,0,null,0]
[null,null,null,null,null,null,null,null,null,null,null,null,null,null,null,null,null,null,null,null,null,null,null,null,null,null,null,null,null,null,null,null,null,null,null,null,null,null,"No","",0,null,0,null,0,0,null,0]
[null,null,null,null,null,null,null,null,null,null,null,null,null,null,null,null,null,null,null,null,null,null,null,null,null,null,null,null,null,null,null,null,null,null,null,null,null,null,"No","",0,null,0,null,0,0,null,0]
[null,null,null,null,null,null,null,null,null,null,null,null,null,null,null,null,null,null,null,null,null,null,null,null,null,null,null,null,null,null,null,null,null,null,null,null,null,null,"No","",0,null,0,null,0,0,null,0]
[null,null,null,null,null,null,null,null,null,null,null,null,null,null,null,null,null,null,null,null,null,null,null,null,null,null,null,null,null,null,null,null,null,null,null,null,null,null,"No","",0,null,0,null,0,0,null,0]
[null,null,null,null,null,null,null,null,null,null,null,null,null,null,null,null,null,null,null,null,null,null,null,null,null,null,null,null,null,null,null,null,null,null,null,null,null,null,"No","",0,null,0,null,0,0,null,0]
[null,null,null,null,null,null,null,null,null,null,null,null,null,null,null,null,null,null,null,null,null,null,null,null,null,null,null,null,null,null,null,null,null,null,null,null,null,null,"No","",0,null,0,null,0,0,null,0]
[null,null,null,null,null,null,null,null,null,null,null,null,null,null,null,null,null,null,null,null,null,null,null,null,null,null,null,null,null,null,null,null,null,null,null,null,null,null,"No","",0,null,0,null,0,0,null,0]
[null,null,null,null,null,null,null,null,null,null,null,null,null,null,null,null,null,null,null,null,null,null,null,null,null,null,null,null,null,null,null,null,null,null,null,null,null,null,"No","",0,null,0,null,0,0,null,0]
[null,null,null,null,null,null,null,null,null,null,null,null,null,null,null,null,null,null,null,null,null,null,null,null,null,null,null,null,null,null,null,null,null,null,null,null,null,null,"No","",0,null,0,null,0,0,null,0]
[null,null,null,null,null,null,null,null,null,null,null,null,null,null,null,null,null,null,null,null,null,null,null,null,null,null,null,null,null,null,null,null,null,null,null,null,null,null,"No","",0,null,0,null,0,0,null,0]
[null,null,null,null,null,null,null,null,null,null,null,null,null,null,null,null,null,null,null,null,null,null,null,null,null,null,null,null,null,null,null,null,null,null,null,null,null,null,"No","",0,null,0,null,0,0,null,0]
[null,null,null,null,null,null,null,null,null,null,null,null,null,null,null,null,null,null,null,null,null,null,null,null,null,null,null,null,null,null,null,null,null,null,null,null,null,null,"No","",0,null,0,null,0,0,null,0]
[null,null,null,null,null,null,null,null,null,null,null,null,null,null,null,null,null,null,null,null,null,null,null,null,null,null,null,null,null,null,null,null,null,null,null,null,null,null,"No","",0,null,0,null,0,0,null,0]
[null,null,null,null,null,null,null,null,null,null,null,null,null,null,null,null,null,null,null,null,null,null,null,null,null,null,null,null,null,null,null,null,null,null,null,null,null,null,"No","",0,null,0,null,0,0,null,0]
[null,null,null,null,null,null,null,null,null,null,null,null,null,null,null,null,null,null,null,null,null,null,null,null,null,null,null,null,null,null,null,null,null,null,null,null,null,null,"No","",0,null,0,null,0,0,null,0]
[null,null,null,null,null,null,null,null,null,null,null,null,null,null,null,null,null,null,null,null,null,null,null,null,null,null,null,null,null,null,null,null,null,null,null,null,null,null,"No","",0,null,0,null,0,0,null,0]
[null,null,null,null,null,null,null,null,null,null,null,null,null,null,null,null,null,null,null,null,null,null,null,null,null,null,null,null,null,null,null,null,null,null,null,null,null,null,"No","",0,null,0,null,0,0,null,0]
[null,null,null,null,null,null,null,null,null,null,null,null,null,null,null,null,null,null,null,null,null,null,null,null,null,null,null,null,null,null,null,null,null,null,null,null,null,null,"No","",0,null,0,null,0,0,null,0]
[null,null,null,null,null,null,null,null,null,null,null,null,null,null,null,null,null,null,null,null,null,null,null,null,null,null,null,null,null,null,null,null,null,null,null,null,null,null,"No","",0,null,0,null,0,0,null,0]
[null,null,null,null,null,null,null,null,null,null,null,null,null,null,null,null,null,null,null,null,null,null,null,null,null,null,null,null,null,null,null,null,null,null,null,null,null,null,"No","",0,null,0,null,0,0,null,0]
[null,null,null,null,null,null,null,null,null,null,null,null,null,null,null,null,null,null,null,null,null,null,null,null,null,null,null,null,null,null,null,null,null,null,null,null,null,null,"No","",0,null,0,null,0,0,null,0]
[null,null,null,null,null,null,null,null,null,null,null,null,null,null,null,null,null,null,null,null,null,null,null,null,null,null,null,null,null,null,null,null,null,null,null,null,null,null,"No","",0,null,0,null,0,0,null,0]
[null,null,null,null,null,null,null,null,null,null,null,null,null,null,null,null,null,null,null,null,null,null,null,null,null,null,null,null,null,null,null,null,null,null,null,null,null,null,"No","",0,null,0,null,0,0,null,0]
[null,null,null,null,null,null,null,null,null,null,null,null,null,null,null,null,null,null,null,null,null,null,null,null,null,null,null,null,null,null,null,null,null,null,null,null,null,null,"No","",0,null,0,null,0,0,null,0]
[null,null,null,null,null,null,null,null,null,null,null,null,null,null,null,null,null,null,null,null,null,null,null,null,null,null,null,null,null,null,null,null,null,null,null,null,null,null,"No","",0,null,0,null,0,0,null,0]
[null,null,null,null,null,null,null,null,null,null,null,null,null,null,null,null,null,null,null,null,null,null,null,null,null,null,null,null,null,null,null,null,null,null,null,null,null,null,"No","",0,null,0,null,0,0,null,0]
[null,null,null,null,null,null,null,null,null,null,null,null,null,null,null,null,null,null,null,null,null,null,null,null,null,null,null,null,null,null,null,null,null,null,null,null,null,null,"No","",0,null,0,null,0,0,null,0]
[null,null,null,null,null,null,null,null,null,null,null,null,null,null,null,null,null,null,null,null,null,null,null,null,null,null,null,null,null,null,null,null,null,null,null,null,null,null,"No","",0,null,0,null,0,0,null,0]
[null,null,null,null,null,null,null,null,null,null,null,null,null,null,null,null,null,null,null,null,null,null,null,null,null,null,null,null,null,null,null,null,null,null,null,null,null,null,"No","",0,null,0,null,0,0,null,0]
[null,null,null,null,null,null,null,null,null,null,null,null,null,null,null,null,null,null,null,null,null,null,null,null,null,null,null,null,null,null,null,null,null,null,null,null,null,null,"No","",0,null,0,null,0,0,null,0]
[null,null,null,null,null,null,null,null,null,null,null,null,null,null,null,null,null,null,null,null,null,null,null,null,null,null,null,null,null,null,null,null,null,null,null,null,null,null,"No","",0,null,0,null,0,0,null,0]
[null,null,null,null,null,null,null,null,null,null,null,null,null,null,null,null,null,null,null,null,null,null,null,null,null,null,null,null,null,null,null,null,null,null,null,null,null,null,"No","",0,null,0,null,0,0,null,0]
[null,null,null,null,null,null,null,null,null,null,null,null,null,null,null,null,null,null,null,null,null,null,null,null,null,null,null,null,null,null,null,null,null,null,null,null,null,null,"No","",0,null,0,null,0,0,null,0]
[null,null,null,null,null,null,null,null,null,null,null,null,null,null,null,null,null,null,null,null,null,null,null,null,null,null,null,null,null,null,null,null,null,null,null,null,null,null,"No","",0,null,0,null,0,0,null,0]
[null,null,null,null,null,null,null,null,null,null,null,null,null,null,null,null,null,null,null,null,null,null,null,null,null,null,null,null,null,null,null,null,null,null,null,null,null,null,"No","",0,null,0,null,0,0,null,0]
[null,null,null,null,null,null,null,null,null,null,null,null,null,null,null,null,null,null,null,null,null,null,null,null,null,null,null,null,null,null,null,null,null,null,null,null,null,null,"No","",0,null,0,null,0,0,null,0]
[null,null,null,null,null,null,null,null,null,null,null,null,null,null,null,null,null,null,null,null,null,null,null,null,null,null,null,null,null,null,null,null,null,null,null,null,null,null,"No","",0,null,0,null,0,0,null,0]
[null,null,null,null,null,null,null,null,null,null,null,null,null,null,null,null,null,null,null,null,null,null,null,null,null,null,null,null,null,null,null,null,null,null,null,null,null,null,"No","",0,null,0,null,0,0,null,0]
[null,null,null,null,null,null,null,null,null,null,null,null,null,null,null,null,null,null,null,null,null,null,null,null,null,null,null,null,null,null,null,null,null,null,null,null,null,null,"No","",0,null,0,null,0,0,null,0]
[null,null,null,null,null,null,null,null,null,null,null,null,null,null,null,null,null,null,null,null,null,null,null,null,null,null,null,null,null,null,null,null,null,null,null,null,null,null,{"$f":"IF(OR(L160=\"5 Min ORBO\",L160=\"5 Min ORBD\",L160=\"15 Min ORBO\",L160=\"15 Min ORBD\",L160=\"MA-X-L\",L160=\"MA-X-S\",L160=\"FOMO\",L160=\"Revenge\",L160=\"Hot Key Mistake\",L160=\"VWAP Reversal Long\",L160=\"VWAP Reversal Short\",L160=\"VWAP False Breakout Long\",L160=\"VWAP False Breakout Short\",L160=\"S&R Long\",L160=\"S&R Short\",L160=\"Moving Average Long\",L160=\"Moving Average Short\",L160=\"Bearish Engulfing Crack\",L160=\"Top Reversal\",L160=\"ABCD\"),\"Yes\", \"No\")","v":"No"},"",0,null,0,null,0,0,null,0]
[null,null,null,null,null,null,null,null,null,null,null,null,null,null,null,null,null,null,null,null,null,null,null,null,null,null,null,null,null,null,null,null,null,null,null,null,null,null,"No","",0,null,0,null,0,0,null,0]
[null,null,null,null,null,null,null,null,null,null,null,null,null,null,null,null,null,null,null,null,null,null,null,null,null,null,null,null,null,null,null,null,null,null,null,null,null,null,"No","",0,null,0,null,0,0,null,0]
[null,null,null,null,null,null,null,null,null,null,null,null,null,null,null,null,null,null,null,null,null,null,null,null,null,null,null,null,null,null,null,null,null,null,null,null,null,null,"No","",0,null,0,null,0,0,null,0]
[null,null,null,null,null,null,null,null,null,null,null,null,null,null,null,null,null,null,null,null,null,null,null,null,null,null,null,null,null,null,null,null,null,null,null,null,null,null,"No","",0,null,0,null,0,0,null,0]
[null,null,null,null,null,null,null,null,null,null,null,null,null,null,null,null,null,null,null,null,null,null,null,null,null,null,null,null,null,null,null,null,null,null,null,null,null,null,"No","",0,null,0,null,0,0,null,0]
[null,null,null,null,null,null,null,null,null,null,null,null,null,null,null,null,null,null,null,null,null,null,null,null,null,null,null,null,null,null,null,null,null,null,null,null,null,null,"No","",0,null,0,null,0,0,null,0]
[null,null,null,null,null,null,null,null,null,null,null,null,null,null,null,null,null,null,null,null,null,null,null,null,null,null,null,null,null,null,null,null,null,null,null,null,null,null,"No","",0,null,0,null,0,0,null,0]
[null,null,null,null,null,null,null,null,null,null,null,null,null,null,null,null,null,null,null,null,null,null,null,null,null,null,null,null,null,null,null,null,null,null,null,null,null,null,"No","",0,null,0,null,0,0,null,0]
[null,null,null,null,null,null,null,null,null,null,null,null,null,null,null,null,null,null,null,null,null,null,null,null,null,null,null,null,null,null,null,null,null,null,null,null,null,null,"No","",0,null,0,null,0,0,null,0]
[null,null,null,null,null,null,null,null,null,null,null,null,null,null,null,null,null,null,null,null,null,null,null,null,null,null,null,null,null,null,null,null,null,null,null,null,null,null,"No","",0,null,0,null,0,0,null,0]
[null,null,null,null,null,null,null,null,null,null,null,null,null,null,null,null,null,null,null,null,null,null,null,null,null,null,null,null,null,null,null,null,null,null,null,null,null,null,"No",{"$f":"IF(AM171=\"Yes\", F171,\"\")","v":""},{"$f":"N171","v":0},null,{"$f":"N171-Q171","v":0},null,{"$f":"T171","v":0},{"$f":"N171","v":0},null,{"$f":"L171","v":0}]
[null,null,null,null,null,null,null,null,null,null,null,null,null,null,null,null,null,null,null,null,null,null,null,null,null,null,null,null,null,null,null,null,null,null,null,null,null,null,"No","",0,null,0,null,0,0,null,0]
[null,null,null,null,null,null,null,null,null,null,null,null,null,null,null,null,null,null,null,null,null,null,null,null,null,null,null,null,null,null,null,null,null,null,null,null,null,null,"No","",0,null,0,null,0,0,null,0]
[null,null,null,null,null,null,null,null,null,null,null,null,null,null,null,null,null,null,null,null,null,null,null,null,null,null,null,null,null,null,null,null,null,null,null,null,null,null,"No","",0,null,0,null,0,0,null,0]
[null,null,null,null,null,null,null,null,null,null,null,null,null,null,null,null,null,null,null,null,null,null,null,null,null,null,null,null,null,null,null,null,null,null,null,null,null,null,"No","",0,null,0,null,0,0,null,0]
[null,null,null,null,null,null,null,null,null,null,null,null,null,null,null,null,null,null,null,null,null,null,null,null,null,null,null,null,null,null,null,null,null,null,null,null,null,null,"No","",0,null,0,null,0,0,null,0]
[null,null,null,null,null,null,null,null,null,null,null,null,null,null,null,null,null,null,null,null,null,null,null,null,null,null,null,null,null,null,null,null,null,null,null,null,null,null,"No","",0,null,0,null,0,0,null,0]
[null,null,null,null,null,null,null,null,null,null,null,null,null,null,null,null,null,null,null,null,null,null,null,null,null,null,null,null,null,null,null,null,null,null,null,null,null,null,"No","",0,null,0,null,0,0,null,0]
[null,null,null,null,null,null,null,null,null,null,null,null,null,null,null,null,null,null,null,null,null,null,null,null,null,null,null,null,null,null,null,null,null,null,null,null,null,null,"No","",0,null,0,null,0,0,null,0]
[null,null,null,null,null,null,null,null,null,null,null,null,null,null,null,null,null,null,null,null,null,null,null,null,null,null,null,null,null,null,null,null,null,null,null,null,null,null,"No","",0,null,0,null,0,0,null,0]
[null,null,null,null,null,null,null,null,null,null,null,null,null,null,null,null,null,null,null,null,null,null,null,null,null,null,null,null,null,null,null,null,null,null,null,null,null,null,"No","",0,null,0,null,0,0,null,0]
[null,null,null,null,null,null,null,null,null,null,null,null,null,null,null,null,null,null,null,null,null,null,null,null,null,null,null,null,null,null,null,null,null,null,null,null,null,null,"No","",0,null,0,null,0,0,null,0]
[null,null,null,null,null,null,null,null,null,null,null,null,null,null,null,null,null,null,null,null,null,null,null,null,null,null,null,null,null,null,null,null,null,null,null,null,null,null,"No","",0,null,0,null,0,0,null,0]
[null,null,null,null,null,null,null,null,null,null,null,null,null,null,null,null,null,null,null,null,null,null,null,null,null,null,null,null,null,null,null,null,null,null,null,null,null,null,"No","",0,null,0,null,0,0,null,0]
[null,null,null,null,null,null,null,null,null,null,null,null,null,null,null,null,null,null,null,null,null,null,null,null,null,null,null,null,null,null,null,null,null,null,null,null,null,null,"No","",0,null,0,null,0,0,null,0]
[null,null,null,null,null,null,null,null,null,null,null,null,null,null,null,null,null,null,null,null,null,null,null,null,null,null,null,null,null,null,null,null,null,null,null,null,null,null,"No","",0,null,0,null,0,0,null,0]
[null,null,null,null,null,null,null,null,null,null,null,null,null,null,null,null,null,null,null,null,null,null,null,null,null,null,null,null,null,null,null,null,null,null,null,null,null,null,"No","",0,null,0,null,0,0,null,0]
[null,null,null,null,null,null,null,null,null,null,null,null,null,null,null,null,null,null,null,null,null,null,null,null,null,null,null,null,null,null,null,null,null,null,null,null,null,null,"No","",0,null,0,null,0,0,null,0]
[null,null,null,null,null,null,null,null,null,null,null,null,null,null,null,null,null,null,null,null,null,null,null,null,null,null,null,null,null,null,null,null,null,null,null,null,null,null,"No","",0,null,0,null,0,0,null,0]
[null,null,null,null,null,null,null,null,null,null,null,null,null,null,null,null,null,null,null,null,null,null,null,null,null,null,null,null,null,null,null,null,null,null,null,null,null,null,"No","",0,null,0,null,0,0,null,0]
[null,null,null,null,null,null,null,null,null,null,null,null,null,null,null,null,null,null,null,null,null,null,null,null,null,null,null,null,null,null,null,null,null,null,null,null,null,null,"No","",0,null,0,null,0,0,null,0]
[null,null,null,null,null,null,null,null,null,null,null,null,null,null,null,null,null,null,null,null,null,null,null,null,null,null,null,null,null,null,null,null,null,null,null,null,null,null,"No","",0,null,0,null,0,0,null,0]
[null,null,null,null,null,null,null,null,null,null,null,null,null,null,null,null,null,null,null,null,null,null,null,null,null,null,null,null,null,null,null,null,null,null,null,null,null,null,"No","",0,null,0,null,0,0,null,0]
[null,null,null,null,null,null,null,null,null,null,null,null,null,null,null,null,null,null,null,null,null,null,null,null,null,null,null,null,null,null,null,null,null,null,null,null,null,null,"No","",0,null,0,null,0,0,null,0]
[null,null,null,null,null,null,null,null,null,null,null,null,null,null,null,null,null,null,null,null,null,null,null,null,null,null,null,null,null,null,null,null,null,null,null,null,null,null,"No","",0,null,0,null,0,0,null,0]
[null,null,null,null,null,null,null,null,null,null,null,null,null,null,null,null,null,null,null,null,null,null,null,null,null,null,null,null,null,null,null,null,null,null,null,null,null,null,"No","",0,null,0,null,0,0,null,0]
[null,null,null,null,null,null,null,null,null,null,null,null,null,null,null,null,null,null,null,null,null,null,null,null,null,null,null,null,null,null,null,null,null,null,null,null,null,null,"No","",0,null,0,null,0,0,null,0]
[null,null,null,null,null,null,null,null,null,null,null,null,null,null,null,null,null,null,null,null,null,null,null,null,null,null,null,null,null,null,null,null,null,null,null,null,null,null,"No","",0,null,0,null,0,0,null,0]
[null,null,null,null,null,null,null,null,null,null,null,null,null,null,null,null,null,null,null,null,null,null,null,null,null,null,null,null,null,null,null,null,null,null,null,null,null,null,"No","",0,null,0,null,0,0,null,0]
[null,null,null,null,null,null,null,null,null,null,null,null,null,null,null,null,null,null,null,null,null,null,null,null,null,null,null,null,null,null,null,null,null,null,null,null,null,null,"No","",0,null,0,null,0,0,null,0]
[null,null,null,null,null,null,null,null,null,null,null,null,null,null,null,null,null,null,null,null,null,null,null,null,null,null,null,null,null,null,null,null,null,null,null,null,null,null,"No","",0,null,0,null,0,0,null,0]
[null,null,null,null,null,null,null,null,null,null,null,null,null,null,null,null,null,null,null,null,null,null,null,null,null,null,null,null,null,null,null,null,null,null,null,null,null,null,"No","",0,null,0,null,0,0,null,0]
[null,null,null,null,null,null,null,null,null,null,null,null,null,null,null,null,null,null,null,null,null,null,null,null,null,null,null,null,null,null,null,null,null,null,null,null,null,null,"No","",0,null,0,null,0,0,null,0]
[null,null,null,null,null,null,null,null,null,null,null,null,null,null,null,null,null,null,null,null,null,null,null,null,null,null,null,null,null,null,null,null,null,null,null,null,null,null,"No","",0,null,0,null,0,0,null,0]
[null,null,null,null,null,null,null,null,null,null,null,null,null,null,null,null,null,null,null,null,null,null,null,null,null,null,null,null,null,null,null,null,null,null,null,null,null,null,"No","",0,null,0,null,0,0,null,0]
[null,null,null,null,null,null,null,null,null,null,null,null,null,null,null,null,null,null,null,null,null,null,null,null,null,null,null,null,null,null,null,null,null,null,null,null,null,null,"No","",0,null,0,null,0,0,null,0]
[null,null,null,null,null,null,null,null,null,null,null,null,null,null,null,null,null,null,null,null,null,null,null,null,null,null,null,null,null,null,null,null,null,null,null,null,null,null,"No","",0,null,0,null,0,0,null,0]
[null,null,null,null,null,null,null,null,null,null,null,null,null,null,null,null,null,null,null,null,null,null,null,null,null,null,null,null,null,null,null,null,null,null,null,null,null,null,"No","",0,null,0,null,0,0,null,0]
[null,null,null,null,null,null,null,null,null,null,null,null,null,null,null,null,null,null,null,null,null,null,null,null,null,null,null,null,null,null,null,null,null,null,null,null,null,null,"No","",0,null,0,null,0,0,null,0]
[null,null,null,null,null,null,null,null,null,null,null,null,null,null,null,null,null,null,null,null,null,null,null,null,null,null,null,null,null,null,null,null,null,null,null,null,null,null,"No","",0,null,0,null,0,0,null,0]
[null,null,null,null,null,null,null,null,null,null,null,null,null,null,null,null,null,null,null,null,null,null,null,null,null,null,null,null,null,null,null,null,null,null,null,null,null,null,"No","",0,null,0,null,0,0,null,0]
[null,null,null,null,null,null,null,null,null,null,null,null,null,null,null,null,null,null,null,null,null,null,null,null,null,null,null,null,null,null,null,null,null,null,null,null,null,null,"No","",0,null,0,null,0,0,null,0]
[null,null,null,null,null,null,null,null,null,null,null,null,null,null,null,null,null,null,null,null,null,null,null,null,null,null,null,null,null,null,null,null,null,null,null,null,null,null,"No","",0,null,0,null,0,0,null,0]
[null,null,null,null,null,null,null,null,null,null,null,null,null,null,null,null,null,null,null,null,null,null,null,null,null,null,null,null,null,null,null,null,null,null,null,null,null,null,"No","",0,null,0,null,0,0,null,0]
[null,null,null,null,null,null,null,null,null,null,null,null,null,null,null,null,null,null,null,null,null,null,null,null,null,null,null,null,null,null,null,null,null,null,null,null,null,null,"No","",0,null,0,null,0,0,null,0]
[null,null,null,null,null,null,null,null,null,null,null,null,null,null,null,null,null,null,null,null,null,null,null,null,null,null,null,null,null,null,null,null,null,null,null,null,null,null,"No","",0,null,0,null,0,0,null,0]
[null,null,null,null,null,null,null,null,null,null,null,null,null,null,null,null,null,null,null,null,null,null,null,null,null,null,null,null,null,null,null,null,null,null,null,null,null,null,"No","",0,null,0,null,0,0,null,0]
[null,null,null,null,null,null,null,null,null,null,null,null,null,null,null,null,null,null,null,null,null,null,null,null,null,null,null,null,null,null,null,null,null,null,null,null,null,null,"No","",0,null,0,null,0,0,null,0]
[null,null,null,null,null,null,null,null,null,null,null,null,null,null,null,null,null,null,null,null,null,null,null,null,null,null,null,null,null,null,null,null,null,null,null,null,null,null,"No","",0,null,0,null,0,0,null,0]
[null,null,null,null,null,null,null,null,null,null,null,null,null,null,null,null,null,null,null,null,null,null,null,null,null,null,null,null,null,null,null,null,null,null,null,null,null,null,"No","",0,null,0,null,0,0,null,0]
[null,null,null,null,null,null,null,null,null,null,null,null,null,null,null,null,null,null,null,null,null,null,null,null,null,null,null,null,null,null,null,null,null,null,null,null,null,null,"No","",0,null,0,null,0,0,null,0]
[null,null,null,null,null,null,null,null,null,null,null,null,null,null,null,null,null,null,null,null,null,null,null,null,null,null,null,null,null,null,null,null,null,null,null,null,null,null,"No","",0,null,0,null,0,0,null,0]
[null,null,null,null,null,null,null,null,null,null,null,null,null,null,null,null,null,null,null,null,null,null,null,null,null,null,null,null,null,null,null,null,null,null,null,null,null,null,"No","",0,null,0,null,0,0,null,0]
[null,null,null,null,null,null,null,null,null,null,null,null,null,null,null,null,null,null,null,null,null,null,null,null,null,null,null,null,null,null,null,null,null,null,null,null,null,null,{"$f":"IF(OR(L224=\"5 Min ORBO\",L224=\"5 Min ORBD\",L224=\"15 Min ORBO\",L224=\"15 Min ORBD\",L224=\"MA-X-L\",L224=\"MA-X-S\",L224=\"FOMO\",L224=\"Revenge\",L224=\"Hot Key Mistake\",L224=\"VWAP Reversal Long\",L224=\"VWAP Reversal Short\",L224=\"VWAP False Breakout Long\",L224=\"VWAP False Breakout Short\",L224=\"S&R Long\",L224=\"S&R Short\",L224=\"Moving Average Long\",L224=\"Moving Average Short\",L224=\"Bearish Engulfing Crack\",L224=\"Top Reversal\",L224=\"ABCD\"),\"Yes\", \"No\")","v":"No"},"",0,null,0,null,0,0,null,0]
[null,null,null,null,null,null,null,null,null,null,null,null,null,null,null,null,null,null,null,null,null,null,null,null,null,null,null,null,null,null,null,null,null,null,null,null,null,null,"No","",0,null,0,null,0,0,null,0]
[null,null,null,null,null,null,null,null,null,null,null,null,null,null,null,null,null,null,null,null,null,null,null,null,null,null,null,null,null,null,null,null,null,null,null,null,null,null,"No","",0,null,0,null,0,0,null,0]
[null,null,null,null,null,null,null,null,null,null,null,null,null,null,null,null,null,null,null,null,null,null,null,null,null,null,null,null,null,null,null,null,null,null,null,null,null,null,"No","",0,null,0,null,0,0,null,0]
[null,null,null,null,null,null,null,null,null,null,null,null,null,null,null,null,null,null,null,null,null,null,null,null,null,null,null,null,null,null,null,null,null,null,null,null,null,null,"No","",0,null,0,null,0,0,null,0]
[null,null,null,null,null,null,null,null,null,null,null,null,null,null,null,null,null,null,null,null,null,null,null,null,null,null,null,null,null,null,null,null,null,null,null,null,null,null,"No","",0,null,0,null,0,0,null,0]
[null,null,null,null,null,null,null,null,null,null,null,null,null,null,null,null,null,null,null,null,null,null,null,null,null,null,null,null,null,null,null,null,null,null,null,null,null,null,"No","",0,null,0,null,0,0,null,0]
[null,null,null,null,null,null,null,null,null,null,null,null,null,null,null,null,null,null,null,null,null,null,null,null,null,null,null,null,null,null,null,null,null,null,null,null,null,null,"No","",0,null,0,null,0,0,null,0]
[null,null,null,null,null,null,null,null,null,null,null,null,null,null,null,null,null,null,null,null,null,null,null,null,null,null,null,null,null,null,null,null,null,null,null,null,null,null,"No","",0,null,0,null,0,0,null,0]
[null,null,null,null,null,null,null,null,null,null,null,null,null,null,null,null,null,null,null,null,null,null,null,null,null,null,null,null,null,null,null,null,null,null,null,null,null,null,"No","",0,null,0,null,0,0,null,0]
[null,null,null,null,null,null,null,null,null,null,null,null,null,null,null,null,null,null,null,null,null,null,null,null,null,null,null,null,null,null,null,null,null,null,null,null,null,null,"No","",0,null,0,null,0,0,null,0]
[null,null,null,null,null,null,null,null,null,null,null,null,null,null,null,null,null,null,null,null,null,null,null,null,null,null,null,null,null,null,null,null,null,null,null,null,null,null,"No",{"$f":"IF(AM235=\"Yes\", F235,\"\")","v":""},{"$f":"N235","v":0},null,{"$f":"N235-Q235","v":0},null,{"$f":"T235","v":0},{"$f":"N235","v":0},null,{"$f":"L235","v":0}]
[null,null,null,null,null,null,null,null,null,null,null,null,null,null,null,null,null,null,null,null,null,null,null,null,null,null,null,null,null,null,null,null,null,null,null,null,null,null,"No","",0,null,0,null,0,0,null,0]
[null,null,null,null,null,null,null,null,null,null,null,null,null,null,null,null,null,null,null,null,null,null,null,null,null,null,null,null,null,null,null,null,null,null,null,null,null,null,"No","",0,null,0,null,0,0,null,0]
[null,null,null,null,null,null,null,null,null,null,null,null,null,null,null,null,null,null,null,null,null,null,null,null,null,null,null,null,null,null,null,null,null,null,null,null,null,null,"No","",0,null,0,null,0,0,null,0]
[null,null,null,null,null,null,null,null,null,null,null,null,null,null,null,null,null,null,null,null,null,null,null,null,null,null,null,null,null,null,null,null,null,null,null,null,null,null,"No","",0,null,0,null,0,0,null,0]
[null,null,null,null,null,null,null,null,null,null,null,null,null,null,null,null,null,null,null,null,null,null,null,null,null,null,null,null,null,null,null,null,null,null,null,null,null,null,"No","",0,null,0,null,0,0,null,0]
[null,null,null,null,null,null,null,null,null,null,null,null,null,null,null,null,null,null,null,null,null,null,null,null,null,null,null,null,null,null,null,null,null,null,null,null,null,null,"No","",0,null,0,null,0,0,null,0]
[null,null,null,null,null,null,null,null,null,null,null,null,null,null,null,null,null,null,null,null,null,null,null,null,null,null,null,null,null,null,null,null,null,null,null,null,null,null,"No","",0,null,0,null,0,0,null,0]
[null,null,null,null,null,null,null,null,null,null,null,null,null,null,null,null,null,null,null,null,null,null,null,null,null,null,null,null,null,null,null,null,null,null,null,null,null,null,"No","",0,null,0,null,0,0,null,0]
[null,null,null,null,null,null,null,null,null,null,null,null,null,null,null,null,null,null,null,null,null,null,null,null,null,null,null,null,null,null,null,null,null,null,null,null,null,null,"No","",0,null,0,null,0,0,null,0]
[null,null,null,null,null,null,null,null,null,null,null,null,null,null,null,null,null,null,null,null,null,null,null,null,null,null,null,null,null,null,null,null,null,null,null,null,null,null,"No","",0,null,0,null,0,0,null,0]
[null,null,null,null,null,null,null,null,null,null,null,null,null,null,null,null,null,null,null,null,null,null,null,null,null,null,null,null,null,null,null,null,null,null,null,null,null,null,"No","",0,null,0,null,0,0,null,0]
[null,null,null,null,null,null,null,null,null,null,null,null,null,null,null,null,null,null,null,null,null,null,null,null,null,null,null,null,null,null,null,null,null,null,null,null,null,null,"No","",0,null,0,null,0,0,null,0]
[null,null,null,null,null,null,null,null,null,null,null,null,null,null,null,null,null,null,null,null,null,null,null,null,null,null,null,null,null,null,null,null,null,null,null,null,null,null,"No","",0,null,0,null,0,0,null,0]
[null,null,null,null,null,null,null,null,null,null,null,null,null,null,null,null,null,null,null,null,null,null,null,null,null,null,null,null,null,null,null,null,null,null,null,null,null,null,"No","",0,null,0,null,0,0,null,0]
[null,null,null,null,null,null,null,null,null,null,null,null,null,null,null,null,null,null,null,null,null,null,null,null,null,null,null,null,null,null,null,null,null,null,null,null,null,null,"No","",0,null,0,null,0,0,null,0]
[null,null,null,null,null,null,null,null,null,null,null,null,null,null,null,null,null,null,null,null,null,null,null,null,null,null,null,null,null,null,null,null,null,null,null,null,null,null,"No","",0,null,0,null,0,0,null,0]
[null,null,null,null,null,null,null,null,null,null,null,null,null,null,null,null,null,null,null,null,null,null,null,null,null,null,null,null,null,null,null,null,null,null,null,null,null,null,"No","",0,null,0,null,0,0,null,0]
[null,null,null,null,null,null,null,null,null,null,null,null,null,null,null,null,null,null,null,null,null,null,null,null,null,null,null,null,null,null,null,null,null,null,null,null,null,null,"No","",0,null,0,null,0,0,null,0]
[null,null,null,null,null,null,null,null,null,null,null,null,null,null,null,null,null,null,null,null,null,null,null,null,null,null,null,null,null,null,null,null,null,null,null,null,null,null,"No","",0,null,0,null,0,0,null,0]
[null,null,null,null,null,null,null,null,null,null,null,null,null,null,null,null,null,null,null,null,null,null,null,null,null,null,null,null,null,null,null,null,null,null,null,null,null,null,"No","",0,null,0,null,0,0,null,0]
[null,null,null,null,null,null,null,null,null,null,null,null,null,null,null,null,null,null,null,null,null,null,null,null,null,null,null,null,null,null,null,null,null,null,null,null,null,null,"No","",0,null,0,null,0,0,null,0]
[null,null,null,null,null,null,null,null,null,null,null,null,null,null,null,null,null,null,null,null,null,null,null,null,null,null,null,null,null,null,null,null,null,null,null,null,null,null,"No","",0,null,0,null,0,0,null,0]
[null,null,null,null,null,null,null,null,null,null,null,null,null,null,null,null,null,null,null,null,null,null,null,null,null,null,null,null,null,null,null,null,null,null,null,null,null,null,"No","",0,null,0,null,0,0,null,0]
[null,null,null,null,null,null,null,null,null,null,null,null,null,null,null,null,null,null,null,null,null,null,null,null,null,null,null,null,null,null,null,null,null,null,null,null,null,null,"No","",0,null,0,null,0,0,null,0]
[null,null,null,null,null,null,null,null,null,null,null,null,null,null,null,null,null,null,null,null,null,null,null,null,null,null,null,null,null,null,null,null,null,null,null,null,null,null,"No","",0,null,0,null,0,0,null,0]
[null,null,null,null,null,null,null,null,null,null,null,null,null,null,null,null,null,null,null,null,null,null,null,null,null,null,null,null,null,null,null,null,null,null,null,null,null,null,"No","",0,null,0,null,0,0,null,0]
[null,null,null,null,null,null,null,null,null,null,null,null,null,null,null,null,null,null,null,null,null,null,null,null,null,null,null,null,null,null,null,null,null,null,null,null,null,null,"No","",0,null,0,null,0,0,null,0]
[null,null,null,null,null,null,null,null,null,null,null,null,null,null,null,null,null,null,null,null,null,null,null,null,null,null,null,null,null,null,null,null,null,null,null,null,null,null,"No","",0,null,0,null,0,0,null,0]
[null,null,null,null,null,null,null,null,null,null,null,null,null,null,null,null,null,null,null,null,null,null,null,null,null,null,null,null,null,null,null,null,null,null,null,null,null,null,"No","",0,null,0,null,0,0,null,0]
[null,null,null,null,null,null,null,null,null,null,null,null,null,null,null,null,null,null,null,null,null,null,null,null,null,null,null,null,null,null,null,null,null,null,null,null,null,null,"No","",0,null,0,null,0,0,null,0]
[null,null,null,null,null,null,null,null,null,null,null,null,null,null,null,null,null,null,null,null,null,null,null,null,null,null,null,null,null,null,null,null,null,null,null,null,null,null,"No","",0,null,0,null,0,0,null,0]
[null,null,null,null,null,null,null,null,null,null,null,null,null,null,null,null,null,null,null,null,null,null,null,null,null,null,null,null,null,null,null,null,null,null,null,null,null,null,"No","",0,null,0,null,0,0,null,0]
[null,null,null,null,null,null,null,null,null,null,null,null,null,null,null,null,null,null,null,null,null,null,null,null,null,null,null,null,null,null,null,null,null,null,null,null,null,null,"No","",0,null,0,null,0,0,null,0]
[null,null,null,null,null,null,null,null,null,null,null,null,null,null,null,null,null,null,null,null,null,null,null,null,null,null,null,null,null,null,null,null,null,null,null,null,null,null,"No","",0,null,0,null,0,0,null,0]
[null,null,null,null,null,null,null,null,null,null,null,null,null,null,null,null,null,null,null,null,null,null,null,null,null,null,null,null,null,null,null,null,null,null,null,null,null,null,"No","",0,null,0,null,0,0,null,0]
[null,null,null,null,null,null,null,null,null,null,null,null,null,null,null,null,null,null,null,null,null,null,null,null,null,null,null,null,null,null,null,null,null,null,null,null,null,null,"No","",0,null,0,null,0,0,null,0]
[null,null,null,null,null,null,null,null,null,null,null,null,null,null,null,null,null,null,null,null,null,null,null,null,null,null,null,null,null,null,null,null,null,null,null,null,null,null,"No","",0,null,0,null,0,0,null,0]
[null,null,null,null,null,null,null,null,null,null,null,null,null,null,null,null,null,null,null,null,null,null,null,null,null,null,null,null,null,null,null,null,null,null,null,null,null,null,"No","",0,null,0,null,0,0,null,0]
[null,null,null,null,null,null,null,null,null,null,null,null,null,null,null,null,null,null,null,null,null,null,null,null,null,null,null,null,null,null,null,null,null,null,null,null,null,null,"No","",0,null,0,null,0,0,null,0]
[null,null,null,null,null,null,null,null,null,null,null,null,null,null,null,null,null,null,null,null,null,null,null,null,null,null,null,null,null,null,null,null,null,null,null,null,null,null,"No","",0,null,0,null,0,0,null,0]
[null,null,null,null,null,null,null,null,null,null,null,null,null,null,null,null,null,null,null,null,null,null,null,null,null,null,null,null,null,null,null,null,null,null,null,null,null,null,"No","",0,null,0,null,0,0,null,0]
[null,null,null,null,null,null,null,null,null,null,null,null,null,null,null,null,null,null,null,null,null,null,null,null,null,null,null,null,null,null,null,null,null,null,null,null,null,null,"No","",0,null,0,null,0,0,null,0]
[null,null,null,null,null,null,null,null,null,null,null,null,null,null,null,null,null,null,null,null,null,null,null,null,null,null,null,null,null,null,null,null,null,null,null,null,null,null,"No","",0,null,0,null,0,0,null,0]
[null,null,null,null,null,null,null,null,null,null,null,null,null,null,null,null,null,null,null,null,null,null,null,null,null,null,null,null,null,null,null,null,null,null,null,null,null,null,"No","",0,null,0,null,0,0,null,0]
[null,null,null,null,null,null,null,null,null,null,null,null,null,null,null,null,null,null,null,null,null,null,null,null,null,null,null,null,null,null,null,null,null,null,null,null,null,null,"No","",0,null,0,null,0,0,null,0]
[null,null,null,null,null,null,null,null,null,null,null,null,null,null,null,null,null,null,null,null,null,null,null,null,null,null,null,null,null,null,null,null,null,null,null,null,null,null,"No","",0,null,0,null,0,0,null,0]
[null,null,null,null,null,null,null,null,null,null,null,null,null,null,null,null,null,null,null,null,null,null,null,null,null,null,null,null,null,null,null,null,null,null,null,null,null,null,"No","",0,null,0,null,0,0,null,0]
[null,null,null,null,null,null,null,null,null,null,null,null,null,null,null,null,null,null,null,null,null,null,null,null,null,null,null,null,null,null,null,null,null,null,null,null,null,null,"No","",0,null,0,null,0,0,null,0]
[null,null,null,null,null,null,null,null,null,null,null,null,null,null,null,null,null,null,null,null,null,null,null,null,null,null,null,null,null,null,null,null,null,null,null,null,null,null,"No","",0,null,0,null,0,0,null,0]
[null,null,null,null,null,null,null,null,null,null,null,null,null,null,null,null,null,null,null,null,null,null,null,null,null,null,null,null,null,null,null,null,null,null,null,null,null,null,"No","",0,null,0,null,0,0,null,0]
[null,null,null,null,null,null,null,null,null,null,null,null,null,null,null,null,null,null,null,null,null,null,null,null,null,null,null,null,null,null,null,null,null,null,null,null,null,null,"No","",0,null,0,null,0,0,null,0]
[null,null,null,null,null,null,null,null,null,null,null,null,null,null,null,null,null,null,null,null,null,null,null,null,null,null,null,null,null,null,null,null,null,null,null,null,null,null,"No","",0,null,0,null,0,0,null,0]
[null,null,null,null,null,null,null,null,null,null,null,null,null,null,null,null,null,null,null,null,null,null,null,null,null,null,null,null,null,null,null,null,null,null,null,null,null,null,{"$f":"IF(OR(L288=\"5 Min ORBO\",L288=\"5 Min ORBD\",L288=\"15 Min ORBO\",L288=\"15 Min ORBD\",L288=\"MA-X-L\",L288=\"MA-X-S\",L288=\"FOMO\",L288=\"Revenge\",L288=\"Hot Key Mistake\",L288=\"VWAP Reversal Long\",L288=\"VWAP Reversal Short\",L288=\"VWAP False Breakout Long\",L288=\"VWAP False Breakout Short\",L288=\"S&R Long\",L288=\"S&R Short\",L288=\"Moving Average Long\",L288=\"Moving Average Short\",L288=\"Bearish Engulfing Crack\",L288=\"Top Reversal\",L288=\"ABCD\"),\"Yes\", \"No\")","v":"No"},"",0,null,0,null,0,0,null,0]
[null,null,null,null,null,null,null,null,null,null,null,null,null,null,null,null,null,null,null,null,null,null,null,null,null,null,null,null,null,null,null,null,null,null,null,null,null,null,"No","",0,null,0,null,0,0,null,0]
[null,null,null,null,null,null,null,null,null,null,null,null,null,null,null,null,null,null,null,null,null,null,null,null,null,null,null,null,null,null,null,null,null,null,null,null,null,null,"No","",0,null,0,null,0,0,null,0]
[null,null,null,null,null,null,null,null,null,null,null,null,null,null,null,null,null,null,null,null,null,null,null,null,null,null,null,null,null,null,null,null,null,null,null,null,null,null,"No","",0,null,0,null,0,0,null,0]
[null,null,null,null,null,null,null,null,null,null,null,null,null,null,null,null,null,null,null,null,null,null,null,null,null,null,null,null,null,null,null,null,null,null,null,null,null,null,"No","",0,null,0,null,0,0,null,0]
[null,null,null,null,null,null,null,null,null,null,null,null,null,null,null,null,null,null,null,null,null,null,null,null,null,null,null,null,null,null,null,null,null,null,null,null,null,null,"No","",0,null,0,null,0,0,null,0]
[null,null,null,null,null,null,null,null,null,null,null,null,null,null,null,null,null,null,null,null,null,null,null,null,null,null,null,null,null,null,null,null,null,null,null,null,null,null,"No","",0,null,0,null,0,0,null,0]
[null,null,null,null,null,null,null,null,null,null,null,null,null,null,null,null,null,null,null,null,null,null,null,null,null,null,null,null,null,null,null,null,null,null,null,null,null,null,"No","",0,null,0,null,0,0,null,0]
[null,null,null,null,null,null,null,null,null,null,null,null,null,null,null,null,null,null,null,null,null,null,null,null,null,null,null,null,null,null,null,null,null,null,null,null,null,null,"No","",0,null,0,null,0,0,null,0]
[null,null,null,null,null,null,null,null,null,null,null,null,null,null,null,null,null,null,null,null,null,null,null,null,null,null,null,null,null,null,null,null,null,null,null,null,null,null,"No","",0,null,0,null,0,0,null,0]
[null,null,null,null,null,null,null,null,null,null,null,null,null,null,null,null,null,null,null,null,null,null,null,null,null,null,null,null,null,null,null,null,null,null,null,null,null,null,"No","",0,null,0,null,0,0,null,0]
[null,null,null,null,null,null,null,null,null,null,null,null,null,null,null,null,null,null,null,null,null,null,null,null,null,null,null,null,null,null,null,null,null,null,null,null,null,null,"No",{"$f":"IF(AM299=\"Yes\", F299,\"\")","v":""},{"$f":"N299","v":0},null,{"$f":"N299-Q299","v":0},null,{"$f":"T299","v":0},{"$f":"N299","v":0},null,{"$f":"L299","v":0}]
[null,null,null,null,null,null,null,null,null,null,null,null,null,null,null,null,null,null,null,null,null,null,null,null,null,null,null,null,null,null,null,null,null,null,null,null,null,null,"No","",0,null,0,null,0,0,null,0]
[null,null,null,null,null,null,null,null,null,null,null,null,null,null,null,null,null,null,null,null,null,null,null,null,null,null,null,null,null,null,null,null,null,null,null,null,null,null,"No","",0,null,0,null,0,0,null,0]
[null,null,null,null,null,null,null,null,null,null,null,null,null,null,null,null,null,null,null,null,null,null,null,null,null,null,null,null,null,null,null,null,null,null,null,null,null,null,"No","",0,null,0,null,0,0,null,0]
[null,null,null,null,null,null,null,null,null,null,null,null,null,null,null,null,null,null,null,null,null,null,null,null,null,null,null,null,null,null,null,null,null,null,null,null,null,null,"No","",0,null,0,null,0,0,null,0]
[null,null,null,null,null,null,null,null,null,null,null,null,null,null,null,null,null,null,null,null,null,null,null,null,null,null,null,null,null,null,null,null,null,null,null,null,null,null,"No","",0,null,0,null,0,0,null,0]
[null,null,null,null,null,null,null,null,null,null,null,null,null,null,null,null,null,null,null,null,null,null,null,null,null,null,null,null,null,null,null,null,null,null,null,null,null,null,"No","",0,null,0,null,0,0,null,0]
[null,null,null,null,null,null,null,null,null,null,null,null,null,null,null,null,null,null,null,null,null,null,null,null,null,null,null,null,null,null,null,null,null,null,null,null,null,null,"No","",0,null,0,null,0,0,null,0]
[null,null,null,null,null,null,null,null,null,null,null,null,null,null,null,null,null,null,null,null,null,null,null,null,null,null,null,null,null,null,null,null,null,null,null,null,null,null,"No","",0,null,0,null,0,0,null,0]
[null,null,null,null,null,null,null,null,null,null,null,null,null,null,null,null,null,null,null,null,null,null,null,null,null,null,null,null,null,null,null,null,null,null,null,null,null,null,"No","",0,null,0,null,0,0,null,0]
[null,null,null,null,null,null,null,null,null,null,null,null,null,null,null,null,null,null,null,null,null,null,null,null,null,null,null,null,null,null,null,null,null,null,null,null,null,null,"No","",0,null,0,null,0,0,null,0]
[null,null,null,null,null,null,null,null,null,null,null,null,null,null,null,null,null,null,null,null,null,null,null,null,null,null,null,null,null,null,null,null,null,null,null,null,null,null,"No","",0,null,0,null,0,0,null,0]
[null,null,null,null,null,null,null,null,null,null,null,null,null,null,null,null,null,null,null,null,null,null,null,null,null,null,null,null,null,null,null,null,null,null,null,null,null,null,"No","",0,null,0,null,0,0,null,0]
[null,null,null,null,null,null,null,null,null,null,null,null,null,null,null,null,null,null,null,null,null,null,null,null,null,null,null,null,null,null,null,null,null,null,null,null,null,null,"No","",0,null,0,null,0,0,null,0]
[null,null,null,null,null,null,null,null,null,null,null,null,null,null,null,null,null,null,null,null,null,null,null,null,null,null,null,null,null,null,null,null,null,null,null,null,null,null,"No","",0,null,0,null,0,0,null,0]
[null,null,null,null,null,null,null,null,null,null,null,null,null,null,null,null,null,null,null,null,null,null,null,null,null,null,null,null,null,null,null,null,null,null,null,null,null,null,"No","",0,null,0,null,0,0,null,0]
[null,null,null,null,null,null,null,null,null,null,null,null,null,null,null,null,null,null,null,null,null,null,null,null,null,null,null,null,null,null,null,null,null,null,null,null,null,null,"No","",0,null,0,null,0,0,null,0]
[null,null,null,null,null,null,null,null,null,null,null,null,null,null,null,null,null,null,null,null,null,null,null,null,null,null,null,null,null,null,null,null,null,null,null,null,null,null,"No","",0,null,0,null,0,0,null,0]
[null,null,null,null,null,null,null,null,null,null,null,null,null,null,null,null,null,null,null,null,null,null,null,null,null,null,null,null,null,null,null,null,null,null,null,null,null,null,"No","",0,null,0,null,0,0,null,0]
[null,null,null,null,null,null,null,null,null,null,null,null,null,null,null,null,null,null,null,null,null,null,null,null,null,null,null,null,null,null,null,null,null,null,null,null,null,null,"No","",0,null,0,null,0,0,null,0]
[null,null,null,null,null,null,null,null,null,null,null,null,null,null,null,null,null,null,null,null,null,null,null,null,null,null,null,null,null,null,null,null,null,null,null,null,null,null,"No","",0,null,0,null,0,0,null,0]
[null,null,null,null,null,null,null,null,null,null,null,null,null,null,null,null,null,null,null,null,null,null,null,null,null,null,null,null,null,null,null,null,null,null,null,null,null,null,"No","",0,null,0,null,0,0,null,0]
[null,null,null,null,null,null,null,null,null,null,null,null,null,null,null,null,null,null,null,null,null,null,null,null,null,null,null,null,null,null,null,null,null,null,null,null,null,null,"No","",0,null,0,null,0,0,null,0]
[null,null,null,null,null,null,null,null,null,null,null,null,null,null,null,null,null,null,null,null,null,null,null,null,null,null,null,null,null,null,null,null,null,null,null,null,null,null,"No","",0,null,0,null,0,0,null,0]
[null,null,null,null,null,null,null,null,null,null,null,null,null,null,null,null,null,null,null,null,null,null,null,null,null,null,null,null,null,null,null,null,null,null,null,null,null,null,"No","",0,null,0,null,0,0,null,0]
[null,null,null,null,null,null,null,null,null,null,null,null,null,null,null,null,null,null,null,null,null,null,null,null,null,null,null,null,null,null,null,null,null,null,null,null,null,null,"No","",0,null,0,null,0,0,null,0]
[null,null,null,null,null,null,null,null,null,null,null,null,null,null,null,null,null,null,null,null,null,null,null,null,null,null,null,null,null,null,null,null,null,null,null,null,null,null,"No","",0,null,0,null,0,0,null,0]
[null,null,null,null,null,null,null,null,null,null,null,null,null,null,null,null,null,null,null,null,null,null,null,null,null,null,null,null,null,null,null,null,null,null,null,null,null,null,"No","",0,null,0,null,0,0,null,0]
[null,null,null,null,null,null,null,null,null,null,null,null,null,null,null,null,null,null,null,null,null,null,null,null,null,null,null,null,null,null,null,null,null,null,null,null,null,null,"No","",0,null,0,null,0,0,null,0]
[null,null,null,null,null,null,null,null,null,null,null,null,null,null,null,null,null,null,null,null,null,null,null,null,null,null,null,null,null,null,null,null,null,null,null,null,null,null,"No","",0,null,0,null,0,0,null,0]
[null,null,null,null,null,null,null,null,null,null,null,null,null,null,null,null,null,null,null,null,null,null,null,null,null,null,null,null,null,null,null,null,null,null,null,null,null,null,"No","",0,null,0,null,0,0,null,0]
[null,null,null,null,null,null,null,null,null,null,null,null,null,null,null,null,null,null,null,null,null,null,null,null,null,null,null,null,null,null,null,null,null,null,null,null,null,null,"No","",0,null,0,null,0,0,null,0]
[null,null,null,null,null,null,null,null,null,null,null,null,null,null,null,null,null,null,null,null,null,null,null,null,null,null,null,null,null,null,null,null,null,null,null,null,null,null,"No","",0,null,0,null,0,0,null,0]
[null,null,null,null,null,null,null,null,null,null,null,null,null,null,null,null,null,null,null,null,null,null,null,null,null,null,null,null,null,null,null,null,null,null,null,null,null,null,"No","",0,null,0,null,0,0,null,0]
[null,null,null,null,null,null,null,null,null,null,null,null,null,null,null,null,null,null,null,null,null,null,null,null,null,null,null,null,null,null,null,null,null,null,null,null,null,null,"No","",0,null,0,null,0,0,null,0]
[null,null,null,null,null,null,null,null,null,null,null,null,null,null,null,null,null,null,null,null,null,null,null,null,null,null,null,null,null,null,null,null,null,null,null,null,null,null,"No","",0,null,0,null,0,0,null,0]
[null,null,null,null,null,null,null,null,null,null,null,null,null,null,null,null,null,null,null,null,null,null,null,null,null,null,null,null,null,null,null,null,null,null,null,null,null,null,"No","",0,null,0,null,0,0,null,0]
[null,null,null,null,null,null,null,null,null,null,null,null,null,null,null,null,null,null,null,null,null,null,null,null,null,null,null,null,null,null,null,null,null,null,null,null,null,null,"No","",0,null,0,null,0,0,null,0]
[null,null,null,null,null,null,null,null,null,null,null,null,null,null,null,null,null,null,null,null,null,null,null,null,null,null,null,null,null,null,null,null,null,null,null,null,null,null,"No","",0,null,0,null,0,0,null,0]
[null,null,null,null,null,null,null,null,null,null,null,null,null,null,null,null,null,null,null,null,null,null,null,null,null,null,null,null,null,null,null,null,null,null,null,null,null,null,"No","",0,null,0,null,0,0,null,0]
[null,null,null,null,null,null,null,null,null,null,null,null,null,null,null,null,null,null,null,null,null,null,null,null,null,null,null,null,null,null,null,null,null,null,null,null,null,null,"No","",0,null,0,null,0,0,null,0]
[null,null,null,null,null,null,null,null,null,null,null,null,null,null,null,null,null,null,null,null,null,null,null,null,null,null,null,null,null,null,null,null,null,null,null,null,null,null,"No","",0,null,0,null,0,0,null,0]
[null,null,null,null,null,null,null,null,null,null,null,null,null,null,null,null,null,null,null,null,null,null,null,null,null,null,null,null,null,null,null,null,null,null,null,null,null,null,"No","",0,null,0,null,0,0,null,0]
[null,null,null,null,null,null,null,null,null,null,null,null,null,null,null,null,null,null,null,null,null,null,null,null,null,null,null,null,null,null,null,null,null,null,null,null,null,null,"No","",0,null,0,null,0,0,null,0]
[null,null,null,null,null,null,null,null,null,null,null,null,null,null,null,null,null,null,null,null,null,null,null,null,null,null,null,null,null,null,null,null,null,null,null,null,null,null,"No","",0,null,0,null,0,0,null,0]
[null,null,null,null,null,null,null,null,null,null,null,null,null,null,null,null,null,null,null,null,null,null,null,null,null,null,null,null,null,null,null,null,null,null,null,null,null,null,"No","",0,null,0,null,0,0,null,0]
[null,null,null,null,null,null,null,null,null,null,null,null,null,null,null,null,null,null,null,null,null,null,null,null,null,null,null,null,null,null,null,null,null,null,null,null,null,null,"No","",0,null,0,null,0,0,null,0]
[null,null,null,null,null,null,null,null,null,null,null,null,null,null,null,null,null,null,null,null,null,null,null,null,null,null,null,null,null,null,null,null,null,null,null,null,null,null,"No","",0,null,0,null,0,0,null,0]
[null,null,null,null,null,null,null,null,null,null,null,null,null,null,null,null,null,null,null,null,null,null,null,null,null,null,null,null,null,null,null,null,null,null,null,null,null,null,"No","",0,null,0,null,0,0,null,0]
[null,null,null,null,null,null,null,null,null,null,null,null,null,null,null,null,null,null,null,null,null,null,null,null,null,null,null,null,null,null,null,null,null,null,null,null,null,null,"No","",0,null,0,null,0,0,null,0]
[null,null,null,null,null,null,null,null,null,null,null,null,null,null,null,null,null,null,null,null,null,null,null,null,null,null,null,null,null,null,null,null,null,null,null,null,null,null,"No","",0,null,0,null,0,0,null,0]
[null,null,null,null,null,null,null,null,null,null,null,null,null,null,null,null,null,null,null,null,null,null,null,null,null,null,null,null,null,null,null,null,null,null,null,null,null,null,"No","",0,null,0,null,0,0,null,0]
[null,null,null,null,null,null,null,null,null,null,null,null,null,null,null,null,null,null,null,null,null,null,null,null,null,null,null,null,null,null,null,null,null,null,null,null,null,null,"No","",0,null,0,null,0,0,null,0]
[null,null,null,null,null,null,null,null,null,null,null,null,null,null,null,null,null,null,null,null,null,null,null,null,null,null,null,null,null,null,null,null,null,null,null,null,null,null,{"$f":"IF(OR(L352=\"5 Min ORBO\",L352=\"5 Min ORBD\",L352=\"15 Min ORBO\",L352=\"15 Min ORBD\",L352=\"MA-X-L\",L352=\"MA-X-S\",L352=\"FOMO\",L352=\"Revenge\",L352=\"Hot Key Mistake\",L352=\"VWAP Reversal Long\",L352=\"VWAP Reversal Short\",L352=\"VWAP False Breakout Long\",L352=\"VWAP False Breakout Short\",L352=\"S&R Long\",L352=\"S&R Short\",L352=\"Moving Average Long\",L352=\"Moving Average Short\",L352=\"Bearish Engulfing Crack\",L352=\"Top Reversal\",L352=\"ABCD\"),\"Yes\", \"No\")","v":"No"},"",0,null,0,null,0,0,null,0]
[null,null,null,null,null,null,null,null,null,null,null,null,null,null,null,null,null,null,null,null,null,null,null,null,null,null,null,null,null,null,null,null,null,null,null,null,null,null,"No","",0,null,0,null,0,0,null,0]
[null,null,null,null,null,null,null,null,null,null,null,null,null,null,null,null,null,null,null,null,null,null,null,null,null,null,null,null,null,null,null,null,null,null,null,null,null,null,"No","",0,null,0,null,0,0,null,0]
[null,null,null,null,null,null,null,null,null,null,null,null,null,null,null,null,null,null,null,null,null,null,null,null,null,null,null,null,null,null,null,null,null,null,null,null,null,null,"No","",0,null,0,null,0,0,null,0]
[null,null,null,null,null,null,null,null,null,null,null,null,null,null,null,null,null,null,null,null,null,null,null,null,null,null,null,null,null,null,null,null,null,null,null,null,null,null,"No","",0,null,0,null,0,0,null,0]
[null,null,null,null,null,null,null,null,null,null,null,null,null,null,null,null,null,null,null,null,null,null,null,null,null,null,null,null,null,null,null,null,null,null,null,null,null,null,"No","",0,null,0,null,0,0,null,0]
[null,null,null,null,null,null,null,null,null,null,null,null,null,null,null,null,null,null,null,null,null,null,null,null,null,null,null,null,null,null,null,null,null,null,null,null,null,null,"No","",0,null,0,null,0,0,null,0]
[null,null,null,null,null,null,null,null,null,null,null,null,null,null,null,null,null,null,null,null,null,null,null,null,null,null,null,null,null,null,null,null,null,null,null,null,null,null,"No","",0,null,0,null,0,0,null,0]
[null,null,null,null,null,null,null,null,null,null,null,null,null,null,null,null,null,null,null,null,null,null,null,null,null,null,null,null,null,null,null,null,null,null,null,null,null,null,"No","",0,null,0,null,0,0,null,0]
[null,null,null,null,null,null,null,null,null,null,null,null,null,null,null,null,null,null,null,null,null,null,null,null,null,null,null,null,null,null,null,null,null,null,null,null,null,null,"No","",0,null,0,null,0,0,null,0]
[null,null,null,null,null,null,null,null,null,null,null,null,null,null,null,null,null,null,null,null,null,null,null,null,null,null,null,null,null,null,null,null,null,null,null,null,null,null,"No","",0,null,0,null,0,0,null,0]
[null,null,null,null,null,null,null,null,null,null,null,null,null,null,null,null,null,null,null,null,null,null,null,null,null,null,null,null,null,null,null,null,null,null,null,null,null,null,"No",{"$f":"IF(AM363=\"Yes\", F363,\"\")","v":""},{"$f":"N363","v":0},null,{"$f":"N363-Q363","v":0},null,{"$f":"T363","v":0},{"$f":"N363","v":0},null,{"$f":"L363","v":0}]
[null,null,null,null,null,null,null,null,null,null,null,null,null,null,null,null,null,null,null,null,null,null,null,null,null,null,null,null,null,null,null,null,null,null,null,null,null,null,"No","",0,null,0,null,0,0,null,0]
[null,null,null,null,null,null,null,null,null,null,null,null,null,null,null,null,null,null,null,null,null,null,null,null,null,null,null,null,null,null,null,null,null,null,null,null,null,null,"No","",0,null,0,null,0,0,null,0]
[null,null,null,null,null,null,null,null,null,null,null,null,null,null,null,null,null,null,null,null,null,null,null,null,null,null,null,null,null,null,null,null,null,null,null,null,null,null,"No","",0,null,0,null,0,0,null,0]
[null,null,null,null,null,null,null,null,null,null,null,null,null,null,null,null,null,null,null,null,null,null,null,null,null,null,null,null,null,null,null,null,null,null,null,null,null,null,"No","",0,null,0,null,0,0,null,0]
[null,null,null,null,null,null,null,null,null,null,null,null,null,null,null,null,null,null,null,null,null,null,null,null,null,null,null,null,null,null,null,null,null,null,null,null,null,null,"No","",0,null,0,null,0,0,null,0]
[null,null,null,null,null,null,null,null,null,null,null,null,null,null,null,null,null,null,null,null,null,null,null,null,null,null,null,null,null,null,null,null,null,null,null,null,null,null,"No","",0,null,0,null,0,0,null,0]
[null,null,null,null,null,null,null,null,null,null,null,null,null,null,null,null,null,null,null,null,null,null,null,null,null,null,null,null,null,null,null,null,null,null,null,null,null,null,"No","",0,null,0,null,0,0,null,0]
[null,null,null,null,null,null,null,null,null,null,null,null,null,null,null,null,null,null,null,null,null,null,null,null,null,null,null,null,null,null,null,null,null,null,null,null,null,null,"No","",0,null,0,null,0,0,null,0]
[null,null,null,null,null,null,null,null,null,null,null,null,null,null,null,null,null,null,null,null,null,null,null,null,null,null,null,null,null,null,null,null,null,null,null,null,null,null,"No","",0,null,0,null,0,0,null,0]
[null,null,null,null,null,null,null,null,null,null,null,null,null,null,null,null,null,null,null,null,null,null,null,null,null,null,null,null,null,null,null,null,null,null,null,null,null,null,"No","",0,null,0,null,0,0,null,0]
[null,null,null,null,null,null,null,null,null,null,null,null,null,null,null,null,null,null,null,null,null,null,null,null,null,null,null,null,null,null,null,null,null,null,null,null,null,null,"No","",0,null,0,null,0,0,null,0]
[null,null,null,null,null,null,null,null,null,null,null,null,null,null,null,null,null,null,null,null,null,null,null,null,null,null,null,null,null,null,null,null,null,null,null,null,null,null,"No","",0,null,0,null,0,0,null,0]
[null,null,null,null,null,null,null,null,null,null,null,null,null,null,null,null,null,null,null,null,null,null,null,null,null,null,null,null,null,null,null,null,null,null,null,null,null,null,"No","",0,null,0,null,0,0,null,0]
[null,null,null,null,null,null,null,null,null,null,null,null,null,null,null,null,null,null,null,null,null,null,null,null,null,null,null,null,null,null,null,null,null,null,null,null,null,null,"No","",0,null,0,null,0,0,null,0]
[null,null,null,null,null,null,null,null,null,null,null,null,null,null,null,null,null,null,null,null,null,null,null,null,null,null,null,null,null,null,null,null,null,null,null,null,null,null,"No","",0,null,0,null,0,0,null,0]
[null,null,null,null,null,null,null,null,null,null,null,null,null,null,null,null,null,null,null,null,null,null,null,null,null,null,null,null,null,null,null,null,null,null,null,null,null,null,"No","",0,null,0,null,0,0,null,0]
[null,null,null,null,null,null,null,null,null,null,null,null,null,null,null,null,null,null,null,null,null,null,null,null,null,null,null,null,null,null,null,null,null,null,null,null,null,null,"No","",0,null,0,null,0,0,null,0]
[null,null,null,null,null,null,null,null,null,null,null,null,null,null,null,null,null,null,null,null,null,null,null,null,null,null,null,null,null,null,null,null,null,null,null,null,null,null,"No","",0,null,0,null,0,0,null,0]
[null,null,null,null,null,null,null,null,null,null,null,null,null,null,null,null,null,null,null,null,null,null,null,null,null,null,null,null,null,null,null,null,null,null,null,null,null,null,"No","",0,null,0,null,0,0,null,0]
[null,null,null,null,null,null,null,null,null,null,null,null,null,null,null,null,null,null,null,null,null,null,null,null,null,null,null,null,null,null,null,null,null,null,null,null,null,null,"No","",0,null,0,null,0,0,null,0]
[null,null,null,null,null,null,null,null,null,null,null,null,null,null,null,null,null,null,null,null,null,null,null,null,null,null,null,null,null,null,null,null,null,null,null,null,null,null,"No","",0,null,0,null,0,0,null,0]
[null,null,null,null,null,null,null,null,null,null,null,null,null,null,null,null,null,null,null,null,null,null,null,null,null,null,null,null,null,null,null,null,null,null,null,null,null,null,"No","",0,null,0,null,0,0,null,0]
[null,null,null,null,null,null,null,null,null,null,null,null,null,null,null,null,null,null,null,null,null,null,null,null,null,null,null,null,null,null,null,null,null,null,null,null,null,null,"No","",0,null,0,null,0,0,null,0]
[null,null,null,null,null,null,null,null,null,null,null,null,null,null,null,null,null,null,null,null,null,null,null,null,null,null,null,null,null,null,null,null,null,null,null,null,null,null,"No","",0,null,0,null,0,0,null,0]
[null,null,null,null,null,null,null,null,null,null,null,null,null,null,null,null,null,null,null,null,null,null,null,null,null,null,null,null,null,null,null,null,null,null,null,null,null,null,"No","",0,null,0,null,0,0,null,0]
[null,null,null,null,null,null,null,null,null,null,null,null,null,null,null,null,null,null,null,null,null,null,null,null,null,null,null,null,null,null,null,null,null,null,null,null,null,null,"No","",0,null,0,null,0,0,null,0]
[null,null,null,null,null,null,null,null,null,null,null,null,null,null,null,null,null,null,null,null,null,null,null,null,null,null,null,null,null,null,null,null,null,null,null,null,null,null,"No","",0,null,0,null,0,0,null,0]
[null,null,null,null,null,null,null,null,null,null,null,null,null,null,null,null,null,null,null,null,null,null,null,null,null,null,null,null,null,null,null,null,null,null,null,null,null,null,"No","",0,null,0,null,0,0,null,0]
[null,null,null,null,null,null,null,null,null,null,null,null,null,null,null,null,null,null,null,null,null,null,null,null,null,null,null,null,null,null,null,null,null,null,null,null,null,null,"No","",0,null,0,null,0,0,null,0]
[null,null,null,null,null,null,null,null,null,null,null,null,null,null,null,null,null,null,null,null,null,null,null,null,null,null,null,null,null,null,null,null,null,null,null,null,null,null,"No","",0,null,0,null,0,0,null,0]
[null,null,null,null,null,null,null,null,null,null,null,null,null,null,null,null,null,null,null,null,null,null,null,null,null,null,null,null,null,null,null,null,null,null,null,null,null,null,"No","",0,null,0,null,0,0,null,0]
[null,null,null,null,null,null,null,null,null,null,null,null,null,null,null,null,null,null,null,null,null,null,null,null,null,null,null,null,null,null,null,null,null,null,null,null,null,null,"No","",0,null,0,null,0,0,null,0]
[null,null,null,null,null,null,null,null,null,null,null,null,null,null,null,null,null,null,null,null,null,null,null,null,null,null,null,null,null,null,null,null,null,null,null,null,null,null,"No","",0,null,0,null,0,0,null,0]
[null,null,null,null,null,null,null,null,null,null,null,null,null,null,null,null,null,null,null,null,null,null,null,null,null,null,null,null,null,null,null,null,null,null,null,null,null,null,"No","",0,null,0,null,0,0,null,0]
[null,null,null,null,null,null,null,null,null,null,null,null,null,null,null,null,null,null,null,null,null,null,null,null,null,null,null,null,null,null,null,null,null,null,null,null,null,null,"No","",0,null,0,null,0,0,null,0]
[null,null,null,null,null,null,null,null,null,null,null,null,null,null,null,null,null,null,null,null,null,null,null,null,null,null,null,null,null,null,null,null,null,null,null,null,null,null,"No","",0,null,0,null,0,0,null,0]
[null,null,null,null,null,null,null,null,null,null,null,null,null,null,null,null,null,null,null,null,null,null,null,null,null,null,null,null,null,null,null,null,null,null,null,null,null,null,"No","",0,null,0,null,0,0,null,0]
[null,null,null,null,null,null,null,null,null,null,null,null,null,null,null,null,null,null,null,null,null,null,null,null,null,null,null,null,null,null,null,null,null,null,null,null,null,null,"No","",0,null,0,null,0,0,null,0]
[null,null,null,null,null,null,null,null,null,null,null,null,null,null,null,null,null,null,null,null,null,null,null,null,null,null,null,null,null,null,null,null,null,null,null,null,null,null,"No","",0,null,0,null,0,0,null,0]
[null,null,null,null,null,null,null,null,null,null,null,null,null,null,null,null,null,null,null,null,null,null,null,null,null,null,null,null,null,null,null,null,null,null,null,null,null,null,"No","",0,null,0,null,0,0,null,0]
[null,null,null,null,null,null,null,null,null,null,null,null,null,null,null,null,null,null,null,null,null,null,null,null,null,null,null,null,null,null,null,null,null,null,null,null,null,null,"No","",0,null,0,null,0,0,null,0]
[null,null,null,null,null,null,null,null,null,null,null,null,null,null,null,null,null,null,null,null,null,null,null,null,null,null,null,null,null,null,null,null,null,null,null,null,null,null,"No","",0,null,0,null,0,0,null,0]
[null,null,null,null,null,null,null,null,null,null,null,null,null,null,null,null,null,null,null,null,null,null,null,null,null,null,null,null,null,null,null,null,null,null,null,null,null,null,"No","",0,null,0,null,0,0,null,0]
[null,null,null,null,null,null,null,null,null,null,null,null,null,null,null,null,null,null,null,null,null,null,null,null,null,null,null,null,null,null,null,null,null,null,null,null,null,null,"No","",0,null,0,null,0,0,null,0]
[null,null,null,null,null,null,null,null,null,null,null,null,null,null,null,null,null,null,null,null,null,null,null,null,null,null,null,null,null,null,null,null,null,null,null,null,null,null,"No","",0,null,0,null,0,0,null,0]
[null,null,null,null,null,null,null,null,null,null,null,null,null,null,null,null,null,null,null,null,null,null,null,null,null,null,null,null,null,null,null,null,null,null,null,null,null,null,"No","",0,null,0,null,0,0,null,0]
[null,null,null,null,null,null,null,null,null,null,null,null,null,null,null,null,null,null,null,null,null,null,null,null,null,null,null,null,null,null,null,null,null,null,null,null,null,null,"No","",0,null,0,null,0,0,null,0]
[null,null,null,null,null,null,null,null,null,null,null,null,null,null,null,null,null,null,null,null,null,null,null,null,null,null,null,null,null,null,null,null,null,null,null,null,null,null,"No","",0,null,0,null,0,0,null,0]
[null,null,null,null,null,null,null,null,null,null,null,null,null,null,null,null,null,null,null,null,null,null,null,null,null,null,null,null,null,null,null,null,null,null,null,null,null,null,"No","",0,null,0,null,0,0,null,0]
[null,null,null,null,null,null,null,null,null,null,null,null,null,null,null,null,null,null,null,null,null,null,null,null,null,null,null,null,null,null,null,null,null,null,null,null,null,null,"No","",0,null,0,null,0,0,null,0]
[null,null,null,null,null,null,null,null,null,null,null,null,null,null,null,null,null,null,null,null,null,null,null,null,null,null,null,null,null,null,null,null,null,null,null,null,null,null,"No","",0,null,0,null,0,0,null,0]
[null,null,null,null,null,null,null,null,null,null,null,null,null,null,null,null,null,null,null,null,null,null,null,null,null,null,null,null,null,null,null,null,null,null,null,null,null,null,"No","",0,null,0,null,0,0,null,0]
[null,null,null,null,null,null,null,null,null,null,null,null,null,null,null,null,null,null,null,null,null,null,null,null,null,null,null,null,null,null,null,null,null,null,null,null,null,null,{"$f":"IF(OR(L416=\"5 Min ORBO\",L416=\"5 Min ORBD\",L416=\"15 Min ORBO\",L416=\"15 Min ORBD\",L416=\"MA-X-L\",L416=\"MA-X-S\",L416=\"FOMO\",L416=\"Revenge\",L416=\"Hot Key Mistake\",L416=\"VWAP Reversal Long\",L416=\"VWAP Reversal Short\",L416=\"VWAP False Breakout Long\",L416=\"VWAP False Breakout Short\",L416=\"S&R Long\",L416=\"S&R Short\",L416=\"Moving Average Long\",L416=\"Moving Average Short\",L416=\"Bearish Engulfing Crack\",L416=\"Top Reversal\",L416=\"ABCD\"),\"Yes\", \"No\")","v":"No"},"",0,null,0,null,0,0,null,0]
[null,null,null,null,null,null,null,null,null,null,null,null,null,null,null,null,null,null,null,null,null,null,null,null,null,null,null,null,null,null,null,null,null,null,null,null,null,null,"No","",0,null,0,null,0,0,null,0]
[null,null,null,null,null,null,null,null,null,null,null,null,null,null,null,null,null,null,null,null,null,null,null,null,null,null,null,null,null,null,null,null,null,null,null,null,null,null,"No","",0,null,0,null,0,0,null,0]
[null,null,null,null,null,null,null,null,null,null,null,null,null,null,null,null,null,null,null,null,null,null,null,null,null,null,null,null,null,null,null,null,null,null,null,null,null,null,"No","",0,null,0,null,0,0,null,0]
[null,null,null,null,null,null,null,null,null,null,null,null,null,null,null,null,null,null,null,null,null,null,null,null,null,null,null,null,null,null,null,null,null,null,null,null,null,null,"No","",0,null,0,null,0,0,null,0]
[null,null,null,null,null,null,null,null,null,null,null,null,null,null,null,null,null,null,null,null,null,null,null,null,null,null,null,null,null,null,null,null,null,null,null,null,null,null,"No","",0,null,0,null,0,0,null,0]
[null,null,null,null,null,null,null,null,null,null,null,null,null,null,null,null,null,null,null,null,null,null,null,null,null,null,null,null,null,null,null,null,null,null,null,null,null,null,"No","",0,null,0,null,0,0,null,0]
[null,null,null,null,null,null,null,null,null,null,null,null,null,null,null,null,null,null,null,null,null,null,null,null,null,null,null,null,null,null,null,null,null,null,null,null,null,null,"No","",0,null,0,null,0,0,null,0]
[null,null,null,null,null,null,null,null,null,null,null,null,null,null,null,null,null,null,null,null,null,null,null,null,null,null,null,null,null,null,null,null,null,null,null,null,null,null,"No","",0,null,0,null,0,0,null,0]
[null,null,null,null,null,null,null,null,null,null,null,null,null,null,null,null,null,null,null,null,null,null,null,null,null,null,null,null,null,null,null,null,null,null,null,null,null,null,"No","",0,null,0,null,0,0,null,0]
[null,null,null,null,null,null,null,null,null,null,null,null,null,null,null,null,null,null,null,null,null,null,null,null,null,null,null,null,null,null,null,null,null,null,null,null,null,null,"No","",0,null,0,null,0,0,null,0]
[null,null,null,null,null,null,null,null,null,null,null,null,null,null,null,null,null,null,null,null,null,null,null,null,null,null,null,null,null,null,null,null,null,null,null,null,null,null,"No",{"$f":"IF(AM427=\"Yes\", F427,\"\")","v":""},{"$f":"N427","v":0},null,{"$f":"N427-Q427","v":0},null,{"$f":"T427","v":0},{"$f":"N427","v":0},null,{"$f":"L427","v":0}]
[null,null,null,null,null,null,null,null,null,null,null,null,null,null,null,null,null,null,null,null,null,null,null,null,null,null,null,null,null,null,null,null,null,null,null,null,null,null,"No","",0,null,0,null,0,0,null,0]
[null,null,null,null,null,null,null,null,null,null,null,null,null,null,null,null,null,null,null,null,null,null,null,null,null,null,null,null,null,null,null,null,null,null,null,null,null,null,"No","",0,null,0,null,0,0,null,0]
[null,null,null,null,null,null,null,null,null,null,null,null,null,null,null,null,null,null,null,null,null,null,null,null,null,null,null,null,null,null,null,null,null,null,null,null,null,null,"No","",0,null,0,null,0,0,null,0]
[null,null,null,null,null,null,null,null,null,null,null,null,null,null,null,null,null,null,null,null,null,null,null,null,null,null,null,null,null,null,null,null,null,null,null,null,null,null,"No","",0,null,0,null,0,0,null,0]
[null,null,null,null,null,null,null,null,null,null,null,null,null,null,null,null,null,null,null,null,null,null,null,null,null,null,null,null,null,null,null,null,null,null,null,null,null,null,"No","",0,null,0,null,0,0,null,0]
[null,null,null,null,null,null,null,null,null,null,null,null,null,null,null,null,null,null,null,null,null,null,null,null,null,null,null,null,null,null,null,null,null,null,null,null,null,null,"No","",0,null,0,null,0,0,null,0]
[null,null,null,null,null,null,null,null,null,null,null,null,null,null,null,null,null,null,null,null,null,null,null,null,null,null,null,null,null,null,null,null,null,null,null,null,null,null,"No","",0,null,0,null,0,0,null,0]
[null,null,null,null,null,null,null,null,null,null,null,null,null,null,null,null,null,null,null,null,null,null,null,null,null,null,null,null,null,null,null,null,null,null,null,null,null,null,"No","",0,null,0,null,0,0,null,0]
[null,null,null,null,null,null,null,null,null,null,null,null,null,null,null,null,null,null,null,null,null,null,null,null,null,null,null,null,null,null,null,null,null,null,null,null,null,null,"No","",0,null,0,null,0,0,null,0]
[null,null,null,null,null,null,null,null,null,null,null,null,null,null,null,null,null,null,null,null,null,null,null,null,null,null,null,null,null,null,null,null,null,null,null,null,null,null,"No","",0,null,0,null,0,0,null,0]
[null,null,null,null,null,null,null,null,null,null,null,null,null,null,null,null,null,null,null,null,null,null,null,null,null,null,null,null,null,null,null,null,null,null,null,null,null,null,"No","",0,null,0,null,0,0,null,0]
[null,null,null,null,null,null,null,null,null,null,null,null,null,null,null,null,null,null,null,null,null,null,null,null,null,null,null,null,null,null,null,null,null,null,null,null,null,null,"No","",0,null,0,null,0,0,null,0]
[null,null,null,null,null,null,null,null,null,null,null,null,null,null,null,null,null,null,null,null,null,null,null,null,null,null,null,null,null,null,null,null,null,null,null,null,null,null,"No","",0,null,0,null,0,0,null,0]
[null,null,null,null,null,null,null,null,null,null,null,null,null,null,null,null,null,null,null,null,null,null,null,null,null,null,null,null,null,null,null,null,null,null,null,null,null,null,"No","",0,null,0,null,0,0,null,0]
[null,null,null,null,null,null,null,null,null,null,null,null,null,null,null,null,null,null,null,null,null,null,null,null,null,null,null,null,null,null,null,null,null,null,null,null,null,null,"No","",0,null,0,null,0,0,null,0]
[null,null,null,null,null,null,null,null,null,null,null,null,null,null,null,null,null,null,null,null,null,null,null,null,null,null,null,null,null,null,null,null,null,null,null,null,null,null,"No","",0,null,0,null,0,0,null,0]
[null,null,null,null,null,null,null,null,null,null,null,null,null,null,null,null,null,null,null,null,null,null,null,null,null,null,null,null,null,null,null,null,null,null,null,null,null,null,"No","",0,null,0,null,0,0,null,0]
[null,null,null,null,null,null,null,null,null,null,null,null,null,null,null,null,null,null,null,null,null,null,null,null,null,null,null,null,null,null,null,null,null,null,null,null,null,null,"No","",0,null,0,null,0,0,null,0]
[null,null,null,null,null,null,null,null,null,null,null,null,null,null,null,null,null,null,null,null,null,null,null,null,null,null,null,null,null,null,null,null,null,null,null,null,null,null,"No","",0,null,0,null,0,0,null,0]
[null,null,null,null,null,null,null,null,null,null,null,null,null,null,null,null,null,null,null,null,null,null,null,null,null,null,null,null,null,null,null,null,null,null,null,null,null,null,"No","",0,null,0,null,0,0,null,0]
[null,null,null,null,null,null,null,null,null,null,null,null,null,null,null,null,null,null,null,null,null,null,null,null,null,null,null,null,null,null,null,null,null,null,null,null,null,null,"No","",0,null,0,null,0,0,null,0]
[null,null,null,null,null,null,null,null,null,null,null,null,null,null,null,null,null,null,null,null,null,null,null,null,null,null,null,null,null,null,null,null,null,null,null,null,null,null,"No","",0,null,0,null,0,0,null,0]
[null,null,null,null,null,null,null,null,null,null,null,null,null,null,null,null,null,null,null,null,null,null,null,null,null,null,null,null,null,null,null,null,null,null,null,null,null,null,"No","",0,null,0,null,0,0,null,0]
[null,null,null,null,null,null,null,null,null,null,null,null,null,null,null,null,null,null,null,null,null,null,null,null,null,null,null,null,null,null,null,null,null,null,null,null,null,null,"No","",0,null,0,null,0,0,null,0]
[null,null,null,null,null,null,null,null,null,null,null,null,null,null,null,null,null,null,null,null,null,null,null,null,null,null,null,null,null,null,null,null,null,null,null,null,null,null,"No","",0,null,0,null,0,0,null,0]
[null,null,null,null,null,null,null,null,null,null,null,null,null,null,null,null,null,null,null,null,null,null,null,null,null,null,null,null,null,null,null,null,null,null,null,null,null,null,"No","",0,null,0,null,0,0,null,0]
[null,null,null,null,null,null,null,null,null,null,null,null,null,null,null,null,null,null,null,null,null,null,null,null,null,null,null,null,null,null,null,null,null,null,null,null,null,null,"No","",0,null,0,null,0,0,null,0]
[null,null,null,null,null,null,null,null,null,null,null,null,null,null,null,null,null,null,null,null,null,null,null,null,null,null,null,null,null,null,null,null,null,null,null,null,null,null,"No","",0,null,0,null,0,0,null,0]
[null,null,null,null,null,null,null,null,null,null,null,null,null,null,null,null,null,null,null,null,null,null,null,null,null,null,null,null,null,null,null,null,null,null,null,null,null,null,"No","",0,null,0,null,0,0,null,0]
[null,null,null,null,null,null,null,null,null,null,null,null,null,null,null,null,null,null,null,null,null,null,null,null,null,null,null,null,null,null,null,null,null,null,null,null,null,null,"No","",0,null,0,null,0,0,null,0]
[null,null,null,null,null,null,null,null,null,null,null,null,null,null,null,null,null,null,null,null,null,null,null,null,null,null,null,null,null,null,null,null,null,null,null,null,null,null,"No","",0,null,0,null,0,0,null,0]
[null,null,null,null,null,null,null,null,null,null,null,null,null,null,null,null,null,null,null,null,null,null,null,null,null,null,null,null,null,null,null,null,null,null,null,null,null,null,"No","",0,null,0,null,0,0,null,0]
[null,null,null,null,null,null,null,null,null,null,null,null,null,null,null,null,null,null,null,null,null,null,null,null,null,null,null,null,null,null,null,null,null,null,null,null,null,null,"No","",0,null,0,null,0,0,null,0]
[null,null,null,null,null,null,null,null,null,null,null,null,null,null,null,null,null,null,null,null,null,null,null,null,null,null,null,null,null,null,null,null,null,null,null,null,null,null,"No","",0,null,0,null,0,0,null,0]
[null,null,null,null,null,null,null,null,null,null,null,null,null,null,null,null,null,null,null,null,null,null,null,null,null,null,null,null,null,null,null,null,null,null,null,null,null,null,"No","",0,null,0,null,0,0,null,0]
[null,null,null,null,null,null,null,null,null,null,null,null,null,null,null,null,null,null,null,null,null,null,null,null,null,null,null,null,null,null,null,null,null,null,null,null,null,null,"No","",0,null,0,null,0,0,null,0]
[null,null,null,null,null,null,null,null,null,null,null,null,null,null,null,null,null,null,null,null,null,null,null,null,null,null,null,null,null,null,null,null,null,null,null,null,null,null,"No","",0,null,0,null,0,0,null,0]
[null,null,null,null,null,null,null,null,null,null,null,null,null,null,null,null,null,null,null,null,null,null,null,null,null,null,null,null,null,null,null,null,null,null,null,null,null,null,"No","",0,null,0,null,0,0,null,0]
[null,null,null,null,null,null,null,null,null,null,null,null,null,null,null,null,null,null,null,null,null,null,null,null,null,null,null,null,null,null,null,null,null,null,null,null,null,null,"No","",0,null,0,null,0,0,null,0]
[null,null,null,null,null,null,null,null,null,null,null,null,null,null,null,null,null,null,null,null,null,null,null,null,null,null,null,null,null,null,null,null,null,null,null,null,null,null,"No","",0,null,0,null,0,0,null,0]
[null,null,null,null,null,null,null,null,null,null,null,null,null,null,null,null,null,null,null,null,null,null,null,null,null,null,null,null,null,null,null,null,null,null,null,null,null,null,"No","",0,null,0,null,0,0,null,0]
[null,null,null,null,null,null,null,null,null,null,null,null,null,null,null,null,null,null,null,null,null,null,null,null,null,null,null,null,null,null,null,null,null,null,null,null,null,null,"No","",0,null,0,null,0,0,null,0]
[null,null,null,null,null,null,null,null,null,null,null,null,null,null,null,null,null,null,null,null,null,null,null,null,null,null,null,null,null,null,null,null,null,null,null,null,null,null,"No","",0,null,0,null,0,0,null,0]
[null,null,null,null,null,null,null,null,null,null,null,null,null,null,null,null,null,null,null,null,null,null,null,null,null,null,null,null,null,null,null,null,null,null,null,null,null,null,"No","",0,null,0,null,0,0,null,0]
[null,null,null,null,null,null,null,null,null,null,null,null,null,null,null,null,null,null,null,null,null,null,null,null,null,null,null,null,null,null,null,null,null,null,null,null,null,null,"No","",0,null,0,null,0,0,null,0]
[null,null,null,null,null,null,null,null,null,null,null,null,null,null,null,null,null,null,null,null,null,null,null,null,null,null,null,null,null,null,null,null,null,null,null,null,null,null,"No","",0,null,0,null,0,0,null,0]
[null,null,null,null,null,null,null,null,null,null,null,null,null,null,null,null,null,null,null,null,null,null,null,null,null,null,null,null,null,null,null,null,null,null,null,null,null,null,"No","",0,null,0,null,0,0,null,0]
[null,null,null,null,null,null,null,null,null,null,null,null,null,null,null,null,null,null,null,null,null,null,null,null,null,null,null,null,null,null,null,null,null,null,null,null,null,null,"No","",0,null,0,null,0,0,null,0]
[null,null,null,null,null,null,null,null,null,null,null,null,null,null,null,null,null,null,null,null,null,null,null,null,null,null,null,null,null,null,null,null,null,null,null,null,null,null,"No","",0,null,0,null,0,0,null,0]
[null,null,null,null,null,null,null,null,null,null,null,null,null,null,null,null,null,null,null,null,null,null,null,null,null,null,null,null,null,null,null,null,null,null,null,null,null,null,"No","",0,null,0,null,0,0,null,0]
[null,null,null,null,null,null,null,null,null,null,null,null,null,null,null,null,null,null,null,null,null,null,null,null,null,null,null,null,null,null,null,null,null,null,null,null,null,null,"No","",0,null,0,null,0,0,null,0]
[null,null,null,null,null,null,null,null,null,null,null,null,null,null,null,null,null,null,null,null,null,null,null,null,null,null,null,null,null,null,null,null,null,null,null,null,null,null,"No","",0,null,0,null,0,0,null,0]
[null,null,null,null,null,null,null,null,null,null,null,null,null,null,null,null,null,null,null,null,null,null,null,null,null,null,null,null,null,null,null,null,null,null,null,null,null,null,{"$f":"IF(OR(L480=\"5 Min ORBO\",L480=\"5 Min ORBD\",L480=\"15 Min ORBO\",L480=\"15 Min ORBD\",L480=\"MA-X-L\",L480=\"MA-X-S\",L480=\"FOMO\",L480=\"Revenge\",L480=\"Hot Key Mistake\",L480=\"VWAP Reversal Long\",L480=\"VWAP Reversal Short\",L480=\"VWAP False Breakout Long\",L480=\"VWAP False Breakout Short\",L480=\"S&R Long\",L480=\"S&R Short\",L480=\"Moving Average Long\",L480=\"Moving Average Short\",L480=\"Bearish Engulfing Crack\",L480=\"Top Reversal\",L480=\"ABCD\"),\"Yes\", \"No\")","v":"No"},"",0,null,0,null,0,0,null,0]
[null,null,null,null,null,null,null,null,null,null,null,null,null,null,null,null,null,null,null,null,null,null,null,null,null,null,null,null,null,null,null,null,null,null,null,null,null,null,"No","",0,null,0,null,0,0,null,0]
[null,null,null,null,null,null,null,null,null,null,null,null,null,null,null,null,null,null,null,null,null,null,null,null,null,null,null,null,null,null,null,null,null,null,null,null,null,null,"No","",0,null,0,null,0,0,null,0]
[null,null,null,null,null,null,null,null,null,null,null,null,null,null,null,null,null,null,null,null,null,null,null,null,null,null,null,null,null,null,null,null,null,null,null,null,null,null,"No","",0,null,0,null,0,0,null,0]
[null,null,null,null,null,null,null,null,null,null,null,null,null,null,null,null,null,null,null,null,null,null,null,null,null,null,null,null,null,null,null,null,null,null,null,null,null,null,"No","",0,null,0,null,0,0,null,0]
[null,null,null,null,null,null,null,null,null,null,null,null,null,null,null,null,null,null,null,null,null,null,null,null,null,null,null,null,null,null,null,null,null,null,null,null,null,null,"No","",0,null,0,null,0,0,null,0]
[null,null,null,null,null,null,null,null,null,null,null,null,null,null,null,null,null,null,null,null,null,null,null,null,null,null,null,null,null,null,null,null,null,null,null,null,null,null,"No","",0,null,0,null,0,0,null,0]
[null,null,null,null,null,null,null,null,null,null,null,null,null,null,null,null,null,null,null,null,null,null,null,null,null,null,null,null,null,null,null,null,null,null,null,null,null,null,"No","",0,null,0,null,0,0,null,0]
[null,null,null,null,null,null,null,null,null,null,null,null,null,null,null,null,null,null,null,null,null,null,null,null,null,null,null,null,null,null,null,null,null,null,null,null,null,null,"No","",0,null,0,null,0,0,null,0]
[null,null,null,null,null,null,null,null,null,null,null,null,null,null,null,null,null,null,null,null,null,null,null,null,null,null,null,null,null,null,null,null,null,null,null,null,null,null,"No","",0,null,0,null,0,0,null,0]
[null,null,null,null,null,null,null,null,null,null,null,null,null,null,null,null,null,null,null,null,null,null,null,null,null,null,null,null,null,null,null,null,null,null,null,null,null,null,"No","",0,null,0,null,0,0,null,0]
[null,null,null,null,null,null,null,null,null,null,null,null,null,null,null,null,null,null,null,null,null,null,null,null,null,null,null,null,null,null,null,null,null,null,null,null,null,null,"No",{"$f":"IF(AM491=\"Yes\", F491,\"\")","v":""},{"$f":"N491","v":0},null,{"$f":"N491-Q491","v":0},null,{"$f":"T491","v":0},{"$f":"N491","v":0},null,{"$f":"L491","v":0}]
[null,null,null,null,null,null,null,null,null,null,null,null,null,null,null,null,null,null,null,null,null,null,null,null,null,null,null,null,null,null,null,null,null,null,null,null,null,null,"No","",0,null,0,null,0,0,null,0]
[null,null,null,null,null,null,null,null,null,null,null,null,null,null,null,null,null,null,null,null,null,null,null,null,null,null,null,null,null,null,null,null,null,null,null,null,null,null,"No","",0,null,0,null,0,0,null,0]
[null,null,null,null,null,null,null,null,null,null,null,null,null,null,null,null,null,null,null,null,null,null,null,null,null,null,null,null,null,null,null,null,null,null,null,null,null,null,"No","",0,null,0,null,0,0,null,0]
[null,null,null,null,null,null,null,null,null,null,null,null,null,null,null,null,null,null,null,null,null,null,null,null,null,null,null,null,null,null,null,null,null,null,null,null,null,null,"No","",0,null,0,null,0,0,null,0]
[null,null,null,null,null,null,null,null,null,null,null,null,null,null,null,null,null,null,null,null,null,null,null,null,null,null,null,null,null,null,null,null,null,null,null,null,null,null,"No","",0,null,0,null,0,0,null,0]
[null,null,null,null,null,null,null,null,null,null,null,null,null,null,null,null,null,null,null,null,null,null,null,null,null,null,null,null,null,null,null,null,null,null,null,null,null,null,"No","",0,null,0,null,0,0,null,0]
[null,null,null,null,null,null,null,null,null,null,null,null,null,null,null,null,null,null,null,null,null,null,null,null,null,null,null,null,null,null,null,null,null,null,null,null,null,null,"No","",0,null,0,null,0,0,null,0]
[null,null,null,null,null,null,null,null,null,null,null,null,null,null,null,null,null,null,null,null,null,null,null,null,null,null,null,null,null,null,null,null,null,null,null,null,null,null,"No","",0,null,0,null,0,0,null,0]
[null,null,null,null,null,null,null,null,null,null,null,null,null,null,null,null,null,null,null,null,null,null,null,null,null,null,null,null,null,null,null,null,null,null,null,null,null,null,"No","",0,null,0,null,0,0,null,0]
[null,null,null,null,null,null,null,null,null,null,null,null,null,null,null,null,null,null,null,null,null,null,null,null,null,null,null,null,null,null,null,null,null,null,null,null,null,null,"No","",0,null,0,null,0,0,null,0]
[null,null,null,null,null,null,null,null,null,null,null,null,null,null,null,null,null,null,null,null,null,null,null,null,null,null,null,null,null,null,null,null,null,null,null,null,null,null,"No","",0,null,0,null,0,0,null,0]
[null,null,null,null,null,null,null,null,null,null,null,null,null,null,null,null,null,null,null,null,null,null,null,null,null,null,null,null,null,null,null,null,null,null,null,null,null,null,"No","",0,null,0,null,0,0,null,0]
[null,null,null,null,null,null,null,null,null,null,null,null,null,null,null,null,null,null,null,null,null,null,null,null,null,null,null,null,null,null,null,null,null,null,null,null,null,null,"No","",0,null,0,null,0,0,null,0]
[null,null,null,null,null,null,null,null,null,null,null,null,null,null,null,null,null,null,null,null,null,null,null,null,null,null,null,null,null,null,null,null,null,null,null,null,null,null,"No","",0,null,0,null,0,0,null,0]
[null,null,null,null,null,null,null,null,null,null,null,null,null,null,null,null,null,null,null,null,null,null,null,null,null,null,null,null,null,null,null,null,null,null,null,null,null,null,"No","",0,null,0,null,0,0,null,0]
[null,null,null,null,null,null,null,null,null,null,null,null,null,null,null,null,null,null,null,null,null,null,null,null,null,null,null,null,null,null,null,null,null,null,null,null,null,null,"No","",0,null,0,null,0,0,null,0]
[null,null,null,null,null,null,null,null,null,null,null,null,null,null,null,null,null,null,null,null,null,null,null,null,null,null,null,null,null,null,null,null,null,null,null,null,null,null,"No","",0,null,0,null,0,0,null,0]
[null,null,null,null,null,null,null,null,null,null,null,null,null,null,null,null,null,null,null,null,null,null,null,null,null,null,null,null,null,null,null,null,null,null,null,null,null,null,"No","",0,null,0,null,0,0,null,0]
[null,null,null,null,null,null,null,null,null,null,null,null,null,null,null,null,null,null,null,null,null,null,null,null,null,null,null,null,null,null,null,null,null,null,null,null,null,null,"No","",0,null,0,null,0,0,null,0]
[null,null,null,null,null,null,null,null,null,null,null,null,null,null,null,null,null,null,null,null,null,null,null,null,null,null,null,null,null,null,null,null,null,null,null,null,null,null,"No","",0,null,0,null,0,0,null,0]
[null,null,null,null,null,null,null,null,null,null,null,null,null,null,null,null,null,null,null,null,null,null,null,null,null,null,null,null,null,null,null,null,null,null,null,null,null,null,"No","",0,null,0,null,0,0,null,0]
[null,null,null,null,null,null,null,null,null,null,null,null,null,null,null,null,null,null,null,null,null,null,null,null,null,null,null,null,null,null,null,null,null,null,null,null,null,null,"No","",0,null,0,null,0,0,null,0]
[null,null,null,null,null,null,null,null,null,null,null,null,null,null,null,null,null,null,null,null,null,null,null,null,null,null,null,null,null,null,null,null,null,null,null,null,null,null,"No","",0,null,0,null,0,0,null,0]
[null,null,null,null,null,null,null,null,null,null,null,null,null,null,null,null,null,null,null,null,null,null,null,null,null,null,null,null,null,null,null,null,null,null,null,null,null,null,"No","",0,null,0,null,0,0,null,0]
[null,null,null,null,null,null,null,null,null,null,null,null,null,null,null,null,null,null,null,null,null,null,null,null,null,null,null,null,null,null,null,null,null,null,null,null,null,null,"No","",0,null,0,null,0,0,null,0]
[null,null,null,null,null,null,null,null,null,null,null,null,null,null,null,null,null,null,null,null,null,null,null,null,null,null,null,null,null,null,null,null,null,null,null,null,null,null,"No","",0,null,0,null,0,0,null,0]
[null,null,null,null,null,null,null,null,null,null,null,null,null,null,null,null,null,null,null,null,null,null,null,null,null,null,null,null,null,null,null,null,null,null,null,null,null,null,"No","",0,null,0,null,0,0,null,0]
[null,null,null,null,null,null,null,null,null,null,null,null,null,null,null,null,null,null,null,null,null,null,null,null,null,null,null,null,null,null,null,null,null,null,null,null,null,null,"No","",0,null,0,null,0,0,null,0]
[null,null,null,null,null,null,null,null,null,null,null,null,null,null,null,null,null,null,null,null,null,null,null,null,null,null,null,null,null,null,null,null,null,null,null,null,null,null,"No","",0,null,0,null,0,0,null,0]
[null,null,null,null,null,null,null,null,null,null,null,null,null,null,null,null,null,null,null,null,null,null,null,null,null,null,null,null,null,null,null,null,null,null,null,null,null,null,"No","",0,null,0,null,0,0,null,0]
[null,null,null,null,null,null,null,null,null,null,null,null,null,null,null,null,null,null,null,null,null,null,null,null,null,null,null,null,null,null,null,null,null,null,null,null,null,null,"No","",0,null,0,null,0,0,null,0]
[null,null,null,null,null,null,null,null,null,null,null,null,null,null,null,null,null,null,null,null,null,null,null,null,null,null,null,null,null,null,null,null,null,null,null,null,null,null,"No","",0,null,0,null,0,0,null,0]
[null,null,null,null,null,null,null,null,null,null,null,null,null,null,null,null,null,null,null,null,null,null,null,null,null,null,null,null,null,null,null,null,null,null,null,null,null,null,"No","",0,null,0,null,0,0,null,0]
[null,null,null,null,null,null,null,null,null,null,null,null,null,null,null,null,null,null,null,null,null,null,null,null,null,null,null,null,null,null,null,null,null,null,null,null,null,null,"No","",0,null,0,null,0,0,null,0]
[null,null,null,null,null,null,null,null,null,null,null,null,null,null,null,null,null,null,null,null,null,null,null,null,null,null,null,null,null,null,null,null,null,null,null,null,null,null,"No","",0,null,0,null,0,0,null,0]
[null,null,null,null,null,null,null,null,null,null,null,null,null,null,null,null,null,null,null,null,null,null,null,null,null,null,null,null,null,null,null,null,null,null,null,null,null,null,"No","",0,null,0,null,0,0,null,0]
[null,null,null,null,null,null,null,null,null,null,null,null,null,null,null,null,null,null,null,null,null,null,null,null,null,null,null,null,null,null,null,null,null,null,null,null,null,null,"No","",0,null,0,null,0,0,null,0]
[null,null,null,null,null,null,null,null,null,null,null,null,null,null,null,null,null,null,null,null,null,null,null,null,null,null,null,null,null,null,null,null,null,null,null,null,null,null,"No","",0,null,0,null,0,0,null,0]
[null,null,null,null,null,null,null,null,null,null,null,null,null,null,null,null,null,null,null,null,null,null,null,null,null,null,null,null,null,null,null,null,null,null,null,null,null,null,"No","",0,null,0,null,0,0,null,0]
[null,null,null,null,null,null,null,null,null,null,null,null,null,null,null,null,null,null,null,null,null,null,null,null,null,null,null,null,null,null,null,null,null,null,null,null,null,null,"No","",0,null,0,null,0,0,null,0]
[null,null,null,null,null,null,null,null,null,null,null,null,null,null,null,null,null,null,null,null,null,null,null,null,null,null,null,null,null,null,null,null,null,null,null,null,null,null,"No","",0,null,0,null,0,0,null,0]
[null,null,null,null,null,null,null,null,null,null,null,null,null,null,null,null,null,null,null,null,null,null,null,null,null,null,null,null,null,null,null,null,null,null,null,null,null,null,"No","",0,null,0,null,0,0,null,0]
[null,null,null,null,null,null,null,null,null,null,null,null,null,null,null,null,null,null,null,null,null,null,null,null,null,null,null,null,null,null,null,null,null,null,null,null,null,null,"No","",0,null,0,null,0,0,null,0]
[null,null,null,null,null,null,null,null,null,null,null,null,null,null,null,null,null,null,null,null,null,null,null,null,null,null,null,null,null,null,null,null,null,null,null,null,null,null,"No","",0,null,0,null,0,0,null,0]
[null,null,null,null,null,null,null,null,null,null,null,null,null,null,null,null,null,null,null,null,null,null,null,null,null,null,null,null,null,null,null,null,null,null,null,null,null,null,"No","",0,null,0,null,0,0,null,0]
[null,null,null,null,null,null,null,null,null,null,null,null,null,null,null,null,null,null,null,null,null,null,null,null,null,null,null,null,null,null,null,null,null,null,null,null,null,null,"No","",0,null,0,null,0,0,null,0]
[null,null,null,null,null,null,null,null,null,null,null,null,null,null,null,null,null,null,null,null,null,null,null,null,null,null,null,null,null,null,null,null,null,null,null,null,null,null,"No","",0,null,0,null,0,0,null,0]
[null,null,null,null,null,null,null,null,null,null,null,null,null,null,null,null,null,null,null,null,null,null,null,null,null,null,null,null,null,null,null,null,null,null,null,null,null,null,"No","",0,null,0,null,0,0,null,0]
[null,null,null,null,null,null,null,null,null,null,null,null,null,null,null,null,null,null,null,null,null,null,null,null,null,null,null,null,null,null,null,null,null,null,null,null,null,null,"No","",0,null,0,null,0,0,null,0]
[null,null,null,null,null,null,null,null,null,null,null,null,null,null,null,null,null,null,null,null,null,null,null,null,null,null,null,null,null,null,null,null,null,null,null,null,null,null,"No","",0,null,0,null,0,0,null,0]
[null,null,null,null,null,null,null,null,null,null,null,null,null,null,null,null,null,null,null,null,null,null,null,null,null,null,null,null,null,null,null,null,null,null,null,null,null,null,"No","",0,null,0,null,0,0,null,0]
[null,null,null,null,null,null,null,null,null,null,null,null,null,null,null,null,null,null,null,null,null,null,null,null,null,null,null,null,null,null,null,null,null,null,null,null,null,null,"No","",0,null,0,null,0,0,null,0]
[null,null,null,null,null,null,null,null,null,null,null,null,null,null,null,null,null,null,null,null,null,null,null,null,null,null,null,null,null,null,null,null,null,null,null,null,null,null,{"$f":"IF(OR(L544=\"5 Min ORBO\",L544=\"5 Min ORBD\",L544=\"15 Min ORBO\",L544=\"15 Min ORBD\",L544=\"MA-X-L\",L544=\"MA-X-S\",L544=\"FOMO\",L544=\"Revenge\",L544=\"Hot Key Mistake\",L544=\"VWAP Reversal Long\",L544=\"VWAP Reversal Short\",L544=\"VWAP False Breakout Long\",L544=\"VWAP False Breakout Short\",L544=\"S&R Long\",L544=\"S&R Short\",L544=\"Moving Average Long\",L544=\"Moving Average Short\",L544=\"Bearish Engulfing Crack\",L544=\"Top Reversal\",L544=\"ABCD\"),\"Yes\", \"No\")","v":"No"},"",0,null,0,null,0,0,null,0]
[null,null,null,null,null,null,null,null,null,null,null,null,null,null,null,null,null,null,null,null,null,null,null,null,null,null,null,null,null,null,null,null,null,null,null,null,null,null,"No","",0,null,0,null,0,0,null,0]
[null,null,null,null,null,null,null,null,null,null,null,null,null,null,null,null,null,null,null,null,null,null,null,null,null,null,null,null,null,null,null,null,null,null,null,null,null,null,"No","",0,null,0,null,0,0,null,0]
[null,null,null,null,null,null,null,null,null,null,null,null,null,null,null,null,null,null,null,null,null,null,null,null,null,null,null,null,null,null,null,null,null,null,null,null,null,null,"No","",0,null,0,null,0,0,null,0]
[null,null,null,null,null,null,null,null,null,null,null,null,null,null,null,null,null,null,null,null,null,null,null,null,null,null,null,null,null,null,null,null,null,null,null,null,null,null,"No","",0,null,0,null,0,0,null,0]
[null,null,null,null,null,null,null,null,null,null,null,null,null,null,null,null,null,null,null,null,null,null,null,null,null,null,null,null,null,null,null,null,null,null,null,null,null,null,"No","",0,null,0,null,0,0,null,0]
[null,null,null,null,null,null,null,null,null,null,null,null,null,null,null,null,null,null,null,null,null,null,null,null,null,null,null,null,null,null,null,null,null,null,null,null,null,null,"No","",0,null,0,null,0,0,null,0]
[null,null,null,null,null,null,null,null,null,null,null,null,null,null,null,null,null,null,null,null,null,null,null,null,null,null,null,null,null,null,null,null,null,null,null,null,null,null,"No","",0,null,0,null,0,0,null,0]
[null,null,null,null,null,null,null,null,null,null,null,null,null,null,null,null,null,null,null,null,null,null,null,null,null,null,null,null,null,null,null,null,null,null,null,null,null,null,"No","",0,null,0,null,0,0,null,0]
[null,null,null,null,null,null,null,null,null,null,null,null,null,null,null,null,null,null,null,null,null,null,null,null,null,null,null,null,null,null,null,null,null,null,null,null,null,null,"No","",0,null,0,null,0,0,null,0]
[null,null,null,null,null,null,null,null,null,null,null,null,null,null,null,null,null,null,null,null,null,null,null,null,null,null,null,null,null,null,null,null,null,null,null,null,null,null,"No","",0,null,0,null,0,0,null,0]
[null,null,null,null,null,null,null,null,null,null,null,null,null,null,null,null,null,null,null,null,null,null,null,null,null,null,null,null,null,null,null,null,null,null,null,null,null,null,"No",{"$f":"IF(AM555=\"Yes\", F555,\"\")","v":""},{"$f":"N555","v":0},null,{"$f":"N555-Q555","v":0},null,{"$f":"T555","v":0},{"$f":"N555","v":0},null,{"$f":"L555","v":0}]
[null,null,null,null,null,null,null,null,null,null,null,null,null,null,null,null,null,null,null,null,null,null,null,null,null,null,null,null,null,null,null,null,null,null,null,null,null,null,"No","",0,null,0,null,0,0,null,0]
[null,null,null,null,null,null,null,null,null,null,null,null,null,null,null,null,null,null,null,null,null,null,null,null,null,null,null,null,null,null,null,null,null,null,null,null,null,null,"No","",0,null,0,null,0,0,null,0]
[null,null,null,null,null,null,null,null,null,null,null,null,null,null,null,null,null,null,null,null,null,null,null,null,null,null,null,null,null,null,null,null,null,null,null,null,null,null,"No","",0,null,0,null,0,0,null,0]
[null,null,null,null,null,null,null,null,null,null,null,null,null,null,null,null,null,null,null,null,null,null,null,null,null,null,null,null,null,null,null,null,null,null,null,null,null,null,"No","",0,null,0,null,0,0,null,0]
[null,null,null,null,null,null,null,null,null,null,null,null,null,null,null,null,null,null,null,null,null,null,null,null,null,null,null,null,null,null,null,null,null,null,null,null,null,null,"No","",0,null,0,null,0,0,null,0]
[null,null,null,null,null,null,null,null,null,null,null,null,null,null,null,null,null,null,null,null,null,null,null,null,null,null,null,null,null,null,null,null,null,null,null,null,null,null,"No","",0,null,0,null,0,0,null,0]
[null,null,null,null,null,null,null,null,null,null,null,null,null,null,null,null,null,null,null,null,null,null,null,null,null,null,null,null,null,null,null,null,null,null,null,null,null,null,"No","",0,null,0,null,0,0,null,0]
[null,null,null,null,null,null,null,null,null,null,null,null,null,null,null,null,null,null,null,null,null,null,null,null,null,null,null,null,null,null,null,null,null,null,null,null,null,null,"No","",0,null,0,null,0,0,null,0]
[null,null,null,null,null,null,null,null,null,null,null,null,null,null,null,null,null,null,null,null,null,null,null,null,null,null,null,null,null,null,null,null,null,null,null,null,null,null,"No","",0,null,0,null,0,0,null,0]
[null,null,null,null,null,null,null,null,null,null,null,null,null,null,null,null,null,null,null,null,null,null,null,null,null,null,null,null,null,null,null,null,null,null,null,null,null,null,"No","",0,null,0,null,0,0,null,0]
[null,null,null,null,null,null,null,null,null,null,null,null,null,null,null,null,null,null,null,null,null,null,null,null,null,null,null,null,null,null,null,null,null,null,null,null,null,null,"No","",0,null,0,null,0,0,null,0]
[null,null,null,null,null,null,null,null,null,null,null,null,null,null,null,null,null,null,null,null,null,null,null,null,null,null,null,null,null,null,null,null,null,null,null,null,null,null,"No","",0,null,0,null,0,0,null,0]
[null,null,null,null,null,null,null,null,null,null,null,null,null,null,null,null,null,null,null,null,null,null,null,null,null,null,null,null,null,null,null,null,null,null,null,null,null,null,"No","",0,null,0,null,0,0,null,0]
[null,null,null,null,null,null,null,null,null,null,null,null,null,null,null,null,null,null,null,null,null,null,null,null,null,null,null,null,null,null,null,null,null,null,null,null,null,null,"No","",0,null,0,null,0,0,null,0]
[null,null,null,null,null,null,null,null,null,null,null,null,null,null,null,null,null,null,null,null,null,null,null,null,null,null,null,null,null,null,null,null,null,null,null,null,null,null,"No","",0,null,0,null,0,0,null,0]
[null,null,null,null,null,null,null,null,null,null,null,null,null,null,null,null,null,null,null,null,null,null,null,null,null,null,null,null,null,null,null,null,null,null,null,null,null,null,"No","",0,null,0,null,0,0,null,0]
[null,null,null,null,null,null,null,null,null,null,null,null,null,null,null,null,null,null,null,null,null,null,null,null,null,null,null,null,null,null,null,null,null,null,null,null,null,null,"No","",0,null,0,null,0,0,null,0]
[null,null,null,null,null,null,null,null,null,null,null,null,null,null,null,null,null,null,null,null,null,null,null,null,null,null,null,null,null,null,null,null,null,null,null,null,null,null,"No","",0,null,0,null,0,0,null,0]
[null,null,null,null,null,null,null,null,null,null,null,null,null,null,null,null,null,null,null,null,null,null,null,null,null,null,null,null,null,null,null,null,null,null,null,null,null,null,"No","",0,null,0,null,0,0,null,0]
[null,null,null,null,null,null,null,null,null,null,null,null,null,null,null,null,null,null,null,null,null,null,null,null,null,null,null,null,null,null,null,null,null,null,null,null,null,null,"No","",0,null,0,null,0,0,null,0]
[null,null,null,null,null,null,null,null,null,null,null,null,null,null,null,null,null,null,null,null,null,null,null,null,null,null,null,null,null,null,null,null,null,null,null,null,null,null,"No","",0,null,0,null,0,0,null,0]
[null,null,null,null,null,null,null,null,null,null,null,null,null,null,null,null,null,null,null,null,null,null,null,null,null,null,null,null,null,null,null,null,null,null,null,null,null,null,"No","",0,null,0,null,0,0,null,0]
[null,null,null,null,null,null,null,null,null,null,null,null,null,null,null,null,null,null,null,null,null,null,null,null,null,null,null,null,null,null,null,null,null,null,null,null,null,null,"No","",0,null,0,null,0,0,null,0]
[null,null,null,null,null,null,null,null,null,null,null,null,null,null,null,null,null,null,null,null,null,null,null,null,null,null,null,null,null,null,null,null,null,null,null,null,null,null,"No","",0,null,0,null,0,0,null,0]
[null,null,null,null,null,null,null,null,null,null,null,null,null,null,null,null,null,null,null,null,null,null,null,null,null,null,null,null,null,null,null,null,null,null,null,null,null,null,"No","",0,null,0,null,0,0,null,0]
[null,null,null,null,null,null,null,null,null,null,null,null,null,null,null,null,null,null,null,null,null,null,null,null,null,null,null,null,null,null,null,null,null,null,null,null,null,null,"No","",0,null,0,null,0,0,null,0]
[null,null,null,null,null,null,null,null,null,null,null,null,null,null,null,null,null,null,null,null,null,null,null,null,null,null,null,null,null,null,null,null,null,null,null,null,null,null,"No","",0,null,0,null,0,0,null,0]
[null,null,null,null,null,null,null,null,null,null,null,null,null,null,null,null,null,null,null,null,null,null,null,null,null,null,null,null,null,null,null,null,null,null,null,null,null,null,"No","",0,null,0,null,0,0,null,0]
[null,null,null,null,null,null,null,null,null,null,null,null,null,null,null,null,null,null,null,null,null,null,null,null,null,null,null,null,null,null,null,null,null,null,null,null,null,null,"No","",0,null,0,null,0,0,null,0]
[null,null,null,null,null,null,null,null,null,null,null,null,null,null,null,null,null,null,null,null,null,null,null,null,null,null,null,null,null,null,null,null,null,null,null,null,null,null,"No","",0,null,0,null,0,0,null,0]
[null,null,null,null,null,null,null,null,null,null,null,null,null,null,null,null,null,null,null,null,null,null,null,null,null,null,null,null,null,null,null,null,null,null,null,null,null,null,"No","",0,null,0,null,0,0,null,0]
[null,null,null,null,null,null,null,null,null,null,null,null,null,null,null,null,null,null,null,null,null,null,null,null,null,null,null,null,null,null,null,null,null,null,null,null,null,null,"No","",0,null,0,null,0,0,null,0]
[null,null,null,null,null,null,null,null,null,null,null,null,null,null,null,null,null,null,null,null,null,null,null,null,null,null,null,null,null,null,null,null,null,null,null,null,null,null,"No","",0,null,0,null,0,0,null,0]
[null,null,null,null,null,null,null,null,null,null,null,null,null,null,null,null,null,null,null,null,null,null,null,null,null,null,null,null,null,null,null,null,null,null,null,null,null,null,"No","",0,null,0,null,0,0,null,0]
[null,null,null,null,null,null,null,null,null,null,null,null,null,null,null,null,null,null,null,null,null,null,null,null,null,null,null,null,null,null,null,null,null,null,null,null,null,null,"No","",0,null,0,null,0,0,null,0]
[null,null,null,null,null,null,null,null,null,null,null,null,null,null,null,null,null,null,null,null,null,null,null,null,null,null,null,null,null,null,null,null,null,null,null,null,null,null,"No","",0,null,0,null,0,0,null,0]
[null,null,null,null,null,null,null,null,null,null,null,null,null,null,null,null,null,null,null,null,null,null,null,null,null,null,null,null,null,null,null,null,null,null,null,null,null,null,"No","",0,null,0,null,0,0,null,0]
[null,null,null,null,null,null,null,null,null,null,null,null,null,null,null,null,null,null,null,null,null,null,null,null,null,null,null,null,null,null,null,null,null,null,null,null,null,null,"No","",0,null,0,null,0,0,null,0]
[null,null,null,null,null,null,null,null,null,null,null,null,null,null,null,null,null,null,null,null,null,null,null,null,null,null,null,null,null,null,null,null,null,null,null,null,null,null,"No","",0,null,0,null,0,0,null,0]
[null,null,null,null,null,null,null,null,null,null,null,null,null,null,null,null,null,null,null,null,null,null,null,null,null,null,null,null,null,null,null,null,null,null,null,null,null,null,"No","",0,null,0,null,0,0,null,0]
[null,null,null,null,null,null,null,null,null,null,null,null,null,null,null,null,null,null,null,null,null,null,null,null,null,null,null,null,null,null,null,null,null,null,null,null,null,null,"No","",0,null,0,null,0,0,null,0]
[null,null,null,null,null,null,null,null,null,null,null,null,null,null,null,null,null,null,null,null,null,null,null,null,null,null,null,null,null,null,null,null,null,null,null,null,null,null,"No","",0,null,0,null,0,0,null,0]
[null,null,null,null,null,null,null,null,null,null,null,null,null,null,null,null,null,null,null,null,null,null,null,null,null,null,null,null,null,null,null,null,null,null,null,null,null,null,"No","",0,null,0,null,0,0,null,0]
[null,null,null,null,null,null,null,null,null,null,null,null,null,null,null,null,null,null,null,null,null,null,null,null,null,null,null,null,null,null,null,null,null,null,null,null,null,null,"No","",0,null,0,null,0,0,null,0]
[null,null,null,null,null,null,null,null,null,null,null,null,null,null,null,null,null,null,null,null,null,null,null,null,null,null,null,null,null,null,null,null,null,null,null,null,null,null,"No","",0,null,0,null,0,0,null,0]
[null,null,null,null,null,null,null,null,null,null,null,null,null,null,null,null,null,null,null,null,null,null,null,null,null,null,null,null,null,null,null,null,null,null,null,null,null,null,"No","",0,null,0,null,0,0,null,0]
[null,null,null,null,null,null,null,null,null,null,null,null,null,null,null,null,null,null,null,null,null,null,null,null,null,null,null,null,null,null,null,null,null,null,null,null,null,null,"No","",0,null,0,null,0,0,null,0]
[null,null,null,null,null,null,null,null,null,null,null,null,null,null,null,null,null,null,null,null,null,null,null,null,null,null,null,null,null,null,null,null,null,null,null,null,null,null,"No","",0,null,0,null,0,0,null,0]
[null,null,null,null,null,null,null,null,null,null,null,null,null,null,null,null,null,null,null,null,null,null,null,null,null,null,null,null,null,null,null,null,null,null,null,null,null,null,"No","",0,null,0,null,0,0,null,0]
[null,null,null,null,null,null,null,null,null,null,null,null,null,null,null,null,null,null,null,null,null,null,null,null,null,null,null,null,null,null,null,null,null,null,null,null,null,null,"No","",0,null,0,null,0,0,null,0]
[null,null,null,null,null,null,null,null,null,null,null,null,null,null,null,null,null,null,null,null,null,null,null,null,null,null,null,null,null,null,null,null,null,null,null,null,null,null,"No","",0,null,0,null,0,0,null,0]
[null,null,null,null,null,null,null,null,null,null,null,null,null,null,null,null,null,null,null,null,null,null,null,null,null,null,null,null,null,null,null,null,null,null,null,null,null,null,"No","",0,null,0,null,0,0,null,0]
[null,null,null,null,null,null,null,null,null,null,null,null,null,null,null,null,null,null,null,null,null,null,null,null,null,null,null,null,null,null,null,null,null,null,null,null,null,null,{"$f":"IF(OR(L608=\"5 Min ORBO\",L608=\"5 Min ORBD\",L608=\"15 Min ORBO\",L608=\"15 Min ORBD\",L608=\"MA-X-L\",L608=\"MA-X-S\",L608=\"FOMO\",L608=\"Revenge\",L608=\"Hot Key Mistake\",L608=\"VWAP Reversal Long\",L608=\"VWAP Reversal Short\",L608=\"VWAP False Breakout Long\",L608=\"VWAP False Breakout Short\",L608=\"S&R Long\",L608=\"S&R Short\",L608=\"Moving Average Long\",L608=\"Moving Average Short\",L608=\"Bearish Engulfing Crack\",L608=\"Top Reversal\",L608=\"ABCD\"),\"Yes\", \"No\")","v":"No"},"",0,null,0,null,0,0,null,0]
[null,null,null,null,null,null,null,null,null,null,null,null,null,null,null,null,null,null,null,null,null,null,null,null,null,null,null,null,null,null,null,null,null,null,null,null,null,null,"No","",0,null,0,null,0,0,null,0]
[null,null,null,null,null,null,null,null,null,null,null,null,null,null,null,null,null,null,null,null,null,null,null,null,null,null,null,null,null,null,null,null,null,null,null,null,null,null,"No","",0,null,0,null,0,0,null,0]
[null,null,null,null,null,null,null,null,null,null,null,null,null,null,null,null,null,null,null,null,null,null,null,null,null,null,null,null,null,null,null,null,null,null,null,null,null,null,"No","",0,null,0,null,0,0,null,0]
[null,null,null,null,null,null,null,null,null,null,null,null,null,null,null,null,null,null,null,null,null,null,null,null,null,null,null,null,null,null,null,null,null,null,null,null,null,null,"No","",0,null,0,null,0,0,null,0]
[null,null,null,null,null,null,null,null,null,null,null,null,null,null,null,null,null,null,null,null,null,null,null,null,null,null,null,null,null,null,null,null,null,null,null,null,null,null,"No","",0,null,0,null,0,0,null,0]
[null,null,null,null,null,null,null,null,null,null,null,null,null,null,null,null,null,null,null,null,null,null,null,null,null,null,null,null,null,null,null,null,null,null,null,null,null,null,"No","",0,null,0,null,0,0,null,0]
[null,null,null,null,null,null,null,null,null,null,null,null,null,null,null,null,null,null,null,null,null,null,null,null,null,null,null,null,null,null,null,null,null,null,null,null,null,null,"No","",0,null,0,null,0,0,null,0]
[null,null,null,null,null,null,null,null,null,null,null,null,null,null,null,null,null,null,null,null,null,null,null,null,null,null,null,null,null,null,null,null,null,null,null,null,null,null,"No","",0,null,0,null,0,0,null,0]
[null,null,null,null,null,null,null,null,null,null,null,null,null,null,null,null,null,null,null,null,null,null,null,null,null,null,null,null,null,null,null,null,null,null,null,null,null,null,"No","",0,null,0,null,0,0,null,0]
[null,null,null,null,null,null,null,null,null,null,null,null,null,null,null,null,null,null,null,null,null,null,null,null,null,null,null,null,null,null,null,null,null,null,null,null,null,null,"No","",0,null,0,null,0,0,null,0]
[null,null,null,null,null,null,null,null,null,null,null,null,null,null,null,null,null,null,null,null,null,null,null,null,null,null,null,null,null,null,null,null,null,null,null,null,null,null,"No",{"$f":"IF(AM619=\"Yes\", F619,\"\")","v":""},{"$f":"N619","v":0},null,{"$f":"N619-Q619","v":0},null,{"$f":"T619","v":0},{"$f":"N619","v":0},null,{"$f":"L619","v":0}]
[null,null,null,null,null,null,null,null,null,null,null,null,null,null,null,null,null,null,null,null,null,null,null,null,null,null,null,null,null,null,null,null,null,null,null,null,null,null,"No","",0,null,0,null,0,0,null,0]
[null,null,null,null,null,null,null,null,null,null,null,null,null,null,null,null,null,null,null,null,null,null,null,null,null,null,null,null,null,null,null,null,null,null,null,null,null,null,"No","",0,null,0,null,0,0,null,0]
[null,null,null,null,null,null,null,null,null,null,null,null,null,null,null,null,null,null,null,null,null,null,null,null,null,null,null,null,null,null,null,null,null,null,null,null,null,null,"No","",0,null,0,null,0,0,null,0]
[null,null,null,null,null,null,null,null,null,null,null,null,null,null,null,null,null,null,null,null,null,null,null,null,null,null,null,null,null,null,null,null,null,null,null,null,null,null,"No","",0,null,0,null,0,0,null,0]
[null,null,null,null,null,null,null,null,null,null,null,null,null,null,null,null,null,null,null,null,null,null,null,null,null,null,null,null,null,null,null,null,null,null,null,null,null,null,"No","",0,null,0,null,0,0,null,0]
[null,null,null,null,null,null,null,null,null,null,null,null,null,null,null,null,null,null,null,null,null,null,null,null,null,null,null,null,null,null,null,null,null,null,null,null,null,null,"No","",0,null,0,null,0,0,null,0]
[null,null,null,null,null,null,null,null,null,null,null,null,null,null,null,null,null,null,null,null,null,null,null,null,null,null,null,null,null,null,null,null,null,null,null,null,null,null,"No","",0,null,0,null,0,0,null,0]
[null,null,null,null,null,null,null,null,null,null,null,null,null,null,null,null,null,null,null,null,null,null,null,null,null,null,null,null,null,null,null,null,null,null,null,null,null,null,"No","",0,null,0,null,0,0,null,0]
[null,null,null,null,null,null,null,null,null,null,null,null,null,null,null,null,null,null,null,null,null,null,null,null,null,null,null,null,null,null,null,null,null,null,null,null,null,null,"No","",0,null,0,null,0,0,null,0]
[null,null,null,null,null,null,null,null,null,null,null,null,null,null,null,null,null,null,null,null,null,null,null,null,null,null,null,null,null,null,null,null,null,null,null,null,null,null,"No","",0,null,0,null,0,0,null,0]
[null,null,null,null,null,null,null,null,null,null,null,null,null,null,null,null,null,null,null,null,null,null,null,null,null,null,null,null,null,null,null,null,null,null,null,null,null,null,"No","",0,null,0,null,0,0,null,0]
[null,null,null,null,null,null,null,null,null,null,null,null,null,null,null,null,null,null,null,null,null,null,null,null,null,null,null,null,null,null,null,null,null,null,null,null,null,null,"No","",0,null,0,null,0,0,null,0]
[null,null,null,null,null,null,null,null,null,null,null,null,null,null,null,null,null,null,null,null,null,null,null,null,null,null,null,null,null,null,null,null,null,null,null,null,null,null,"No","",0,null,0,null,0,0,null,0]
[null,null,null,null,null,null,null,null,null,null,null,null,null,null,null,null,null,null,null,null,null,null,null,null,null,null,null,null,null,null,null,null,null,null,null,null,null,null,"No","",0,null,0,null,0,0,null,0]
[null,null,null,null,null,null,null,null,null,null,null,null,null,null,null,null,null,null,null,null,null,null,null,null,null,null,null,null,null,null,null,null,null,null,null,null,null,null,"No","",0,null,0,null,0,0,null,0]
[null,null,null,null,null,null,null,null,null,null,null,null,null,null,null,null,null,null,null,null,null,null,null,null,null,null,null,null,null,null,null,null,null,null,null,null,null,null,"No","",0,null,0,null,0,0,null,0]
[null,null,null,null,null,null,null,null,null,null,null,null,null,null,null,null,null,null,null,null,null,null,null,null,null,null,null,null,null,null,null,null,null,null,null,null,null,null,"No","",0,null,0,null,0,0,null,0]
[null,null,null,null,null,null,null,null,null,null,null,null,null,null,null,null,null,null,null,null,null,null,null,null,null,null,null,null,null,null,null,null,null,null,null,null,null,null,"No","",0,null,0,null,0,0,null,0]
[null,null,null,null,null,null,null,null,null,null,null,null,null,null,null,null,null,null,null,null,null,null,null,null,null,null,null,null,null,null,null,null,null,null,null,null,null,null,"No","",0,null,0,null,0,0,null,0]
[null,null,null,null,null,null,null,null,null,null,null,null,null,null,null,null,null,null,null,null,null,null,null,null,null,null,null,null,null,null,null,null,null,null,null,null,null,null,"No","",0,null,0,null,0,0,null,0]
[null,null,null,null,null,null,null,null,null,null,null,null,null,null,null,null,null,null,null,null,null,null,null,null,null,null,null,null,null,null,null,null,null,null,null,null,null,null,"No","",0,null,0,null,0,0,null,0]
[null,null,null,null,null,null,null,null,null,null,null,null,null,null,null,null,null,null,null,null,null,null,null,null,null,null,null,null,null,null,null,null,null,null,null,null,null,null,"No","",0,null,0,null,0,0,null,0]
[null,null,null,null,null,null,null,null,null,null,null,null,null,null,null,null,null,null,null,null,null,null,null,null,null,null,null,null,null,null,null,null,null,null,null,null,null,null,"No","",0,null,0,null,0,0,null,0]
[null,null,null,null,null,null,null,null,null,null,null,null,null,null,null,null,null,null,null,null,null,null,null,null,null,null,null,null,null,null,null,null,null,null,null,null,null,null,"No","",0,null,0,null,0,0,null,0]
[null,null,null,null,null,null,null,null,null,null,null,null,null,null,null,null,null,null,null,null,null,null,null,null,null,null,null,null,null,null,null,null,null,null,null,null,null,null,"No","",0,null,0,null,0,0,null,0]
[null,null,null,null,null,null,null,null,null,null,null,null,null,null,null,null,null,null,null,null,null,null,null,null,null,null,null,null,null,null,null,null,null,null,null,null,null,null,"No","",0,null,0,null,0,0,null,0]
[null,null,null,null,null,null,null,null,null,null,null,null,null,null,null,null,null,null,null,null,null,null,null,null,null,null,null,null,null,null,null,null,null,null,null,null,null,null,"No","",0,null,0,null,0,0,null,0]
[null,null,null,null,null,null,null,null,null,null,null,null,null,null,null,null,null,null,null,null,null,null,null,null,null,null,null,null,null,null,null,null,null,null,null,null,null,null,"No","",0,null,0,null,0,0,null,0]
[null,null,null,null,null,null,null,null,null,null,null,null,null,null,null,null,null,null,null,null,null,null,null,null,null,null,null,null,null,null,null,null,null,null,null,null,null,null,"No","",0,null,0,null,0,0,null,0]
[null,null,null,null,null,null,null,null,null,null,null,null,null,null,null,null,null,null,null,null,null,null,null,null,null,null,null,null,null,null,null,null,null,null,null,null,null,null,"No","",0,null,0,null,0,0,null,0]
[null,null,null,null,null,null,null,null,null,null,null,null,null,null,null,null,null,null,null,null,null,null,null,null,null,null,null,null,null,null,null,null,null,null,null,null,null,null,"No","",0,null,0,null,0,0,null,0]
[null,null,null,null,null,null,null,null,null,null,null,null,null,null,null,null,null,null,null,null,null,null,null,null,null,null,null,null,null,null,null,null,null,null,null,null,null,null,"No","",0,null,0,null,0,0,null,0]
[null,null,null,null,null,null,null,null,null,null,null,null,null,null,null,null,null,null,null,null,null,null,null,null,null,null,null,null,null,null,null,null,null,null,null,null,null,null,"No","",0,null,0,null,0,0,null,0]
[null,null,null,null,null,null,null,null,null,null,null,null,null,null,null,null,null,null,null,null,null,null,null,null,null,null,null,null,null,null,null,null,null,null,null,null,null,null,"No","",0,null,0,null,0,0,null,0]
[null,null,null,null,null,null,null,null,null,null,null,null,null,null,null,null,null,null,null,null,null,null,null,null,null,null,null,null,null,null,null,null,null,null,null,null,null,null,"No","",0,null,0,null,0,0,null,0]
[null,null,null,null,null,null,null,null,null,null,null,null,null,null,null,null,null,null,null,null,null,null,null,null,null,null,null,null,null,null,null,null,null,null,null,null,null,null,"No","",0,null,0,null,0,0,null,0]
[null,null,null,null,null,null,null,null,null,null,null,null,null,null,null,null,null,null,null,null,null,null,null,null,null,null,null,null,null,null,null,null,null,null,null,null,null,null,"No","",0,null,0,null,0,0,null,0]
[null,null,null,null,null,null,null,null,null,null,null,null,null,null,null,null,null,null,null,null,null,null,null,null,null,null,null,null,null,null,null,null,null,null,null,null,null,null,"No","",0,null,0,null,0,0,null,0]
[null,null,null,null,null,null,null,null,null,null,null,null,null,null,null,null,null,null,null,null,null,null,null,null,null,null,null,null,null,null,null,null,null,null,null,null,null,null,"No","",0,null,0,null,0,0,null,0]
[null,null,null,null,null,null,null,null,null,null,null,null,null,null,null,null,null,null,null,null,null,null,null,null,null,null,null,null,null,null,null,null,null,null,null,null,null,null,"No","",0,null,0,null,0,0,null,0]
[null,null,null,null,null,null,null,null,null,null,null,null,null,null,null,null,null,null,null,null,null,null,null,null,null,null,null,null,null,null,null,null,null,null,null,null,null,null,"No","",0,null,0,null,0,0,null,0]
[null,null,null,null,null,null,null,null,null,null,null,null,null,null,null,null,null,null,null,null,null,null,null,null,null,null,null,null,null,null,null,null,null,null,null,null,null,null,"No","",0,null,0,null,0,0,null,0]
[null,null,null,null,null,null,null,null,null,null,null,null,null,null,null,null,null,null,null,null,null,null,null,null,null,null,null,null,null,null,null,null,null,null,null,null,null,null,"No","",0,null,0,null,0,0,null,0]
[null,null,null,null,null,null,null,null,null,null,null,null,null,null,null,null,null,null,null,null,null,null,null,null,null,null,null,null,null,null,null,null,null,null,null,null,null,null,"No","",0,null,0,null,0,0,null,0]
[null,null,null,null,null,null,null,null,null,null,null,null,null,null,null,null,null,null,null,null,null,null,null,null,null,null,null,null,null,null,null,null,null,null,null,null,null,null,"No","",0,null,0,null,0,0,null,0]
[null,null,null,null,null,null,null,null,null,null,null,null,null,null,null,null,null,null,null,null,null,null,null,null,null,null,null,null,null,null,null,null,null,null,null,null,null,null,"No","",0,null,0,null,0,0,null,0]
[null,null,null,null,null,null,null,null,null,null,null,null,null,null,null,null,null,null,null,null,null,null,null,null,null,null,null,null,null,null,null,null,null,null,null,null,null,null,"No","",0,null,0,null,0,0,null,0]
[null,null,null,null,null,null,null,null,null,null,null,null,null,null,null,null,null,null,null,null,null,null,null,null,null,null,null,null,null,null,null,null,null,null,null,null,null,null,"No","",0,null,0,null,0,0,null,0]
[null,null,null,null,null,null,null,null,null,null,null,null,null,null,null,null,null,null,null,null,null,null,null,null,null,null,null,null,null,null,null,null,null,null,null,null,null,null,"No","",0,null,0,null,0,0,null,0]
[null,null,null,null,null,null,null,null,null,null,null,null,null,null,null,null,null,null,null,null,null,null,null,null,null,null,null,null,null,null,null,null,null,null,null,null,null,null,"No","",0,null,0,null,0,0,null,0]
[null,null,null,null,null,null,null,null,null,null,null,null,null,null,null,null,null,null,null,null,null,null,null,null,null,null,null,null,null,null,null,null,null,null,null,null,null,null,"No","",0,null,0,null,0,0,null,0]
[null,null,null,null,null,null,null,null,null,null,null,null,null,null,null,null,null,null,null,null,null,null,null,null,null,null,null,null,null,null,null,null,null,null,null,null,null,null,"No","",0,null,0,null,0,0,null,0]
[null,null,null,null,null,null,null,null,null,null,null,null,null,null,null,null,null,null,null,null,null,null,null,null,null,null,null,null,null,null,null,null,null,null,null,null,null,null,{"$f":"IF(OR(L672=\"5 Min ORBO\",L672=\"5 Min ORBD\",L672=\"15 Min ORBO\",L672=\"15 Min ORBD\",L672=\"MA-X-L\",L672=\"MA-X-S\",L672=\"FOMO\",L672=\"Revenge\",L672=\"Hot Key Mistake\",L672=\"VWAP Reversal Long\",L672=\"VWAP Reversal Short\",L672=\"VWAP False Breakout Long\",L672=\"VWAP False Breakout Short\",L672=\"S&R Long\",L672=\"S&R Short\",L672=\"Moving Average Long\",L672=\"Moving Average Short\",L672=\"Bearish Engulfing Crack\",L672=\"Top Reversal\",L672=\"ABCD\"),\"Yes\", \"No\")","v":"No"},"",0,null,0,null,0,0,null,0]
[null,null,null,null,null,null,null,null,null,null,null,null,null,null,null,null,null,null,null,null,null,null,null,null,null,null,null,null,null,null,null,null,null,null,null,null,null,null,"No","",0,null,0,null,0,0,null,0]
[null,null,null,null,null,null,null,null,null,null,null,null,null,null,null,null,null,null,null,null,null,null,null,null,null,null,null,null,null,null,null,null,null,null,null,null,null,null,"No","",0,null,0,null,0,0,null,0]
[null,null,null,null,null,null,null,null,null,null,null,null,null,null,null,null,null,null,null,null,null,null,null,null,null,null,null,null,null,null,null,null,null,null,null,null,null,null,"No","",0,null,0,null,0,0,null,0]
[null,null,null,null,null,null,null,null,null,null,null,null,null,null,null,null,null,null,null,null,null,null,null,null,null,null,null,null,null,null,null,null,null,null,null,null,null,null,"No","",0,null,0,null,0,0,null,0]
[null,null,null,null,null,null,null,null,null,null,null,null,null,null,null,null,null,null,null,null,null,null,null,null,null,null,null,null,null,null,null,null,null,null,null,null,null,null,"No","",0,null,0,null,0,0,null,0]
[null,null,null,null,null,null,null,null,null,null,null,null,null,null,null,null,null,null,null,null,null,null,null,null,null,null,null,null,null,null,null,null,null,null,null,null,null,null,"No","",0,null,0,null,0,0,null,0]
[null,null,null,null,null,null,null,null,null,null,null,null,null,null,null,null,null,null,null,null,null,null,null,null,null,null,null,null,null,null,null,null,null,null,null,null,null,null,"No","",0,null,0,null,0,0,null,0]
[null,null,null,null,null,null,null,null,null,null,null,null,null,null,null,null,null,null,null,null,null,null,null,null,null,null,null,null,null,null,null,null,null,null,null,null,null,null,"No","",0,null,0,null,0,0,null,0]
[null,null,null,null,null,null,null,null,null,null,null,null,null,null,null,null,null,null,null,null,null,null,null,null,null,null,null,null,null,null,null,null,null,null,null,null,null,null,"No","",0,null,0,null,0,0,null,0]
[null,null,null,null,null,null,null,null,null,null,null,null,null,null,null,null,null,null,null,null,null,null,null,null,null,null,null,null,null,null,null,null,null,null,null,null,null,null,"No","",0,null,0,null,0,0,null,0]
[null,null,null,null,null,null,null,null,null,null,null,null,null,null,null,null,null,null,null,null,null,null,null,null,null,null,null,null,null,null,null,null,null,null,null,null,null,null,"No",{"$f":"IF(AM683=\"Yes\", F683,\"\")","v":""},{"$f":"N683","v":0},null,{"$f":"N683-Q683","v":0},null,{"$f":"T683","v":0},{"$f":"N683","v":0},null,{"$f":"L683","v":0}]
[null,null,null,null,null,null,null,null,null,null,null,null,null,null,null,null,null,null,null,null,null,null,null,null,null,null,null,null,null,null,null,null,null,null,null,null,null,null,"No","",0,null,0,null,0,0,null,0]
[null,null,null,null,null,null,null,null,null,null,null,null,null,null,null,null,null,null,null,null,null,null,null,null,null,null,null,null,null,null,null,null,null,null,null,null,null,null,"No","",0,null,0,null,0,0,null,0]
[null,null,null,null,null,null,null,null,null,null,null,null,null,null,null,null,null,null,null,null,null,null,null,null,null,null,null,null,null,null,null,null,null,null,null,null,null,null,"No","",0,null,0,null,0,0,null,0]
[null,null,null,null,null,null,null,null,null,null,null,null,null,null,null,null,null,null,null,null,null,null,null,null,null,null,null,null,null,null,null,null,null,null,null,null,null,null,"No","",0,null,0,null,0,0,null,0]
[null,null,null,null,null,null,null,null,null,null,null,null,null,null,null,null,null,null,null,null,null,null,null,null,null,null,null,null,null,null,null,null,null,null,null,null,null,null,"No","",0,null,0,null,0,0,null,0]
[null,null,null,null,null,null,null,null,null,null,null,null,null,null,null,null,null,null,null,null,null,null,null,null,null,null,null,null,null,null,null,null,null,null,null,null,null,null,"No","",0,null,0,null,0,0,null,0]
[null,null,null,null,null,null,null,null,null,null,null,null,null,null,null,null,null,null,null,null,null,null,null,null,null,null,null,null,null,null,null,null,null,null,null,null,null,null,"No","",0,null,0,null,0,0,null,0]
[null,null,null,null,null,null,null,null,null,null,null,null,null,null,null,null,null,null,null,null,null,null,null,null,null,null,null,null,null,null,null,null,null,null,null,null,null,null,"No","",0,null,0,null,0,0,null,0]
[null,null,null,null,null,null,null,null,null,null,null,null,null,null,null,null,null,null,null,null,null,null,null,null,null,null,null,null,null,null,null,null,null,null,null,null,null,null,"No","",0,null,0,null,0,0,null,0]
[null,null,null,null,null,null,null,null,null,null,null,null,null,null,null,null,null,null,null,null,null,null,null,null,null,null,null,null,null,null,null,null,null,null,null,null,null,null,"No","",0,null,0,null,0,0,null,0]
[null,null,null,null,null,null,null,null,null,null,null,null,null,null,null,null,null,null,null,null,null,null,null,null,null,null,null,null,null,null,null,null,null,null,null,null,null,null,"No","",0,null,0,null,0,0,null,0]
[null,null,null,null,null,null,null,null,null,null,null,null,null,null,null,null,null,null,null,null,null,null,null,null,null,null,null,null,null,null,null,null,null,null,null,null,null,null,"No","",0,null,0,null,0,0,null,0]
[null,null,null,null,null,null,null,null,null,null,null,null,null,null,null,null,null,null,null,null,null,null,null,null,null,null,null,null,null,null,null,null,null,null,null,null,null,null,"No","",0,null,0,null,0,0,null,0]
[null,null,null,null,null,null,null,null,null,null,null,null,null,null,null,null,null,null,null,null,null,null,null,null,null,null,null,null,null,null,null,null,null,null,null,null,null,null,"No","",0,null,0,null,0,0,null,0]
[null,null,null,null,null,null,null,null,null,null,null,null,null,null,null,null,null,null,null,null,null,null,null,null,null,null,null,null,null,null,null,null,null,null,null,null,null,null,"No","",0,null,0,null,0,0,null,0]
[null,null,null,null,null,null,null,null,null,null,null,null,null,null,null,null,null,null,null,null,null,null,null,null,null,null,null,null,null,null,null,null,null,null,null,null,null,null,"No","",0,null,0,null,0,0,null,0]
[null,null,null,null,null,null,null,null,null,null,null,null,null,null,null,null,null,null,null,null,null,null,null,null,null,null,null,null,null,null,null,null,null,null,null,null,null,null,"No","",0,null,0,null,0,0,null,0]
[null,null,null,null,null,null,null,null,null,null,null,null,null,null,null,null,null,null,null,null,null,null,null,null,null,null,null,null,null,null,null,null,null,null,null,null,null,null,"No","",0,null,0,null,0,0,null,0]
[null,null,null,null,null,null,null,null,null,null,null,null,null,null,null,null,null,null,null,null,null,null,null,null,null,null,null,null,null,null,null,null,null,null,null,null,null,null,"No","",0,null,0,null,0,0,null,0]
[null,null,null,null,null,null,null,null,null,null,null,null,null,null,null,null,null,null,null,null,null,null,null,null,null,null,null,null,null,null,null,null,null,null,null,null,null,null,"No","",0,null,0,null,0,0,null,0]
[null,null,null,null,null,null,null,null,null,null,null,null,null,null,null,null,null,null,null,null,null,null,null,null,null,null,null,null,null,null,null,null,null,null,null,null,null,null,"No","",0,null,0,null,0,0,null,0]
[null,null,null,null,null,null,null,null,null,null,null,null,null,null,null,null,null,null,null,null,null,null,null,null,null,null,null,null,null,null,null,null,null,null,null,null,null,null,"No","",0,null,0,null,0,0,null,0]
[null,null,null,null,null,null,null,null,null,null,null,null,null,null,null,null,null,null,null,null,null,null,null,null,null,null,null,null,null,null,null,null,null,null,null,null,null,null,"No","",0,null,0,null,0,0,null,0]
[null,null,null,null,null,null,null,null,null,null,null,null,null,null,null,null,null,null,null,null,null,null,null,null,null,null,null,null,null,null,null,null,null,null,null,null,null,null,"No","",0,null,0,null,0,0,null,0]
[null,null,null,null,null,null,null,null,null,null,null,null,null,null,null,null,null,null,null,null,null,null,null,null,null,null,null,null,null,null,null,null,null,null,null,null,null,null,"No","",0,null,0,null,0,0,null,0]
[null,null,null,null,null,null,null,null,null,null,null,null,null,null,null,null,null,null,null,null,null,null,null,null,null,null,null,null,null,null,null,null,null,null,null,null,null,null,"No","",0,null,0,null,0,0,null,0]
[null,null,null,null,null,null,null,null,null,null,null,null,null,null,null,null,null,null,null,null,null,null,null,null,null,null,null,null,null,null,null,null,null,null,null,null,null,null,"No","",0,null,0,null,0,0,null,0]
[null,null,null,null,null,null,null,null,null,null,null,null,null,null,null,null,null,null,null,null,null,null,null,null,null,null,null,null,null,null,null,null,null,null,null,null,null,null,"No","",0,null,0,null,0,0,null,0]
[null,null,null,null,null,null,null,null,null,null,null,null,null,null,null,null,null,null,null,null,null,null,null,null,null,null,null,null,null,null,null,null,null,null,null,null,null,null,"No","",0,null,0,null,0,0,null,0]
[null,null,null,null,null,null,null,null,null,null,null,null,null,null,null,null,null,null,null,null,null,null,null,null,null,null,null,null,null,null,null,null,null,null,null,null,null,null,"No","",0,null,0,null,0,0,null,0]
[null,null,null,null,null,null,null,null,null,null,null,null,null,null,null,null,null,null,null,null,null,null,null,null,null,null,null,null,null,null,null,null,null,null,null,null,null,null,"No","",0,null,0,null,0,0,null,0]
[null,null,null,null,null,null,null,null,null,null,null,null,null,null,null,null,null,null,null,null,null,null,null,null,null,null,null,null,null,null,null,null,null,null,null,null,null,null,"No","",0,null,0,null,0,0,null,0]
[null,null,null,null,null,null,null,null,null,null,null,null,null,null,null,null,null,null,null,null,null,null,null,null,null,null,null,null,null,null,null,null,null,null,null,null,null,null,"No","",0,null,0,null,0,0,null,0]
[null,null,null,null,null,null,null,null,null,null,null,null,null,null,null,null,null,null,null,null,null,null,null,null,null,null,null,null,null,null,null,null,null,null,null,null,null,null,"No","",0,null,0,null,0,0,null,0]
[null,null,null,null,null,null,null,null,null,null,null,null,null,null,null,null,null,null,null,null,null,null,null,null,null,null,null,null,null,null,null,null,null,null,null,null,null,null,"No","",0,null,0,null,0,0,null,0]
[null,null,null,null,null,null,null,null,null,null,null,null,null,null,null,null,null,null,null,null,null,null,null,null,null,null,null,null,null,null,null,null,null,null,null,null,null,null,"No","",0,null,0,null,0,0,null,0]
[null,null,null,null,null,null,null,null,null,null,null,null,null,null,null,null,null,null,null,null,null,null,null,null,null,null,null,null,null,null,null,null,null,null,null,null,null,null,"No","",0,null,0,null,0,0,null,0]
[null,null,null,null,null,null,null,null,null,null,null,null,null,null,null,null,null,null,null,null,null,null,null,null,null,null,null,null,null,null,null,null,null,null,null,null,null,null,"No","",0,null,0,null,0,0,null,0]
[null,null,null,null,null,null,null,null,null,null,null,null,null,null,null,null,null,null,null,null,null,null,null,null,null,null,null,null,null,null,null,null,null,null,null,null,null,null,"No","",0,null,0,null,0,0,null,0]
[null,null,null,null,null,null,null,null,null,null,null,null,null,null,null,null,null,null,null,null,null,null,null,null,null,null,null,null,null,null,null,null,null,null,null,null,null,null,"No","",0,null,0,null,0,0,null,0]
[null,null,null,null,null,null,null,null,null,null,null,null,null,null,null,null,null,null,null,null,null,null,null,null,null,null,null,null,null,null,null,null,null,null,null,null,null,null,"No","",0,null,0,null,0,0,null,0]
[null,null,null,null,null,null,null,null,null,null,null,null,null,null,null,null,null,null,null,null,null,null,null,null,null,null,null,null,null,null,null,null,null,null,null,null,null,null,"No","",0,null,0,null,0,0,null,0]
[null,null,null,null,null,null,null,null,null,null,null,null,null,null,null,null,null,null,null,null,null,null,null,null,null,null,null,null,null,null,null,null,null,null,null,null,null,null,"No","",0,null,0,null,0,0,null,0]
[null,null,null,null,null,null,null,null,null,null,null,null,null,null,null,null,null,null,null,null,null,null,null,null,null,null,null,null,null,null,null,null,null,null,null,null,null,null,"No","",0,null,0,null,0,0,null,0]
[null,null,null,null,null,null,null,null,null,null,null,null,null,null,null,null,null,null,null,null,null,null,null,null,null,null,null,null,null,null,null,null,null,null,null,null,null,null,"No","",0,null,0,null,0,0,null,0]
[null,null,null,null,null,null,null,null,null,null,null,null,null,null,null,null,null,null,null,null,null,null,null,null,null,null,null,null,null,null,null,null,null,null,null,null,null,null,"No","",0,null,0,null,0,0,null,0]
[null,null,null,null,null,null,null,null,null,null,null,null,null,null,null,null,null,null,null,null,null,null,null,null,null,null,null,null,null,null,null,null,null,null,null,null,null,null,"No","",0,null,0,null,0,0,null,0]
[null,null,null,null,null,null,null,null,null,null,null,null,null,null,null,null,null,null,null,null,null,null,null,null,null,null,null,null,null,null,null,null,null,null,null,null,null,null,"No","",0,null,0,null,0,0,null,0]
[null,null,null,null,null,null,null,null,null,null,null,null,null,null,null,null,null,null,null,null,null,null,null,null,null,null,null,null,null,null,null,null,null,null,null,null,null,null,"No","",0,null,0,null,0,0,null,0]
[null,null,null,null,null,null,null,null,null,null,null,null,null,null,null,null,null,null,null,null,null,null,null,null,null,null,null,null,null,null,null,null,null,null,null,null,null,null,"No","",0,null,0,null,0,0,null,0]
[null,null,null,null,null,null,null,null,null,null,null,null,null,null,null,null,null,null,null,null,null,null,null,null,null,null,null,null,null,null,null,null,null,null,null,null,null,null,"No","",0,null,0,null,0,0,null,0]
[null,null,null,null,null,null,null,null,null,null,null,null,null,null,null,null,null,null,null,null,null,null,null,null,null,null,null,null,null,null,null,null,null,null,null,null,null,null,"No","",0,null,0,null,0,0,null,0]
[null,null,null,null,null,null,null,null,null,null,null,null,null,null,null,null,null,null,null,null,null,null,null,null,null,null,null,null,null,null,null,null,null,null,null,null,null,null,{"$f":"IF(OR(L736=\"5 Min ORBO\",L736=\"5 Min ORBD\",L736=\"15 Min ORBO\",L736=\"15 Min ORBD\",L736=\"MA-X-L\",L736=\"MA-X-S\",L736=\"FOMO\",L736=\"Revenge\",L736=\"Hot Key Mistake\",L736=\"VWAP Reversal Long\",L736=\"VWAP Reversal Short\",L736=\"VWAP False Breakout Long\",L736=\"VWAP False Breakout Short\",L736=\"S&R Long\",L736=\"S&R Short\",L736=\"Moving Average Long\",L736=\"Moving Average Short\",L736=\"Bearish Engulfing Crack\",L736=\"Top Reversal\",L736=\"ABCD\"),\"Yes\", \"No\")","v":"No"},"",0,null,0,null,0,0,null,0]
[null,null,null,null,null,null,null,null,null,null,null,null,null,null,null,null,null,null,null,null,null,null,null,null,null,null,null,null,null,null,null,null,null,null,null,null,null,null,"No","",0,null,0,null,0,0,null,0]
[null,null,null,null,null,null,null,null,null,null,null,null,null,null,null,null,null,null,null,null,null,null,null,null,null,null,null,null,null,null,null,null,null,null,null,null,null,null,"No","",0,null,0,null,0,0,null,0]
[null,null,null,null,null,null,null,null,null,null,null,null,null,null,null,null,null,null,null,null,null,null,null,null,null,null,null,null,null,null,null,null,null,null,null,null,null,null,"No","",0,null,0,null,0,0,null,0]
[null,null,null,null,null,null,null,null,null,null,null,null,null,null,null,null,null,null,null,null,null,null,null,null,null,null,null,null,null,null,null,null,null,null,null,null,null,null,"No","",0,null,0,null,0,0,null,0]
[null,null,null,null,null,null,null,null,null,null,null,null,null,null,null,null,null,null,null,null,null,null,null,null,null,null,null,null,null,null,null,null,null,null,null,null,null,null,"No","",0,null,0,null,0,0,null,0]
[null,null,null,null,null,null,null,null,null,null,null,null,null,null,null,null,null,null,null,null,null,null,null,null,null,null,null,null,null,null,null,null,null,null,null,null,null,null,"No","",0,null,0,null,0,0,null,0]
[null,null,null,null,null,null,null,null,null,null,null,null,null,null,null,null,null,null,null,null,null,null,null,null,null,null,null,null,null,null,null,null,null,null,null,null,null,null,"No","",0,null,0,null,0,0,null,0]
[null,null,null,null,null,null,null,null,null,null,null,null,null,null,null,null,null,null,null,null,null,null,null,null,null,null,null,null,null,null,null,null,null,null,null,null,null,null,"No","",0,null,0,null,0,0,null,0]
[null,null,null,null,null,null,null,null,null,null,null,null,null,null,null,null,null,null,null,null,null,null,null,null,null,null,null,null,null,null,null,null,null,null,null,null,null,null,"No","",0,null,0,null,0,0,null,0]
[null,null,null,null,null,null,null,null,null,null,null,null,null,null,null,null,null,null,null,null,null,null,null,null,null,null,null,null,null,null,null,null,null,null,null,null,null,null,"No","",0,null,0,null,0,0,null,0]
[null,null,null,null,null,null,null,null,null,null,null,null,null,null,null,null,null,null,null,null,null,null,null,null,null,null,null,null,null,null,null,null,null,null,null,null,null,null,"No",{"$f":"IF(AM747=\"Yes\", F747,\"\")","v":""},{"$f":"N747","v":0},null,{"$f":"N747-Q747","v":0},null,{"$f":"T747","v":0},{"$f":"N747","v":0},null,{"$f":"L747","v":0}]
[null,null,null,null,null,null,null,null,null,null,null,null,null,null,null,null,null,null,null,null,null,null,null,null,null,null,null,null,null,null,null,null,null,null,null,null,null,null,"No","",0,null,0,null,0,0,null,0]
[null,null,null,null,null,null,null,null,null,null,null,null,null,null,null,null,null,null,null,null,null,null,null,null,null,null,null,null,null,null,null,null,null,null,null,null,null,null,"No","",0,null,0,null,0,0,null,0]
[null,null,null,null,null,null,null,null,null,null,null,null,null,null,null,null,null,null,null,null,null,null,null,null,null,null,null,null,null,null,null,null,null,null,null,null,null,null,"No","",0,null,0,null,0,0,null,0]
[null,null,null,null,null,null,null,null,null,null,null,null,null,null,null,null,null,null,null,null,null,null,null,null,null,null,null,null,null,null,null,null,null,null,null,null,null,null,"No","",0,null,0,null,0,0,null,0]
[null,null,null,null,null,null,null,null,null,null,null,null,null,null,null,null,null,null,null,null,null,null,null,null,null,null,null,null,null,null,null,null,null,null,null,null,null,null,"No","",0,null,0,null,0,0,null,0]
[null,null,null,null,null,null,null,null,null,null,null,null,null,null,null,null,null,null,null,null,null,null,null,null,null,null,null,null,null,null,null,null,null,null,null,null,null,null,"No","",0,null,0,null,0,0,null,0]
[null,null,null,null,null,null,null,null,null,null,null,null,null,null,null,null,null,null,null,null,null,null,null,null,null,null,null,null,null,null,null,null,null,null,null,null,null,null,"No","",0,null,0,null,0,0,null,0]
[null,null,null,null,null,null,null,null,null,null,null,null,null,null,null,null,null,null,null,null,null,null,null,null,null,null,null,null,null,null,null,null,null,null,null,null,null,null,"No","",0,null,0,null,0,0,null,0]
[null,null,null,null,null,null,null,null,null,null,null,null,null,null,null,null,null,null,null,null,null,null,null,null,null,null,null,null,null,null,null,null,null,null,null,null,null,null,"No","",0,null,0,null,0,0,null,0]
[null,null,null,null,null,null,null,null,null,null,null,null,null,null,null,null,null,null,null,null,null,null,null,null,null,null,null,null,null,null,null,null,null,null,null,null,null,null,"No","",0,null,0,null,0,0,null,0]
[null,null,null,null,null,null,null,null,null,null,null,null,null,null,null,null,null,null,null,null,null,null,null,null,null,null,null,null,null,null,null,null,null,null,null,null,null,null,"No","",0,null,0,null,0,0,null,0]
[null,null,null,null,null,null,null,null,null,null,null,null,null,null,null,null,null,null,null,null,null,null,null,null,null,null,null,null,null,null,null,null,null,null,null,null,null,null,"No","",0,null,0,null,0,0,null,0]
[null,null,null,null,null,null,null,null,null,null,null,null,null,null,null,null,null,null,null,null,null,null,null,null,null,null,null,null,null,null,null,null,null,null,null,null,null,null,"No","",0,null,0,null,0,0,null,0]
[null,null,null,null,null,null,null,null,null,null,null,null,null,null,null,null,null,null,null,null,null,null,null,null,null,null,null,null,null,null,null,null,null,null,null,null,null,null,"No","",0,null,0,null,0,0,null,0]
[null,null,null,null,null,null,null,null,null,null,null,null,null,null,null,null,null,null,null,null,null,null,null,null,null,null,null,null,null,null,null,null,null,null,null,null,null,null,"No","",0,null,0,null,0,0,null,0]
[null,null,null,null,null,null,null,null,null,null,null,null,null,null,null,null,null,null,null,null,null,null,null,null,null,null,null,null,null,null,null,null,null,null,null,null,null,null,"No","",0,null,0,null,0,0,null,0]
[null,null,null,null,null,null,null,null,null,null,null,null,null,null,null,null,null,null,null,null,null,null,null,null,null,null,null,null,null,null,null,null,null,null,null,null,null,null,"No","",0,null,0,null,0,0,null,0]
[null,null,null,null,null,null,null,null,null,null,null,null,null,null,null,null,null,null,null,null,null,null,null,null,null,null,null,null,null,null,null,null,null,null,null,null,null,null,"No","",0,null,0,null,0,0,null,0]
[null,null,null,null,null,null,null,null,null,null,null,null,null,null,null,null,null,null,null,null,null,null,null,null,null,null,null,null,null,null,null,null,null,null,null,null,null,null,"No","",0,null,0,null,0,0,null,0]
[null,null,null,null,null,null,null,null,null,null,null,null,null,null,null,null,null,null,null,null,null,null,null,null,null,null,null,null,null,null,null,null,null,null,null,null,null,null,"No","",0,null,0,null,0,0,null,0]
[null,null,null,null,null,null,null,null,null,null,null,null,null,null,null,null,null,null,null,null,null,null,null,null,null,null,null,null,null,null,null,null,null,null,null,null,null,null,"No","",0,null,0,null,0,0,null,0]
[null,null,null,null,null,null,null,null,null,null,null,null,null,null,null,null,null,null,null,null,null,null,null,null,null,null,null,null,null,null,null,null,null,null,null,null,null,null,"No","",0,null,0,null,0,0,null,0]
[null,null,null,null,null,null,null,null,null,null,null,null,null,null,null,null,null,null,null,null,null,null,null,null,null,null,null,null,null,null,null,null,null,null,null,null,null,null,"No","",0,null,0,null,0,0,null,0]
[null,null,null,null,null,null,null,null,null,null,null,null,null,null,null,null,null,null,null,null,null,null,null,null,null,null,null,null,null,null,null,null,null,null,null,null,null,null,"No","",0,null,0,null,0,0,null,0]
[null,null,null,null,null,null,null,null,null,null,null,null,null,null,null,null,null,null,null,null,null,null,null,null,null,null,null,null,null,null,null,null,null,null,null,null,null,null,"No","",0,null,0,null,0,0,null,0]
[null,null,null,null,null,null,null,null,null,null,null,null,null,null,null,null,null,null,null,null,null,null,null,null,null,null,null,null,null,null,null,null,null,null,null,null,null,null,"No","",0,null,0,null,0,0,null,0]
[null,null,null,null,null,null,null,null,null,null,null,null,null,null,null,null,null,null,null,null,null,null,null,null,null,null,null,null,null,null,null,null,null,null,null,null,null,null,"No","",0,null,0,null,0,0,null,0]
[null,null,null,null,null,null,null,null,null,null,null,null,null,null,null,null,null,null,null,null,null,null,null,null,null,null,null,null,null,null,null,null,null,null,null,null,null,null,"No","",0,null,0,null,0,0,null,0]
[null,null,null,null,null,null,null,null,null,null,null,null,null,null,null,null,null,null,null,null,null,null,null,null,null,null,null,null,null,null,null,null,null,null,null,null,null,null,"No","",0,null,0,null,0,0,null,0]
[null,null,null,null,null,null,null,null,null,null,null,null,null,null,null,null,null,null,null,null,null,null,null,null,null,null,null,null,null,null,null,null,null,null,null,null,null,null,"No","",0,null,0,null,0,0,null,0]
[null,null,null,null,null,null,null,null,null,null,null,null,null,null,null,null,null,null,null,null,null,null,null,null,null,null,null,null,null,null,null,null,null,null,null,null,null,null,"No","",0,null,0,null,0,0,null,0]
[null,null,null,null,null,null,null,null,null,null,null,null,null,null,null,null,null,null,null,null,null,null,null,null,null,null,null,null,null,null,null,null,null,null,null,null,null,null,"No","",0,null,0,null,0,0,null,0]
[null,null,null,null,null,null,null,null,null,null,null,null,null,null,null,null,null,null,null,null,null,null,null,null,null,null,null,null,null,null,null,null,null,null,null,null,null,null,"No","",0,null,0,null,0,0,null,0]
[null,null,null,null,null,null,null,null,null,null,null,null,null,null,null,null,null,null,null,null,null,null,null,null,null,null,null,null,null,null,null,null,null,null,null,null,null,null,"No","",0,null,0,null,0,0,null,0]
[null,null,null,null,null,null,null,null,null,null,null,null,null,null,null,null,null,null,null,null,null,null,null,null,null,null,null,null,null,null,null,null,null,null,null,null,null,null,"No","",0,null,0,null,0,0,null,0]
[null,null,null,null,null,null,null,null,null,null,null,null,null,null,null,null,null,null,null,null,null,null,null,null,null,null,null,null,null,null,null,null,null,null,null,null,null,null,"No","",0,null,0,null,0,0,null,0]
[null,null,null,null,null,null,null,null,null,null,null,null,null,null,null,null,null,null,null,null,null,null,null,null,null,null,null,null,null,null,null,null,null,null,null,null,null,null,"No","",0,null,0,null,0,0,null,0]
[null,null,null,null,null,null,null,null,null,null,null,null,null,null,null,null,null,null,null,null,null,null,null,null,null,null,null,null,null,null,null,null,null,null,null,null,null,null,"No","",0,null,0,null,0,0,null,0]
[null,null,null,null,null,null,null,null,null,null,null,null,null,null,null,null,null,null,null,null,null,null,null,null,null,null,null,null,null,null,null,null,null,null,null,null,null,null,"No","",0,null,0,null,0,0,null,0]
[null,null,null,null,null,null,null,null,null,null,null,null,null,null,null,null,null,null,null,null,null,null,null,null,null,null,null,null,null,null,null,null,null,null,null,null,null,null,"No","",0,null,0,null,0,0,null,0]
[null,null,null,null,null,null,null,null,null,null,null,null,null,null,null,null,null,null,null,null,null,null,null,null,null,null,null,null,null,null,null,null,null,null,null,null,null,null,"No","",0,null,0,null,0,0,null,0]
[null,null,null,null,null,null,null,null,null,null,null,null,null,null,null,null,null,null,null,null,null,null,null,null,null,null,null,null,null,null,null,null,null,null,null,null,null,null,"No","",0,null,0,null,0,0,null,0]
[null,null,null,null,null,null,null,null,null,null,null,null,null,null,null,null,null,null,null,null,null,null,null,null,null,null,null,null,null,null,null,null,null,null,null,null,null,null,"No","",0,null,0,null,0,0,null,0]
[null,null,null,null,null,null,null,null,null,null,null,null,null,null,null,null,null,null,null,null,null,null,null,null,null,null,null,null,null,null,null,null,null,null,null,null,null,null,"No","",0,null,0,null,0,0,null,0]
[null,null,null,null,null,null,null,null,null,null,null,null,null,null,null,null,null,null,null,null,null,null,null,null,null,null,null,null,null,null,null,null,null,null,null,null,null,null,"No","",0,null,0,null,0,0,null,0]
[null,null,null,null,null,null,null,null,null,null,null,null,null,null,null,null,null,null,null,null,null,null,null,null,null,null,null,null,null,null,null,null,null,null,null,null,null,null,"No","",0,null,0,null,0,0,null,0]
[null,null,null,null,null,null,null,null,null,null,null,null,null,null,null,null,null,null,null,null,null,null,null,null,null,null,null,null,null,null,null,null,null,null,null,null,null,null,"No","",0,null,0,null,0,0,null,0]
[null,null,null,null,null,null,null,null,null,null,null,null,null,null,null,null,null,null,null,null,null,null,null,null,null,null,null,null,null,null,null,null,null,null,null,null,null,null,"No","",0,null,0,null,0,0,null,0]
[null,null,null,null,null,null,null,null,null,null,null,null,null,null,null,null,null,null,null,null,null,null,null,null,null,null,null,null,null,null,null,null,null,null,null,null,null,null,"No","",0,null,0,null,0,0,null,0]
[null,null,null,null,null,null,null,null,null,null,null,null,null,null,null,null,null,null,null,null,null,null,null,null,null,null,null,null,null,null,null,null,null,null,null,null,null,null,"No","",0,null,0,null,0,0,null,0]
[null,null,null,null,null,null,null,null,null,null,null,null,null,null,null,null,null,null,null,null,null,null,null,null,null,null,null,null,null,null,null,null,null,null,null,null,null,null,"No","",0,null,0,null,0,0,null,0]
[null,null,null,null,null,null,null,null,null,null,null,null,null,null,null,null,null,null,null,null,null,null,null,null,null,null,null,null,null,null,null,null,null,null,null,null,null,null,"No","",0,null,0,null,0,0,null,0]
[null,null,null,null,null,null,null,null,null,null,null,null,null,null,null,null,null,null,null,null,null,null,null,null,null,null,null,null,null,null,null,null,null,null,null,null,null,null,{"$f":"IF(OR(L800=\"5 Min ORBO\",L800=\"5 Min ORBD\",L800=\"15 Min ORBO\",L800=\"15 Min ORBD\",L800=\"MA-X-L\",L800=\"MA-X-S\",L800=\"FOMO\",L800=\"Revenge\",L800=\"Hot Key Mistake\",L800=\"VWAP Reversal Long\",L800=\"VWAP Reversal Short\",L800=\"VWAP False Breakout Long\",L800=\"VWAP False Breakout Short\",L800=\"S&R Long\",L800=\"S&R Short\",L800=\"Moving Average Long\",L800=\"Moving Average Short\",L800=\"Bearish Engulfing Crack\",L800=\"Top Reversal\",L800=\"ABCD\"),\"Yes\", \"No\")","v":"No"},"",0,null,0,null,0,0,null,0]
[null,null,null,null,null,null,null,null,null,null,null,null,null,null,null,null,null,null,null,null,null,null,null,null,null,null,null,null,null,null,null,null,null,null,null,null,null,null,"No","",0,null,0,null,0,0,null,0]
[null,null,null,null,null,null,null,null,null,null,null,null,null,null,null,null,null,null,null,null,null,null,null,null,null,null,null,null,null,null,null,null,null,null,null,null,null,null,"No","",0,null,0,null,0,0,null,0]
[null,null,null,null,null,null,null,null,null,null,null,null,null,null,null,null,null,null,null,null,null,null,null,null,null,null,null,null,null,null,null,null,null,null,null,null,null,null,"No","",0,null,0,null,0,0,null,0]
[null,null,null,null,null,null,null,null,null,null,null,null,null,null,null,null,null,null,null,null,null,null,null,null,null,null,null,null,null,null,null,null,null,null,null,null,null,null,"No","",0,null,0,null,0,0,null,0]
[null,null,null,null,null,null,null,null,null,null,null,null,null,null,null,null,null,null,null,null,null,null,null,null,null,null,null,null,null,null,null,null,null,null,null,null,null,null,"No","",0,null,0,null,0,0,null,0]
[null,null,null,null,null,null,null,null,null,null,null,null,null,null,null,null,null,null,null,null,null,null,null,null,null,null,null,null,null,null,null,null,null,null,null,null,null,null,"No","",0,null,0,null,0,0,null,0]
[null,null,null,null,null,null,null,null,null,null,null,null,null,null,null,null,null,null,null,null,null,null,null,null,null,null,null,null,null,null,null,null,null,null,null,null,null,null,"No","",0,null,0,null,0,0,null,0]
[null,null,null,null,null,null,null,null,null,null,null,null,null,null,null,null,null,null,null,null,null,null,null,null,null,null,null,null,null,null,null,null,null,null,null,null,null,null,"No","",0,null,0,null,0,0,null,0]
[null,null,null,null,null,null,null,null,null,null,null,null,null,null,null,null,null,null,null,null,null,null,null,null,null,null,null,null,null,null,null,null,null,null,null,null,null,null,"No","",0,null,0,null,0,0,null,0]
[null,null,null,null,null,null,null,null,null,null,null,null,null,null,null,null,null,null,null,null,null,null,null,null,null,null,null,null,null,null,null,null,null,null,null,null,null,null,"No","",0,null,0,null,0,0,null,0]
[null,null,null,null,null,null,null,null,null,null,null,null,null,null,null,null,null,null,null,null,null,null,null,null,null,null,null,null,null,null,null,null,null,null,null,null,null,null,"No",{"$f":"IF(AM811=\"Yes\", F811,\"\")","v":""},{"$f":"N811","v":0},null,{"$f":"N811-Q811","v":0},null,{"$f":"T811","v":0},{"$f":"N811","v":0},null,{"$f":"L811","v":0}]
[null,null,null,null,null,null,null,null,null,null,null,null,null,null,null,null,null,null,null,null,null,null,null,null,null,null,null,null,null,null,null,null,null,null,null,null,null,null,"No","",0,null,0,null,0,0,null,0]
[null,null,null,null,null,null,null,null,null,null,null,null,null,null,null,null,null,null,null,null,null,null,null,null,null,null,null,null,null,null,null,null,null,null,null,null,null,null,"No","",0,null,0,null,0,0,null,0]
[null,null,null,null,null,null,null,null,null,null,null,null,null,null,null,null,null,null,null,null,null,null,null,null,null,null,null,null,null,null,null,null,null,null,null,null,null,null,"No","",0,null,0,null,0,0,null,0]
[null,null,null,null,null,null,null,null,null,null,null,null,null,null,null,null,null,null,null,null,null,null,null,null,null,null,null,null,null,null,null,null,null,null,null,null,null,null,"No","",0,null,0,null,0,0,null,0]
[null,null,null,null,null,null,null,null,null,null,null,null,null,null,null,null,null,null,null,null,null,null,null,null,null,null,null,null,null,null,null,null,null,null,null,null,null,null,"No","",0,null,0,null,0,0,null,0]
[null,null,null,null,null,null,null,null,null,null,null,null,null,null,null,null,null,null,null,null,null,null,null,null,null,null,null,null,null,null,null,null,null,null,null,null,null,null,"No","",0,null,0,null,0,0,null,0]
[null,null,null,null,null,null,null,null,null,null,null,null,null,null,null,null,null,null,null,null,null,null,null,null,null,null,null,null,null,null,null,null,null,null,null,null,null,null,"No","",0,null,0,null,0,0,null,0]
[null,null,null,null,null,null,null,null,null,null,null,null,null,null,null,null,null,null,null,null,null,null,null,null,null,null,null,null,null,null,null,null,null,null,null,null,null,null,"No","",0,null,0,null,0,0,null,0]
[null,null,null,null,null,null,null,null,null,null,null,null,null,null,null,null,null,null,null,null,null,null,null,null,null,null,null,null,null,null,null,null,null,null,null,null,null,null,"No","",0,null,0,null,0,0,null,0]
[null,null,null,null,null,null,null,null,null,null,null,null,null,null,null,null,null,null,null,null,null,null,null,null,null,null,null,null,null,null,null,null,null,null,null,null,null,null,"No","",0,null,0,null,0,0,null,0]
[null,null,null,null,null,null,null,null,null,null,null,null,null,null,null,null,null,null,null,null,null,null,null,null,null,null,null,null,null,null,null,null,null,null,null,null,null,null,"No","",0,null,0,null,0,0,null,0]
[null,null,null,null,null,null,null,null,null,null,null,null,null,null,null,null,null,null,null,null,null,null,null,null,null,null,null,null,null,null,null,null,null,null,null,null,null,null,"No","",0,null,0,null,0,0,null,0]
[null,null,null,null,null,null,null,null,null,null,null,null,null,null,null,null,null,null,null,null,null,null,null,null,null,null,null,null,null,null,null,null,null,null,null,null,null,null,"No","",0,null,0,null,0,0,null,0]
[null,null,null,null,null,null,null,null,null,null,null,null,null,null,null,null,null,null,null,null,null,null,null,null,null,null,null,null,null,null,null,null,null,null,null,null,null,null,"No","",0,null,0,null,0,0,null,0]
[null,null,null,null,null,null,null,null,null,null,null,null,null,null,null,null,null,null,null,null,null,null,null,null,null,null,null,null,null,null,null,null,null,null,null,null,null,null,"No","",0,null,0,null,0,0,null,0]
[null,null,null,null,null,null,null,null,null,null,null,null,null,null,null,null,null,null,null,null,null,null,null,null,null,null,null,null,null,null,null,null,null,null,null,null,null,null,"No","",0,null,0,null,0,0,null,0]
[null,null,null,null,null,null,null,null,null,null,null,null,null,null,null,null,null,null,null,null,null,null,null,null,null,null,null,null,null,null,null,null,null,null,null,null,null,null,"No","",0,null,0,null,0,0,null,0]
[null,null,null,null,null,null,null,null,null,null,null,null,null,null,null,null,null,null,null,null,null,null,null,null,null,null,null,null,null,null,null,null,null,null,null,null,null,null,"No","",0,null,0,null,0,0,null,0]
[null,null,null,null,null,null,null,null,null,null,null,null,null,null,null,null,null,null,null,null,null,null,null,null,null,null,null,null,null,null,null,null,null,null,null,null,null,null,"No","",0,null,0,null,0,0,null,0]
[null,null,null,null,null,null,null,null,null,null,null,null,null,null,null,null,null,null,null,null,null,null,null,null,null,null,null,null,null,null,null,null,null,null,null,null,null,null,"No","",0,null,0,null,0,0,null,0]
[null,null,null,null,null,null,null,null,null,null,null,null,null,null,null,null,null,null,null,null,null,null,null,null,null,null,null,null,null,null,null,null,null,null,null,null,null,null,"No","",0,null,0,null,0,0,null,0]
[null,null,null,null,null,null,null,null,null,null,null,null,null,null,null,null,null,null,null,null,null,null,null,null,null,null,null,null,null,null,null,null,null,null,null,null,null,null,"No","",0,null,0,null,0,0,null,0]
[null,null,null,null,null,null,null,null,null,null,null,null,null,null,null,null,null,null,null,null,null,null,null,null,null,null,null,null,null,null,null,null,null,null,null,null,null,null,"No","",0,null,0,null,0,0,null,0]
[null,null,null,null,null,null,null,null,null,null,null,null,null,null,null,null,null,null,null,null,null,null,null,null,null,null,null,null,null,null,null,null,null,null,null,null,null,null,"No","",0,null,0,null,0,0,null,0]
[null,null,null,null,null,null,null,null,null,null,null,null,null,null,null,null,null,null,null,null,null,null,null,null,null,null,null,null,null,null,null,null,null,null,null,null,null,null,"No","",0,null,0,null,0,0,null,0]
[null,null,null,null,null,null,null,null,null,null,null,null,null,null,null,null,null,null,null,null,null,null,null,null,null,null,null,null,null,null,null,null,null,null,null,null,null,null,"No","",0,null,0,null,0,0,null,0]
[null,null,null,null,null,null,null,null,null,null,null,null,null,null,null,null,null,null,null,null,null,null,null,null,null,null,null,null,null,null,null,null,null,null,null,null,null,null,"No","",0,null,0,null,0,0,null,0]
[null,null,null,null,null,null,null,null,null,null,null,null,null,null,null,null,null,null,null,null,null,null,null,null,null,null,null,null,null,null,null,null,null,null,null,null,null,null,"No","",0,null,0,null,0,0,null,0]
[null,null,null,null,null,null,null,null,null,null,null,null,null,null,null,null,null,null,null,null,null,null,null,null,null,null,null,null,null,null,null,null,null,null,null,null,null,null,"No","",0,null,0,null,0,0,null,0]
[null,null,null,null,null,null,null,null,null,null,null,null,null,null,null,null,null,null,null,null,null,null,null,null,null,null,null,null,null,null,null,null,null,null,null,null,null,null,"No","",0,null,0,null,0,0,null,0]
[null,null,null,null,null,null,null,null,null,null,null,null,null,null,null,null,null,null,null,null,null,null,null,null,null,null,null,null,null,null,null,null,null,null,null,null,null,null,"No","",0,null,0,null,0,0,null,0]
[null,null,null,null,null,null,null,null,null,null,null,null,null,null,null,null,null,null,null,null,null,null,null,null,null,null,null,null,null,null,null,null,null,null,null,null,null,null,"No","",0,null,0,null,0,0,null,0]
[null,null,null,null,null,null,null,null,null,null,null,null,null,null,null,null,null,null,null,null,null,null,null,null,null,null,null,null,null,null,null,null,null,null,null,null,null,null,"No","",0,null,0,null,0,0,null,0]
[null,null,null,null,null,null,null,null,null,null,null,null,null,null,null,null,null,null,null,null,null,null,null,null,null,null,null,null,null,null,null,null,null,null,null,null,null,null,"No","",0,null,0,null,0,0,null,0]
[null,null,null,null,null,null,null,null,null,null,null,null,null,null,null,null,null,null,null,null,null,null,null,null,null,null,null,null,null,null,null,null,null,null,null,null,null,null,"No","",0,null,0,null,0,0,null,0]
[null,null,null,null,null,null,null,null,null,null,null,null,null,null,null,null,null,null,null,null,null,null,null,null,null,null,null,null,null,null,null,null,null,null,null,null,null,null,"No","",0,null,0,null,0,0,null,0]
[null,null,null,null,null,null,null,null,null,null,null,null,null,null,null,null,null,null,null,null,null,null,null,null,null,null,null,null,null,null,null,null,null,null,null,null,null,null,"No","",0,null,0,null,0,0,null,0]
[null,null,null,null,null,null,null,null,null,null,null,null,null,null,null,null,null,null,null,null,null,null,null,null,null,null,null,null,null,null,null,null,null,null,null,null,null,null,"No","",0,null,0,null,0,0,null,0]
[null,null,null,null,null,null,null,null,null,null,null,null,null,null,null,null,null,null,null,null,null,null,null,null,null,null,null,null,null,null,null,null,null,null,null,null,null,null,"No","",0,null,0,null,0,0,null,0]
[null,null,null,null,null,null,null,null,null,null,null,null,null,null,null,null,null,null,null,null,null,null,null,null,null,null,null,null,null,null,null,null,null,null,null,null,null,null,"No","",0,null,0,null,0,0,null,0]
[null,null,null,null,null,null,null,null,null,null,null,null,null,null,null,null,null,null,null,null,null,null,null,null,null,null,null,null,null,null,null,null,null,null,null,null,null,null,"No","",0,null,0,null,0,0,null,0]
[null,null,null,null,null,null,null,null,null,null,null,null,null,null,null,null,null,null,null,null,null,null,null,null,null,null,null,null,null,null,null,null,null,null,null,null,null,null,"No","",0,null,0,null,0,0,null,0]
[null,null,null,null,null,null,null,null,null,null,null,null,null,null,null,null,null,null,null,null,null,null,null,null,null,null,null,null,null,null,null,null,null,null,null,null,null,null,"No","",0,null,0,null,0,0,null,0]
[null,null,null,null,null,null,null,null,null,null,null,null,null,null,null,null,null,null,null,null,null,null,null,null,null,null,null,null,null,null,null,null,null,null,null,null,null,null,"No","",0,null,0,null,0,0,null,0]
[null,null,null,null,null,null,null,null,null,null,null,null,null,null,null,null,null,null,null,null,null,null,null,null,null,null,null,null,null,null,null,null,null,null,null,null,null,null,"No","",0,null,0,null,0,0,null,0]
[null,null,null,null,null,null,null,null,null,null,null,null,null,null,null,null,null,null,null,null,null,null,null,null,null,null,null,null,null,null,null,null,null,null,null,null,null,null,"No","",0,null,0,null,0,0,null,0]
[null,null,null,null,null,null,null,null,null,null,null,null,null,null,null,null,null,null,null,null,null,null,null,null,null,null,null,null,null,null,null,null,null,null,null,null,null,null,"No","",0,null,0,null,0,0,null,0]
[null,null,null,null,null,null,null,null,null,null,null,null,null,null,null,null,null,null,null,null,null,null,null,null,null,null,null,null,null,null,null,null,null,null,null,null,null,null,"No","",0,null,0,null,0,0,null,0]
[null,null,null,null,null,null,null,null,null,null,null,null,null,null,null,null,null,null,null,null,null,null,null,null,null,null,null,null,null,null,null,null,null,null,null,null,null,null,"No","",0,null,0,null,0,0,null,0]
[null,null,null,null,null,null,null,null,null,null,null,null,null,null,null,null,null,null,null,null,null,null,null,null,null,null,null,null,null,null,null,null,null,null,null,null,null,null,"No","",0,null,0,null,0,0,null,0]
[null,null,null,null,null,null,null,null,null,null,null,null,null,null,null,null,null,null,null,null,null,null,null,null,null,null,null,null,null,null,null,null,null,null,null,null,null,null,"No","",0,null,0,null,0,0,null,0]
[null,null,null,null,null,null,null,null,null,null,null,null,null,null,null,null,null,null,null,null,null,null,null,null,null,null,null,null,null,null,null,null,null,null,null,null,null,null,"No","",0,null,0,null,0,0,null,0]
[null,null,null,null,null,null,null,null,null,null,null,null,null,null,null,null,null,null,null,null,null,null,null,null,null,null,null,null,null,null,null,null,null,null,null,null,null,null,{"$f":"IF(OR(L864=\"5 Min ORBO\",L864=\"5 Min ORBD\",L864=\"15 Min ORBO\",L864=\"15 Min ORBD\",L864=\"MA-X-L\",L864=\"MA-X-S\",L864=\"FOMO\",L864=\"Revenge\",L864=\"Hot Key Mistake\",L864=\"VWAP Reversal Long\",L864=\"VWAP Reversal Short\",L864=\"VWAP False Breakout Long\",L864=\"VWAP False Breakout Short\",L864=\"S&R Long\",L864=\"S&R Short\",L864=\"Moving Average Long\",L864=\"Moving Average Short\",L864=\"Bearish Engulfing Crack\",L864=\"Top Reversal\",L864=\"ABCD\"),\"Yes\", \"No\")","v":"No"},"",0,null,0,null,0,0,null,0]
[null,null,null,null,null,null,null,null,null,null,null,null,null,null,null,null,null,null,null,null,null,null,null,null,null,null,null,null,null,null,null,null,null,null,null,null,null,null,"No","",0,null,0,null,0,0,null,0]
[null,null,null,null,null,null,null,null,null,null,null,null,null,null,null,null,null,null,null,null,null,null,null,null,null,null,null,null,null,null,null,null,null,null,null,null,null,null,"No","",0,null,0,null,0,0,null,0]
[null,null,null,null,null,null,null,null,null,null,null,null,null,null,null,null,null,null,null,null,null,null,null,null,null,null,null,null,null,null,null,null,null,null,null,null,null,null,"No","",0,null,0,null,0,0,null,0]
[null,null,null,null,null,null,null,null,null,null,null,null,null,null,null,null,null,null,null,null,null,null,null,null,null,null,null,null,null,null,null,null,null,null,null,null,null,null,"No","",0,null,0,null,0,0,null,0]
[null,null,null,null,null,null,null,null,null,null,null,null,null,null,null,null,null,null,null,null,null,null,null,null,null,null,null,null,null,null,null,null,null,null,null,null,null,null,"No","",0,null,0,null,0,0,null,0]
[null,null,null,null,null,null,null,null,null,null,null,null,null,null,null,null,null,null,null,null,null,null,null,null,null,null,null,null,null,null,null,null,null,null,null,null,null,null,"No","",0,null,0,null,0,0,null,0]
[null,null,null,null,null,null,null,null,null,null,null,null,null,null,null,null,null,null,null,null,null,null,null,null,null,null,null,null,null,null,null,null,null,null,null,null,null,null,"No","",0,null,0,null,0,0,null,0]
[null,null,null,null,null,null,null,null,null,null,null,null,null,null,null,null,null,null,null,null,null,null,null,null,null,null,null,null,null,null,null,null,null,null,null,null,null,null,"No","",0,null,0,null,0,0,null,0]
[null,null,null,null,null,null,null,null,null,null,null,null,null,null,null,null,null,null,null,null,null,null,null,null,null,null,null,null,null,null,null,null,null,null,null,null,null,null,"No","",0,null,0,null,0,0,null,0]
[null,null,null,null,null,null,null,null,null,null,null,null,null,null,null,null,null,null,null,null,null,null,null,null,null,null,null,null,null,null,null,null,null,null,null,null,null,null,"No","",0,null,0,null,0,0,null,0]
[null,null,null,null,null,null,null,null,null,null,null,null,null,null,null,null,null,null,null,null,null,null,null,null,null,null,null,null,null,null,null,null,null,null,null,null,null,null,"No",{"$f":"IF(AM875=\"Yes\", F875,\"\")","v":""},{"$f":"N875","v":0},null,{"$f":"N875-Q875","v":0},null,{"$f":"T875","v":0},{"$f":"N875","v":0},null,{"$f":"L875","v":0}]
[null,null,null,null,null,null,null,null,null,null,null,null,null,null,null,null,null,null,null,null,null,null,null,null,null,null,null,null,null,null,null,null,null,null,null,null,null,null,"No","",0,null,0,null,0,0,null,0]
[null,null,null,null,null,null,null,null,null,null,null,null,null,null,null,null,null,null,null,null,null,null,null,null,null,null,null,null,null,null,null,null,null,null,null,null,null,null,"No","",0,null,0,null,0,0,null,0]
[null,null,null,null,null,null,null,null,null,null,null,null,null,null,null,null,null,null,null,null,null,null,null,null,null,null,null,null,null,null,null,null,null,null,null,null,null,null,"No","",0,null,0,null,0,0,null,0]
[null,null,null,null,null,null,null,null,null,null,null,null,null,null,null,null,null,null,null,null,null,null,null,null,null,null,null,null,null,null,null,null,null,null,null,null,null,null,"No","",0,null,0,null,0,0,null,0]
[null,null,null,null,null,null,null,null,null,null,null,null,null,null,null,null,null,null,null,null,null,null,null,null,null,null,null,null,null,null,null,null,null,null,null,null,null,null,"No","",0,null,0,null,0,0,null,0]
[null,null,null,null,null,null,null,null,null,null,null,null,null,null,null,null,null,null,null,null,null,null,null,null,null,null,null,null,null,null,null,null,null,null,null,null,null,null,"No","",0,null,0,null,0,0,null,0]
[null,null,null,null,null,null,null,null,null,null,null,null,null,null,null,null,null,null,null,null,null,null,null,null,null,null,null,null,null,null,null,null,null,null,null,null,null,null,"No","",0,null,0,null,0,0,null,0]
[null,null,null,null,null,null,null,null,null,null,null,null,null,null,null,null,null,null,null,null,null,null,null,null,null,null,null,null,null,null,null,null,null,null,null,null,null,null,"No","",0,null,0,null,0,0,null,0]
[null,null,null,null,null,null,null,null,null,null,null,null,null,null,null,null,null,null,null,null,null,null,null,null,null,null,null,null,null,null,null,null,null,null,null,null,null,null,"No","",0,null,0,null,0,0,null,0]
[null,null,null,null,null,null,null,null,null,null,null,null,null,null,null,null,null,null,null,null,null,null,null,null,null,null,null,null,null,null,null,null,null,null,null,null,null,null,"No","",0,null,0,null,0,0,null,0]
[null,null,null,null,null,null,null,null,null,null,null,null,null,null,null,null,null,null,null,null,null,null,null,null,null,null,null,null,null,null,null,null,null,null,null,null,null,null,"No","",0,null,0,null,0,0,null,0]
[null,null,null,null,null,null,null,null,null,null,null,null,null,null,null,null,null,null,null,null,null,null,null,null,null,null,null,null,null,null,null,null,null,null,null,null,null,null,"No","",0,null,0,null,0,0,null,0]
[null,null,null,null,null,null,null,null,null,null,null,null,null,null,null,null,null,null,null,null,null,null,null,null,null,null,null,null,null,null,null,null,null,null,null,null,null,null,"No","",0,null,0,null,0,0,null,0]
[null,null,null,null,null,null,null,null,null,null,null,null,null,null,null,null,null,null,null,null,null,null,null,null,null,null,null,null,null,null,null,null,null,null,null,null,null,null,"No","",0,null,0,null,0,0,null,0]
[null,null,null,null,null,null,null,null,null,null,null,null,null,null,null,null,null,null,null,null,null,null,null,null,null,null,null,null,null,null,null,null,null,null,null,null,null,null,"No","",0,null,0,null,0,0,null,0]
[null,null,null,null,null,null,null,null,null,null,null,null,null,null,null,null,null,null,null,null,null,null,null,null,null,null,null,null,null,null,null,null,null,null,null,null,null,null,"No","",0,null,0,null,0,0,null,0]
[null,null,null,null,null,null,null,null,null,null,null,null,null,null,null,null,null,null,null,null,null,null,null,null,null,null,null,null,null,null,null,null,null,null,null,null,null,null,"No","",0,null,0,null,0,0,null,0]
[null,null,null,null,null,null,null,null,null,null,null,null,null,null,null,null,null,null,null,null,null,null,null,null,null,null,null,null,null,null,null,null,null,null,null,null,null,null,"No","",0,null,0,null,0,0,null,0]
[null,null,null,null,null,null,null,null,null,null,null,null,null,null,null,null,null,null,null,null,null,null,null,null,null,null,null,null,null,null,null,null,null,null,null,null,null,null,"No","",0,null,0,null,0,0,null,0]
[null,null,null,null,null,null,null,null,null,null,null,null,null,null,null,null,null,null,null,null,null,null,null,null,null,null,null,null,null,null,null,null,null,null,null,null,null,null,"No","",0,null,0,null,0,0,null,0]
[null,null,null,null,null,null,null,null,null,null,null,null,null,null,null,null,null,null,null,null,null,null,null,null,null,null,null,null,null,null,null,null,null,null,null,null,null,null,"No","",0,null,0,null,0,0,null,0]
[null,null,null,null,null,null,null,null,null,null,null,null,null,null,null,null,null,null,null,null,null,null,null,null,null,null,null,null,null,null,null,null,null,null,null,null,null,null,"No","",0,null,0,null,0,0,null,0]
[null,null,null,null,null,null,null,null,null,null,null,null,null,null,null,null,null,null,null,null,null,null,null,null,null,null,null,null,null,null,null,null,null,null,null,null,null,null,"No","",0,null,0,null,0,0,null,0]
[null,null,null,null,null,null,null,null,null,null,null,null,null,null,null,null,null,null,null,null,null,null,null,null,null,null,null,null,null,null,null,null,null,null,null,null,null,null,"No","",0,null,0,null,0,0,null,0]
[null,null,null,null,null,null,null,null,null,null,null,null,null,null,null,null,null,null,null,null,null,null,null,null,null,null,null,null,null,null,null,null,null,null,null,null,null,null,"No","",0,null,0,null,0,0,null,0]
[null,null,null,null,null,null,null,null,null,null,null,null,null,null,null,null,null,null,null,null,null,null,null,null,null,null,null,null,null,null,null,null,null,null,null,null,null,null,"No","",0,null,0,null,0,0,null,0]
[null,null,null,null,null,null,null,null,null,null,null,null,null,null,null,null,null,null,null,null,null,null,null,null,null,null,null,null,null,null,null,null,null,null,null,null,null,null,"No","",0,null,0,null,0,0,null,0]
[null,null,null,null,null,null,null,null,null,null,null,null,null,null,null,null,null,null,null,null,null,null,null,null,null,null,null,null,null,null,null,null,null,null,null,null,null,null,"No","",0,null,0,null,0,0,null,0]
[null,null,null,null,null,null,null,null,null,null,null,null,null,null,null,null,null,null,null,null,null,null,null,null,null,null,null,null,null,null,null,null,null,null,null,null,null,null,"No","",0,null,0,null,0,0,null,0]
[null,null,null,null,null,null,null,null,null,null,null,null,null,null,null,null,null,null,null,null,null,null,null,null,null,null,null,null,null,null,null,null,null,null,null,null,null,null,"No","",0,null,0,null,0,0,null,0]
[null,null,null,null,null,null,null,null,null,null,null,null,null,null,null,null,null,null,null,null,null,null,null,null,null,null,null,null,null,null,null,null,null,null,null,null,null,null,"No","",0,null,0,null,0,0,null,0]
[null,null,null,null,null,null,null,null,null,null,null,null,null,null,null,null,null,null,null,null,null,null,null,null,null,null,null,null,null,null,null,null,null,null,null,null,null,null,"No","",0,null,0,null,0,0,null,0]
[null,null,null,null,null,null,null,null,null,null,null,null,null,null,null,null,null,null,null,null,null,null,null,null,null,null,null,null,null,null,null,null,null,null,null,null,null,null,"No","",0,null,0,null,0,0,null,0]
[null,null,null,null,null,null,null,null,null,null,null,null,null,null,null,null,null,null,null,null,null,null,null,null,null,null,null,null,null,null,null,null,null,null,null,null,null,null,"No","",0,null,0,null,0,0,null,0]
[null,null,null,null,null,null,null,null,null,null,null,null,null,null,null,null,null,null,null,null,null,null,null,null,null,null,null,null,null,null,null,null,null,null,null,null,null,null,"No","",0,null,0,null,0,0,null,0]
[null,null,null,null,null,null,null,null,null,null,null,null,null,null,null,null,null,null,null,null,null,null,null,null,null,null,null,null,null,null,null,null,null,null,null,null,null,null,"No","",0,null,0,null,0,0,null,0]
[null,null,null,null,null,null,null,null,null,null,null,null,null,null,null,null,null,null,null,null,null,null,null,null,null,null,null,null,null,null,null,null,null,null,null,null,null,null,"No","",0,null,0,null,0,0,null,0]
[null,null,null,null,null,null,null,null,null,null,null,null,null,null,null,null,null,null,null,null,null,null,null,null,null,null,null,null,null,null,null,null,null,null,null,null,null,null,"No","",0,null,0,null,0,0,null,0]
[null,null,null,null,null,null,null,null,null,null,null,null,null,null,null,null,null,null,null,null,null,null,null,null,null,null,null,null,null,null,null,null,null,null,null,null,null,null,"No","",0,null,0,null,0,0,null,0]
[null,null,null,null,null,null,null,null,null,null,null,null,null,null,null,null,null,null,null,null,null,null,null,null,null,null,null,null,null,null,null,null,null,null,null,null,null,null,"No","",0,null,0,null,0,0,null,0]
[null,null,null,null,null,null,null,null,null,null,null,null,null,null,null,null,null,null,null,null,null,null,null,null,null,null,null,null,null,null,null,null,null,null,null,null,null,null,"No","",0,null,0,null,0,0,null,0]
[null,null,null,null,null,null,null,null,null,null,null,null,null,null,null,null,null,null,null,null,null,null,null,null,null,null,null,null,null,null,null,null,null,null,null,null,null,null,"No","",0,null,0,null,0,0,null,0]
[null,null,null,null,null,null,null,null,null,null,null,null,null,null,null,null,null,null,null,null,null,null,null,null,null,null,null,null,null,null,null,null,null,null,null,null,null,null,"No","",0,null,0,null,0,0,null,0]
[null,null,null,null,null,null,null,null,null,null,null,null,null,null,null,null,null,null,null,null,null,null,null,null,null,null,null,null,null,null,null,null,null,null,null,null,null,null,"No","",0,null,0,null,0,0,null,0]
[null,null,null,null,null,null,null,null,null,null,null,null,null,null,null,null,null,null,null,null,null,null,null,null,null,null,null,null,null,null,null,null,null,null,null,null,null,null,"No","",0,null,0,null,0,0,null,0]
[null,null,null,null,null,null,null,null,null,null,null,null,null,null,null,null,null,null,null,null,null,null,null,null,null,null,null,null,null,null,null,null,null,null,null,null,null,null,"No","",0,null,0,null,0,0,null,0]
[null,null,null,null,null,null,null,null,null,null,null,null,null,null,null,null,null,null,null,null,null,null,null,null,null,null,null,null,null,null,null,null,null,null,null,null,null,null,"No","",0,null,0,null,0,0,null,0]
[null,null,null,null,null,null,null,null,null,null,null,null,null,null,null,null,null,null,null,null,null,null,null,null,null,null,null,null,null,null,null,null,null,null,null,null,null,null,"No","",0,null,0,null,0,0,null,0]
[null,null,null,null,null,null,null,null,null,null,null,null,null,null,null,null,null,null,null,null,null,null,null,null,null,null,null,null,null,null,null,null,null,null,null,null,null,null,"No","",0,null,0,null,0,0,null,0]
[null,null,null,null,null,null,null,null,null,null,null,null,null,null,null,null,null,null,null,null,null,null,null,null,null,null,null,null,null,null,null,null,null,null,null,null,null,null,"No","",0,null,0,null,0,0,null,0]
[null,null,null,null,null,null,null,null,null,null,null,null,null,null,null,null,null,null,null,null,null,null,null,null,null,null,null,null,null,null,null,null,null,null,null,null,null,null,"No","",0,null,0,null,0,0,null,0]
[null,null,null,null,null,null,null,null,null,null,null,null,null,null,null,null,null,null,null,null,null,null,null,null,null,null,null,null,null,null,null,null,null,null,null,null,null,null,"No","",0,null,0,null,0,0,null,0]
[null,null,null,null,null,null,null,null,null,null,null,null,null,null,null,null,null,null,null,null,null,null,null,null,null,null,null,null,null,null,null,null,null,null,null,null,null,null,{"$f":"IF(OR(L928=\"5 Min ORBO\",L928=\"5 Min ORBD\",L928=\"15 Min ORBO\",L928=\"15 Min ORBD\",L928=\"MA-X-L\",L928=\"MA-X-S\",L928=\"FOMO\",L928=\"Revenge\",L928=\"Hot Key Mistake\",L928=\"VWAP Reversal Long\",L928=\"VWAP Reversal Short\",L928=\"VWAP False Breakout Long\",L928=\"VWAP False Breakout Short\",L928=\"S&R Long\",L928=\"S&R Short\",L928=\"Moving Average Long\",L928=\"Moving Average Short\",L928=\"Bearish Engulfing Crack\",L928=\"Top Reversal\",L928=\"ABCD\"),\"Yes\", \"No\")","v":"No"},"",0,null,0,null,0,0,null,0]
[null,null,null,null,null,null,null,null,null,null,null,null,null,null,null,null,null,null,null,null,null,null,null,null,null,null,null,null,null,null,null,null,null,null,null,null,null,null,"No","",0,null,0,null,0,0,null,0]
[null,null,null,null,null,null,null,null,null,null,null,null,null,null,null,null,null,null,null,null,null,null,null,null,null,null,null,null,null,null,null,null,null,null,null,null,null,null,"No","",0,null,0,null,0,0,null,0]
[null,null,null,null,null,null,null,null,null,null,null,null,null,null,null,null,null,null,null,null,null,null,null,null,null,null,null,null,null,null,null,null,null,null,null,null,null,null,"No","",0,null,0,null,0,0,null,0]
[null,null,null,null,null,null,null,null,null,null,null,null,null,null,null,null,null,null,null,null,null,null,null,null,null,null,null,null,null,null,null,null,null,null,null,null,null,null,"No","",0,null,0,null,0,0,null,0]
[null,null,null,null,null,null,null,null,null,null,null,null,null,null,null,null,null,null,null,null,null,null,null,null,null,null,null,null,null,null,null,null,null,null,null,null,null,null,"No","",0,null,0,null,0,0,null,0]
[null,null,null,null,null,null,null,null,null,null,null,null,null,null,null,null,null,null,null,null,null,null,null,null,null,null,null,null,null,null,null,null,null,null,null,null,null,null,"No","",0,null,0,null,0,0,null,0]
[null,null,null,null,null,null,null,null,null,null,null,null,null,null,null,null,null,null,null,null,null,null,null,null,null,null,null,null,null,null,null,null,null,null,null,null,null,null,"No","",0,null,0,null,0,0,null,0]
[null,null,null,null,null,null,null,null,null,null,null,null,null,null,null,null,null,null,null,null,null,null,null,null,null,null,null,null,null,null,null,null,null,null,null,null,null,null,"No","",0,null,0,null,0,0,null,0]
[null,null,null,null,null,null,null,null,null,null,null,null,null,null,null,null,null,null,null,null,null,null,null,null,null,null,null,null,null,null,null,null,null,null,null,null,null,null,"No","",0,null,0,null,0,0,null,0]
[null,null,null,null,null,null,null,null,null,null,null,null,null,null,null,null,null,null,null,null,null,null,null,null,null,null,null,null,null,null,null,null,null,null,null,null,null,null,"No","",0,null,0,null,0,0,null,0]
[null,null,null,null,null,null,null,null,null,null,null,null,null,null,null,null,null,null,null,null,null,null,null,null,null,null,null,null,null,null,null,null,null,null,null,null,null,null,"No",{"$f":"IF(AM939=\"Yes\", F939,\"\")","v":""},{"$f":"N939","v":0},null,{"$f":"N939-Q939","v":0},null,{"$f":"T939","v":0},{"$f":"N939","v":0},null,{"$f":"L939","v":0}]
[null,null,null,null,null,null,null,null,null,null,null,null,null,null,null,null,null,null,null,null,null,null,null,null,null,null,null,null,null,null,null,null,null,null,null,null,null,null,"No","",0,null,0,null,0,0,null,0]
[null,null,null,null,null,null,null,null,null,null,null,null,null,null,null,null,null,null,null,null,null,null,null,null,null,null,null,null,null,null,null,null,null,null,null,null,null,null,"No","",0,null,0,null,0,0,null,0]
[null,null,null,null,null,null,null,null,null,null,null,null,null,null,null,null,null,null,null,null,null,null,null,null,null,null,null,null,null,null,null,null,null,null,null,null,null,null,"No","",0,null,0,null,0,0,null,0]
[null,null,null,null,null,null,null,null,null,null,null,null,null,null,null,null,null,null,null,null,null,null,null,null,null,null,null,null,null,null,null,null,null,null,null,null,null,null,"No","",0,null,0,null,0,0,null,0]
[null,null,null,null,null,null,null,null,null,null,null,null,null,null,null,null,null,null,null,null,null,null,null,null,null,null,null,null,null,null,null,null,null,null,null,null,null,null,"No","",0,null,0,null,0,0,null,0]
[null,null,null,null,null,null,null,null,null,null,null,null,null,null,null,null,null,null,null,null,null,null,null,null,null,null,null,null,null,null,null,null,null,null,null,null,null,null,"No","",0,null,0,null,0,0,null,0]
[null,null,null,null,null,null,null,null,null,null,null,null,null,null,null,null,null,null,null,null,null,null,null,null,null,null,null,null,null,null,null,null,null,null,null,null,null,null,"No","",0,null,0,null,0,0,null,0]
[null,null,null,null,null,null,null,null,null,null,null,null,null,null,null,null,null,null,null,null,null,null,null,null,null,null,null,null,null,null,null,null,null,null,null,null,null,null,"No","",0,null,0,null,0,0,null,0]
[null,null,null,null,null,null,null,null,null,null,null,null,null,null,null,null,null,null,null,null,null,null,null,null,null,null,null,null,null,null,null,null,null,null,null,null,null,null,"No","",0,null,0,null,0,0,null,0]
[null,null,null,null,null,null,null,null,null,null,null,null,null,null,null,null,null,null,null,null,null,null,null,null,null,null,null,null,null,null,null,null,null,null,null,null,null,null,"No","",0,null,0,null,0,0,null,0]
[null,null,null,null,null,null,null,null,null,null,null,null,null,null,null,null,null,null,null,null,null,null,null,null,null,null,null,null,null,null,null,null,null,null,null,null,null,null,"No","",0,null,0,null,0,0,null,0]
[null,null,null,null,null,null,null,null,null,null,null,null,null,null,null,null,null,null,null,null,null,null,null,null,null,null,null,null,null,null,null,null,null,null,null,null,null,null,"No","",0,null,0,null,0,0,null,0]
[null,null,null,null,null,null,null,null,null,null,null,null,null,null,null,null,null,null,null,null,null,null,null,null,null,null,null,null,null,null,null,null,null,null,null,null,null,null,"No","",0,null,0,null,0,0,null,0]
[null,null,null,null,null,null,null,null,null,null,null,null,null,null,null,null,null,null,null,null,null,null,null,null,null,null,null,null,null,null,null,null,null,null,null,null,null,null,"No","",0,null,0,null,0,0,null,0]
[null,null,null,null,null,null,null,null,null,null,null,null,null,null,null,null,null,null,null,null,null,null,null,null,null,null,null,null,null,null,null,null,null,null,null,null,null,null,"No","",0,null,0,null,0,0,null,0]
[null,null,null,null,null,null,null,null,null,null,null,null,null,null,null,null,null,null,null,null,null,null,null,null,null,null,null,null,null,null,null,null,null,null,null,null,null,null,"No","",0,null,0,null,0,0,null,0]
[null,null,null,null,null,null,null,null,null,null,null,null,null,null,null,null,null,null,null,null,null,null,null,null,null,null,null,null,null,null,null,null,null,null,null,null,null,null,"No","",0,null,0,null,0,0,null,0]
[null,null,null,null,null,null,null,null,null,null,null,null,null,null,null,null,null,null,null,null,null,null,null,null,null,null,null,null,null,null,null,null,null,null,null,null,null,null,"No","",0,null,0,null,0,0,null,0]
[null,null,null,null,null,null,null,null,null,null,null,null,null,null,null,null,null,null,null,null,null,null,null,null,null,null,null,null,null,null,null,null,null,null,null,null,null,null,"No","",0,null,0,null,0,0,null,0]
[null,null,null,null,null,null,null,null,null,null,null,null,null,null,null,null,null,null,null,null,null,null,null,null,null,null,null,null,null,null,null,null,null,null,null,null,null,null,"No","",0,null,0,null,0,0,null,0]
[null,null,null,null,null,null,null,null,null,null,null,null,null,null,null,null,null,null,null,null,null,null,null,null,null,null,null,null,null,null,null,null,null,null,null,null,null,null,"No","",0,null,0,null,0,0,null,0]
[null,null,null,null,null,null,null,null,null,null,null,null,null,null,null,null,null,null,null,null,null,null,null,null,null,null,null,null,null,null,null,null,null,null,null,null,null,null,"No","",0,null,0,null,0,0,null,0]
[null,null,null,null,null,null,null,null,null,null,null,null,null,null,null,null,null,null,null,null,null,null,null,null,null,null,null,null,null,null,null,null,null,null,null,null,null,null,"No","",0,null,0,null,0,0,null,0]
[null,null,null,null,null,null,null,null,null,null,null,null,null,null,null,null,null,null,null,null,null,null,null,null,null,null,null,null,null,null,null,null,null,null,null,null,null,null,"No","",0,null,0,null,0,0,null,0]
[null,null,null,null,null,null,null,null,null,null,null,null,null,null,null,null,null,null,null,null,null,null,null,null,null,null,null,null,null,null,null,null,null,null,null,null,null,null,"No","",0,null,0,null,0,0,null,0]
[null,null,null,null,null,null,null,null,null,null,null,null,null,null,null,null,null,null,null,null,null,null,null,null,null,null,null,null,null,null,null,null,null,null,null,null,null,null,"No","",0,null,0,null,0,0,null,0]
[null,null,null,null,null,null,null,null,null,null,null,null,null,null,null,null,null,null,null,null,null,null,null,null,null,null,null,null,null,null,null,null,null,null,null,null,null,null,"No","",0,null,0,null,0,0,null,0]
[null,null,null,null,null,null,null,null,null,null,null,null,null,null,null,null,null,null,null,null,null,null,null,null,null,null,null,null,null,null,null,null,null,null,null,null,null,null,"No","",0,null,0,null,0,0,null,0]
[null,null,null,null,null,null,null,null,null,null,null,null,null,null,null,null,null,null,null,null,null,null,null,null,null,null,null,null,null,null,null,null,null,null,null,null,null,null,"No","",0,null,0,null,0,0,null,0]
[null,null,null,null,null,null,null,null,null,null,null,null,null,null,null,null,null,null,null,null,null,null,null,null,null,null,null,null,null,null,null,null,null,null,null,null,null,null,"No","",0,null,0,null,0,0,null,0]
[null,null,null,null,null,null,null,null,null,null,null,null,null,null,null,null,null,null,null,null,null,null,null,null,null,null,null,null,null,null,null,null,null,null,null,null,null,null,"No","",0,null,0,null,0,0,null,0]
[null,null,null,null,null,null,null,null,null,null,null,null,null,null,null,null,null,null,null,null,null,null,null,null,null,null,null,null,null,null,null,null,null,null,null,null,null,null,"No","",0,null,0,null,0,0,null,0]
[null,null,null,null,null,null,null,null,null,null,null,null,null,null,null,null,null,null,null,null,null,null,null,null,null,null,null,null,null,null,null,null,null,null,null,null,null,null,"No","",0,null,0,null,0,0,null,0]
[null,null,null,null,null,null,null,null,null,null,null,null,null,null,null,null,null,null,null,null,null,null,null,null,null,null,null,null,null,null,null,null,null,null,null,null,null,null,"No","",0,null,0,null,0,0,null,0]
[null,null,null,null,null,null,null,null,null,null,null,null,null,null,null,null,null,null,null,null,null,null,null,null,null,null,null,null,null,null,null,null,null,null,null,null,null,null,"No","",0,null,0,null,0,0,null,0]
[null,null,null,null,null,null,null,null,null,null,null,null,null,null,null,null,null,null,null,null,null,null,null,null,null,null,null,null,null,null,null,null,null,null,null,null,null,null,"No","",0,null,0,null,0,0,null,0]
[null,null,null,null,null,null,null,null,null,null,null,null,null,null,null,null,null,null,null,null,null,null,null,null,null,null,null,null,null,null,null,null,null,null,null,null,null,null,"No","",0,null,0,null,0,0,null,0]
[null,null,null,null,null,null,null,null,null,null,null,null,null,null,null,null,null,null,null,null,null,null,null,null,null,null,null,null,null,null,null,null,null,null,null,null,null,null,"No","",0,null,0,null,0,0,null,0]
[null,null,null,null,null,null,null,null,null,null,null,null,null,null,null,null,null,null,null,null,null,null,null,null,null,null,null,null,null,null,null,null,null,null,null,null,null,null,"No","",0,null,0,null,0,0,null,0]
[null,null,null,null,null,null,null,null,null,null,null,null,null,null,null,null,null,null,null,null,null,null,null,null,null,null,null,null,null,null,null,null,null,null,null,null,null,null,"No","",0,null,0,null,0,0,null,0]
[null,null,null,null,null,null,null,null,null,null,null,null,null,null,null,null,null,null,null,null,null,null,null,null,null,null,null,null,null,null,null,null,null,null,null,null,null,null,"No","",0,null,0,null,0,0,null,0]
[null,null,null,null,null,null,null,null,null,null,null,null,null,null,null,null,null,null,null,null,null,null,null,null,null,null,null,null,null,null,null,null,null,null,null,null,null,null,"No","",0,null,0,null,0,0,null,0]
[null,null,null,null,null,null,null,null,null,null,null,null,null,null,null,null,null,null,null,null,null,null,null,null,null,null,null,null,null,null,null,null,null,null,null,null,null,null,"No","",0,null,0,null,0,0,null,0]
[null,null,null,null,null,null,null,null,null,null,null,null,null,null,null,null,null,null,null,null,null,null,null,null,null,null,null,null,null,null,null,null,null,null,null,null,null,null,"No","",0,null,0,null,0,0,null,0]
[null,null,null,null,null,null,null,null,null,null,null,null,null,null,null,null,null,null,null,null,null,null,null,null,null,null,null,null,null,null,null,null,null,null,null,null,null,null,"No","",0,null,0,null,0,0,null,0]
[null,null,null,null,null,null,null,null,null,null,null,null,null,null,null,null,null,null,null,null,null,null,null,null,null,null,null,null,null,null,null,null,null,null,null,null,null,null,"No","",0,null,0,null,0,0,null,0]
[null,null,null,null,null,null,null,null,null,null,null,null,null,null,null,null,null,null,null,null,null,null,null,null,null,null,null,null,null,null,null,null,null,null,null,null,null,null,"No","",0,null,0,null,0,0,null,0]
[null,null,null,null,null,null,null,null,null,null,null,null,null,null,null,null,null,null,null,null,null,null,null,null,null,null,null,null,null,null,null,null,null,null,null,null,null,null,"No","",0,null,0,null,0,0,null,0]
[null,null,null,null,null,null,null,null,null,null,null,null,null,null,null,null,null,null,null,null,null,null,null,null,null,null,null,null,null,null,null,null,null,null,null,null,null,null,"No","",0,null,0,null,0,0,null,0]
[null,null,null,null,null,null,null,null,null,null,null,null,null,null,null,null,null,null,null,null,null,null,null,null,null,null,null,null,null,null,null,null,null,null,null,null,null,null,"No","",0,null,0,null,0,0,null,0]
[null,null,null,null,null,null,null,null,null,null,null,null,null,null,null,null,null,null,null,null,null,null,null,null,null,null,null,null,null,null,null,null,null,null,null,null,null,null,"No","",0,null,0,null,0,0,null,0]
[null,null,null,null,null,null,null,null,null,null,null,null,null,null,null,null,null,null,null,null,null,null,null,null,null,null,null,null,null,null,null,null,null,null,null,null,null,null,"No","",0,null,0,null,0,0,null,0]
[null,null,null,null,null,null,null,null,null,null,null,null,null,null,null,null,null,null,null,null,null,null,null,null,null,null,null,null,null,null,null,null,null,null,null,null,null,null,{"$f":"IF(OR(L992=\"5 Min ORBO\",L992=\"5 Min ORBD\",L992=\"15 Min ORBO\",L992=\"15 Min ORBD\",L992=\"MA-X-L\",L992=\"MA-X-S\",L992=\"FOMO\",L992=\"Revenge\",L992=\"Hot Key Mistake\",L992=\"VWAP Reversal Long\",L992=\"VWAP Reversal Short\",L992=\"VWAP False Breakout Long\",L992=\"VWAP False Breakout Short\",L992=\"S&R Long\",L992=\"S&R Short\",L992=\"Moving Average Long\",L992=\"Moving Average Short\",L992=\"Bearish Engulfing Crack\",L992=\"Top Reversal\",L992=\"ABCD\"),\"Yes\", \"No\")","v":"No"},"",0,null,0,null,0,0,null,0]
[null,null,null,null,null,null,null,null,null,null,null,null,null,null,null,null,null,null,null,null,null,null,null,null,null,null,null,null,null,null,null,null,null,null,null,null,null,null,"No","",0,null,0,null,0,0,null,0]
[null,null,null,null,null,null,null,null,null,null,null,null,null,null,null,null,null,null,null,null,null,null,null,null,null,null,null,null,null,null,null,null,null,null,null,null,null,null,"No","",0,null,0,null,0,0,null,0]
[null,null,null,null,null,null,null,null,null,null,null,null,null,null,null,null,null,null,null,null,null,null,null,null,null,null,null,null,null,null,null,null,null,null,null,null,null,null,"No","",0,null,0,null,0,0,null,0]
[null,null,null,null,null,null,null,null,null,null,null,null,null,null,null,null,null,null,null,null,null,null,null,null,null,null,null,null,null,null,null,null,null,null,null,null,null,null,"No","",0,null,0,null,0,0,null,0]
[null,null,null,null,null,null,null,null,null,null,null,null,null,null,null,null,null,null,null,null,null,null,null,null,null,null,null,null,null,null,null,null,null,null,null,null,null,null,"No","",0,null,0,null,0,0,null,0]
[null,null,null,null,null,null,null,null,null,null,null,null,null,null,null,null,null,null,null,null,null,null,null,null,null,null,null,null,null,null,null,null,null,null,null,null,null,null,"No","",0,null,0,null,0,0,null,0]
[null,null,null,null,null,null,null,null,null,null,null,null,null,null,null,null,null,null,null,null,null,null,null,null,null,null,null,null,null,null,null,null,null,null,null,null,null,null,"No","",0,null,0,null,0,0,null,0]
[null,null,null,null,null,null,null,null,null,null,null,null,null,null,null,null,null,null,null,null,null,null,null,null,null,null,null,null,null,null,null,null,null,null,null,null,null,null,"No","",0,null,0,null,0,0,null,0]
[null,null,null,null,null,null,null,null,null,null,null,null,null,null,null,null,null,null,null,null,null,null,null,null,null,null,null,null,null,null,null,null,null,null,null,null,null,null,"No","",0,null,0,null,0,0,null,0]
[null,null,null,null,null,null,null,null,null,null,null,null,null,null,null,null,null,null,null,null,null,null,null,null,null,null,null,null,null,null,null,null,null,null,null,null,null,null,"No","",0,null,0,null,0,0,null,0]
[null,null,null,null,null,null,null,null,null,null,null,null,null,null,null,null,null,null,null,null,null,null,null,null,null,null,null,null,null,null,null,null,null,null,null,null,null,null,"No",{"$f":"IF(AM1003=\"Yes\", F1003,\"\")","v":""},{"$f":"N1003","v":0},null,{"$f":"N1003-Q1003","v":0},null,{"$f":"T1003","v":0},{"$f":"N1003","v":0},null,{"$f":"L1003","v":0}]
[null,null,null,null,null,null,null,null,null,null,null,null,null,null,null,null,null,null,null,null,null,null,null,null,null,null,null,null,null,null,null,null,null,null,null,null,null,null,"No","",0,null,0,null,0,0,null,0]
[null,null,null,null,null,null,null,null,null,null,null,null,null,null,null,null,null,null,null,null,null,null,null,null,null,null,null,null,null,null,null,null,null,null,null,null,null,null,"No","",0,null,0,null,0,0,null,0]
[null,null,null,null,null,null,null,null,null,null,null,null,null,null,null,null,null,null,null,null,null,null,null,null,null,null,null,null,null,null,null,null,null,null,null,null,null,null,"No","",0,null,0,null,0,0,null,0]
[null,null,null,null,null,null,null,null,null,null,null,null,null,null,null,null,null,null,null,null,null,null,null,null,null,null,null,null,null,null,null,null,null,null,null,null,null,null,"No","",0,null,0,null,0,0,null,0]
[null,null,null,null,null,null,null,null,null,null,null,null,null,null,null,null,null,null,null,null,null,null,null,null,null,null,null,null,null,null,null,null,null,null,null,null,null,null,"No","",0,null,0,null,0,0,null,0]
[null,null,null,null,null,null,null,null,null,null,null,null,null,null,null,null,null,null,null,null,null,null,null,null,null,null,null,null,null,null,null,null,null,null,null,null,null,null,"No","",0,null,0,null,0,0,null,0]
[null,null,null,null,null,null,null,null,null,null,null,null,null,null,null,null,null,null,null,null,null,null,null,null,null,null,null,null,null,null,null,null,null,null,null,null,null,null,"No","",0,null,0,null,0,0,null,0]
[null,null,null,null,null,null,null,null,null,null,null,null,null,null,null,null,null,null,null,null,null,null,null,null,null,null,null,null,null,null,null,null,null,null,null,null,null,null,"No","",0,null,0,null,0,0,null,0]
[null,null,null,null,null,null,null,null,null,null,null,null,null,null,null,null,null,null,null,null,null,null,null,null,null,null,null,null,null,null,null,null,null,null,null,null,null,null,"No","",0,null,0,null,0,0,null,0]
[null,null,null,null,null,null,null,null,null,null,null,null,null,null,null,null,null,null,null,null,null,null,null,null,null,null,null,null,null,null,null,null,null,null,null,null,null,null,"No","",0,null,0,null,0,0,null,0]
[null,null,null,null,null,null,null,null,null,null,null,null,null,null,null,null,null,null,null,null,null,null,null,null,null,null,null,null,null,null,null,null,null,null,null,null,null,null,"No","",0,null,0,null,0,0,null,0]
[null,null,null,null,null,null,null,null,null,null,null,null,null,null,null,null,null,null,null,null,null,null,null,null,null,null,null,null,null,null,null,null,null,null,null,null,null,null,"No","",0,null,0,null,0,0,null,0]
[null,null,null,null,null,null,null,null,null,null,null,null,null,null,null,null,null,null,null,null,null,null,null,null,null,null,null,null,null,null,null,null,null,null,null,null,null,null,"No","",0,null,0,null,0,0,null,0]
[null,null,null,null,null,null,null,null,null,null,null,null,null,null,null,null,null,null,null,null,null,null,null,null,null,null,null,null,null,null,null,null,null,null,null,null,null,null,"No","",0,null,0,null,0,0,null,0]
[null,null,null,null,null,null,null,null,null,null,null,null,null,null,null,null,null,null,null,null,null,null,null,null,null,null,null,null,null,null,null,null,null,null,null,null,null,null,"No","",0,null,0,null,0,0,null,0]
[null,null,null,null,null,null,null,null,null,null,null,null,null,null,null,null,null,null,null,null,null,null,null,null,null,null,null,null,null,null,null,null,null,null,null,null,null,null,"No","",0,null,0,null,0,0,null,0]
[null,null,null,null,null,null,null,null,null,null,null,null,null,null,null,null,null,null,null,null,null,null,null,null,null,null,null,null,null,null,null,null,null,null,null,null,null,null,"No","",0,null,0,null,0,0,null,0]
[null,null,null,null,null,null,null,null,null,null,null,null,null,null,null,null,null,null,null,null,null,null,null,null,null,null,null,null,null,null,null,null,null,null,null,null,null,null,"No","",0,null,0,null,0,0,null,0]
[null,null,null,null,null,null,null,null,null,null,null,null,null,null,null,null,null,null,null,null,null,null,null,null,null,null,null,null,null,null,null,null,null,null,null,null,null,null,"No","",0,null,0,null,0,0,null,0]
[null,null,null,null,null,null,null,null,null,null,null,null,null,null,null,null,null,null,null,null,null,null,null,null,null,null,null,null,null,null,null,null,null,null,null,null,null,null,"No","",0,null,0,null,0,0,null,0]
[null,null,null,null,null,null,null,null,null,null,null,null,null,null,null,null,null,null,null,null,null,null,null,null,null,null,null,null,null,null,null,null,null,null,null,null,null,null,"No","",0,null,0,null,0,0,null,0]
[null,null,null,null,null,null,null,null,null,null,null,null,null,null,null,null,null,null,null,null,null,null,null,null,null,null,null,null,null,null,null,null,null,null,null,null,null,null,"No","",0,null,0,null,0,0,null,0]
[null,null,null,null,null,null,null,null,null,null,null,null,null,null,null,null,null,null,null,null,null,null,null,null,null,null,null,null,null,null,null,null,null,null,null,null,null,null,"No","",0,null,0,null,0,0,null,0]
[null,null,null,null,null,null,null,null,null,null,null,null,null,null,null,null,null,null,null,null,null,null,null,null,null,null,null,null,null,null,null,null,null,null,null,null,null,null,"No","",0,null,0,null,0,0,null,0]
[null,null,null,null,null,null,null,null,null,null,null,null,null,null,null,null,null,null,null,null,null,null,null,null,null,null,null,null,null,null,null,null,null,null,null,null,null,null,"No","",0,null,0,null,0,0,null,0]
[null,null,null,null,null,null,null,null,null,null,null,null,null,null,null,null,null,null,null,null,null,null,null,null,null,null,null,null,null,null,null,null,null,null,null,null,null,null,"No","",0,null,0,null,0,0,null,0]
[null,null,null,null,null,null,null,null,null,null,null,null,null,null,null,null,null,null,null,null,null,null,null,null,null,null,null,null,null,null,null,null,null,null,null,null,null,null,"No","",0,null,0,null,0,0,null,0]
[null,null,null,null,null,null,null,null,null,null,null,null,null,null,null,null,null,null,null,null,null,null,null,null,null,null,null,null,null,null,null,null,null,null,null,null,null,null,"No","",0,null,0,null,0,0,null,0]
[null,null,null,null,null,null,null,null,null,null,null,null,null,null,null,null,null,null,null,null,null,null,null,null,null,null,null,null,null,null,null,null,null,null,null,null,null,null,"No","",0,null,0,null,0,0,null,0]
[null,null,null,null,null,null,null,null,null,null,null,null,null,null,null,null,null,null,null,null,null,null,null,null,null,null,null,null,null,null,null,null,null,null,null,null,null,null,"No","",0,null,0,null,0,0,null,0]
[null,null,null,null,null,null,null,null,null,null,null,null,null,null,null,null,null,null,null,null,null,null,null,null,null,null,null,null,null,null,null,null,null,null,null,null,null,null,"No","",0,null,0,null,0,0,null,0]
[null,null,null,null,null,null,null,null,null,null,null,null,null,null,null,null,null,null,null,null,null,null,null,null,null,null,null,null,null,null,null,null,null,null,null,null,null,null,"No","",0,null,0,null,0,0,null,0]
[null,null,null,null,null,null,null,null,null,null,null,null,null,null,null,null,null,null,null,null,null,null,null,null,null,null,null,null,null,null,null,null,null,null,null,null,null,null,"No","",0,null,0,null,0,0,null,0]
[null,null,null,null,null,null,null,null,null,null,null,null,null,null,null,null,null,null,null,null,null,null,null,null,null,null,null,null,null,null,null,null,null,null,null,null,null,null,"No","",0,null,0,null,0,0,null,0]
[null,null,null,null,null,null,null,null,null,null,null,null,null,null,null,null,null,null,null,null,null,null,null,null,null,null,null,null,null,null,null,null,null,null,null,null,null,null,"No","",0,null,0,null,0,0,null,0]
[null,null,null,null,null,null,null,null,null,null,null,null,null,null,null,null,null,null,null,null,null,null,null,null,null,null,null,null,null,null,null,null,null,null,null,null,null,null,"No","",0,null,0,null,0,0,null,0]
[null,null,null,null,null,null,null,null,null,null,null,null,null,null,null,null,null,null,null,null,null,null,null,null,null,null,null,null,null,null,null,null,null,null,null,null,null,null,"No","",0,null,0,null,0,0,null,0]
[null,null,null,null,null,null,null,null,null,null,null,null,null,null,null,null,null,null,null,null,null,null,null,null,null,null,null,null,null,null,null,null,null,null,null,null,null,null,"No","",0,null,0,null,0,0,null,0]
[null,null,null,null,null,null,null,null,null,null,null,null,null,null,null,null,null,null,null,null,null,null,null,null,null,null,null,null,null,null,null,null,null,null,null,null,null,null,"No","",0,null,0,null,0,0,null,0]
[null,null,null,null,null,null,null,null,null,null,null,null,null,null,null,null,null,null,null,null,null,null,null,null,null,null,null,null,null,null,null,null,null,null,null,null,null,null,"No","",0,null,0,null,0,0,null,0]
[null,null,null,null,null,null,null,null,null,null,null,null,null,null,null,null,null,null,null,null,null,null,null,null,null,null,null,null,null,null,null,null,null,null,null,null,null,null,"No","",0,null,0,null,0,0,null,0]
[null,null,null,null,null,null,null,null,null,null,null,null,null,null,null,null,null,null,null,null,null,null,null,null,null,null,null,null,null,null,null,null,null,null,null,null,null,null,"No","",0,null,0,null,0,0,null,0]
[null,null,null,null,null,null,null,null,null,null,null,null,null,null,null,null,null,null,null,null,null,null,null,null,null,null,null,null,null,null,null,null,null,null,null,null,null,null,"No","",0,null,0,null,0,0,null,0]
[null,null,null,null,null,null,null,null,null,null,null,null,null,null,null,null,null,null,null,null,null,null,null,null,null,null,null,null,null,null,null,null,null,null,null,null,null,null,"No","",0,null,0,null,0,0,null,0]
[null,null,null,null,null,null,null,null,null,null,null,null,null,null,null,null,null,null,null,null,null,null,null,null,null,null,null,null,null,null,null,null,null,null,null,null,null,null,"No","",0,null,0,null,0,0,null,0]
[null,null,null,null,null,null,null,null,null,null,null,null,null,null,null,null,null,null,null,null,null,null,null,null,null,null,null,null,null,null,null,null,null,null,null,null,null,null,"No","",0,null,0,null,0,0,null,0]
[null,null,null,null,null,null,null,null,null,null,null,null,null,null,null,null,null,null,null,null,null,null,null,null,null,null,null,null,null,null,null,null,null,null,null,null,null,null,"No","",0,null,0,null,0,0,null,0]
[null,null,null,null,null,null,null,null,null,null,null,null,null,null,null,null,null,null,null,null,null,null,null,null,null,null,null,null,null,null,null,null,null,null,null,null,null,null,"No","",0,null,0,null,0,0,null,0]
[null,null,null,null,null,null,null,null,null,null,null,null,null,null,null,null,null,null,null,null,null,null,null,null,null,null,null,null,null,null,null,null,null,null,null,null,null,null,"No","",0,null,0,null,0,0,null,0]
[null,null,null,null,null,null,null,null,null,null,null,null,null,null,null,null,null,null,null,null,null,null,null,null,null,null,null,null,null,null,null,null,null,null,null,null,null,null,"No","",0,null,0,null,0,0,null,0]
[null,null,null,null,null,null,null,null,null,null,null,null,null,null,null,null,null,null,null,null,null,null,null,null,null,null,null,null,null,null,null,null,null,null,null,null,null,null,"No","",0,null,0,null,0,0,null,0]
[null,null,null,null,null,null,null,null,null,null,null,null,null,null,null,null,null,null,null,null,null,null,null,null,null,null,null,null,null,null,null,null,null,null,null,null,null,null,"No","",0,null,0,null,0,0,null,0]
[null,null,null,null,null,null,null,null,null,null,null,null,null,null,null,null,null,null,null,null,null,null,null,null,null,null,null,null,null,null,null,null,null,null,null,null,null,null,{"$f":"IF(OR(L1056=\"5 Min ORBO\",L1056=\"5 Min ORBD\",L1056=\"15 Min ORBO\",L1056=\"15 Min ORBD\",L1056=\"MA-X-L\",L1056=\"MA-X-S\",L1056=\"FOMO\",L1056=\"Revenge\",L1056=\"Hot Key Mistake\",L1056=\"VWAP Reversal Long\",L1056=\"VWAP Reversal Short\",L1056=\"VWAP False Breakout Long\",L1056=\"VWAP False Breakout Short\",L1056=\"S&R Long\",L1056=\"S&R Short\",L1056=\"Moving Average Long\",L1056=\"Moving Average Short\",L1056=\"Bearish Engulfing Crack\",L1056=\"Top Reversal\",L1056=\"ABCD\"),\"Yes\", \"No\")","v":"No"},"",0,null,0,null,0,0,null,0]
[null,null,null,null,null,null,null,null,null,null,null,null,null,null,null,null,null,null,null,null,null,null,null,null,null,null,null,null,null,null,null,null,null,null,null,null,null,null,"No","",0,null,0,null,0,0,null,0]
[null,null,null,null,null,null,null,null,null,null,null,null,null,null,null,null,null,null,null,null,null,null,null,null,null,null,null,null,null,null,null,null,null,null,null,null,null,null,"No","",0,null,0,null,0,0,null,0]
[null,null,null,null,null,null,null,null,null,null,null,null,null,null,null,null,null,null,null,null,null,null,null,null,null,null,null,null,null,null,null,null,null,null,null,null,null,null,"No","",0,null,0,null,0,0,null,0]
[null,null,null,null,null,null,null,null,null,null,null,null,null,null,null,null,null,null,null,null,null,null,null,null,null,null,null,null,null,null,null,null,null,null,null,null,null,null,"No","",0,null,0,null,0,0,null,0]
[null,null,null,null,null,null,null,null,null,null,null,null,null,null,null,null,null,null,null,null,null,null,null,null,null,null,null,null,null,null,null,null,null,null,null,null,null,null,"No","",0,null,0,null,0,0,null,0]
[null,null,null,null,null,null,null,null,null,null,null,null,null,null,null,null,null,null,null,null,null,null,null,null,null,null,null,null,null,null,null,null,null,null,null,null,null,null,"No","",0,null,0,null,0,0,null,0]
[null,null,null,null,null,null,null,null,null,null,null,null,null,null,null,null,null,null,null,null,null,null,null,null,null,null,null,null,null,null,null,null,null,null,null,null,null,null,"No","",0,null,0,null,0,0,null,0]
[null,null,null,null,null,null,null,null,null,null,null,null,null,null,null,null,null,null,null,null,null,null,null,null,null,null,null,null,null,null,null,null,null,null,null,null,null,null,"No","",0,null,0,null,0,0,null,0]
[null,null,null,null,null,null,null,null,null,null,null,null,null,null,null,null,null,null,null,null,null,null,null,null,null,null,null,null,null,null,null,null,null,null,null,null,null,null,"No","",0,null,0,null,0,0,null,0]
[null,null,null,null,null,null,null,null,null,null,null,null,null,null,null,null,null,null,null,null,null,null,null,null,null,null,null,null,null,null,null,null,null,null,null,null,null,null,"No","",0,null,0,null,0,0,null,0]
[null,null,null,null,null,null,null,null,null,null,null,null,null,null,null,null,null,null,null,null,null,null,null,null,null,null,null,null,null,null,null,null,null,null,null,null,null,null,"No",{"$f":"IF(AM1067=\"Yes\", F1067,\"\")","v":""},{"$f":"N1067","v":0},null,{"$f":"N1067-Q1067","v":0},null,{"$f":"T1067","v":0},{"$f":"N1067","v":0},null,{"$f":"L1067","v":0}]
[null,null,null,null,null,null,null,null,null,null,null,null,null,null,null,null,null,null,null,null,null,null,null,null,null,null,null,null,null,null,null,null,null,null,null,null,null,null,"No","",0,null,0,null,0,0,null,0]
[null,null,null,null,null,null,null,null,null,null,null,null,null,null,null,null,null,null,null,null,null,null,null,null,null,null,null,null,null,null,null,null,null,null,null,null,null,null,"No","",0,null,0,null,0,0,null,0]
[null,null,null,null,null,null,null,null,null,null,null,null,null,null,null,null,null,null,null,null,null,null,null,null,null,null,null,null,null,null,null,null,null,null,null,null,null,null,"No","",0,null,0,null,0,0,null,0]
[null,null,null,null,null,null,null,null,null,null,null,null,null,null,null,null,null,null,null,null,null,null,null,null,null,null,null,null,null,null,null,null,null,null,null,null,null,null,"No","",0,null,0,null,0,0,null,0]
[null,null,null,null,null,null,null,null,null,null,null,null,null,null,null,null,null,null,null,null,null,null,null,null,null,null,null,null,null,null,null,null,null,null,null,null,null,null,"No","",0,null,0,null,0,0,null,0]
[null,null,null,null,null,null,null,null,null,null,null,null,null,null,null,null,null,null,null,null,null,null,null,null,null,null,null,null,null,null,null,null,null,null,null,null,null,null,"No","",0,null,0,null,0,0,null,0]
[null,null,null,null,null,null,null,null,null,null,null,null,null,null,null,null,null,null,null,null,null,null,null,null,null,null,null,null,null,null,null,null,null,null,null,null,null,null,"No","",0,null,0,null,0,0,null,0]
[null,null,null,null,null,null,null,null,null,null,null,null,null,null,null,null,null,null,null,null,null,null,null,null,null,null,null,null,null,null,null,null,null,null,null,null,null,null,"No","",0,null,0,null,0,0,null,0]
[null,null,null,null,null,null,null,null,null,null,null,null,null,null,null,null,null,null,null,null,null,null,null,null,null,null,null,null,null,null,null,null,null,null,null,null,null,null,"No","",0,null,0,null,0,0,null,0]
[null,null,null,null,null,null,null,null,null,null,null,null,null,null,null,null,null,null,null,null,null,null,null,null,null,null,null,null,null,null,null,null,null,null,null,null,null,null,"No","",0,null,0,null,0,0,null,0]
[null,null,null,null,null,null,null,null,null,null,null,null,null,null,null,null,null,null,null,null,null,null,null,null,null,null,null,null,null,null,null,null,null,null,null,null,null,null,"No","",0,null,0,null,0,0,null,0]
[null,null,null,null,null,null,null,null,null,null,null,null,null,null,null,null,null,null,null,null,null,null,null,null,null,null,null,null,null,null,null,null,null,null,null,null,null,null,"No","",0,null,0,null,0,0,null,0]
[null,null,null,null,null,null,null,null,null,null,null,null,null,null,null,null,null,null,null,null,null,null,null,null,null,null,null,null,null,null,null,null,null,null,null,null,null,null,"No","",0,null,0,null,0,0,null,0]
[null,null,null,null,null,null,null,null,null,null,null,null,null,null,null,null,null,null,null,null,null,null,null,null,null,null,null,null,null,null,null,null,null,null,null,null,null,null,"No","",0,null,0,null,0,0,null,0]
[null,null,null,null,null,null,null,null,null,null,null,null,null,null,null,null,null,null,null,null,null,null,null,null,null,null,null,null,null,null,null,null,null,null,null,null,null,null,"No","",0,null,0,null,0,0,null,0]
[null,null,null,null,null,null,null,null,null,null,null,null,null,null,null,null,null,null,null,null,null,null,null,null,null,null,null,null,null,null,null,null,null,null,null,null,null,null,"No","",0,null,0,null,0,0,null,0]
[null,null,null,null,null,null,null,null,null,null,null,null,null,null,null,null,null,null,null,null,null,null,null,null,null,null,null,null,null,null,null,null,null,null,null,null,null,null,"No","",0,null,0,null,0,0,null,0]
[null,null,null,null,null,null,null,null,null,null,null,null,null,null,null,null,null,null,null,null,null,null,null,null,null,null,null,null,null,null,null,null,null,null,null,null,null,null,"No","",0,null,0,null,0,0,null,0]
[null,null,null,null,null,null,null,null,null,null,null,null,null,null,null,null,null,null,null,null,null,null,null,null,null,null,null,null,null,null,null,null,null,null,null,null,null,null,"No","",0,null,0,null,0,0,null,0]
[null,null,null,null,null,null,null,null,null,null,null,null,null,null,null,null,null,null,null,null,null,null,null,null,null,null,null,null,null,null,null,null,null,null,null,null,null,null,"No","",0,null,0,null,0,0,null,0]
[null,null,null,null,null,null,null,null,null,null,null,null,null,null,null,null,null,null,null,null,null,null,null,null,null,null,null,null,null,null,null,null,null,null,null,null,null,null,"No","",0,null,0,null,0,0,null,0]
[null,null,null,null,null,null,null,null,null,null,null,null,null,null,null,null,null,null,null,null,null,null,null,null,null,null,null,null,null,null,null,null,null,null,null,null,null,null,"No","",0,null,0,null,0,0,null,0]
[null,null,null,null,null,null,null,null,null,null,null,null,null,null,null,null,null,null,null,null,null,null,null,null,null,null,null,null,null,null,null,null,null,null,null,null,null,null,"No","",0,null,0,null,0,0,null,0]
[null,null,null,null,null,null,null,null,null,null,null,null,null,null,null,null,null,null,null,null,null,null,null,null,null,null,null,null,null,null,null,null,null,null,null,null,null,null,"No","",0,null,0,null,0,0,null,0]
[null,null,null,null,null,null,null,null,null,null,null,null,null,null,null,null,null,null,null,null,null,null,null,null,null,null,null,null,null,null,null,null,null,null,null,null,null,null,"No","",0,null,0,null,0,0,null,0]
[null,null,null,null,null,null,null,null,null,null,null,null,null,null,null,null,null,null,null,null,null,null,null,null,null,null,null,null,null,null,null,null,null,null,null,null,null,null,"No","",0,null,0,null,0,0,null,0]
[null,null,null,null,null,null,null,null,null,null,null,null,null,null,null,null,null,null,null,null,null,null,null,null,null,null,null,null,null,null,null,null,null,null,null,null,null,null,"No","",0,null,0,null,0,0,null,0]
[null,null,null,null,null,null,null,null,null,null,null,null,null,null,null,null,null,null,null,null,null,null,null,null,null,null,null,null,null,null,null,null,null,null,null,null,null,null,"No","",0,null,0,null,0,0,null,0]
[null,null,null,null,null,null,null,null,null,null,null,null,null,null,null,null,null,null,null,null,null,null,null,null,null,null,null,null,null,null,null,null,null,null,null,null,null,null,"No","",0,null,0,null,0,0,null,0]
[null,null,null,null,null,null,null,null,null,null,null,null,null,null,null,null,null,null,null,null,null,null,null,null,null,null,null,null,null,null,null,null,null,null,null,null,null,null,"No","",0,null,0,null,0,0,null,0]
[null,null,null,null,null,null,null,null,null,null,null,null,null,null,null,null,null,null,null,null,null,null,null,null,null,null,null,null,null,null,null,null,null,null,null,null,null,null,"No","",0,null,0,null,0,0,null,0]
[null,null,null,null,null,null,null,null,null,null,null,null,null,null,null,null,null,null,null,null,null,null,null,null,null,null,null,null,null,null,null,null,null,null,null,null,null,null,"No","",0,null,0,null,0,0,null,0]
[null,null,null,null,null,null,null,null,null,null,null,null,null,null,null,null,null,null,null,null,null,null,null,null,null,null,null,null,null,null,null,null,null,null,null,null,null,null,"No","",0,null,0,null,0,0,null,0]
[null,null,null,null,null,null,null,null,null,null,null,null,null,null,null,null,null,null,null,null,null,null,null,null,null,null,null,null,null,null,null,null,null,null,null,null,null,null,"No","",0,null,0,null,0,0,null,0]
[null,null,null,null,null,null,null,null,null,null,null,null,null,null,null,null,null,null,null,null,null,null,null,null,null,null,null,null,null,null,null,null,null,null,null,null,null,null,"No","",0,null,0,null,0,0,null,0]
[null,null,null,null,null,null,null,null,null,null,null,null,null,null,null,null,null,null,null,null,null,null,null,null,null,null,null,null,null,null,null,null,null,null,null,null,null,null,"No","",0,null,0,null,0,0,null,0]
[null,null,null,null,null,null,null,null,null,null,null,null,null,null,null,null,null,null,null,null,null,null,null,null,null,null,null,null,null,null,null,null,null,null,null,null,null,null,"No","",0,null,0,null,0,0,null,0]
[null,null,null,null,null,null,null,null,null,null,null,null,null,null,null,null,null,null,null,null,null,null,null,null,null,null,null,null,null,null,null,null,null,null,null,null,null,null,"No","",0,null,0,null,0,0,null,0]
[null,null,null,null,null,null,null,null,null,null,null,null,null,null,null,null,null,null,null,null,null,null,null,null,null,null,null,null,null,null,null,null,null,null,null,null,null,null,"No","",0,null,0,null,0,0,null,0]
[null,null,null,null,null,null,null,null,null,null,null,null,null,null,null,null,null,null,null,null,null,null,null,null,null,null,null,null,null,null,null,null,null,null,null,null,null,null,"No","",0,null,0,null,0,0,null,0]
[null,null,null,null,null,null,null,null,null,null,null,null,null,null,null,null,null,null,null,null,null,null,null,null,null,null,null,null,null,null,null,null,null,null,null,null,null,null,"No","",0,null,0,null,0,0,null,0]
[null,null,null,null,null,null,null,null,null,null,null,null,null,null,null,null,null,null,null,null,null,null,null,null,null,null,null,null,null,null,null,null,null,null,null,null,null,null,"No","",0,null,0,null,0,0,null,0]
[null,null,null,null,null,null,null,null,null,null,null,null,null,null,null,null,null,null,null,null,null,null,null,null,null,null,null,null,null,null,null,null,null,null,null,null,null,null,"No","",0,null,0,null,0,0,null,0]
[null,null,null,null,null,null,null,null,null,null,null,null,null,null,null,null,null,null,null,null,null,null,null,null,null,null,null,null,null,null,null,null,null,null,null,null,null,null,"No","",0,null,0,null,0,0,null,0]
[null,null,null,null,null,null,null,null,null,null,null,null,null,null,null,null,null,null,null,null,null,null,null,null,null,null,null,null,null,null,null,null,null,null,null,null,null,null,"No","",0,null,0,null,0,0,null,0]
[null,null,null,null,null,null,null,null,null,null,null,null,null,null,null,null,null,null,null,null,null,null,null,null,null,null,null,null,null,null,null,null,null,null,null,null,null,null,"No","",0,null,0,null,0,0,null,0]
[null,null,null,null,null,null,null,null,null,null,null,null,null,null,null,null,null,null,null,null,null,null,null,null,null,null,null,null,null,null,null,null,null,null,null,null,null,null,"No","",0,null,0,null,0,0,null,0]
[null,null,null,null,null,null,null,null,null,null,null,null,null,null,null,null,null,null,null,null,null,null,null,null,null,null,null,null,null,null,null,null,null,null,null,null,null,null,"No","",0,null,0,null,0,0,null,0]
[null,null,null,null,null,null,null,null,null,null,null,null,null,null,null,null,null,null,null,null,null,null,null,null,null,null,null,null,null,null,null,null,null,null,null,null,null,null,"No","",0,null,0,null,0,0,null,0]
[null,null,null,null,null,null,null,null,null,null,null,null,null,null,null,null,null,null,null,null,null,null,null,null,null,null,null,null,null,null,null,null,null,null,null,null,null,null,"No","",0,null,0,null,0,0,null,0]
[null,null,null,null,null,null,null,null,null,null,null,null,null,null,null,null,null,null,null,null,null,null,null,null,null,null,null,null,null,null,null,null,null,null,null,null,null,null,"No","",0,null,0,null,0,0,null,0]
[null,null,null,null,null,null,null,null,null,null,null,null,null,null,null,null,null,null,null,null,null,null,null,null,null,null,null,null,null,null,null,null,null,null,null,null,null,null,"No","",0,null,0,null,0,0,null,0]
[null,null,null,null,null,null,null,null,null,null,null,null,null,null,null,null,null,null,null,null,null,null,null,null,null,null,null,null,null,null,null,null,null,null,null,null,null,null,{"$f":"IF(OR(L1120=\"5 Min ORBO\",L1120=\"5 Min ORBD\",L1120=\"15 Min ORBO\",L1120=\"15 Min ORBD\",L1120=\"MA-X-L\",L1120=\"MA-X-S\",L1120=\"FOMO\",L1120=\"Revenge\",L1120=\"Hot Key Mistake\",L1120=\"VWAP Reversal Long\",L1120=\"VWAP Reversal Short\",L1120=\"VWAP False Breakout Long\",L1120=\"VWAP False Breakout Short\",L1120=\"S&R Long\",L1120=\"S&R Short\",L1120=\"Moving Average Long\",L1120=\"Moving Average Short\",L1120=\"Bearish Engulfing Crack\",L1120=\"Top Reversal\",L1120=\"ABCD\"),\"Yes\", \"No\")","v":"No"},"",0,null,0,null,0,0,null,0]
[null,null,null,null,null,null,null,null,null,null,null,null,null,null,null,null,null,null,null,null,null,null,null,null,null,null,null,null,null,null,null,null,null,null,null,null,null,null,"No","",0,null,0,null,0,0,null,0]
[null,null,null,null,null,null,null,null,null,null,null,null,null,null,null,null,null,null,null,null,null,null,null,null,null,null,null,null,null,null,null,null,null,null,null,null,null,null,"No","",0,null,0,null,0,0,null,0]
[null,null,null,null,null,null,null,null,null,null,null,null,null,null,null,null,null,null,null,null,null,null,null,null,null,null,null,null,null,null,null,null,null,null,null,null,null,null,"No","",0,null,0,null,0,0,null,0]
[null,null,null,null,null,null,null,null,null,null,null,null,null,null,null,null,null,null,null,null,null,null,null,null,null,null,null,null,null,null,null,null,null,null,null,null,null,null,"No","",0,null,0,null,0,0,null,0]
[null,null,null,null,null,null,null,null,null,null,null,null,null,null,null,null,null,null,null,null,null,null,null,null,null,null,null,null,null,null,null,null,null,null,null,null,null,null,"No","",0,null,0,null,0,0,null,0]
[null,null,null,null,null,null,null,null,null,null,null,null,null,null,null,null,null,null,null,null,null,null,null,null,null,null,null,null,null,null,null,null,null,null,null,null,null,null,"No","",0,null,0,null,0,0,null,0]
[null,null,null,null,null,null,null,null,null,null,null,null,null,null,null,null,null,null,null,null,null,null,null,null,null,null,null,null,null,null,null,null,null,null,null,null,null,null,"No","",0,null,0,null,0,0,null,0]
[null,null,null,null,null,null,null,null,null,null,null,null,null,null,null,null,null,null,null,null,null,null,null,null,null,null,null,null,null,null,null,null,null,null,null,null,null,null,"No","",0,null,0,null,0,0,null,0]
[null,null,null,null,null,null,null,null,null,null,null,null,null,null,null,null,null,null,null,null,null,null,null,null,null,null,null,null,null,null,null,null,null,null,null,null,null,null,"No","",0,null,0,null,0,0,null,0]
[null,null,null,null,null,null,null,null,null,null,null,null,null,null,null,null,null,null,null,null,null,null,null,null,null,null,null,null,null,null,null,null,null,null,null,null,null,null,"No","",0,null,0,null,0,0,null,0]
[null,null,null,null,null,null,null,null,null,null,null,null,null,null,null,null,null,null,null,null,null,null,null,null,null,null,null,null,null,null,null,null,null,null,null,null,null,null,"No",{"$f":"IF(AM1131=\"Yes\", F1131,\"\")","v":""},{"$f":"N1131","v":0},null,{"$f":"N1131-Q1131","v":0},null,{"$f":"T1131","v":0},{"$f":"N1131","v":0},null,{"$f":"L1131","v":0}]
[null,null,null,null,null,null,null,null,null,null,null,null,null,null,null,null,null,null,null,null,null,null,null,null,null,null,null,null,null,null,null,null,null,null,null,null,null,null,"No","",0,null,0,null,0,0,null,0]
[null,null,null,null,null,null,null,null,null,null,null,null,null,null,null,null,null,null,null,null,null,null,null,null,null,null,null,null,null,null,null,null,null,null,null,null,null,null,"No","",0,null,0,null,0,0,null,0]
[null,null,null,null,null,null,null,null,null,null,null,null,null,null,null,null,null,null,null,null,null,null,null,null,null,null,null,null,null,null,null,null,null,null,null,null,null,null,"No","",0,null,0,null,0,0,null,0]
[null,null,null,null,null,null,null,null,null,null,null,null,null,null,null,null,null,null,null,null,null,null,null,null,null,null,null,null,null,null,null,null,null,null,null,null,null,null,"No","",0,null,0,null,0,0,null,0]
[null,null,null,null,null,null,null,null,null,null,null,null,null,null,null,null,null,null,null,null,null,null,null,null,null,null,null,null,null,null,null,null,null,null,null,null,null,null,"No","",0,null,0,null,0,0,null,0]
[null,null,null,null,null,null,null,null,null,null,null,null,null,null,null,null,null,null,null,null,null,null,null,null,null,null,null,null,null,null,null,null,null,null,null,null,null,null,"No","",0,null,0,null,0,0,null,0]
[null,null,null,null,null,null,null,null,null,null,null,null,null,null,null,null,null,null,null,null,null,null,null,null,null,null,null,null,null,null,null,null,null,null,null,null,null,null,"No","",0,null,0,null,0,0,null,0]
[null,null,null,null,null,null,null,null,null,null,null,null,null,null,null,null,null,null,null,null,null,null,null,null,null,null,null,null,null,null,null,null,null,null,null,null,null,null,"No","",0,null,0,null,0,0,null,0]
[null,null,null,null,null,null,null,null,null,null,null,null,null,null,null,null,null,null,null,null,null,null,null,null,null,null,null,null,null,null,null,null,null,null,null,null,null,null,"No","",0,null,0,null,0,0,null,0]
[null,null,null,null,null,null,null,null,null,null,null,null,null,null,null,null,null,null,null,null,null,null,null,null,null,null,null,null,null,null,null,null,null,null,null,null,null,null,"No","",0,null,0,null,0,0,null,0]
[null,null,null,null,null,null,null,null,null,null,null,null,null,null,null,null,null,null,null,null,null,null,null,null,null,null,null,null,null,null,null,null,null,null,null,null,null,null,"No","",0,null,0,null,0,0,null,0]
[null,null,null,null,null,null,null,null,null,null,null,null,null,null,null,null,null,null,null,null,null,null,null,null,null,null,null,null,null,null,null,null,null,null,null,null,null,null,"No","",0,null,0,null,0,0,null,0]
[null,null,null,null,null,null,null,null,null,null,null,null,null,null,null,null,null,null,null,null,null,null,null,null,null,null,null,null,null,null,null,null,null,null,null,null,null,null,"No","",0,null,0,null,0,0,null,0]
[null,null,null,null,null,null,null,null,null,null,null,null,null,null,null,null,null,null,null,null,null,null,null,null,null,null,null,null,null,null,null,null,null,null,null,null,null,null,"No","",0,null,0,null,0,0,null,0]
[null,null,null,null,null,null,null,null,null,null,null,null,null,null,null,null,null,null,null,null,null,null,null,null,null,null,null,null,null,null,null,null,null,null,null,null,null,null,"No","",0,null,0,null,0,0,null,0]
[null,null,null,null,null,null,null,null,null,null,null,null,null,null,null,null,null,null,null,null,null,null,null,null,null,null,null,null,null,null,null,null,null,null,null,null,null,null,"No","",0,null,0,null,0,0,null,0]
[null,null,null,null,null,null,null,null,null,null,null,null,null,null,null,null,null,null,null,null,null,null,null,null,null,null,null,null,null,null,null,null,null,null,null,null,null,null,"No","",0,null,0,null,0,0,null,0]
[null,null,null,null,null,null,null,null,null,null,null,null,null,null,null,null,null,null,null,null,null,null,null,null,null,null,null,null,null,null,null,null,null,null,null,null,null,null,"No","",0,null,0,null,0,0,null,0]
[null,null,null,null,null,null,null,null,null,null,null,null,null,null,null,null,null,null,null,null,null,null,null,null,null,null,null,null,null,null,null,null,null,null,null,null,null,null,"No","",0,null,0,null,0,0,null,0]
[null,null,null,null,null,null,null,null,null,null,null,null,null,null,null,null,null,null,null,null,null,null,null,null,null,null,null,null,null,null,null,null,null,null,null,null,null,null,"No","",0,null,0,null,0,0,null,0]
[null,null,null,null,null,null,null,null,null,null,null,null,null,null,null,null,null,null,null,null,null,null,null,null,null,null,null,null,null,null,null,null,null,null,null,null,null,null,"No","",0,null,0,null,0,0,null,0]
[null,null,null,null,null,null,null,null,null,null,null,null,null,null,null,null,null,null,null,null,null,null,null,null,null,null,null,null,null,null,null,null,null,null,null,null,null,null,"No","",0,null,0,null,0,0,null,0]
[null,null,null,null,null,null,null,null,null,null,null,null,null,null,null,null,null,null,null,null,null,null,null,null,null,null,null,null,null,null,null,null,null,null,null,null,null,null,"No","",0,null,0,null,0,0,null,0]
[null,null,null,null,null,null,null,null,null,null,null,null,null,null,null,null,null,null,null,null,null,null,null,null,null,null,null,null,null,null,null,null,null,null,null,null,null,null,"No","",0,null,0,null,0,0,null,0]
[null,null,null,null,null,null,null,null,null,null,null,null,null,null,null,null,null,null,null,null,null,null,null,null,null,null,null,null,null,null,null,null,null,null,null,null,null,null,"No","",0,null,0,null,0,0,null,0]
[null,null,null,null,null,null,null,null,null,null,null,null,null,null,null,null,null,null,null,null,null,null,null,null,null,null,null,null,null,null,null,null,null,null,null,null,null,null,"No","",0,null,0,null,0,0,null,0]
[null,null,null,null,null,null,null,null,null,null,null,null,null,null,null,null,null,null,null,null,null,null,null,null,null,null,null,null,null,null,null,null,null,null,null,null,null,null,"No","",0,null,0,null,0,0,null,0]
[null,null,null,null,null,null,null,null,null,null,null,null,null,null,null,null,null,null,null,null,null,null,null,null,null,null,null,null,null,null,null,null,null,null,null,null,null,null,"No","",0,null,0,null,0,0,null,0]
[null,null,null,null,null,null,null,null,null,null,null,null,null,null,null,null,null,null,null,null,null,null,null,null,null,null,null,null,null,null,null,null,null,null,null,null,null,null,"No","",0,null,0,null,0,0,null,0]
[null,null,null,null,null,null,null,null,null,null,null,null,null,null,null,null,null,null,null,null,null,null,null,null,null,null,null,null,null,null,null,null,null,null,null,null,null,null,"No","",0,null,0,null,0,0,null,0]
[null,null,null,null,null,null,null,null,null,null,null,null,null,null,null,null,null,null,null,null,null,null,null,null,null,null,null,null,null,null,null,null,null,null,null,null,null,null,"No","",0,null,0,null,0,0,null,0]
[null,null,null,null,null,null,null,null,null,null,null,null,null,null,null,null,null,null,null,null,null,null,null,null,null,null,null,null,null,null,null,null,null,null,null,null,null,null,"No","",0,null,0,null,0,0,null,0]
[null,null,null,null,null,null,null,null,null,null,null,null,null,null,null,null,null,null,null,null,null,null,null,null,null,null,null,null,null,null,null,null,null,null,null,null,null,null,"No","",0,null,0,null,0,0,null,0]
[null,null,null,null,null,null,null,null,null,null,null,null,null,null,null,null,null,null,null,null,null,null,null,null,null,null,null,null,null,null,null,null,null,null,null,null,null,null,"No","",0,null,0,null,0,0,null,0]
[null,null,null,null,null,null,null,null,null,null,null,null,null,null,null,null,null,null,null,null,null,null,null,null,null,null,null,null,null,null,null,null,null,null,null,null,null,null,"No","",0,null,0,null,0,0,null,0]
[null,null,null,null,null,null,null,null,null,null,null,null,null,null,null,null,null,null,null,null,null,null,null,null,null,null,null,null,null,null,null,null,null,null,null,null,null,null,"No","",0,null,0,null,0,0,null,0]
[null,null,null,null,null,null,null,null,null,null,null,null,null,null,null,null,null,null,null,null,null,null,null,null,null,null,null,null,null,null,null,null,null,null,null,null,null,null,"No","",0,null,0,null,0,0,null,0]
[null,null,null,null,null,null,null,null,null,null,null,null,null,null,null,null,null,null,null,null,null,null,null,null,null,null,null,null,null,null,null,null,null,null,null,null,null,null,"No","",0,null,0,null,0,0,null,0]
[null,null,null,null,null,null,null,null,null,null,null,null,null,null,null,null,null,null,null,null,null,null,null,null,null,null,null,null,null,null,null,null,null,null,null,null,null,null,"No","",0,null,0,null,0,0,null,0]
[null,null,null,null,null,null,null,null,null,null,null,null,null,null,null,null,null,null,null,null,null,null,null,null,null,null,null,null,null,null,null,null,null,null,null,null,null,null,"No","",0,null,0,null,0,0,null,0]
[null,null,null,null,null,null,null,null,null,null,null,null,null,null,null,null,null,null,null,null,null,null,null,null,null,null,null,null,null,null,null,null,null,null,null,null,null,null,"No","",0,null,0,null,0,0,null,0]
[null,null,null,null,null,null,null,null,null,null,null,null,null,null,null,null,null,null,null,null,null,null,null,null,null,null,null,null,null,null,null,null,null,null,null,null,null,null,"No","",0,null,0,null,0,0,null,0]
[null,null,null,null,null,null,null,null,null,null,null,null,null,null,null,null,null,null,null,null,null,null,null,null,null,null,null,null,null,null,null,null,null,null,null,null,null,null,"No","",0,null,0,null,0,0,null,0]
[null,null,null,null,null,null,null,null,null,null,null,null,null,null,null,null,null,null,null,null,null,null,null,null,null,null,null,null,null,null,null,null,null,null,null,null,null,null,"No","",0,null,0,null,0,0,null,0]
[null,null,null,null,null,null,null,null,null,null,null,null,null,null,null,null,null,null,null,null,null,null,null,null,null,null,null,null,null,null,null,null,null,null,null,null,null,null,"No","",0,null,0,null,0,0,null,0]
[null,null,null,null,null,null,null,null,null,null,null,null,null,null,null,null,null,null,null,null,null,null,null,null,null,null,null,null,null,null,null,null,null,null,null,null,null,null,"No","",0,null,0,null,0,0,null,0]
[null,null,null,null,null,null,null,null,null,null,null,null,null,null,null,null,null,null,null,null,null,null,null,null,null,null,null,null,null,null,null,null,null,null,null,null,null,null,"No","",0,null,0,null,0,0,null,0]
[null,null,null,null,null,null,null,null,null,null,null,null,null,null,null,null,null,null,null,null,null,null,null,null,null,null,null,null,null,null,null,null,null,null,null,null,null,null,"No","",0,null,0,null,0,0,null,0]
[null,null,null,null,null,null,null,null,null,null,null,null,null,null,null,null,null,null,null,null,null,null,null,null,null,null,null,null,null,null,null,null,null,null,null,null,null,null,"No","",0,null,0,null,0,0,null,0]
[null,null,null,null,null,null,null,null,null,null,null,null,null,null,null,null,null,null,null,null,null,null,null,null,null,null,null,null,null,null,null,null,null,null,null,null,null,null,"No","",0,null,0,null,0,0,null,0]
[null,null,null,null,null,null,null,null,null,null,null,null,null,null,null,null,null,null,null,null,null,null,null,null,null,null,null,null,null,null,null,null,null,null,null,null,null,null,"No","",0,null,0,null,0,0,null,0]
[null,null,null,null,null,null,null,null,null,null,null,null,null,null,null,null,null,null,null,null,null,null,null,null,null,null,null,null,null,null,null,null,null,null,null,null,null,null,"No","",0,null,0,null,0,0,null,0]
[null,null,null,null,null,null,null,null,null,null,null,null,null,null,null,null,null,null,null,null,null,null,null,null,null,null,null,null,null,null,null,null,null,null,null,null,null,null,{"$f":"IF(OR(L1184=\"5 Min ORBO\",L1184=\"5 Min ORBD\",L1184=\"15 Min ORBO\",L1184=\"15 Min ORBD\",L1184=\"MA-X-L\",L1184=\"MA-X-S\",L1184=\"FOMO\",L1184=\"Revenge\",L1184=\"Hot Key Mistake\",L1184=\"VWAP Reversal Long\",L1184=\"VWAP Reversal Short\",L1184=\"VWAP False Breakout Long\",L1184=\"VWAP False Breakout Short\",L1184=\"S&R Long\",L1184=\"S&R Short\",L1184=\"Moving Average Long\",L1184=\"Moving Average Short\",L1184=\"Bearish Engulfing Crack\",L1184=\"Top Reversal\",L1184=\"ABCD\"),\"Yes\", \"No\")","v":"No"},"",0,null,0,null,0,0,null,0]
[null,null,null,null,null,null,null,null,null,null,null,null,null,null,null,null,null,null,null,null,null,null,null,null,null,null,null,null,null,null,null,null,null,null,null,null,null,null,"No","",0,null,0,null,0,0,null,0]
[null,null,null,null,null,null,null,null,null,null,null,null,null,null,null,null,null,null,null,null,null,null,null,null,null,null,null,null,null,null,null,null,null,null,null,null,null,null,"No","",0,null,0,null,0,0,null,0]
[null,null,null,null,null,null,null,null,null,null,null,null,null,null,null,null,null,null,null,null,null,null,null,null,null,null,null,null,null,null,null,null,null,null,null,null,null,null,"No","",0,null,0,null,0,0,null,0]
[null,null,null,null,null,null,null,null,null,null,null,null,null,null,null,null,null,null,null,null,null,null,null,null,null,null,null,null,null,null,null,null,null,null,null,null,null,null,"No","",0,null,0,null,0,0,null,0]
[null,null,null,null,null,null,null,null,null,null,null,null,null,null,null,null,null,null,null,null,null,null,null,null,null,null,null,null,null,null,null,null,null,null,null,null,null,null,"No","",0,null,0,null,0,0,null,0]
[null,null,null,null,null,null,null,null,null,null,null,null,null,null,null,null,null,null,null,null,null,null,null,null,null,null,null,null,null,null,null,null,null,null,null,null,null,null,"No","",0,null,0,null,0,0,null,0]
[null,null,null,null,null,null,null,null,null,null,null,null,null,null,null,null,null,null,null,null,null,null,null,null,null,null,null,null,null,null,null,null,null,null,null,null,null,null,"No","",0,null,0,null,0,0,null,0]
[null,null,null,null,null,null,null,null,null,null,null,null,null,null,null,null,null,null,null,null,null,null,null,null,null,null,null,null,null,null,null,null,null,null,null,null,null,null,"No","",0,null,0,null,0,0,null,0]
[null,null,null,null,null,null,null,null,null,null,null,null,null,null,null,null,null,null,null,null,null,null,null,null,null,null,null,null,null,null,null,null,null,null,null,null,null,null,"No","",0,null,0,null,0,0,null,0]
[null,null,null,null,null,null,null,null,null,null,null,null,null,null,null,null,null,null,null,null,null,null,null,null,null,null,null,null,null,null,null,null,null,null,null,null,null,null,"No","",0,null,0,null,0,0,null,0]
[null,null,null,null,null,null,null,null,null,null,null,null,null,null,null,null,null,null,null,null,null,null,null,null,null,null,null,null,null,null,null,null,null,null,null,null,null,null,"No",{"$f":"IF(AM1195=\"Yes\", F1195,\"\")","v":""},{"$f":"N1195","v":0},null,{"$f":"N1195-Q1195","v":0},null,{"$f":"T1195","v":0},{"$f":"N1195","v":0},null,{"$f":"L1195","v":0}]
[null,null,null,null,null,null,null,null,null,null,null,null,null,null,null,null,null,null,null,null,null,null,null,null,null,null,null,null,null,null,null,null,null,null,null,null,null,null,"No","",0,null,0,null,0,0,null,0]
[null,null,null,null,null,null,null,null,null,null,null,null,null,null,null,null,null,null,null,null,null,null,null,null,null,null,null,null,null,null,null,null,null,null,null,null,null,null,"No","",0,null,0,null,0,0,null,0]
[null,null,null,null,null,null,null,null,null,null,null,null,null,null,null,null,null,null,null,null,null,null,null,null,null,null,null,null,null,null,null,null,null,null,null,null,null,null,"No","",0,null,0,null,0,0,null,0]
[null,null,null,null,null,null,null,null,null,null,null,null,null,null,null,null,null,null,null,null,null,null,null,null,null,null,null,null,null,null,null,null,null,null,null,null,null,null,"No","",0,null,0,null,0,0,null,0]
[null,null,null,null,null,null,null,null,null,null,null,null,null,null,null,null,null,null,null,null,null,null,null,null,null,null,null,null,null,null,null,null,null,null,null,null,null,null,"No","",0,null,0,null,0,0,null,0]
[null,null,null,null,null,null,null,null,null,null,null,null,null,null,null,null,null,null,null,null,null,null,null,null,null,null,null,null,null,null,null,null,null,null,null,null,null,null,"No","",0,null,0,null,0,0,null,0]
[null,null,null,null,null,null,null,null,null,null,null,null,null,null,null,null,null,null,null,null,null,null,null,null,null,null,null,null,null,null,null,null,null,null,null,null,null,null,"No","",0,null,0,null,0,0,null,0]
[null,null,null,null,null,null,null,null,null,null,null,null,null,null,null,null,null,null,null,null,null,null,null,null,null,null,null,null,null,null,null,null,null,null,null,null,null,null,"No","",0,null,0,null,0,0,null,0]
[null,null,null,null,null,null,null,null,null,null,null,null,null,null,null,null,null,null,null,null,null,null,null,null,null,null,null,null,null,null,null,null,null,null,null,null,null,null,"No","",0,null,0,null,0,0,null,0]
[null,null,null,null,null,null,null,null,null,null,null,null,null,null,null,null,null,null,null,null,null,null,null,null,null,null,null,null,null,null,null,null,null,null,null,null,null,null,"No","",0,null,0,null,0,0,null,0]
[null,null,null,null,null,null,null,null,null,null,null,null,null,null,null,null,null,null,null,null,null,null,null,null,null,null,null,null,null,null,null,null,null,null,null,null,null,null,"No","",0,null,0,null,0,0,null,0]
[null,null,null,null,null,null,null,null,null,null,null,null,null,null,null,null,null,null,null,null,null,null,null,null,null,null,null,null,null,null,null,null,null,null,null,null,null,null,"No","",0,null,0,null,0,0,null,0]
[null,null,null,null,null,null,null,null,null,null,null,null,null,null,null,null,null,null,null,null,null,null,null,null,null,null,null,null,null,null,null,null,null,null,null,null,null,null,"No","",0,null,0,null,0,0,null,0]
[null,null,null,null,null,null,null,null,null,null,null,null,null,null,null,null,null,null,null,null,null,null,null,null,null,null,null,null,null,null,null,null,null,null,null,null,null,null,"No","",0,null,0,null,0,0,null,0]
[null,null,null,null,null,null,null,null,null,null,null,null,null,null,null,null,null,null,null,null,null,null,null,null,null,null,null,null,null,null,null,null,null,null,null,null,null,null,"No","",0,null,0,null,0,0,null,0]
[null,null,null,null,null,null,null,null,null,null,null,null,null,null,null,null,null,null,null,null,null,null,null,null,null,null,null,null,null,null,null,null,null,null,null,null,null,null,"No","",0,null,0,null,0,0,null,0]
[null,null,null,null,null,null,null,null,null,null,null,null,null,null,null,null,null,null,null,null,null,null,null,null,null,null,null,null,null,null,null,null,null,null,null,null,null,null,"No","",0,null,0,null,0,0,null,0]
[null,null,null,null,null,null,null,null,null,null,null,null,null,null,null,null,null,null,null,null,null,null,null,null,null,null,null,null,null,null,null,null,null,null,null,null,null,null,"No","",0,null,0,null,0,0,null,0]
[null,null,null,null,null,null,null,null,null,null,null,null,null,null,null,null,null,null,null,null,null,null,null,null,null,null,null,null,null,null,null,null,null,null,null,null,null,null,"No","",0,null,0,null,0,0,null,0]
[null,null,null,null,null,null,null,null,null,null,null,null,null,null,null,null,null,null,null,null,null,null,null,null,null,null,null,null,null,null,null,null,null,null,null,null,null,null,"No","",0,null,0,null,0,0,null,0]
[null,null,null,null,null,null,null,null,null,null,null,null,null,null,null,null,null,null,null,null,null,null,null,null,null,null,null,null,null,null,null,null,null,null,null,null,null,null,"No","",0,null,0,null,0,0,null,0]
[null,null,null,null,null,null,null,null,null,null,null,null,null,null,null,null,null,null,null,null,null,null,null,null,null,null,null,null,null,null,null,null,null,null,null,null,null,null,"No","",0,null,0,null,0,0,null,0]
[null,null,null,null,null,null,null,null,null,null,null,null,null,null,null,null,null,null,null,null,null,null,null,null,null,null,null,null,null,null,null,null,null,null,null,null,null,null,"No","",0,null,0,null,0,0,null,0]
[null,null,null,null,null,null,null,null,null,null,null,null,null,null,null,null,null,null,null,null,null,null,null,null,null,null,null,null,null,null,null,null,null,null,null,null,null,null,"No","",0,null,0,null,0,0,null,0]
[null,null,null,null,null,null,null,null,null,null,null,null,null,null,null,null,null,null,null,null,null,null,null,null,null,null,null,null,null,null,null,null,null,null,null,null,null,null,"No","",0,null,0,null,0,0,null,0]
[null,null,null,null,null,null,null,null,null,null,null,null,null,null,null,null,null,null,null,null,null,null,null,null,null,null,null,null,null,null,null,null,null,null,null,null,null,null,"No","",0,null,0,null,0,0,null,0]
[null,null,null,null,null,null,null,null,null,null,null,null,null,null,null,null,null,null,null,null,null,null,null,null,null,null,null,null,null,null,null,null,null,null,null,null,null,null,"No","",0,null,0,null,0,0,null,0]
[null,null,null,null,null,null,null,null,null,null,null,null,null,null,null,null,null,null,null,null,null,null,null,null,null,null,null,null,null,null,null,null,null,null,null,null,null,null,"No","",0,null,0,null,0,0,null,0]
[null,null,null,null,null,null,null,null,null,null,null,null,null,null,null,null,null,null,null,null,null,null,null,null,null,null,null,null,null,null,null,null,null,null,null,null,null,null,"No","",0,null,0,null,0,0,null,0]
[null,null,null,null,null,null,null,null,null,null,null,null,null,null,null,null,null,null,null,null,null,null,null,null,null,null,null,null,null,null,null,null,null,null,null,null,null,null,"No","",0,null,0,null,0,0,null,0]
[null,null,null,null,null,null,null,null,null,null,null,null,null,null,null,null,null,null,null,null,null,null,null,null,null,null,null,null,null,null,null,null,null,null,null,null,null,null,"No","",0,null,0,null,0,0,null,0]
[null,null,null,null,null,null,null,null,null,null,null,null,null,null,null,null,null,null,null,null,null,null,null,null,null,null,null,null,null,null,null,null,null,null,null,null,null,null,"No","",0,null,0,null,0,0,null,0]
[null,null,null,null,null,null,null,null,null,null,null,null,null,null,null,null,null,null,null,null,null,null,null,null,null,null,null,null,null,null,null,null,null,null,null,null,null,null,"No","",0,null,0,null,0,0,null,0]
[null,null,null,null,null,null,null,null,null,null,null,null,null,null,null,null,null,null,null,null,null,null,null,null,null,null,null,null,null,null,null,null,null,null,null,null,null,null,"No","",0,null,0,null,0,0,null,0]
[null,null,null,null,null,null,null,null,null,null,null,null,null,null,null,null,null,null,null,null,null,null,null,null,null,null,null,null,null,null,null,null,null,null,null,null,null,null,"No","",0,null,0,null,0,0,null,0]
[null,null,null,null,null,null,null,null,null,null,null,null,null,null,null,null,null,null,null,null,null,null,null,null,null,null,null,null,null,null,null,null,null,null,null,null,null,null,"No","",0,null,0,null,0,0,null,0]
[null,null,null,null,null,null,null,null,null,null,null,null,null,null,null,null,null,null,null,null,null,null,null,null,null,null,null,null,null,null,null,null,null,null,null,null,null,null,"No","",0,null,0,null,0,0,null,0]
[null,null,null,null,null,null,null,null,null,null,null,null,null,null,null,null,null,null,null,null,null,null,null,null,null,null,null,null,null,null,null,null,null,null,null,null,null,null,"No","",0,null,0,null,0,0,null,0]
[null,null,null,null,null,null,null,null,null,null,null,null,null,null,null,null,null,null,null,null,null,null,null,null,null,null,null,null,null,null,null,null,null,null,null,null,null,null,"No","",0,null,0,null,0,0,null,0]
[null,null,null,null,null,null,null,null,null,null,null,null,null,null,null,null,null,null,null,null,null,null,null,null,null,null,null,null,null,null,null,null,null,null,null,null,null,null,"No","",0,null,0,null,0,0,null,0]
[null,null,null,null,null,null,null,null,null,null,null,null,null,null,null,null,null,null,null,null,null,null,null,null,null,null,null,null,null,null,null,null,null,null,null,null,null,null,"No","",0,null,0,null,0,0,null,0]
[null,null,null,null,null,null,null,null,null,null,null,null,null,null,null,null,null,null,null,null,null,null,null,null,null,null,null,null,null,null,null,null,null,null,null,null,null,null,"No","",0,null,0,null,0,0,null,0]
[null,null,null,null,null,null,null,null,null,null,null,null,null,null,null,null,null,null,null,null,null,null,null,null,null,null,null,null,null,null,null,null,null,null,null,null,null,null,"No","",0,null,0,null,0,0,null,0]
[null,null,null,null,null,null,null,null,null,null,null,null,null,null,null,null,null,null,null,null,null,null,null,null,null,null,null,null,null,null,null,null,null,null,null,null,null,null,"No","",0,null,0,null,0,0,null,0]
[null,null,null,null,null,null,null,null,null,null,null,null,null,null,null,null,null,null,null,null,null,null,null,null,null,null,null,null,null,null,null,null,null,null,null,null,null,null,"No","",0,null,0,null,0,0,null,0]
[null,null,null,null,null,null,null,null,null,null,null,null,null,null,null,null,null,null,null,null,null,null,null,null,null,null,null,null,null,null,null,null,null,null,null,null,null,null,"No","",0,null,0,null,0,0,null,0]
[null,null,null,null,null,null,null,null,null,null,null,null,null,null,null,null,null,null,null,null,null,null,null,null,null,null,null,null,null,null,null,null,null,null,null,null,null,null,"No","",0,null,0,null,0,0,null,0]
[null,null,null,null,null,null,null,null,null,null,null,null,null,null,null,null,null,null,null,null,null,null,null,null,null,null,null,null,null,null,null,null,null,null,null,null,null,null,"No","",0,null,0,null,0,0,null,0]
[null,null,null,null,null,null,null,null,null,null,null,null,null,null,null,null,null,null,null,null,null,null,null,null,null,null,null,null,null,null,null,null,null,null,null,null,null,null,"No","",0,null,0,null,0,0,null,0]
[null,null,null,null,null,null,null,null,null,null,null,null,null,null,null,null,null,null,null,null,null,null,null,null,null,null,null,null,null,null,null,null,null,null,null,null,null,null,"No","",0,null,0,null,0,0,null,0]
[null,null,null,null,null,null,null,null,null,null,null,null,null,null,null,null,null,null,null,null,null,null,null,null,null,null,null,null,null,null,null,null,null,null,null,null,null,null,"No","",0,null,0,null,0,0,null,0]
[null,null,null,null,null,null,null,null,null,null,null,null,null,null,null,null,null,null,null,null,null,null,null,null,null,null,null,null,null,null,null,null,null,null,null,null,null,null,"No","",0,null,0,null,0,0,null,0]
[null,null,null,null,null,null,null,null,null,null,null,null,null,null,null,null,null,null,null,null,null,null,null,null,null,null,null,null,null,null,null,null,null,null,null,null,null,null,{"$f":"IF(OR(L1248=\"5 Min ORBO\",L1248=\"5 Min ORBD\",L1248=\"15 Min ORBO\",L1248=\"15 Min ORBD\",L1248=\"MA-X-L\",L1248=\"MA-X-S\",L1248=\"FOMO\",L1248=\"Revenge\",L1248=\"Hot Key Mistake\",L1248=\"VWAP Reversal Long\",L1248=\"VWAP Reversal Short\",L1248=\"VWAP False Breakout Long\",L1248=\"VWAP False Breakout Short\",L1248=\"S&R Long\",L1248=\"S&R Short\",L1248=\"Moving Average Long\",L1248=\"Moving Average Short\",L1248=\"Bearish Engulfing Crack\",L1248=\"Top Reversal\",L1248=\"ABCD\"),\"Yes\", \"No\")","v":"No"},"",0,null,0,null,0,0,null,0]
[null,null,null,null,null,null,null,null,null,null,null,null,null,null,null,null,null,null,null,null,null,null,null,null,null,null,null,null,null,null,null,null,null,null,null,null,null,null,"No","",0,null,0,null,0,0,null,0]
[null,null,null,null,null,null,null,null,null,null,null,null,null,null,null,null,null,null,null,null,null,null,null,null,null,null,null,null,null,null,null,null,null,null,null,null,null,null,"No","",0,null,0,null,0,0,null,0]
[null,null,null,null,null,null,null,null,null,null,null,null,null,null,null,null,null,null,null,null,null,null,null,null,null,null,null,null,null,null,null,null,null,null,null,null,null,null,"No","",0,null,0,null,0,0,null,0]
[null,null,null,null,null,null,null,null,null,null,null,null,null,null,null,null,null,null,null,null,null,null,null,null,null,null,null,null,null,null,null,null,null,null,null,null,null,null,"No","",0,null,0,null,0,0,null,0]
[null,null,null,null,null,null,null,null,null,null,null,null,null,null,null,null,null,null,null,null,null,null,null,null,null,null,null,null,null,null,null,null,null,null,null,null,null,null,"No","",0,null,0,null,0,0,null,0]
[null,null,null,null,null,null,null,null,null,null,null,null,null,null,null,null,null,null,null,null,null,null,null,null,null,null,null,null,null,null,null,null,null,null,null,null,null,null,"No","",0,null,0,null,0,0,null,0]
[null,null,null,null,null,null,null,null,null,null,null,null,null,null,null,null,null,null,null,null,null,null,null,null,null,null,null,null,null,null,null,null,null,null,null,null,null,null,"No","",0,null,0,null,0,0,null,0]
[null,null,null,null,null,null,null,null,null,null,null,null,null,null,null,null,null,null,null,null,null,null,null,null,null,null,null,null,null,null,null,null,null,null,null,null,null,null,"No","",0,null,0,null,0,0,null,0]
[null,null,null,null,null,null,null,null,null,null,null,null,null,null,null,null,null,null,null,null,null,null,null,null,null,null,null,null,null,null,null,null,null,null,null,null,null,null,"No","",0,null,0,null,0,0,null,0]
[null,null,null,null,null,null,null,null,null,null,null,null,null,null,null,null,null,null,null,null,null,null,null,null,null,null,null,null,null,null,null,null,null,null,null,null,null,null,"No","",0,null,0,null,0,0,null,0]
[null,null,null,null,null,null,null,null,null,null,null,null,null,null,null,null,null,null,null,null,null,null,null,null,null,null,null,null,null,null,null,null,null,null,null,null,null,null,"No",{"$f":"IF(AM1259=\"Yes\", F1259,\"\")","v":""},{"$f":"N1259","v":0},null,{"$f":"N1259-Q1259","v":0},null,{"$f":"T1259","v":0},{"$f":"N1259","v":0},null,{"$f":"L1259","v":0}]
[null,null,null,null,null,null,null,null,null,null,null,null,null,null,null,null,null,null,null,null,null,null,null,null,null,null,null,null,null,null,null,null,null,null,null,null,null,null,"No","",0,null,0,null,0,0,null,0]
[null,null,null,null,null,null,null,null,null,null,null,null,null,null,null,null,null,null,null,null,null,null,null,null,null,null,null,null,null,null,null,null,null,null,null,null,null,null,"No","",0,null,0,null,0,0,null,0]
[null,null,null,null,null,null,null,null,null,null,null,null,null,null,null,null,null,null,null,null,null,null,null,null,null,null,null,null,null,null,null,null,null,null,null,null,null,null,"No","",0,null,0,null,0,0,null,0]
[null,null,null,null,null,null,null,null,null,null,null,null,null,null,null,null,null,null,null,null,null,null,null,null,null,null,null,null,null,null,null,null,null,null,null,null,null,null,"No","",0,null,0,null,0,0,null,0]
[null,null,null,null,null,null,null,null,null,null,null,null,null,null,null,null,null,null,null,null,null,null,null,null,null,null,null,null,null,null,null,null,null,null,null,null,null,null,"No","",0,null,0,null,0,0,null,0]
[null,null,null,null,null,null,null,null,null,null,null,null,null,null,null,null,null,null,null,null,null,null,null,null,null,null,null,null,null,null,null,null,null,null,null,null,null,null,"No","",0,null,0,null,0,0,null,0]
[null,null,null,null,null,null,null,null,null,null,null,null,null,null,null,null,null,null,null,null,null,null,null,null,null,null,null,null,null,null,null,null,null,null,null,null,null,null,"No","",0,null,0,null,0,0,null,0]
[null,null,null,null,null,null,null,null,null,null,null,null,null,null,null,null,null,null,null,null,null,null,null,null,null,null,null,null,null,null,null,null,null,null,null,null,null,null,"No","",0,null,0,null,0,0,null,0]
[null,null,null,null,null,null,null,null,null,null,null,null,null,null,null,null,null,null,null,null,null,null,null,null,null,null,null,null,null,null,null,null,null,null,null,null,null,null,"No","",0,null,0,null,0,0,null,0]
[null,null,null,null,null,null,null,null,null,null,null,null,null,null,null,null,null,null,null,null,null,null,null,null,null,null,null,null,null,null,null,null,null,null,null,null,null,null,"No","",0,null,0,null,0,0,null,0]
[null,null,null,null,null,null,null,null,null,null,null,null,null,null,null,null,null,null,null,null,null,null,null,null,null,null,null,null,null,null,null,null,null,null,null,null,null,null,"No","",0,null,0,null,0,0,null,0]
[null,null,null,null,null,null,null,null,null,null,null,null,null,null,null,null,null,null,null,null,null,null,null,null,null,null,null,null,null,null,null,null,null,null,null,null,null,null,"No","",0,null,0,null,0,0,null,0]
[null,null,null,null,null,null,null,null,null,null,null,null,null,null,null,null,null,null,null,null,null,null,null,null,null,null,null,null,null,null,null,null,null,null,null,null,null,null,"No","",0,null,0,null,0,0,null,0]
[null,null,null,null,null,null,null,null,null,null,null,null,null,null,null,null,null,null,null,null,null,null,null,null,null,null,null,null,null,null,null,null,null,null,null,null,null,null,"No","",0,null,0,null,0,0,null,0]
[null,null,null,null,null,null,null,null,null,null,null,null,null,null,null,null,null,null,null,null,null,null,null,null,null,null,null,null,null,null,null,null,null,null,null,null,null,null,"No","",0,null,0,null,0,0,null,0]
[null,null,null,null,null,null,null,null,null,null,null,null,null,null,null,null,null,null,null,null,null,null,null,null,null,null,null,null,null,null,null,null,null,null,null,null,null,null,"No","",0,null,0,null,0,0,null,0]
[null,null,null,null,null,null,null,null,null,null,null,null,null,null,null,null,null,null,null,null,null,null,null,null,null,null,null,null,null,null,null,null,null,null,null,null,null,null,"No","",0,null,0,null,0,0,null,0]
[null,null,null,null,null,null,null,null,null,null,null,null,null,null,null,null,null,null,null,null,null,null,null,null,null,null,null,null,null,null,null,null,null,null,null,null,null,null,"No","",0,null,0,null,0,0,null,0]
[null,null,null,null,null,null,null,null,null,null,null,null,null,null,null,null,null,null,null,null,null,null,null,null,null,null,null,null,null,null,null,null,null,null,null,null,null,null,"No","",0,null,0,null,0,0,null,0]
[null,null,null,null,null,null,null,null,null,null,null,null,null,null,null,null,null,null,null,null,null,null,null,null,null,null,null,null,null,null,null,null,null,null,null,null,null,null,"No","",0,null,0,null,0,0,null,0]
[null,null,null,null,null,null,null,null,null,null,null,null,null,null,null,null,null,null,null,null,null,null,null,null,null,null,null,null,null,null,null,null,null,null,null,null,null,null,"No","",0,null,0,null,0,0,null,0]
[null,null,null,null,null,null,null,null,null,null,null,null,null,null,null,null,null,null,null,null,null,null,null,null,null,null,null,null,null,null,null,null,null,null,null,null,null,null,"No","",0,null,0,null,0,0,null,0]
[null,null,null,null,null,null,null,null,null,null,null,null,null,null,null,null,null,null,null,null,null,null,null,null,null,null,null,null,null,null,null,null,null,null,null,null,null,null,"No","",0,null,0,null,0,0,null,0]
[null,null,null,null,null,null,null,null,null,null,null,null,null,null,null,null,null,null,null,null,null,null,null,null,null,null,null,null,null,null,null,null,null,null,null,null,null,null,"No","",0,null,0,null,0,0,null,0]
[null,null,null,null,null,null,null,null,null,null,null,null,null,null,null,null,null,null,null,null,null,null,null,null,null,null,null,null,null,null,null,null,null,null,null,null,null,null,"No","",0,null,0,null,0,0,null,0]
[null,null,null,null,null,null,null,null,null,null,null,null,null,null,null,null,null,null,null,null,null,null,null,null,null,null,null,null,null,null,null,null,null,null,null,null,null,null,"No","",0,null,0,null,0,0,null,0]
[null,null,null,null,null,null,null,null,null,null,null,null,null,null,null,null,null,null,null,null,null,null,null,null,null,null,null,null,null,null,null,null,null,null,null,null,null,null,"No","",0,null,0,null,0,0,null,0]
[null,null,null,null,null,null,null,null,null,null,null,null,null,null,null,null,null,null,null,null,null,null,null,null,null,null,null,null,null,null,null,null,null,null,null,null,null,null,"No","",0,null,0,null,0,0,null,0]
[null,null,null,null,null,null,null,null,null,null,null,null,null,null,null,null,null,null,null,null,null,null,null,null,null,null,null,null,null,null,null,null,null,null,null,null,null,null,"No","",0,null,0,null,0,0,null,0]
[null,null,null,null,null,null,null,null,null,null,null,null,null,null,null,null,null,null,null,null,null,null,null,null,null,null,null,null,null,null,null,null,null,null,null,null,null,null,"No","",0,null,0,null,0,0,null,0]
[null,null,null,null,null,null,null,null,null,null,null,null,null,null,null,null,null,null,null,null,null,null,null,null,null,null,null,null,null,null,null,null,null,null,null,null,null,null,"No","",0,null,0,null,0,0,null,0]
[null,null,null,null,null,null,null,null,null,null,null,null,null,null,null,null,null,null,null,null,null,null,null,null,null,null,null,null,null,null,null,null,null,null,null,null,null,null,"No","",0,null,0,null,0,0,null,0]
[null,null,null,null,null,null,null,null,null,null,null,null,null,null,null,null,null,null,null,null,null,null,null,null,null,null,null,null,null,null,null,null,null,null,null,null,null,null,"No","",0,null,0,null,0,0,null,0]
[null,null,null,null,null,null,null,null,null,null,null,null,null,null,null,null,null,null,null,null,null,null,null,null,null,null,null,null,null,null,null,null,null,null,null,null,null,null,"No","",0,null,0,null,0,0,null,0]
[null,null,null,null,null,null,null,null,null,null,null,null,null,null,null,null,null,null,null,null,null,null,null,null,null,null,null,null,null,null,null,null,null,null,null,null,null,null,"No","",0,null,0,null,0,0,null,0]
[null,null,null,null,null,null,null,null,null,null,null,null,null,null,null,null,null,null,null,null,null,null,null,null,null,null,null,null,null,null,null,null,null,null,null,null,null,null,"No","",0,null,0,null,0,0,null,0]
[null,null,null,null,null,null,null,null,null,null,null,null,null,null,null,null,null,null,null,null,null,null,null,null,null,null,null,null,null,null,null,null,null,null,null,null,null,null,"No","",0,null,0,null,0,0,null,0]
[null,null,null,null,null,null,null,null,null,null,null,null,null,null,null,null,null,null,null,null,null,null,null,null,null,null,null,null,null,null,null,null,null,null,null,null,null,null,"No","",0,null,0,null,0,0,null,0]
[null,null,null,null,null,null,null,null,null,null,null,null,null,null,null,null,null,null,null,null,null,null,null,null,null,null,null,null,null,null,null,null,null,null,null,null,null,null,"No","",0,null,0,null,0,0,null,0]
[null,null,null,null,null,null,null,null,null,null,null,null,null,null,null,null,null,null,null,null,null,null,null,null,null,null,null,null,null,null,null,null,null,null,null,null,null,null,"No","",0,null,0,null,0,0,null,0]
[null,null,null,null,null,null,null,null,null,null,null,null,null,null,null,null,null,null,null,null,null,null,null,null,null,null,null,null,null,null,null,null,null,null,null,null,null,null,"No","",0,null,0,null,0,0,null,0]
[null,null,null,null,null,null,null,null,null,null,null,null,null,null,null,null,null,null,null,null,null,null,null,null,null,null,null,null,null,null,null,null,null,null,null,null,null,null,"No","",0,null,0,null,0,0,null,0]
[null,null,null,null,null,null,null,null,null,null,null,null,null,null,null,null,null,null,null,null,null,null,null,null,null,null,null,null,null,null,null,null,null,null,null,null,null,null,"No","",0,null,0,null,0,0,null,0]
[null,null,null,null,null,null,null,null,null,null,null,null,null,null,null,null,null,null,null,null,null,null,null,null,null,null,null,null,null,null,null,null,null,null,null,null,null,null,"No","",0,null,0,null,0,0,null,0]
[null,null,null,null,null,null,null,null,null,null,null,null,null,null,null,null,null,null,null,null,null,null,null,null,null,null,null,null,null,null,null,null,null,null,null,null,null,null,"No","",0,null,0,null,0,0,null,0]
[null,null,null,null,null,null,null,null,null,null,null,null,null,null,null,null,null,null,null,null,null,null,null,null,null,null,null,null,null,null,null,null,null,null,null,null,null,null,"No","",0,null,0,null,0,0,null,0]
[null,null,null,null,null,null,null,null,null,null,null,null,null,null,null,null,null,null,null,null,null,null,null,null,null,null,null,null,null,null,null,null,null,null,null,null,null,null,"No","",0,null,0,null,0,0,null,0]
[null,null,null,null,null,null,null,null,null,null,null,null,null,null,null,null,null,null,null,null,null,null,null,null,null,null,null,null,null,null,null,null,null,null,null,null,null,null,"No","",0,null,0,null,0,0,null,0]
[null,null,null,null,null,null,null,null,null,null,null,null,null,null,null,null,null,null,null,null,null,null,null,null,null,null,null,null,null,null,null,null,null,null,null,null,null,null,"No","",0,null,0,null,0,0,null,0]
[null,null,null,null,null,null,null,null,null,null,null,null,null,null,null,null,null,null,null,null,null,null,null,null,null,null,null,null,null,null,null,null,null,null,null,null,null,null,"No","",0,null,0,null,0,0,null,0]
[null,null,null,null,null,null,null,null,null,null,null,null,null,null,null,null,null,null,null,null,null,null,null,null,null,null,null,null,null,null,null,null,null,null,null,null,null,null,"No","",0,null,0,null,0,0,null,0]
[null,null,null,null,null,null,null,null,null,null,null,null,null,null,null,null,null,null,null,null,null,null,null,null,null,null,null,null,null,null,null,null,null,null,null,null,null,null,"No","",0,null,0,null,0,0,null,0]
[null,null,null,null,null,null,null,null,null,null,null,null,null,null,null,null,null,null,null,null,null,null,null,null,null,null,null,null,null,null,null,null,null,null,null,null,null,null,{"$f":"IF(OR(L1312=\"5 Min ORBO\",L1312=\"5 Min ORBD\",L1312=\"15 Min ORBO\",L1312=\"15 Min ORBD\",L1312=\"MA-X-L\",L1312=\"MA-X-S\",L1312=\"FOMO\",L1312=\"Revenge\",L1312=\"Hot Key Mistake\",L1312=\"VWAP Reversal Long\",L1312=\"VWAP Reversal Short\",L1312=\"VWAP False Breakout Long\",L1312=\"VWAP False Breakout Short\",L1312=\"S&R Long\",L1312=\"S&R Short\",L1312=\"Moving Average Long\",L1312=\"Moving Average Short\",L1312=\"Bearish Engulfing Crack\",L1312=\"Top Reversal\",L1312=\"ABCD\"),\"Yes\", \"No\")","v":"No"},"",0,null,0,null,0,0,null,0]
[null,null,null,null,null,null,null,null,null,null,null,null,null,null,null,null,null,null,null,null,null,null,null,null,null,null,null,null,null,null,null,null,null,null,null,null,null,null,"No","",0,null,0,null,0,0,null,0]
[null,null,null,null,null,null,null,null,null,null,null,null,null,null,null,null,null,null,null,null,null,null,null,null,null,null,null,null,null,null,null,null,null,null,null,null,null,null,"No","",0,null,0,null,0,0,null,0]
[null,null,null,null,null,null,null,null,null,null,null,null,null,null,null,null,null,null,null,null,null,null,null,null,null,null,null,null,null,null,null,null,null,null,null,null,null,null,"No","",0,null,0,null,0,0,null,0]
[null,null,null,null,null,null,null,null,null,null,null,null,null,null,null,null,null,null,null,null,null,null,null,null,null,null,null,null,null,null,null,null,null,null,null,null,null,null,"No","",0,null,0,null,0,0,null,0]
[null,null,null,null,null,null,null,null,null,null,null,null,null,null,null,null,null,null,null,null,null,null,null,null,null,null,null,null,null,null,null,null,null,null,null,null,null,null,"No","",0,null,0,null,0,0,null,0]
[null,null,null,null,null,null,null,null,null,null,null,null,null,null,null,null,null,null,null,null,null,null,null,null,null,null,null,null,null,null,null,null,null,null,null,null,null,null,"No","",0,null,0,null,0,0,null,0]
[null,null,null,null,null,null,null,null,null,null,null,null,null,null,null,null,null,null,null,null,null,null,null,null,null,null,null,null,null,null,null,null,null,null,null,null,null,null,"No","",0,null,0,null,0,0,null,0]
[null,null,null,null,null,null,null,null,null,null,null,null,null,null,null,null,null,null,null,null,null,null,null,null,null,null,null,null,null,null,null,null,null,null,null,null,null,null,"No","",0,null,0,null,0,0,null,0]
[null,null,null,null,null,null,null,null,null,null,null,null,null,null,null,null,null,null,null,null,null,null,null,null,null,null,null,null,null,null,null,null,null,null,null,null,null,null,"No","",0,null,0,null,0,0,null,0]
[null,null,null,null,null,null,null,null,null,null,null,null,null,null,null,null,null,null,null,null,null,null,null,null,null,null,null,null,null,null,null,null,null,null,null,null,null,null,"No","",0,null,0,null,0,0,null,0]
[null,null,null,null,null,null,null,null,null,null,null,null,null,null,null,null,null,null,null,null,null,null,null,null,null,null,null,null,null,null,null,null,null,null,null,null,null,null,"No",{"$f":"IF(AM1323=\"Yes\", F1323,\"\")","v":""},{"$f":"N1323","v":0},null,{"$f":"N1323-Q1323","v":0},null,{"$f":"T1323","v":0},{"$f":"N1323","v":0},null,{"$f":"L1323","v":0}]
[null,null,null,null,null,null,null,null,null,null,null,null,null,null,null,null,null,null,null,null,null,null,null,null,null,null,null,null,null,null,null,null,null,null,null,null,null,null,"No","",0,null,0,null,0,0,null,0]
[null,null,null,null,null,null,null,null,null,null,null,null,null,null,null,null,null,null,null,null,null,null,null,null,null,null,null,null,null,null,null,null,null,null,null,null,null,null,"No","",0,null,0,null,0,0,null,0]
[null,null,null,null,null,null,null,null,null,null,null,null,null,null,null,null,null,null,null,null,null,null,null,null,null,null,null,null,null,null,null,null,null,null,null,null,null,null,"No","",0,null,0,null,0,0,null,0]
[null,null,null,null,null,null,null,null,null,null,null,null,null,null,null,null,null,null,null,null,null,null,null,null,null,null,null,null,null,null,null,null,null,null,null,null,null,null,"No","",0,null,0,null,0,0,null,0]
[null,null,null,null,null,null,null,null,null,null,null,null,null,null,null,null,null,null,null,null,null,null,null,null,null,null,null,null,null,null,null,null,null,null,null,null,null,null,"No","",0,null,0,null,0,0,null,0]
[null,null,null,null,null,null,null,null,null,null,null,null,null,null,null,null,null,null,null,null,null,null,null,null,null,null,null,null,null,null,null,null,null,null,null,null,null,null,"No","",0,null,0,null,0,0,null,0]
[null,null,null,null,null,null,null,null,null,null,null,null,null,null,null,null,null,null,null,null,null,null,null,null,null,null,null,null,null,null,null,null,null,null,null,null,null,null,"No","",0,null,0,null,0,0,null,0]
[null,null,null,null,null,null,null,null,null,null,null,null,null,null,null,null,null,null,null,null,null,null,null,null,null,null,null,null,null,null,null,null,null,null,null,null,null,null,"No","",0,null,0,null,0,0,null,0]
[null,null,null,null,null,null,null,null,null,null,null,null,null,null,null,null,null,null,null,null,null,null,null,null,null,null,null,null,null,null,null,null,null,null,null,null,null,null,"No","",0,null,0,null,0,0,null,0]
[null,null,null,null,null,null,null,null,null,null,null,null,null,null,null,null,null,null,null,null,null,null,null,null,null,null,null,null,null,null,null,null,null,null,null,null,null,null,"No","",0,null,0,null,0,0,null,0]
[null,null,null,null,null,null,null,null,null,null,null,null,null,null,null,null,null,null,null,null,null,null,null,null,null,null,null,null,null,null,null,null,null,null,null,null,null,null,"No","",0,null,0,null,0,0,null,0]
[null,null,null,null,null,null,null,null,null,null,null,null,null,null,null,null,null,null,null,null,null,null,null,null,null,null,null,null,null,null,null,null,null,null,null,null,null,null,"No","",0,null,0,null,0,0,null,0]
[null,null,null,null,null,null,null,null,null,null,null,null,null,null,null,null,null,null,null,null,null,null,null,null,null,null,null,null,null,null,null,null,null,null,null,null,null,null,"No","",0,null,0,null,0,0,null,0]
[null,null,null,null,null,null,null,null,null,null,null,null,null,null,null,null,null,null,null,null,null,null,null,null,null,null,null,null,null,null,null,null,null,null,null,null,null,null,"No","",0,null,0,null,0,0,null,0]
[null,null,null,null,null,null,null,null,null,null,null,null,null,null,null,null,null,null,null,null,null,null,null,null,null,null,null,null,null,null,null,null,null,null,null,null,null,null,"No","",0,null,0,null,0,0,null,0]
[null,null,null,null,null,null,null,null,null,null,null,null,null,null,null,null,null,null,null,null,null,null,null,null,null,null,null,null,null,null,null,null,null,null,null,null,null,null,"No","",0,null,0,null,0,0,null,0]
[null,null,null,null,null,null,null,null,null,null,null,null,null,null,null,null,null,null,null,null,null,null,null,null,null,null,null,null,null,null,null,null,null,null,null,null,null,null,"No","",0,null,0,null,0,0,null,0]
[null,null,null,null,null,null,null,null,null,null,null,null,null,null,null,null,null,null,null,null,null,null,null,null,null,null,null,null,null,null,null,null,null,null,null,null,null,null,"No","",0,null,0,null,0,0,null,0]
[null,null,null,null,null,null,null,null,null,null,null,null,null,null,null,null,null,null,null,null,null,null,null,null,null,null,null,null,null,null,null,null,null,null,null,null,null,null,"No","",0,null,0,null,0,0,null,0]
[null,null,null,null,null,null,null,null,null,null,null,null,null,null,null,null,null,null,null,null,null,null,null,null,null,null,null,null,null,null,null,null,null,null,null,null,null,null,"No","",0,null,0,null,0,0,null,0]
[null,null,null,null,null,null,null,null,null,null,null,null,null,null,null,null,null,null,null,null,null,null,null,null,null,null,null,null,null,null,null,null,null,null,null,null,null,null,"No","",0,null,0,null,0,0,null,0]
[null,null,null,null,null,null,null,null,null,null,null,null,null,null,null,null,null,null,null,null,null,null,null,null,null,null,null,null,null,null,null,null,null,null,null,null,null,null,"No","",0,null,0,null,0,0,null,0]
[null,null,null,null,null,null,null,null,null,null,null,null,null,null,null,null,null,null,null,null,null,null,null,null,null,null,null,null,null,null,null,null,null,null,null,null,null,null,"No","",0,null,0,null,0,0,null,0]
[null,null,null,null,null,null,null,null,null,null,null,null,null,null,null,null,null,null,null,null,null,null,null,null,null,null,null,null,null,null,null,null,null,null,null,null,null,null,"No","",0,null,0,null,0,0,null,0]
[null,null,null,null,null,null,null,null,null,null,null,null,null,null,null,null,null,null,null,null,null,null,null,null,null,null,null,null,null,null,null,null,null,null,null,null,null,null,"No","",0,null,0,null,0,0,null,0]
[null,null,null,null,null,null,null,null,null,null,null,null,null,null,null,null,null,null,null,null,null,null,null,null,null,null,null,null,null,null,null,null,null,null,null,null,null,null,"No","",0,null,0,null,0,0,null,0]
[null,null,null,null,null,null,null,null,null,null,null,null,null,null,null,null,null,null,null,null,null,null,null,null,null,null,null,null,null,null,null,null,null,null,null,null,null,null,"No","",0,null,0,null,0,0,null,0]
[null,null,null,null,null,null,null,null,null,null,null,null,null,null,null,null,null,null,null,null,null,null,null,null,null,null,null,null,null,null,null,null,null,null,null,null,null,null,"No","",0,null,0,null,0,0,null,0]
[null,null,null,null,null,null,null,null,null,null,null,null,null,null,null,null,null,null,null,null,null,null,null,null,null,null,null,null,null,null,null,null,null,null,null,null,null,null,"No","",0,null,0,null,0,0,null,0]
[null,null,null,null,null,null,null,null,null,null,null,null,null,null,null,null,null,null,null,null,null,null,null,null,null,null,null,null,null,null,null,null,null,null,null,null,null,null,"No","",0,null,0,null,0,0,null,0]
[null,null,null,null,null,null,null,null,null,null,null,null,null,null,null,null,null,null,null,null,null,null,null,null,null,null,null,null,null,null,null,null,null,null,null,null,null,null,"No","",0,null,0,null,0,0,null,0]
[null,null,null,null,null,null,null,null,null,null,null,null,null,null,null,null,null,null,null,null,null,null,null,null,null,null,null,null,null,null,null,null,null,null,null,null,null,null,"No","",0,null,0,null,0,0,null,0]
[null,null,null,null,null,null,null,null,null,null,null,null,null,null,null,null,null,null,null,null,null,null,null,null,null,null,null,null,null,null,null,null,null,null,null,null,null,null,"No","",0,null,0,null,0,0,null,0]
[null,null,null,null,null,null,null,null,null,null,null,null,null,null,null,null,null,null,null,null,null,null,null,null,null,null,null,null,null,null,null,null,null,null,null,null,null,null,"No","",0,null,0,null,0,0,null,0]
[null,null,null,null,null,null,null,null,null,null,null,null,null,null,null,null,null,null,null,null,null,null,null,null,null,null,null,null,null,null,null,null,null,null,null,null,null,null,"No","",0,null,0,null,0,0,null,0]
[null,null,null,null,null,null,null,null,null,null,null,null,null,null,null,null,null,null,null,null,null,null,null,null,null,null,null,null,null,null,null,null,null,null,null,null,null,null,"No","",0,null,0,null,0,0,null,0]
[null,null,null,null,null,null,null,null,null,null,null,null,null,null,null,null,null,null,null,null,null,null,null,null,null,null,null,null,null,null,null,null,null,null,null,null,null,null,"No","",0,null,0,null,0,0,null,0]
[null,null,null,null,null,null,null,null,null,null,null,null,null,null,null,null,null,null,null,null,null,null,null,null,null,null,null,null,null,null,null,null,null,null,null,null,null,null,"No","",0,null,0,null,0,0,null,0]
[null,null,null,null,null,null,null,null,null,null,null,null,null,null,null,null,null,null,null,null,null,null,null,null,null,null,null,null,null,null,null,null,null,null,null,null,null,null,"No","",0,null,0,null,0,0,null,0]
[null,null,null,null,null,null,null,null,null,null,null,null,null,null,null,null,null,null,null,null,null,null,null,null,null,null,null,null,null,null,null,null,null,null,null,null,null,null,"No","",0,null,0,null,0,0,null,0]
[null,null,null,null,null,null,null,null,null,null,null,null,null,null,null,null,null,null,null,null,null,null,null,null,null,null,null,null,null,null,null,null,null,null,null,null,null,null,"No","",0,null,0,null,0,0,null,0]
[null,null,null,null,null,null,null,null,null,null,null,null,null,null,null,null,null,null,null,null,null,null,null,null,null,null,null,null,null,null,null,null,null,null,null,null,null,null,"No","",0,null,0,null,0,0,null,0]
[null,null,null,null,null,null,null,null,null,null,null,null,null,null,null,null,null,null,null,null,null,null,null,null,null,null,null,null,null,null,null,null,null,null,null,null,null,null,"No","",0,null,0,null,0,0,null,0]
[null,null,null,null,null,null,null,null,null,null,null,null,null,null,null,null,null,null,null,null,null,null,null,null,null,null,null,null,null,null,null,null,null,null,null,null,null,null,"No","",0,null,0,null,0,0,null,0]
[null,null,null,null,null,null,null,null,null,null,null,null,null,null,null,null,null,null,null,null,null,null,null,null,null,null,null,null,null,null,null,null,null,null,null,null,null,null,"No","",0,null,0,null,0,0,null,0]
[null,null,null,null,null,null,null,null,null,null,null,null,null,null,null,null,null,null,null,null,null,null,null,null,null,null,null,null,null,null,null,null,null,null,null,null,null,null,"No","",0,null,0,null,0,0,null,0]
[null,null,null,null,null,null,null,null,null,null,null,null,null,null,null,null,null,null,null,null,null,null,null,null,null,null,null,null,null,null,null,null,null,null,null,null,null,null,"No","",0,null,0,null,0,0,null,0]
[null,null,null,null,null,null,null,null,null,null,null,null,null,null,null,null,null,null,null,null,null,null,null,null,null,null,null,null,null,null,null,null,null,null,null,null,null,null,"No","",0,null,0,null,0,0,null,0]
[null,null,null,null,null,null,null,null,null,null,null,null,null,null,null,null,null,null,null,null,null,null,null,null,null,null,null,null,null,null,null,null,null,null,null,null,null,null,"No","",0,null,0,null,0,0,null,0]
[null,null,null,null,null,null,null,null,null,null,null,null,null,null,null,null,null,null,null,null,null,null,null,null,null,null,null,null,null,null,null,null,null,null,null,null,null,null,"No","",0,null,0,null,0,0,null,0]
[null,null,null,null,null,null,null,null,null,null,null,null,null,null,null,null,null,null,null,null,null,null,null,null,null,null,null,null,null,null,null,null,null,null,null,null,null,null,"No","",0,null,0,null,0,0,null,0]
[null,null,null,null,null,null,null,null,null,null,null,null,null,null,null,null,null,null,null,null,null,null,null,null,null,null,null,null,null,null,null,null,null,null,null,null,null,null,"No","",0,null,0,null,0,0,null,0]
[null,null,null,null,null,null,null,null,null,null,null,null,null,null,null,null,null,null,null,null,null,null,null,null,null,null,null,null,null,null,null,null,null,null,null,null,null,null,{"$f":"IF(OR(L1376=\"5 Min ORBO\",L1376=\"5 Min ORBD\",L1376=\"15 Min ORBO\",L1376=\"15 Min ORBD\",L1376=\"MA-X-L\",L1376=\"MA-X-S\",L1376=\"FOMO\",L1376=\"Revenge\",L1376=\"Hot Key Mistake\",L1376=\"VWAP Reversal Long\",L1376=\"VWAP Reversal Short\",L1376=\"VWAP False Breakout Long\",L1376=\"VWAP False Breakout Short\",L1376=\"S&R Long\",L1376=\"S&R Short\",L1376=\"Moving Average Long\",L1376=\"Moving Average Short\",L1376=\"Bearish Engulfing Crack\",L1376=\"Top Reversal\",L1376=\"ABCD\"),\"Yes\", \"No\")","v":"No"},"",0,null,0,null,0,0,null,0]
[null,null,null,null,null,null,null,null,null,null,null,null,null,null,null,null,null,null,null,null,null,null,null,null,null,null,null,null,null,null,null,null,null,null,null,null,null,null,"No","",0,null,0,null,0,0,null,0]
[null,null,null,null,null,null,null,null,null,null,null,null,null,null,null,null,null,null,null,null,null,null,null,null,null,null,null,null,null,null,null,null,null,null,null,null,null,null,"No","",0,null,0,null,0,0,null,0]
[null,null,null,null,null,null,null,null,null,null,null,null,null,null,null,null,null,null,null,null,null,null,null,null,null,null,null,null,null,null,null,null,null,null,null,null,null,null,"No","",0,null,0,null,0,0,null,0]
[null,null,null,null,null,null,null,null,null,null,null,null,null,null,null,null,null,null,null,null,null,null,null,null,null,null,null,null,null,null,null,null,null,null,null,null,null,null,"No","",0,null,0,null,0,0,null,0]
[null,null,null,null,null,null,null,null,null,null,null,null,null,null,null,null,null,null,null,null,null,null,null,null,null,null,null,null,null,null,null,null,null,null,null,null,null,null,"No","",0,null,0,null,0,0,null,0]
[null,null,null,null,null,null,null,null,null,null,null,null,null,null,null,null,null,null,null,null,null,null,null,null,null,null,null,null,null,null,null,null,null,null,null,null,null,null,"No","",0,null,0,null,0,0,null,0]
[null,null,null,null,null,null,null,null,null,null,null,null,null,null,null,null,null,null,null,null,null,null,null,null,null,null,null,null,null,null,null,null,null,null,null,null,null,null,"No","",0,null,0,null,0,0,null,0]
[null,null,null,null,null,null,null,null,null,null,null,null,null,null,null,null,null,null,null,null,null,null,null,null,null,null,null,null,null,null,null,null,null,null,null,null,null,null,"No","",0,null,0,null,0,0,null,0]
[null,null,null,null,null,null,null,null,null,null,null,null,null,null,null,null,null,null,null,null,null,null,null,null,null,null,null,null,null,null,null,null,null,null,null,null,null,null,"No","",0,null,0,null,0,0,null,0]
[null,null,null,null,null,null,null,null,null,null,null,null,null,null,null,null,null,null,null,null,null,null,null,null,null,null,null,null,null,null,null,null,null,null,null,null,null,null,"No","",0,null,0,null,0,0,null,0]
[null,null,null,null,null,null,null,null,null,null,null,null,null,null,null,null,null,null,null,null,null,null,null,null,null,null,null,null,null,null,null,null,null,null,null,null,null,null,"No",{"$f":"IF(AM1387=\"Yes\", F1387,\"\")","v":""},{"$f":"N1387","v":0},null,{"$f":"N1387-Q1387","v":0},null,{"$f":"T1387","v":0},{"$f":"N1387","v":0},null,{"$f":"L1387","v":0}]
[null,null,null,null,null,null,null,null,null,null,null,null,null,null,null,null,null,null,null,null,null,null,null,null,null,null,null,null,null,null,null,null,null,null,null,null,null,null,"No","",0,null,0,null,0,0,null,0]
[null,null,null,null,null,null,null,null,null,null,null,null,null,null,null,null,null,null,null,null,null,null,null,null,null,null,null,null,null,null,null,null,null,null,null,null,null,null,"No","",0,null,0,null,0,0,null,0]
[null,null,null,null,null,null,null,null,null,null,null,null,null,null,null,null,null,null,null,null,null,null,null,null,null,null,null,null,null,null,null,null,null,null,null,null,null,null,"No","",0,null,0,null,0,0,null,0]
[null,null,null,null,null,null,null,null,null,null,null,null,null,null,null,null,null,null,null,null,null,null,null,null,null,null,null,null,null,null,null,null,null,null,null,null,null,null,"No","",0,null,0,null,0,0,null,0]
[null,null,null,null,null,null,null,null,null,null,null,null,null,null,null,null,null,null,null,null,null,null,null,null,null,null,null,null,null,null,null,null,null,null,null,null,null,null,"No","",0,null,0,null,0,0,null,0]
[null,null,null,null,null,null,null,null,null,null,null,null,null,null,null,null,null,null,null,null,null,null,null,null,null,null,null,null,null,null,null,null,null,null,null,null,null,null,"No","",0,null,0,null,0,0,null,0]
[null,null,null,null,null,null,null,null,null,null,null,null,null,null,null,null,null,null,null,null,null,null,null,null,null,null,null,null,null,null,null,null,null,null,null,null,null,null,"No","",0,null,0,null,0,0,null,0]
[null,null,null,null,null,null,null,null,null,null,null,null,null,null,null,null,null,null,null,null,null,null,null,null,null,null,null,null,null,null,null,null,null,null,null,null,null,null,"No","",0,null,0,null,0,0,null,0]
[null,null,null,null,null,null,null,null,null,null,null,null,null,null,null,null,null,null,null,null,null,null,null,null,null,null,null,null,null,null,null,null,null,null,null,null,null,null,"No","",0,null,0,null,0,0,null,0]
[null,null,null,null,null,null,null,null,null,null,null,null,null,null,null,null,null,null,null,null,null,null,null,null,null,null,null,null,null,null,null,null,null,null,null,null,null,null,"No","",0,null,0,null,0,0,null,0]
[null,null,null,null,null,null,null,null,null,null,null,null,null,null,null,null,null,null,null,null,null,null,null,null,null,null,null,null,null,null,null,null,null,null,null,null,null,null,"No","",0,null,0,null,0,0,null,0]
[null,null,null,null,null,null,null,null,null,null,null,null,null,null,null,null,null,null,null,null,null,null,null,null,null,null,null,null,null,null,null,null,null,null,null,null,null,null,"No","",0,null,0,null,0,0,null,0]
[null,null,null,null,null,null,null,null,null,null,null,null,null,null,null,null,null,null,null,null,null,null,null,null,null,null,null,null,null,null,null,null,null,null,null,null,null,null,"No","",0,null,0,null,0,0,null,0]
[null,null,null,null,null,null,null,null,null,null,null,null,null,null,null,null,null,null,null,null,null,null,null,null,null,null,null,null,null,null,null,null,null,null,null,null,null,null,"No","",0,null,0,null,0,0,null,0]
[null,null,null,null,null,null,null,null,null,null,null,null,null,null,null,null,null,null,null,null,null,null,null,null,null,null,null,null,null,null,null,null,null,null,null,null,null,null,"No","",0,null,0,null,0,0,null,0]
[null,null,null,null,null,null,null,null,null,null,null,null,null,null,null,null,null,null,null,null,null,null,null,null,null,null,null,null,null,null,null,null,null,null,null,null,null,null,"No","",{"$f":"N1403","v":0},null,0,null,0,0,null,0]
[null,null,null,null,null,null,null,null,null,null,null,null,null,null,null,null,null,null,null,null,null,null,null,null,null,null,null,null,null,null,null,null,null,null,null,null,null,null,"No","",0,null,0,null,0,0,null,0]
[null,null,null,null,null,null,null,null,null,null,null,null,null,null,null,null,null,null,null,null,null,null,null,null,null,null,null,null,null,null,null,null,null,null,null,null,null,null,"No","",0,null,0,null,0,0,null,0]
[null,null,null,null,null,null,null,null,null,null,null,null,null,null,null,null,null,null,null,null,null,null,null,null,null,null,null,null,null,null,null,null,null,null,null,null,null,null,"No","",0,null,0,null,0,0,null,0]
[null,null,null,null,null,null,null,null,null,null,null,null,null,null,null,null,null,null,null,null,null,null,null,null,null,null,null,null,null,null,null,null,null,null,null,null,null,null,"No","",0,null,0,null,0,0,null,0]
[null,null,null,null,null,null,null,null,null,null,null,null,null,null,null,null,null,null,null,null,null,null,null,null,null,null,null,null,null,null,null,null,null,null,null,null,null,null,"No","",0,null,0,null,0,0,null,0]
[null,null,null,null,null,null,null,null,null,null,null,null,null,null,null,null,null,null,null,null,null,null,null,null,null,null,null,null,null,null,null,null,null,null,null,null,null,null,"No","",0,null,0,null,0,0,null,0]
[null,null,null,null,null,null,null,null,null,null,null,null,null,null,null,null,null,null,null,null,null,null,null,null,null,null,null,null,null,null,null,null,null,null,null,null,null,null,"No","",0,null,0,null,0,0,null,0]
[null,null,null,null,null,null,null,null,null,null,null,null,null,null,null,null,null,null,null,null,null,null,null,null,null,null,null,null,null,null,null,null,null,null,null,null,null,null,"No","",0,null,0,null,0,0,null,0]
[null,null,null,null,null,null,null,null,null,null,null,null,null,null,null,null,null,null,null,null,null,null,null,null,null,null,null,null,null,null,null,null,null,null,null,null,null,null,"No","",0,null,0,null,0,0,null,0]
[null,null,null,null,null,null,null,null,null,null,null,null,null,null,null,null,null,null,null,null,null,null,null,null,null,null,null,null,null,null,null,null,null,null,null,null,null,null,"No","",0,null,0,null,0,0,null,0]
[null,null,null,null,null,null,null,null,null,null,null,null,null,null,null,null,null,null,null,null,null,null,null,null,null,null,null,null,null,null,null,null,null,null,null,null,null,null,"No","",0,null,0,null,0,0,null,0]
[null,null,null,null,null,null,null,null,null,null,null,null,null,null,null,null,null,null,null,null,null,null,null,null,null,null,null,null,null,null,null,null,null,null,null,null,null,null,"No","",0,null,0,null,0,0,null,0]
[null,null,null,null,null,null,null,null,null,null,null,null,null,null,null,null,null,null,null,null,null,null,null,null,null,null,null,null,null,null,null,null,null,null,null,null,null,null,"No","",0,null,0,null,0,0,null,0]
[null,null,null,null,null,null,null,null,null,null,null,null,null,null,null,null,null,null,null,null,null,null,null,null,null,null,null,null,null,null,null,null,null,null,null,null,null,null,"No","",0,null,0,null,0,0,null,0]
[null,null,null,null,null,null,null,null,null,null,null,null,null,null,null,null,null,null,null,null,null,null,null,null,null,null,null,null,null,null,null,null,null,null,null,null,null,null,"No","",0,null,0,null,0,0,null,0]
[null,null,null,null,null,null,null,null,null,null,null,null,null,null,null,null,null,null,null,null,null,null,null,null,null,null,null,null,null,null,null,null,null,null,null,null,null,null,"No","",0,null,0,null,0,0,null,0]
[null,null,null,null,null,null,null,null,null,null,null,null,null,null,null,null,null,null,null,null,null,null,null,null,null,null,null,null,null,null,null,null,null,null,null,null,null,null,"No","",0,null,0,null,0,0,null,0]
[null,null,null,null,null,null,null,null,null,null,null,null,null,null,null,null,null,null,null,null,null,null,null,null,null,null,null,null,null,null,null,null,null,null,null,null,null,null,"No","",0,null,0,null,0,0,null,0]
[null,null,null,null,null,null,null,null,null,null,null,null,null,null,null,null,null,null,null,null,null,null,null,null,null,null,null,null,null,null,null,null,null,null,null,null,null,null,"No","",0,null,0,null,0,0,null,0]
[null,null,null,null,null,null,null,null,null,null,null,null,null,null,null,null,null,null,null,null,null,null,null,null,null,null,null,null,null,null,null,null,null,null,null,null,null,null,"No","",0,null,0,null,0,0,null,0]
[null,null,null,null,null,null,null,null,null,null,null,null,null,null,null,null,null,null,null,null,null,null,null,null,null,null,null,null,null,null,null,null,null,null,null,null,null,null,"No","",0,null,0,null,0,0,null,0]
[null,null,null,null,null,null,null,null,null,null,null,null,null,null,null,null,null,null,null,null,null,null,null,null,null,null,null,null,null,null,null,null,null,null,null,null,null,null,"No","",0,null,0,null,0,0,null,0]
[null,null,null,null,null,null,null,null,null,null,null,null,null,null,null,null,null,null,null,null,null,null,null,null,null,null,null,null,null,null,null,null,null,null,null,null,null,null,"No","",0,null,0,null,0,0,null,0]
[null,null,null,null,null,null,null,null,null,null,null,null,null,null,null,null,null,null,null,null,null,null,null,null,null,null,null,null,null,null,null,null,null,null,null,null,null,null,"No","",0,null,0,null,0,0,null,0]
[null,null,null,null,null,null,null,null,null,null,null,null,null,null,null,null,null,null,null,null,null,null,null,null,null,null,null,null,null,null,null,null,null,null,null,null,null,null,"No","",0,null,0,null,0,0,null,0]
[null,null,null,null,null,null,null,null,null,null,null,null,null,null,null,null,null,null,null,null,null,null,null,null,null,null,null,null,null,null,null,null,null,null,null,null,null,null,"No","",0,null,0,null,0,0,null,0]
[null,null,null,null,null,null,null,null,null,null,null,null,null,null,null,null,null,null,null,null,null,null,null,null,null,null,null,null,null,null,null,null,null,null,null,null,null,null,"No","",0,null,0,null,0,0,null,0]
[null,null,null,null,null,null,null,null,null,null,null,null,null,null,null,null,null,null,null,null,null,null,null,null,null,null,null,null,null,null,null,null,null,null,null,null,null,null,"No","",0,null,0,null,0,0,null,0]
[null,null,null,null,null,null,null,null,null,null,null,null,null,null,null,null,null,null,null,null,null,null,null,null,null,null,null,null,null,null,null,null,null,null,null,null,null,null,"No","",0,null,0,null,0,0,null,0]
[null,null,null,null,null,null,null,null,null,null,null,null,null,null,null,null,null,null,null,null,null,null,null,null,null,null,null,null,null,null,null,null,null,null,null,null,null,null,"No","",0,null,0,null,0,0,null,0]
[null,null,null,null,null,null,null,null,null,null,null,null,null,null,null,null,null,null,null,null,null,null,null,null,null,null,null,null,null,null,null,null,null,null,null,null,null,null,"No","",0,null,0,null,0,0,null,0]
[null,null,null,null,null,null,null,null,null,null,null,null,null,null,null,null,null,null,null,null,null,null,null,null,null,null,null,null,null,null,null,null,null,null,null,null,null,null,"No","",0,null,0,null,0,0,null,0]
[null,null,null,null,null,null,null,null,null,null,null,null,null,null,null,null,null,null,null,null,null,null,null,null,null,null,null,null,null,null,null,null,null,null,null,null,null,null,"No","",0,null,0,null,0,0,null,0]
[null,null,null,null,null,null,null,null,null,null,null,null,null,null,null,null,null,null,null,null,null,null,null,null,null,null,null,null,null,null,null,null,null,null,null,null,null,null,"No","",0,null,0,null,0,0,null,0]
[null,null,null,null,null,null,null,null,null,null,null,null,null,null,null,null,null,null,null,null,null,null,null,null,null,null,null,null,null,null,null,null,null,null,null,null,null,null,"No","",0,null,0,null,0,0,null,0]
[null,null,null,null,null,null,null,null,null,null,null,null,null,null,null,null,null,null,null,null,null,null,null,null,null,null,null,null,null,null,null,null,null,null,null,null,null,null,"No","",0,null,0,null,{"$f":"T1439","v":0},0,null,0]
[null,null,null,null,null,null,null,null,null,null,null,null,null,null,null,null,null,null,null,null,null,null,null,null,null,null,null,null,null,null,null,null,null,null,null,null,null,null,{"$f":"IF(OR(L1440=\"5 Min ORBO\",L1440=\"5 Min ORBD\",L1440=\"15 Min ORBO\",L1440=\"15 Min ORBD\",L1440=\"MA-X-L\",L1440=\"MA-X-S\",L1440=\"FOMO\",L1440=\"Revenge\",L1440=\"Hot Key Mistake\",L1440=\"VWAP Reversal Long\",L1440=\"VWAP Reversal Short\",L1440=\"VWAP False Breakout Long\",L1440=\"VWAP False Breakout Short\",L1440=\"S&R Long\",L1440=\"S&R Short\",L1440=\"Moving Average Long\",L1440=\"Moving Average Short\",L1440=\"Bearish Engulfing Crack\",L1440=\"Top Reversal\",L1440=\"ABCD\"),\"Yes\", \"No\")","v":"No"},"",0,null,{"$f":"N1440-Q1440","v":0},null,0,{"$f":"N1440","v":0},null,{"$f":"L1440","v":0}]
[null,null,null,null,null,null,null,null,null,null,null,null,null,null,null,null,null,null,null,null,null,null,null,null,null,null,null,null,null,null,null,null,null,null,null,null,null,null,"No","",0,null,0,null,0,0,null,0]
[null,null,null,null,null,null,null,null,null,null,null,null,null,null,null,null,null,null,null,null,null,null,null,null,null,null,null,null,null,null,null,null,null,null,null,null,null,null,"No","",0,null,0,null,0,0,null,0]
[null,null,null,null,null,null,null,null,null,null,null,null,null,null,null,null,null,null,null,null,null,null,null,null,null,null,null,null,null,null,null,null,null,null,null,null,null,null,"No","",0,null,0,null,0,0,null,0]
[null,null,null,null,null,null,null,null,null,null,null,null,null,null,null,null,null,null,null,null,null,null,null,null,null,null,null,null,null,null,null,null,null,null,null,null,null,null,"No","",0,null,0,null,0,0,null,0]
[null,null,null,null,null,null,null,null,null,null,null,null,null,null,null,null,null,null,null,null,null,null,null,null,null,null,null,null,null,null,null,null,null,null,null,null,null,null,"No","",0,null,0,null,0,0,null,0]

{"sheet":"Daily Snapshot","index":3,"n_rows":14,"n_cols":40,"rows_kept":14,"cut":false,"hidden":false,"merged":[]}
["Day","Date","Live/Sim","Gross Profit","Net Profit","Commissions","No. of trades","No. executions",null,"Detailed summary of day's trading"]
[{"$f":"TEXT(B2,\"ddd\")","v":"Mon"},"2020-02-03","live",{"$f":"VLOOKUP(B2, Calculations!$G$32:$N$294,8,FALSE)","v":0},{"$f":"IF(C2=Calculations!$F$28,'Daily Snapshot'!D2,VLOOKUP(B2,Calculations!$G$32:$N$294,3,FALSE))","v":0},{"$f":"VLOOKUP(B2, Calculations!$G$32:$N$294,6,FALSE)","v":0},{"$f":"VLOOKUP(B2, Calculations!$G$32:$N$294,5,FALSE)","v":0},{"$f":"VLOOKUP(B2, Calculations!$G$32:$N$294,7,FALSE)","v":0}]
[null,null,null,null,null,null,null,null,null,null,null,null,"Trade Analysis",null,null,null,null,null,null,null,null,null,"Psychology - Prior to Trade",null,null,null,null,null,null,"Psychology - Prior to Trade",null,null,null,null,null,null,"Psychology - Prior to Trade"]
[null,"CreateTime","Symbol","Type","Realized","Company Name","Account","Profit/Loss","Trade Plan","Indicators","Confirmation","Risk","Profit Target","Stop Loss","Entry","Profit Taking","If-Then","Psychology","Overall","Focus","Confidence","Anxiety","Calmness","FOBW","Hesitation","Overall","Focus","Confidence","Anxiety","Calmness","FOBW","Self-Sab","Overall","Discipline","Courage","Patience","Impartiality","Satisfaction","Competent","Overall"]
[null,"13:42:53","AMD",0,"Short","Advanced Micro Devices, Inc. - Common Stock","CME0877",{"$f":"SUM(D5)","v":0},"Yes","Great","Great","Great","Great","Great","Great","Great","Great","Great","Great","Great","Great","Great","Great","Great","Great","Great","Great","Great","Great","Great","Great","Great","Great","Great","Great","Great","Great","Great","Great","Great"]
[null,"14:03:17","AMD",-16,"Margin","Advanced Micro Devices, Inc. - Common Stock","CME0877",{"$f":"SUM(D6)","v":-16},"No","Good","Good","Good","Good","Good","Good","Good","Good","Good","Good","Good","Good","Good","Good","Good","Good","Good","Good","Good","Good","Good","Good","Good","Good","Good","Good","Good","Good","Good","Good","Good"]
[null,"14:15:36","AMD",0,"Margin","Advanced Micro Devices, Inc. - Common Stock","CME0877",0,null,"Alright","Alright","Alright","Alright","Alright","Alright","Alright","Alright","Alright","Alright","Alright","Alright","Alright","Alright","Alright","Alright","Alright","Alright","Alright","Alright","Alright","Alright","Alright","Alright","Alright","Alright","Alright","Alright","Alright","Alright","Alright"]
[null,"14:28:58","AMD",7.98,"Margin","Advanced Micro Devices, Inc. - Common Stock","CME0877",7.98,null,"Bad","Bad","Bad","Bad","Bad","Bad","Bad","Bad","Bad","Bad","Bad","Bad","Bad","Bad","Bad","Bad","Bad","Bad","Bad","Bad","Bad","Bad","Bad","Bad","Bad","Bad","Bad","Bad","Bad","Bad","Bad"]
[null,"14:32:55","AMD",0,"Margin","Advanced Micro Devices, Inc. - Common Stock","CME0877",0,null,"Terrible","Terrible","Terrible","Terrible","Terrible","Terrible","Terrible","Terrible","Terrible","Terrible","Terrible","Terrible","Terrible","Terrible","Terrible","Terrible","Terrible","Terrible","Terrible","Terrible","Terrible","Terrible","Terrible","Terrible","Terrible","Terrible","Terrible","Terrible","Terrible","Terrible","Terrible"]
[]
[]
[null," "," "]
[null," "]
[null,null,null,null,null," "]

{"sheet":"Calculations","index":4,"n_rows":5023,"n_cols":83,"rows_kept":1125,"cut":true,"hidden":false,"merged":[[27,59,27,62],[22,26,22,31],[16,21,16,22],[30,5,30,13],[24,5,24,6],[1,1,1,5],[1,8,1,12],[1,18,1,22],[2,21,2,22],[3,21,3,22],[5,21,5,22],[6,21,6,22],[7,21,7,22],[17,21,17,22],[12,21,12,22],[13,21,13,22],[14,21,14,22],[15,21,15,22],[22,64,22,68],[0,0,0,14],[8,21,8,22],[9,21,9,22],[10,21,10,22],[1,24,1,27],[1,34,1,36],[20,0,21,2],[21,18,21,21],[11,21,11,22],[0,64,0,82],[1,64,1,82],[6,64,6,82],[11,64,11,82],[16,64,16,82],[4,21,4,22]],"bounds":{"rows_first":500,"rows_last":125,"rows_between":500,"halvings":2}}
["DO NOT EDIT OR MAKE ANY CHANGES TO THIS SHEET. IT CONTAINS ALL FORMULAS FOR THE JOURNAL TO FUNCTION.",null,null,null,null,null,null,null,null,null,null,null,null,null,null,null,null,null,null,null,null,null,null,null,null,null,null,null,null,null,null,null,null,null,null,null,null,null,null,null,null,null,null,null,null,null,null,null,null,null,null,null,null,null,null,null,null,null,null,null,null,null,null,null,"For: RULE ANALYSIS"]
[null,"Trade Distribution by Price",null,null,null,null,null,null,"Performance by price",null,null,null,null,null,null,null,null,null,"Distribution by volume traded",null,null,null,null,null,"Performance by volume traded",null,null,null,null,null,null,null,null,"Data","For: WIN LOSS CHART",null,null,null,null,null,null,null,null,null,"For: WIN LOSS % over 30 days CHART",null,null,null,null,"For: TRADE DISTRIBUTION BY TIME HELD",null,null,null,null,"For: PERFORMANCE BY TIME HELD",null,null,null,null,null,null,null,null,null,"Week"]
[null,"from ","to","interval","interval","total no. trades",null,null,"from ","to","interval","interval","total profit",null,null,null,null,null,"from ","to","interval","total executions",null,null,"from ","to","interval","total profit",null,null,null,"ONLY for 5,000 trades",null,"trade ID","Outcome","W","L",null,null,null,null,null,null,null,"Day no.","Date","Weekday","% win rate",null,"from ","to","interval","total no. trades",null,"from ","to","interval","total profit",null,null,null,null,null,null,null,"Rule 1","Rule 2","Rule 3","Rule 4","Rule 5","Rule 6","Rule 7","Rule 8","Rule 9","Rule 10","Rule 11","Rule 12","Rule 13a","Rule 13b","Rule 14","Rule 15","Rule 16","Rule 17"]
["$",0,2,{"$f":"B4&\"-\"&C4","v":"0-2"},{"$f":"A4&\"\"&D4","v":"$0-2"},{"$f":"COUNTIFS(Journal!AM:AM,\"Yes\",Journal!$AN:$AN,\">\"&Calculations!$B4,Journal!$AN:$AN,\"<=\"&Calculations!$C4)","v":0},null,"$",0,2,{"$f":"I4&\"-\"&J4","v":"0-2"},{"$f":"H4&\"\"&K4","v":"$0-2"},{"$f":"SUMIFS(Journal!$AO:$AO,Journal!$AM:$AM,\"Yes\",Journal!$AN:$AN,\">\"&Calculations!$B4,Journal!$AN:$AN,\"<=\"&Calculations!$C4)","v":0},null,null,null,null,null,0,50,{"$f":"S4&\"-\"&T4","v":"0-50"},{"$f":"COUNTIFS(Journal!$G:$G,\">=\"&$S4,Journal!$G:$G,\"<=\"&$T4)","v":0},null,null,0,50,{"$f":"Y4&\"-\"&Z4","v":"0-50"},{"$f":"SUMIFS(Journal!$N:$N,Journal!$G:$G,\">\"&$Y4,Journal!$G:$G,\"<=\"&$Z4)","v":0},null,null,null,null,null,1,{"$f":"IFERROR(VLOOKUP(AH4,Journal!$R:$S,2,FALSE),\"\")","v":"W"},{"$f":"IF($AI4=\"W\", 1,0)","v":1},{"$f":"IF($AI4=\"L\", -1,0)","v":0},null,null,null,null,null,null,null,1,{"$f":"G33","v":"2020-01-01"},{"$f":"TEXT(AT4,\"dddd\")","v":"Wednesday"},{"$f":"IFERROR(COUNTIFS(Journal!$S:$S,\"W\",Journal!$B:$B,AT4)/VLOOKUP(AT4,G33:K297,5,FALSE),\"no trades\")","v":"no trades"},null,0,1,{"$f":"AX4&\"-\"&AY4","v":"0-1"},{"$f":"COUNTIFS(Journal!$AM:$AM,\"Yes\",Journal!$AS:$AS,\">=\"&Calculations!$AX4,Journal!$AS:$AS,\"<=\"&Calculations!$AY4)","v":0},null,0,1,{"$f":"BC4&\"-\"&BD4","v":"0-1"},{"$f":"SUMIFS(Journal!$AT:$AT,Journal!$AM:$AM,\"Yes\",Journal!$AS:$AS,\">\"&Calculations!$BC4,Journal!$AS:$AS,\"<=\"&Calculations!$BD4)","v":0},null,null,null,null,null,null,"Followed",{"$f":"COUNTIF('Rule Following'!B3:B9706,\"Yes\")","v":0},{"$f":"COUNTIF('Rule Following'!C3:C9706,\"Yes\")","v":0},{"$f":"COUNTIF('Rule Following'!D3:D9706,\"Yes\")","v":0},{"$f":"COUNTIF('Rule Following'!E3:E9706,\"Yes\")","v":0},{"$f":"COUNTIF('Rule Following'!F3:F9706,\"Yes\")","v":0},{"$f":"COUNTIF('Rule Following'!G3:G9706,\"Yes\")","v":0},{"$f":"COUNTIF('Rule Following'!H3:H9706,\"Yes\")","v":0},{"$f":"COUNTIF('Rule Following'!I3:I9706,\"Yes\")","v":0},{"$f":"COUNTIF('Rule Following'!J3:J9706,\"Yes\")","v":0},{"$f":"COUNTIF('Rule Following'!K3:K9706,\"Yes\")","v":0},{"$f":"COUNTIF('Rule Following'!L3:L9706,\"Yes\")","v":0},{"$f":"COUNTIF('Rule Following'!M3:M9706,\"Yes\")","v":0},{"$f":"COUNTIF('Rule Following'!N3:N9706,\"Yes\")","v":0},{"$f":"COUNTIF('Rule Following'!O3:O9706,\"Yes\")","v":0},{"$f":"COUNTIF('Rule Following'!P3:P9706,\"Yes\")","v":0},{"$f":"COUNTIF('Rule Following'!Q3:Q9706,\"Yes\")","v":0},{"$f":"COUNTIF('Rule Following'!R3:R9706,\"Yes\")","v":0},{"$f":"COUNTIF('Rule Following'!S3:S9706,\"Yes\")","v":0}]
["$",2.0099999999999998,5,"2.01-5","$2.01-5",{"$f":"COUNTIFS(Journal!AM:AM,\"Yes\",Journal!$AN:$AN,\">\"&Calculations!$B5,Journal!$AN:$AN,\"<=\"&Calculations!$C5)","v":0},null,"$",2.0099999999999998,5,"2.01-5","$2.01-5",{"$f":"SUMIFS(Journal!$AO:$AO,Journal!$AM:$AM,\"Yes\",Journal!$AN:$AN,\">\"&Calculations!$B5,Journal!$AN:$AN,\"<=\"&Calculations!$C5)","v":0},null,null,null,null,null,51,100,"51-100",{"$f":"COUNTIFS(Journal!$G:$G,\">=\"&$S5,Journal!$G:$G,\"<=\"&$T5)","v":2},null,null,51,100,"51-100",{"$f":"SUMIFS(Journal!$N:$N,Journal!$G:$G,\">\"&$Y5,Journal!$G:$G,\"<=\"&$Z5)","v":0},null,null,null,null,null,2,{"$f":"IFERROR(VLOOKUP(AH5,Journal!$R:$S,2,FALSE),\"\")","v":""},0,0,null,null,null,null,null,null,null,2,{"$f":"G34","v":"2020-01-02"},"Thursday",{"$f":"IFERROR(COUNTIFS(Journal!$S:$S,\"W\",Journal!$B:$B,AT5)/VLOOKUP(AT5,G34:K298,5,FALSE),\"no trades\")","v":"no trades"},null,1.01,5,"1.01-5",{"$f":"COUNTIFS(Journal!$AM:$AM,\"Yes\",Journal!$AS:$AS,\">=\"&Calculations!$AX5,Journal!$AS:$AS,\"<=\"&Calculations!$AY5)","v":0},null,1.01,5,"1.01-5",{"$f":"SUMIFS(Journal!$AT:$AT,Journal!$AM:$AM,\"Yes\",Journal!$AS:$AS,\">\"&Calculations!$BC5,Journal!$AS:$AS,\"<=\"&Calculations!$BD5)","v":0},null,null,null,null,null,null,"Broke",{"$f":"COUNTIF('Rule Following'!B3:B9706,\"No\")*-1","v":-1},{"$f":"COUNTIF('Rule Following'!C3:C9706,\"No\")*-1","v":-1},{"$f":"COUNTIF('Rule Following'!D3:D9706,\"No\")*-1","v":-1},{"$f":"COUNTIF('Rule Following'!E3:E9706,\"No\")*-1","v":-1},{"$f":"COUNTIF('Rule Following'!F3:F9706,\"No\")*-1","v":-1},{"$f":"COUNTIF('Rule Following'!G3:G9706,\"No\")*-1","v":-1},{"$f":"COUNTIF('Rule Following'!H3:H9706,\"No\")*-1","v":-1},{"$f":"COUNTIF('Rule Following'!I3:I9706,\"No\")*-1","v":-1},{"$f":"COUNTIF('Rule Following'!J3:J9706,\"No\")*-1","v":-1},{"$f":"COUNTIF('Rule Following'!K3:K9706,\"No\")*-1","v":-1},{"$f":"COUNTIF('Rule Following'!L3:L9706,\"No\")*-1","v":-1},{"$f":"COUNTIF('Rule Following'!M3:M9706,\"No\")*-1","v":-1},{"$f":"COUNTIF('Rule Following'!N3:N9706,\"No\")*-1","v":-1},{"$f":"COUNTIF('Rule Following'!O3:O9706,\"No\")*-1","v":-1},{"$f":"COUNTIF('Rule Following'!P3:P9706,\"No\")*-1","v":-1},{"$f":"COUNTIF('Rule Following'!Q3:Q9706,\"No\")*-1","v":-1},{"$f":"COUNTIF('Rule Following'!R3:R9706,\"No\")*-1","v":-1},{"$f":"COUNTIF('Rule Following'!S3:S9706,\"No\")*-1","v":-1}]
["$",5.01,10,"5.01-10","$5.01-10",{"$f":"COUNTIFS(Journal!AM:AM,\"Yes\",Journal!$AN:$AN,\">\"&Calculations!$B6,Journal!$AN:$AN,\"<=\"&Calculations!$C6)","v":0},null,"$",5.01,10,"5.01-10","$5.01-10",{"$f":"SUMIFS(Journal!$AO:$AO,Journal!$AM:$AM,\"Yes\",Journal!$AN:$AN,\">\"&Calculations!$B6,Journal!$AN:$AN,\"<=\"&Calculations!$C6)","v":0},null,null,null,null,null,101,200,"101-200",{"$f":"COUNTIFS(Journal!$G:$G,\">=\"&$S6,Journal!$G:$G,\"<=\"&$T6)","v":1},null,null,101,200,"101-200",{"$f":"SUMIFS(Journal!$N:$N,Journal!$G:$G,\">\"&$Y6,Journal!$G:$G,\"<=\"&$Z6)","v":25.380000000000003},null,null,null,null,null,3,{"$f":"IFERROR(VLOOKUP(AH6,Journal!$R:$S,2,FALSE),\"\")","v":""},0,0,null,null,null,null,null,null,null,3,"2020-01-03","Friday",{"$f":"IFERROR(COUNTIFS(Journal!$S:$S,\"W\",Journal!$B:$B,AT6)/VLOOKUP(AT6,G35:K299,5,FALSE),\"no trades\")","v":"no trades"},null,5.01,10,"5.01-10",{"$f":"COUNTIFS(Journal!$AM:$AM,\"Yes\",Journal!$AS:$AS,\">=\"&Calculations!$AX6,Journal!$AS:$AS,\"<=\"&Calculations!$AY6)","v":0},null,5.01,10,"5.01-10",{"$f":"SUMIFS(Journal!$AT:$AT,Journal!$AM:$AM,\"Yes\",Journal!$AS:$AS,\">\"&Calculations!$BC6,Journal!$AS:$AS,\"<=\"&Calculations!$BD6)","v":0},null,null,null,null,null,null,"Total",{"$f":"BN4-BN5","v":1},{"$f":"BO4-BO5","v":1},1,1,1,1,1,1,1,1,1,1,1,1,1,1,1,1]
["$",10.01,15,"10.01-15","$10.01-15",{"$f":"COUNTIFS(Journal!AM:AM,\"Yes\",Journal!$AN:$AN,\">\"&Calculations!$B7,Journal!$AN:$AN,\"<=\"&Calculations!$C7)","v":0},null,"$",10.01,15,"10.01-15","$10.01-15",{"$f":"SUMIFS(Journal!$AO:$AO,Journal!$AM:$AM,\"Yes\",Journal!$AN:$AN,\">\"&Calculations!$B7,Journal!$AN:$AN,\"<=\"&Calculations!$C7)","v":0},null,null,null,null,null,201,300,"201-300",{"$f":"COUNTIFS(Journal!$G:$G,\">=\"&$S7,Journal!$G:$G,\"<=\"&$T7)","v":0},null,null,201,300,"201-300",{"$f":"SUMIFS(Journal!$N:$N,Journal!$G:$G,\">\"&$Y7,Journal!$G:$G,\"<=\"&$Z7)","v":0},null,null,null,null,null,4,{"$f":"IFERROR(VLOOKUP(AH7,Journal!$R:$S,2,FALSE),\"\")","v":""},0,0,null,null,null,null,null,null,null,4,"2020-01-06","Monday",{"$f":"IFERROR(COUNTIFS(Journal!$S:$S,\"W\",Journal!$B:$B,AT7)/VLOOKUP(AT7,G36:K300,5,FALSE),\"no trades\")","v":"no trades"},null,10.01,15,"10.01-15",{"$f":"COUNTIFS(Journal!$AM:$AM,\"Yes\",Journal!$AS:$AS,\">=\"&Calculations!$AX7,Journal!$AS:$AS,\"<=\"&Calculations!$AY7)","v":0},null,10.01,15,"10.01-15",{"$f":"SUMIFS(Journal!$AT:$AT,Journal!$AM:$AM,\"Yes\",Journal!$AS:$AS,\">\"&Calculations!$BC7,Journal!$AS:$AS,\"<=\"&Calculations!$BD7)","v":0},null,null,null,null,null,null,"Month"]
["$",15.01,20,"15.01-20","$15.01-20",{"$f":"COUNTIFS(Journal!AM:AM,\"Yes\",Journal!$AN:$AN,\">\"&Calculations!$B8,Journal!$AN:$AN,\"<=\"&Calculations!$C8)","v":0},null,"$",15.01,20,"15.01-20","$15.01-20",{"$f":"SUMIFS(Journal!$AO:$AO,Journal!$AM:$AM,\"Yes\",Journal!$AN:$AN,\">\"&Calculations!$B8,Journal!$AN:$AN,\"<=\"&Calculations!$C8)","v":0},null,null,null,null,null,301,400,"301-400",{"$f":"COUNTIFS(Journal!$G:$G,\">=\"&$S8,Journal!$G:$G,\"<=\"&$T8)","v":0},null,null,301,400,"301-400",{"$f":"SUMIFS(Journal!$N:$N,Journal!$G:$G,\">\"&$Y8,Journal!$G:$G,\"<=\"&$Z8)","v":0},null,null,null,null,null,5,{"$f":"IFERROR(VLOOKUP(AH8,Journal!$R:$S,2,FALSE),\"\")","v":""},0,0,null,null,null,null,null,null,null,5,"2020-01-07","Tuesday",{"$f":"IFERROR(COUNTIFS(Journal!$S:$S,\"W\",Journal!$B:$B,AT8)/VLOOKUP(AT8,G37:K301,5,FALSE),\"no trades\")","v":"no trades"},null,15.01,20,"15.01-20",{"$f":"COUNTIFS(Journal!$AM:$AM,\"Yes\",Journal!$AS:$AS,\">=\"&Calculations!$AX8,Journal!$AS:$AS,\"<=\"&Calculations!$AY8)","v":0},null,15.01,20,"15.01-20",{"$f":"SUMIFS(Journal!$AT:$AT,Journal!$AM:$AM,\"Yes\",Journal!$AS:$AS,\">\"&Calculations!$BC8,Journal!$AS:$AS,\"<=\"&Calculations!$BD8)","v":0},null,null,null,null,null,null,null,"Rule 1","Rule 2","Rule 3","Rule 4","Rule 5","Rule 6","Rule 7","Rule 8","Rule 9","Rule 10","Rule 11","Rule 12","Rule 13a","Rule 13b","Rule 14","Rule 15","Rule 16","Rule 17"]
["$",20.010000000000002,30,"20.01-30","$20.01-30",{"$f":"COUNTIFS(Journal!AM:AM,\"Yes\",Journal!$AN:$AN,\">\"&Calculations!$B9,Journal!$AN:$AN,\"<=\"&Calculations!$C9)","v":0},null,"$",20.010000000000002,30,"20.01-30","$20.01-30",{"$f":"SUMIFS(Journal!$AO:$AO,Journal!$AM:$AM,\"Yes\",Journal!$AN:$AN,\">\"&Calculations!$B9,Journal!$AN:$AN,\"<=\"&Calculations!$C9)","v":0},null,null,null,null,null,401,500,"401-500",{"$f":"COUNTIFS(Journal!$G:$G,\">=\"&$S9,Journal!$G:$G,\"<=\"&$T9)","v":0},null,null,401,500,"401-500",{"$f":"SUMIFS(Journal!$N:$N,Journal!$G:$G,\">\"&$Y9,Journal!$G:$G,\"<=\"&$Z9)","v":0},null,null,null,null,null,6,{"$f":"IFERROR(VLOOKUP(AH9,Journal!$R:$S,2,FALSE),\"\")","v":""},0,0,null,null,null,null,null,null,null,6,"2020-01-08","Wednesday",{"$f":"IFERROR(COUNTIFS(Journal!$S:$S,\"W\",Journal!$B:$B,AT9)/VLOOKUP(AT9,G38:K302,5,FALSE),\"no trades\")","v":"no trades"},null,20.010000000000002,30,"20.01-30",{"$f":"COUNTIFS(Journal!$AM:$AM,\"Yes\",Journal!$AS:$AS,\">=\"&Calculations!$AX9,Journal!$AS:$AS,\"<=\"&Calculations!$AY9)","v":0},null,20.010000000000002,30,"20.01-30",{"$f":"SUMIFS(Journal!$AT:$AT,Journal!$AM:$AM,\"Yes\",Journal!$AS:$AS,\">\"&Calculations!$BC9,Journal!$AS:$AS,\"<=\"&Calculations!$BD9)","v":0},null,null,null,null,null,null,"Followed",{"$f":"COUNTIF('Rule Following'!B3:B9706,\"Yes\")","v":0},{"$f":"COUNTIF('Rule Following'!C3:C9706,\"Yes\")","v":0},{"$f":"COUNTIF('Rule Following'!D3:D9706,\"Yes\")","v":0},{"$f":"COUNTIF('Rule Following'!E3:E9706,\"Yes\")","v":0},{"$f":"COUNTIF('Rule Following'!F3:F9706,\"Yes\")","v":0},{"$f":"COUNTIF('Rule Following'!G3:G9706,\"Yes\")","v":0},{"$f":"COUNTIF('Rule Following'!H3:H9706,\"Yes\")","v":0},{"$f":"COUNTIF('Rule Following'!I3:I9706,\"Yes\")","v":0},{"$f":"COUNTIF('Rule Following'!J3:J9706,\"Yes\")","v":0},{"$f":"COUNTIF('Rule Following'!K3:K9706,\"Yes\")","v":0},{"$f":"COUNTIF('Rule Following'!L3:L9706,\"Yes\")","v":0},{"$f":"COUNTIF('Rule Following'!M3:M9706,\"Yes\")","v":0},{"$f":"COUNTIF('Rule Following'!N3:N9706,\"Yes\")","v":0},{"$f":"COUNTIF('Rule Following'!O3:O9706,\"Yes\")","v":0},{"$f":"COUNTIF('Rule Following'!P3:P9706,\"Yes\")","v":0},{"$f":"COUNTIF('Rule Following'!Q3:Q9706,\"Yes\")","v":0},{"$f":"COUNTIF('Rule Following'!R3:R9706,\"Yes\")","v":0},{"$f":"COUNTIF('Rule Following'!S3:S9706,\"Yes\")","v":0}]
["$",30.01,40,"30.01-40","$30.01-40",{"$f":"COUNTIFS(Journal!AM:AM,\"Yes\",Journal!$AN:$AN,\">\"&Calculations!$B10,Journal!$AN:$AN,\"<=\"&Calculations!$C10)","v":0},null,"$",30.01,40,"30.01-40","$30.01-40",{"$f":"SUMIFS(Journal!$AO:$AO,Journal!$AM:$AM,\"Yes\",Journal!$AN:$AN,\">\"&Calculations!$B10,Journal!$AN:$AN,\"<=\"&Calculations!$C10)","v":0},null,null,null,null,null,501,600,"501-600",{"$f":"COUNTIFS(Journal!$G:$G,\">=\"&$S10,Journal!$G:$G,\"<=\"&$T10)","v":0},null,null,501,600,"501-600",{"$f":"SUMIFS(Journal!$N:$N,Journal!$G:$G,\">\"&$Y10,Journal!$G:$G,\"<=\"&$Z10)","v":0},null,null,null,null,null,7,{"$f":"IFERROR(VLOOKUP(AH10,Journal!$R:$S,2,FALSE),\"\")","v":""},0,0,null,null,null,null,null,null,null,7,"2020-01-09","Thursday",{"$f":"IFERROR(COUNTIFS(Journal!$S:$S,\"W\",Journal!$B:$B,AT10)/VLOOKUP(AT10,G39:K303,5,FALSE),\"no trades\")","v":"no trades"},null,30.01,40,"30.01-40",{"$f":"COUNTIFS(Journal!$AM:$AM,\"Yes\",Journal!$AS:$AS,\">=\"&Calculations!$AX10,Journal!$AS:$AS,\"<=\"&Calculations!$AY10)","v":0},null,30.01,40,"30.01-40",{"$f":"SUMIFS(Journal!$AT:$AT,Journal!$AM:$AM,\"Yes\",Journal!$AS:$AS,\">\"&Calculations!$BC10,Journal!$AS:$AS,\"<=\"&Calculations!$BD10)","v":0},null,null,null,null,null,null,"Broke",{"$f":"COUNTIF('Rule Following'!B3:B9706,\"No\")*-1","v":-1},{"$f":"COUNTIF('Rule Following'!C3:C9706,\"No\")*-1","v":-1},{"$f":"COUNTIF('Rule Following'!D3:D9706,\"No\")*-1","v":-1},{"$f":"COUNTIF('Rule Following'!E3:E9706,\"No\")*-1","v":-1},{"$f":"COUNTIF('Rule Following'!F3:F9706,\"No\")*-1","v":-1},{"$f":"COUNTIF('Rule Following'!G3:G9706,\"No\")*-1","v":-1},{"$f":"COUNTIF('Rule Following'!H3:H9706,\"No\")*-1","v":-1},{"$f":"COUNTIF('Rule Following'!I3:I9706,\"No\")*-1","v":-1},{"$f":"COUNTIF('Rule Following'!J3:J9706,\"No\")*-1","v":-1},{"$f":"COUNTIF('Rule Following'!K3:K9706,\"No\")*-1","v":-1},{"$f":"COUNTIF('Rule Following'!L3:L9706,\"No\")*-1","v":-1},{"$f":"COUNTIF('Rule Following'!M3:M9706,\"No\")*-1","v":-1},{"$f":"COUNTIF('Rule Following'!N3:N9706,\"No\")*-1","v":-1},{"$f":"COUNTIF('Rule Following'!O3:O9706,\"No\")*-1","v":-1},{"$f":"COUNTIF('Rule Following'!P3:P9706,\"No\")*-1","v":-1},{"$f":"COUNTIF('Rule Following'!Q3:Q9706,\"No\")*-1","v":-1},{"$f":"COUNTIF('Rule Following'!R3:R9706,\"No\")*-1","v":-1},{"$f":"COUNTIF('Rule Following'!S3:S9706,\"No\")*-1","v":-1}]
["$",40.01,50,"40.01-50","$40.01-50",{"$f":"COUNTIFS(Journal!AM:AM,\"Yes\",Journal!$AN:$AN,\">\"&Calculations!$B11,Journal!$AN:$AN,\"<=\"&Calculations!$C11)","v":1},null,"$",40.01,50,"40.01-50","$40.01-50",{"$f":"SUMIFS(Journal!$AO:$AO,Journal!$AM:$AM,\"Yes\",Journal!$AN:$AN,\">\"&Calculations!$B11,Journal!$AN:$AN,\"<=\"&Calculations!$C11)","v":25.380000000000003},null,null,null,null,null,601,700,"601-700",{"$f":"COUNTIFS(Journal!$G:$G,\">=\"&$S11,Journal!$G:$G,\"<=\"&$T11)","v":0},null,null,601,700,"601-700",{"$f":"SUMIFS(Journal!$N:$N,Journal!$G:$G,\">\"&$Y11,Journal!$G:$G,\"<=\"&$Z11)","v":0},null,null,null,null,null,8,{"$f":"IFERROR(VLOOKUP(AH11,Journal!$R:$S,2,FALSE),\"\")","v":""},0,0,null,null,null,null,null,null,null,8,"2020-01-10","Friday",{"$f":"IFERROR(COUNTIFS(Journal!$S:$S,\"W\",Journal!$B:$B,AT11)/VLOOKUP(AT11,G40:K304,5,FALSE),\"no trades\")","v":"no trades"},null,40.01,50,"40.01-50",{"$f":"COUNTIFS(Journal!$AM:$AM,\"Yes\",Journal!$AS:$AS,\">=\"&Calculations!$AX11,Journal!$AS:$AS,\"<=\"&Calculations!$AY11)","v":0},null,40.01,50,"40.01-50",{"$f":"SUMIFS(Journal!$AT:$AT,Journal!$AM:$AM,\"Yes\",Journal!$AS:$AS,\">\"&Calculations!$BC11,Journal!$AS:$AS,\"<=\"&Calculations!$BD11)","v":0},null,null,null,null,null,null,"Total",{"$f":"BN9-BN10","v":1},{"$f":"BO9-BO10","v":1},1,1,1,1,1,1,1,1,1,1,1,1,1,1,1,1]
["$",50.01,60,"50.01-60","$50.01-60",{"$f":"COUNTIFS(Journal!AM:AM,\"Yes\",Journal!$AN:$AN,\">\"&Calculations!$B12,Journal!$AN:$AN,\"<=\"&Calculations!$C12)","v":0},null,"$",50.01,60,"50.01-60","$50.01-60",{"$f":"SUMIFS(Journal!$AO:$AO,Journal!$AM:$AM,\"Yes\",Journal!$AN:$AN,\">\"&Calculations!$B12,Journal!$AN:$AN,\"<=\"&Calculations!$C12)","v":0},null,null,null,null,null,701,800,"701-800",{"$f":"COUNTIFS(Journal!$G:$G,\">=\"&$S12,Journal!$G:$G,\"<=\"&$T12)","v":0},null,null,701,800,"701-800",{"$f":"SUMIFS(Journal!$N:$N,Journal!$G:$G,\">\"&$Y12,Journal!$G:$G,\"<=\"&$Z12)","v":0},null,null,null,null,null,9,{"$f":"IFERROR(VLOOKUP(AH12,Journal!$R:$S,2,FALSE),\"\")","v":""},0,0,null,null,null,null,null,null,null,9,"2020-01-13","Monday",{"$f":"IFERROR(COUNTIFS(Journal!$S:$S,\"W\",Journal!$B:$B,AT12)/VLOOKUP(AT12,G41:K305,5,FALSE),\"no trades\")","v":1},null,50.01,60,"50.01-60",{"$f":"COUNTIFS(Journal!$AM:$AM,\"Yes\",Journal!$AS:$AS,\">=\"&Calculations!$AX12,Journal!$AS:$AS,\"<=\"&Calculations!$AY12)","v":0},null,50.01,60,"50.01-60",{"$f":"SUMIFS(Journal!$AT:$AT,Journal!$AM:$AM,\"Yes\",Journal!$AS:$AS,\">\"&Calculations!$BC12,Journal!$AS:$AS,\"<=\"&Calculations!$BD12)","v":0},null,null,null,null,null,null,"Year"]
["$",60.01,70,"60.01-70","$60.01-70",{"$f":"COUNTIFS(Journal!AM:AM,\"Yes\",Journal!$AN:$AN,\">\"&Calculations!$B13,Journal!$AN:$AN,\"<=\"&Calculations!$C13)","v":0},null,"$",60.01,70,"60.01-70","$60.01-70",{"$f":"SUMIFS(Journal!$AO:$AO,Journal!$AM:$AM,\"Yes\",Journal!$AN:$AN,\">\"&Calculations!$B13,Journal!$AN:$AN,\"<=\"&Calculations!$C13)","v":0},null,null,null,null,null,801,900,"801-900",{"$f":"COUNTIFS(Journal!$G:$G,\">=\"&$S13,Journal!$G:$G,\"<=\"&$T13)","v":0},null,null,801,900,"801-900",{"$f":"SUMIFS(Journal!$N:$N,Journal!$G:$G,\">\"&$Y13,Journal!$G:$G,\"<=\"&$Z13)","v":0},null,null,null,null,null,10,{"$f":"IFERROR(VLOOKUP(AH13,Journal!$R:$S,2,FALSE),\"\")","v":""},0,0,null,null,"Column AI Used for ",null,null,null,null,10,"2020-01-14","Tuesday",{"$f":"IFERROR(COUNTIFS(Journal!$S:$S,\"W\",Journal!$B:$B,AT13)/VLOOKUP(AT13,G42:K306,5,FALSE),\"no trades\")","v":"no trades"},null,60.01,70,"60.01-70",{"$f":"COUNTIFS(Journal!$AM:$AM,\"Yes\",Journal!$AS:$AS,\">=\"&Calculations!$AX13,Journal!$AS:$AS,\"<=\"&Calculations!$AY13)","v":0},null,60.01,70,"60.01-70",{"$f":"SUMIFS(Journal!$AT:$AT,Journal!$AM:$AM,\"Yes\",Journal!$AS:$AS,\">\"&Calculations!$BC13,Journal!$AS:$AS,\"<=\"&Calculations!$BD13)","v":0},null,null,null,null,null,null,null,"Rule 1","Rule 2","Rule 3","Rule 4","Rule 5","Rule 6","Rule 7","Rule 8","Rule 9","Rule 10","Rule 11","Rule 12","Rule 13a","Rule 13b","Rule 14","Rule 15","Rule 16","Rule 17"]
["$",70.010000000000005,80,"70.01-80","$70.01-80",{"$f":"COUNTIFS(Journal!AM:AM,\"Yes\",Journal!$AN:$AN,\">\"&Calculations!$B14,Journal!$AN:$AN,\"<=\"&Calculations!$C14)","v":0},null,"$",70.010000000000005,80,"70.01-80","$70.01-80",{"$f":"SUMIFS(Journal!$AO:$AO,Journal!$AM:$AM,\"Yes\",Journal!$AN:$AN,\">\"&Calculations!$B14,Journal!$AN:$AN,\"<=\"&Calculations!$C14)","v":0},null,null,null,null,null,901,1000,"901-1000",{"$f":"COUNTIFS(Journal!$G:$G,\">=\"&$S14,Journal!$G:$G,\"<=\"&$T14)","v":0},null,null,901,1000,"901-1000",{"$f":"SUMIFS(Journal!$N:$N,Journal!$G:$G,\">\"&$Y14,Journal!$G:$G,\"<=\"&$Z14)","v":0},null,null,null,null,null,11,{"$f":"IFERROR(VLOOKUP(AH14,Journal!$R:$S,2,FALSE),\"\")","v":""},0,0,null,null,"For: CUMULATIVE GROSS PROFIT CHART",null,null,null,null,11,"2020-01-15","Wednesday",{"$f":"IFERROR(COUNTIFS(Journal!$S:$S,\"W\",Journal!$B:$B,AT14)/VLOOKUP(AT14,G43:K307,5,FALSE),\"no trades\")","v":"no trades"},null,70.010000000000005,80,"70.01-80",{"$f":"COUNTIFS(Journal!$AM:$AM,\"Yes\",Journal!$AS:$AS,\">=\"&Calculations!$AX14,Journal!$AS:$AS,\"<=\"&Calculations!$AY14)","v":1},null,70.010000000000005,80,"70.01-80",{"$f":"SUMIFS(Journal!$AT:$AT,Journal!$AM:$AM,\"Yes\",Journal!$AS:$AS,\">\"&Calculations!$BC14,Journal!$AS:$AS,\"<=\"&Calculations!$BD14)","v":25.380000000000003},null,null,null,null,null,null,"Followed",{"$f":"COUNTIF('Rule Following'!B3:B9706,\"Yes\")","v":0},{"$f":"COUNTIF('Rule Following'!C3:C9706,\"Yes\")","v":0},{"$f":"COUNTIF('Rule Following'!D3:D9706,\"Yes\")","v":0},{"$f":"COUNTIF('Rule Following'!E3:E9706,\"Yes\")","v":0},{"$f":"COUNTIF('Rule Following'!F3:F9706,\"Yes\")","v":0},{"$f":"COUNTIF('Rule Following'!G3:G9706,\"Yes\")","v":0},{"$f":"COUNTIF('Rule Following'!H3:H9706,\"Yes\")","v":0},{"$f":"COUNTIF('Rule Following'!I3:I9706,\"Yes\")","v":0},{"$f":"COUNTIF('Rule Following'!J3:J9706,\"Yes\")","v":0},{"$f":"COUNTIF('Rule Following'!K3:K9706,\"Yes\")","v":0},{"$f":"COUNTIF('Rule Following'!L3:L9706,\"Yes\")","v":0},{"$f":"COUNTIF('Rule Following'!M3:M9706,\"Yes\")","v":0},{"$f":"COUNTIF('Rule Following'!N3:N9706,\"Yes\")","v":0},{"$f":"COUNTIF('Rule Following'!O3:O9706,\"Yes\")","v":0},{"$f":"COUNTIF('Rule Following'!P3:P9706,\"Yes\")","v":0},{"$f":"COUNTIF('Rule Following'!Q3:Q9706,\"Yes\")","v":0},{"$f":"COUNTIF('Rule Following'!R3:R9706,\"Yes\")","v":0},{"$f":"COUNTIF('Rule Following'!S3:S9706,\"Yes\")","v":0}]
["$",80.010000000000005,90,"80.01-90","$80.01-90",{"$f":"COUNTIFS(Journal!AM:AM,\"Yes\",Journal!$AN:$AN,\">\"&Calculations!$B15,Journal!$AN:$AN,\"<=\"&Calculations!$C15)","v":0},null,"$",80.010000000000005,90,"80.01-90","$80.01-90",{"$f":"SUMIFS(Journal!$AO:$AO,Journal!$AM:$AM,\"Yes\",Journal!$AN:$AN,\">\"&Calculations!$B15,Journal!$AN:$AN,\"<=\"&Calculations!$C15)","v":0},null,null,null,null,null,1001,1500,"1001-1500",{"$f":"COUNTIFS(Journal!$G:$G,\">=\"&$S15,Journal!$G:$G,\"<=\"&$T15)","v":0},null,null,1001,1500,"1001-1500",{"$f":"SUMIFS(Journal!$N:$N,Journal!$G:$G,\">\"&$Y15,Journal!$G:$G,\"<=\"&$Z15)","v":0},null,null,null,null,null,12,{"$f":"IFERROR(VLOOKUP(AH15,Journal!$R:$S,2,FALSE),\"\")","v":""},0,0,null,null,null,null,null,null,null,12,"2020-01-16","Thursday",{"$f":"IFERROR(COUNTIFS(Journal!$S:$S,\"W\",Journal!$B:$B,AT15)/VLOOKUP(AT15,G44:K308,5,FALSE),\"no trades\")","v":"no trades"},null,80.010000000000005,90,"80.01-90",{"$f":"COUNTIFS(Journal!$AM:$AM,\"Yes\",Journal!$AS:$AS,\">=\"&Calculations!$AX15,Journal!$AS:$AS,\"<=\"&Calculations!$AY15)","v":0},null,80.010000000000005,90,"80.01-90",{"$f":"SUMIFS(Journal!$AT:$AT,Journal!$AM:$AM,\"Yes\",Journal!$AS:$AS,\">\"&Calculations!$BC15,Journal!$AS:$AS,\"<=\"&Calculations!$BD15)","v":0},null,null,null,null,null,null,"Broke",{"$f":"COUNTIF('Rule Following'!B3:B9706,\"No\")*-1","v":-1},{"$f":"COUNTIF('Rule Following'!C3:C9706,\"No\")*-1","v":-1},{"$f":"COUNTIF('Rule Following'!D3:D9706,\"No\")*-1","v":-1},{"$f":"COUNTIF('Rule Following'!E3:E9706,\"No\")*-1","v":-1},{"$f":"COUNTIF('Rule Following'!F3:F9706,\"No\")*-1","v":-1},{"$f":"COUNTIF('Rule Following'!G3:G9706,\"No\")*-1","v":-1},{"$f":"COUNTIF('Rule Following'!H3:H9706,\"No\")*-1","v":-1},{"$f":"COUNTIF('Rule Following'!I3:I9706,\"No\")*-1","v":-1},{"$f":"COUNTIF('Rule Following'!J3:J9706,\"No\")*-1","v":-1},{"$f":"COUNTIF('Rule Following'!K3:K9706,\"No\")*-1","v":-1},{"$f":"COUNTIF('Rule Following'!L3:L9706,\"No\")*-1","v":-1},{"$f":"COUNTIF('Rule Following'!M3:M9706,\"No\")*-1","v":-1},{"$f":"COUNTIF('Rule Following'!N3:N9706,\"No\")*-1","v":-1},{"$f":"COUNTIF('Rule Following'!O3:O9706,\"No\")*-1","v":-1},{"$f":"COUNTIF('Rule Following'!P3:P9706,\"No\")*-1","v":-1},{"$f":"COUNTIF('Rule Following'!Q3:Q9706,\"No\")*-1","v":-1},{"$f":"COUNTIF('Rule Following'!R3:R9706,\"No\")*-1","v":-1},{"$f":"COUNTIF('Rule Following'!S3:S9706,\"No\")*-1","v":-1}]
["$",90.01,100,"90.01-100","$90.01-100",{"$f":"COUNTIFS(Journal!AM:AM,\"Yes\",Journal!$AN:$AN,\">\"&Calculations!$B16,Journal!$AN:$AN,\"<=\"&Calculations!$C16)","v":0},null,"$",90.01,100,"90.01-100","$90.01-100",{"$f":"SUMIFS(Journal!$AO:$AO,Journal!$AM:$AM,\"Yes\",Journal!$AN:$AN,\">\"&Calculations!$B16,Journal!$AN:$AN,\"<=\"&Calculations!$C16)","v":0},null,null,null,null,null,1501,2000,"1501-2000",{"$f":"COUNTIFS(Journal!$G:$G,\">=\"&$S16,Journal!$G:$G,\"<=\"&$T16)","v":0},null,null,1501,2000,"1501-2000",{"$f":"SUMIFS(Journal!$N:$N,Journal!$G:$G,\">\"&$Y16,Journal!$G:$G,\"<=\"&$Z16)","v":0},null,null,null,null,null,13,{"$f":"IFERROR(VLOOKUP(AH16,Journal!$R:$S,2,FALSE),\"\")","v":""},0,0,null,null,null,null,null,null,null,13,"2020-01-17","Friday",{"$f":"IFERROR(COUNTIFS(Journal!$S:$S,\"W\",Journal!$B:$B,AT16)/VLOOKUP(AT16,G45:K309,5,FALSE),\"no trades\")","v":"no trades"},null,90.01,100,"90.01-100",{"$f":"COUNTIFS(Journal!$AM:$AM,\"Yes\",Journal!$AS:$AS,\">=\"&Calculations!$AX16,Journal!$AS:$AS,\"<=\"&Calculations!$AY16)","v":0},null,90.01,100,"90.01-100",{"$f":"SUMIFS(Journal!$AT:$AT,Journal!$AM:$AM,\"Yes\",Journal!$AS:$AS,\">\"&Calculations!$BC16,Journal!$AS:$AS,\"<=\"&Calculations!$BD16)","v":0},null,null,null,null,null,null,"Total",{"$f":"BN14-BN15","v":1},{"$f":"BO14-BO15","v":1},1,1,1,1,1,1,1,1,1,1,1,1,1,1,1,1]
["$",100.01,200,"100.01-200","$100.01-200",{"$f":"COUNTIFS(Journal!AM:AM,\"Yes\",Journal!$AN:$AN,\">\"&Calculations!$B17,Journal!$AN:$AN,\"<=\"&Calculations!$C17)","v":0},null,"$",100.01,200,"100.01-200","$100.01-200",{"$f":"SUMIFS(Journal!$AO:$AO,Journal!$AM:$AM,\"Yes\",Journal!$AN:$AN,\">\"&Calculations!$B17,Journal!$AN:$AN,\"<=\"&Calculations!$C17)","v":0},null,null,null,null,null,2001,3000,"2001-3000",{"$f":"COUNTIFS(Journal!$G:$G,\">=\"&$S17,Journal!$G:$G,\"<=\"&$T17)","v":0},null,null,2001,3000,"2001-3000",{"$f":"SUMIFS(Journal!$N:$N,Journal!$G:$G,\">\"&$Y17,Journal!$G:$G,\"<=\"&$Z17)","v":0},null,null,null,null,null,14,{"$f":"IFERROR(VLOOKUP(AH17,Journal!$R:$S,2,FALSE),\"\")","v":""},0,0,null,null,null,null,null,null,null,14,"2020-01-20","Monday",{"$f":"IFERROR(COUNTIFS(Journal!$S:$S,\"W\",Journal!$B:$B,AT17)/VLOOKUP(AT17,G46:K310,5,FALSE),\"no trades\")","v":"no trades"},null,100.01,200,"100.01-200",{"$f":"COUNTIFS(Journal!$AM:$AM,\"Yes\",Journal!$AS:$AS,\">=\"&Calculations!$AX17,Journal!$AS:$AS,\"<=\"&Calculations!$AY17)","v":0},null,100.01,200,"100.01-200",{"$f":"SUMIFS(Journal!$AT:$AT,Journal!$AM:$AM,\"Yes\",Journal!$AS:$AS,\">\"&Calculations!$BC17,Journal!$AS:$AS,\"<=\"&Calculations!$BD17)","v":0},null,null,null,null,null,null,"Total"]
["$",200.01,500,"200.01-500","$200.01-500",{"$f":"COUNTIFS(Journal!AM:AM,\"Yes\",Journal!$AN:$AN,\">\"&Calculations!$B18,Journal!$AN:$AN,\"<=\"&Calculations!$C18)","v":0},null,"$",200.01,500,"200.01-500","$200.01-500",{"$f":"SUMIFS(Journal!$AO:$AO,Journal!$AM:$AM,\"Yes\",Journal!$AN:$AN,\">\"&Calculations!$B18,Journal!$AN:$AN,\"<=\"&Calculations!$C18)","v":0},null,null,null,null,null,3001,10000,"3001-10000",{"$f":"COUNTIFS(Journal!$G:$G,\">=\"&$S18,Journal!$G:$G,\"<=\"&$T18)","v":0},null,null,3001,10000,"3001-10000",{"$f":"SUMIFS(Journal!$N:$N,Journal!$G:$G,\">\"&$Y18,Journal!$G:$G,\"<=\"&$Z18)","v":0},null,null,null,null,null,15,{"$f":"IFERROR(VLOOKUP(AH18,Journal!$R:$S,2,FALSE),\"\")","v":""},0,0,null,null,null,null,null,null,null,15,"2020-01-21","Tuesday",{"$f":"IFERROR(COUNTIFS(Journal!$S:$S,\"W\",Journal!$B:$B,AT18)/VLOOKUP(AT18,G47:K311,5,FALSE),\"no trades\")","v":"no trades"},null,200.01,450,"200.01-450",{"$f":"COUNTIFS(Journal!$AM:$AM,\"Yes\",Journal!$AS:$AS,\">=\"&Calculations!$AX18,Journal!$AS:$AS,\"<=\"&Calculations!$AY18)","v":0},null,200.01,450,"200.01-450",{"$f":"SUMIFS(Journal!$AT:$AT,Journal!$AM:$AM,\"Yes\",Journal!$AS:$AS,\">\"&Calculations!$BC18,Journal!$AS:$AS,\"<=\"&Calculations!$BD18)","v":0},null,null,null,null,null,null,null,"Rule 1","Rule 2","Rule 3","Rule 4","Rule 5","Rule 6","Rule 7","Rule 8","Rule 9","Rule 10","Rule 11","Rule 12","Rule 13a","Rule 13b","Rule 14","Rule 15","Rule 16","Rule 17"]
[null,null,null,null,null,null,null,null,null,null,null,null,null,null,null,null,null,null,null,null,null,null,null,null,null,null,null,null,null,null,null,null,null,16,{"$f":"IFERROR(VLOOKUP(AH19,Journal!$R:$S,2,FALSE),\"\")","v":""},0,0,null,null,null,null,null,null,null,16,"2020-01-22","Wednesday",{"$f":"IFERROR(COUNTIFS(Journal!$S:$S,\"W\",Journal!$B:$B,AT19)/VLOOKUP(AT19,G48:K312,5,FALSE),\"no trades\")","v":"no trades"},null,null,null,null,null,null,null,null,null,null,null,null,null,null,null,null,"Followed",{"$f":"COUNTIF('Rule Following'!B2:B9711,\"Yes\")","v":1},{"$f":"COUNTIF('Rule Following'!C2:C9711,\"Yes\")","v":1},{"$f":"COUNTIF('Rule Following'!D2:D9711,\"Yes\")","v":1},{"$f":"COUNTIF('Rule Following'!E2:E9711,\"Yes\")","v":1},{"$f":"COUNTIF('Rule Following'!F2:F9711,\"Yes\")","v":1},{"$f":"COUNTIF('Rule Following'!G2:G9711,\"Yes\")","v":1},{"$f":"COUNTIF('Rule Following'!H2:H9711,\"Yes\")","v":1},{"$f":"COUNTIF('Rule Following'!I2:I9711,\"Yes\")","v":1},{"$f":"COUNTIF('Rule Following'!J2:J9711,\"Yes\")","v":1},{"$f":"COUNTIF('Rule Following'!K2:K9711,\"Yes\")","v":1},{"$f":"COUNTIF('Rule Following'!L2:L9711,\"Yes\")","v":1},{"$f":"COUNTIF('Rule Following'!M2:M9711,\"Yes\")","v":1},{"$f":"COUNTIF('Rule Following'!N2:N9711,\"Yes\")","v":1},{"$f":"COUNTIF('Rule Following'!O2:O9711,\"Yes\")","v":1},{"$f":"COUNTIF('Rule Following'!P2:P9711,\"Yes\")","v":1},{"$f":"COUNTIF('Rule Following'!Q2:Q9711,\"Yes\")","v":1},{"$f":"COUNTIF('Rule Following'!R2:R9711,\"Yes\")","v":1},{"$f":"COUNTIF('Rule Following'!S2:S9711,\"Yes\")","v":1}]
[null,null,null,null,null,null,null,null,null,null,null,null,null,null,null,null,null,null,null,null,null,null,null,null,null,null,null,null,null,null,null,null,null,17,{"$f":"IFERROR(VLOOKUP(AH20,Journal!$R:$S,2,FALSE),\"\")","v":""},0,0,null,null,null,null,null,null,null,17,"2020-01-23",{"$f":"TEXT(AT20,\"dddd\")","v":"Thursday"},{"$f":"IFERROR(COUNTIFS(Journal!$S:$S,\"W\",Journal!$B:$B,AT20)/VLOOKUP(AT20,G49:K313,5,FALSE),\"no trades\")","v":"no trades"},null,null,null,null,null,null,null,null,null,null,null,null,null,null,null,null,"Broke",{"$f":"COUNTIF('Rule Following'!B2:B9711,\"No\")*-1","v":-1},{"$f":"COUNTIF('Rule Following'!C2:C9711,\"No\")*-1","v":-1},{"$f":"COUNTIF('Rule Following'!D2:D9711,\"No\")*-1","v":-1},{"$f":"COUNTIF('Rule Following'!E2:E9711,\"No\")*-1","v":-1},{"$f":"COUNTIF('Rule Following'!F2:F9711,\"No\")*-1","v":-1},{"$f":"COUNTIF('Rule Following'!G2:G9711,\"No\")*-1","v":-1},{"$f":"COUNTIF('Rule Following'!H2:H9711,\"No\")*-1","v":-1},{"$f":"COUNTIF('Rule Following'!I2:I9711,\"No\")*-1","v":-1},{"$f":"COUNTIF('Rule Following'!J2:J9711,\"No\")*-1","v":-1},{"$f":"COUNTIF('Rule Following'!K2:K9711,\"No\")*-1","v":-1},{"$f":"COUNTIF('Rule Following'!L2:L9711,\"No\")*-1","v":-1},{"$f":"COUNTIF('Rule Following'!M2:M9711,\"No\")*-1","v":-1},{"$f":"COUNTIF('Rule Following'!N2:N9711,\"No\")*-1","v":-1},{"$f":"COUNTIF('Rule Following'!O2:O9711,\"No\")*-1","v":-1},{"$f":"COUNTIF('Rule Following'!P2:P9711,\"No\")*-1","v":-1},{"$f":"COUNTIF('Rule Following'!Q2:Q9711,\"No\")*-1","v":-1},{"$f":"COUNTIF('Rule Following'!R2:R9711,\"No\")*-1","v":-1},{"$f":"COUNTIF('Rule Following'!S2:S9711,\"No\")*-1","v":-1}]
["For: CUMULATIVE PROFIT W/O COMMISSIONS CHART",null,null,null,null,null,null,null,null,null,null,null,null,null,null,null,null,null,null,null,null,null,null,null,null,null,null,null,null,null,null,null,null,18,{"$f":"IFERROR(VLOOKUP(AH21,Journal!$R:$S,2,FALSE),\"\")","v":""},0,0,null,null,null,null,null,null,null,18,"2020-01-24",{"$f":"TEXT(AT21,\"dddd\")","v":"Friday"},{"$f":"IFERROR(COUNTIFS(Journal!$S:$S,\"W\",Journal!$B:$B,AT21)/VLOOKUP(AT21,G50:K314,5,FALSE),\"no trades\")","v":"no trades"},null,null,null,null,null,null,null,null,null,null,null,null,null,null,null,null,"Total",{"$f":"BN19-BN20","v":2},{"$f":"BO19-BO20","v":2},{"$f":"BP19-BP20","v":2},{"$f":"BQ19-BQ20","v":2},{"$f":"BR19-BR20","v":2},{"$f":"BS19-BS20","v":2},{"$f":"BT19-BT20","v":2},{"$f":"BU19-BU20","v":2},{"$f":"BV19-BV20","v":2},{"$f":"BW19-BW20","v":2},{"$f":"BX19-BX20","v":2},{"$f":"BY19-BY20","v":2},{"$f":"BZ19-BZ20","v":2},{"$f":"CA19-CA20","v":2},{"$f":"CB19-CB20","v":2},{"$f":"CC19-CC20","v":2},{"$f":"CD19-CD20","v":2},{"$f":"CE19-CE20","v":2}]
[null,null,null,null,null,"Constants",null,null,null,null,null,null,null,null,null,null,null,null,"EQUITY CURVE V NO. OF TRADES",null,null,null,"Avg. return on trade",null,null,null,null,"NEED TO UPDATE COLUMN \"AD\" IF A PUBLIC HOLIDAY",null,null,null,null,null,19,{"$f":"IFERROR(VLOOKUP(AH22,Journal!$R:$S,2,FALSE),\"\")","v":""},0,0,null,null,null,null,null,null,null,19,"2020-01-27",{"$f":"TEXT(AT22,\"dddd\")","v":"Monday"},{"$f":"IFERROR(COUNTIFS(Journal!$S:$S,\"W\",Journal!$B:$B,AT22)/VLOOKUP(AT22,G51:K315,5,FALSE),\"no trades\")","v":"no trades"}]
["Week No.","Gross Profit Cumulative","Cumlative CHART",null,null,"For drawdown_30days",null,null,"today-30days:",{"$f":"TODAY()-30","v":"2020-04-12"},null,"Account size today:",null,null,null,"ONLY for 5,000 trades",null,null,"Trade ID no.","NET Profit / Loss","Balance","Balance CHART","Avg. return on opening balance","Strategy",null,null,"For: MAXIMUM DRAWDOWN",null,null,null,null,null,null,20,{"$f":"IFERROR(VLOOKUP(AH23,Journal!$R:$S,2,FALSE),\"\")","v":""},0,0,null,null,null,null,null,null,null,20,"2020-01-28",{"$f":"TEXT(AT23,\"dddd\")","v":"Tuesday"},{"$f":"IFERROR(COUNTIFS(Journal!$S:$S,\"W\",Journal!$B:$B,AT23)/VLOOKUP(AT23,G52:K316,5,FALSE),\"no trades\")","v":"no trades"},null,null,null,null,null,null,null,null,null,null,null,null,null,null,null,null,"For: Reports Statistics"]
["Week 1",{"$f":"INDEX('Detailed Stats'!$F$58:$BE$58,1,ROW(AM2))","v":0},{"$f":"B24","v":0},null,null,null,null,null,"today:",{"$f":"TODAY()","v":"2020-05-12"},null,{"$f":"VLOOKUP(J24,$G$33:$Q$297,11,FALSE)","v":25023.63},null,null,null,null,null,null,1,{"$f":"IFERROR(VLOOKUP(S24,Journal!$R:$AQ,26,FALSE),\"\")","v":23.630000000000003},{"$f":"H25+T24","v":25023.63},{"$f":"U24","v":25023.63},{"$f":"IFERROR(T24/$H$25,\"\")","v":9.452000000000001E-4},{"$f":"IFERROR(VLOOKUP(S24,Journal!$R:$AV,32,FALSE),\"\")","v":""},null,null,"Date","weekday","Net Profit","Close of play balance","% gain","Max Drawdown",null,21,{"$f":"IFERROR(VLOOKUP(AH24,Journal!$R:$S,2,FALSE),\"\")","v":""},0,0,null,null,null,null,null,null,null,21,"2020-01-29","Wednesday",{"$f":"IFERROR(COUNTIFS(Journal!$S:$S,\"W\",Journal!$B:$B,AT24)/VLOOKUP(AT24,G53:K317,5,FALSE),\"no trades\")","v":"no trades"},null,null,null,null,null,null,null,null,null,null,null,null,null,null,null,null,null,"Total","Year","Month","Week"]
["Week 2",{"$f":"INDEX('Detailed Stats'!$F$58:$BE$58,1,ROW(AM3))","v":0},{"$f":"IF(OR(B25=0,B25<$H$26,B25>$H$27),NA(),B25+C24)","v":{"$error":"#N/A"}},null,null,"Start account Size:",null,{"$f":"Instructions!W1","v":25000},null,null,null,null,null,null,null,null,null,null,2,{"$f":"IFERROR(VLOOKUP(S25,Journal!$R:$AQ,26,FALSE),\"\")","v":""},{"$f":"T25+U24","v":{"$error":"#VALUE!"}},{"$f":"IF(OR(T25=0,T25<$H$26,T25>$H$27),NA(),T25+U24)","v":{"$error":"#N/A"}},{"$f":"IFERROR(T25/$H$25,\"\")","v":""},{"$f":"IFERROR(VLOOKUP(S25,Journal!$R:$AV,32,FALSE),\"\")","v":""},null,null,{"$f":"G33","v":"2020-01-01"},{"$f":"TEXT(AA25,\"dddd\")","v":"Wednesday"},0,8583,{"$f":"IFERROR(AD25/$AD25-1,\"\")","v":0},{"$f":"MIN($AE$25:AE285)","v":0},null,22,{"$f":"IFERROR(VLOOKUP(AH25,Journal!$R:$S,2,FALSE),\"\")","v":""},0,0,null,null,null,null,null,null,null,22,"2020-01-30","Thursday",{"$f":"IFERROR(COUNTIFS(Journal!$S:$S,\"W\",Journal!$B:$B,AT25)/VLOOKUP(AT25,G54:K318,5,FALSE),\"no trades\")","v":"no trades"},null,null,null,null,null,null,null,null,null,null,null,null,null,null,null,null,"Total Trades","N/A",{"$f":"SUM(K33:K292)","v":1},{"$f":"SUM(K33:K55)","v":1},{"$f":"SUM(K51:K55)","v":0}]
["Week 3",{"$f":"INDEX('Detailed Stats'!$F$58:$BE$58,1,ROW(AM4))","v":0},{"$error":"#N/A"},null,null,"min profit for net chart:",null,-10000,null,null,null,null,null,null,null,null,null,null,3,{"$f":"IFERROR(VLOOKUP(S26,Journal!$R:$AQ,26,FALSE),\"\")","v":""},{"$error":"#VALUE!"},{"$f":"IF(OR(T26=0,T26<$H$26,T26>$H$27),NA(),T26+U25)","v":{"$error":"#N/A"}},"",{"$f":"IFERROR(VLOOKUP(S26,Journal!$R:$AV,32,FALSE),\"\")","v":""},null,null,{"$f":"G34","v":"2020-01-02"},"Thursday",{"$f":"IFERROR(VLOOKUP(AA26, 'Daily Snapshot'!$B:$J,7,FALSE),\"\")","v":""},{"$f":"IFERROR(AD25+AC26,\"\")","v":""},{"$f":"IFERROR(AD26/$AD25-1,\"\")","v":""},null,null,23,{"$f":"IFERROR(VLOOKUP(AH26,Journal!$R:$S,2,FALSE),\"\")","v":""},0,0,null,null,null,null,null,null,null,23,"2020-01-31","Friday",{"$f":"IFERROR(COUNTIFS(Journal!$S:$S,\"W\",Journal!$B:$B,AT26)/VLOOKUP(AT26,G55:K319,5,FALSE),\"no trades\")","v":"no trades"},null,null,null,null,null,null,null,null,null,null,null,null,null,null,null,null,"Average Trades per day ","N/A",{"$f":"AVERAGE(K33:K292)","v":3.8461538461538464E-3},{"$f":"AVERAGE(K33:K55)","v":4.3478260869565216E-2},{"$f":"AVERAGE(K51:K55)","v":0}]
["Week 4",{"$f":"INDEX('Detailed Stats'!$F$58:$BE$58,1,ROW(AM5))","v":0},{"$error":"#N/A"},null,null,"max profit for net chart:",null,10000,null,null,null,null,null,null,null,null,null,null,4,{"$f":"IFERROR(VLOOKUP(S27,Journal!$R:$AQ,26,FALSE),\"\")","v":""},{"$error":"#VALUE!"},{"$f":"IF(OR(T27=0,T27<$H$26,T27>$H$27),NA(),T27+U26)","v":{"$error":"#N/A"}},"",{"$f":"IFERROR(VLOOKUP(S27,Journal!$R:$AV,32,FALSE),\"\")","v":""},null,null,"2020-01-03","Friday",{"$f":"IFERROR(VLOOKUP(AA27, 'Daily Snapshot'!$B:$J,7,FALSE),\"\")","v":""},"","",null,null,24,{"$f":"IFERROR(VLOOKUP(AH27,Journal!$R:$S,2,FALSE),\"\")","v":""},0,0,null,null,null,null,null,null,null,24,"2020-02-03","Monday",{"$f":"IFERROR(COUNTIFS(Journal!$S:$S,\"W\",Journal!$B:$B,AT27)/VLOOKUP(AT27,G56:K320,5,FALSE),\"no trades\")","v":"no trades"},null,null,null,null,null,null,null,null,null,null,null,null,null,null,null,null,"Winning Trades","N/A",{"$f":"SUM(AJ4:AJ2347)","v":1},{"$f":"SUM(AJ4:AJ100)","v":1},{"$f":"SUM(AJ11:AJ17)","v":0}]
["Week 5",{"$f":"INDEX('Detailed Stats'!$F$58:$BE$58,1,ROW(AM6))","v":0},{"$error":"#N/A"},null,null,null,null,null,null,null,null,null,null,null,null,null,null,null,5,{"$f":"IFERROR(VLOOKUP(S28,Journal!$R:$AQ,26,FALSE),\"\")","v":""},{"$error":"#VALUE!"},{"$f":"IF(OR(T28=0,T28<$H$26,T28>$H$27),NA(),T28+U27)","v":{"$error":"#N/A"}},"",{"$f":"IFERROR(VLOOKUP(S28,Journal!$R:$AV,32,FALSE),\"\")","v":""},null,null,"2020-01-06","Monday",{"$f":"IFERROR(VLOOKUP(AA28, 'Daily Snapshot'!$B:$J,7,FALSE),\"\")","v":""},"","",null,null,25,{"$f":"IFERROR(VLOOKUP(AH28,Journal!$R:$S,2,FALSE),\"\")","v":""},0,0,null,null,null,null,null,null,null,25,"2020-02-04","Tuesday",{"$f":"IFERROR(COUNTIFS(Journal!$S:$S,\"W\",Journal!$B:$B,AT28)/VLOOKUP(AT28,G57:K321,5,FALSE),\"no trades\")","v":"no trades"},null,null,null,null,null,null,null,null,null,null,null,"Gross CURVE V NO. OF TRADES",null,null,null,null,"Losing Trades","N/A",{"$f":"SUM(AK4:AK198)*-1","v":0},{"$f":"SUM(AK4:AK100)*-1","v":0},{"$f":"SUM(AK11:AK17)*-1","v":0}]
["Week 6",{"$f":"INDEX('Detailed Stats'!$F$58:$BE$58,1,ROW(AM7))","v":0},{"$error":"#N/A"},null,null,null,null,null,null,null,null,null,null,null,null,null,null,null,6,{"$f":"IFERROR(VLOOKUP(S29,Journal!$R:$AQ,26,FALSE),\"\")","v":""},{"$error":"#VALUE!"},{"$error":"#N/A"},"",{"$f":"IFERROR(VLOOKUP(S29,Journal!$R:$AV,32,FALSE),\"\")","v":""},null,null,"2020-01-07","Tuesday",{"$f":"IFERROR(VLOOKUP(AA29, 'Daily Snapshot'!$B:$J,7,FALSE),\"\")","v":""},"","",null,null,26,{"$f":"IFERROR(VLOOKUP(AH29,Journal!$R:$S,2,FALSE),\"\")","v":""},0,0,null,null,null,null,null,null,null,26,"2020-02-05","Wednesday",{"$f":"IFERROR(COUNTIFS(Journal!$S:$S,\"W\",Journal!$B:$B,AT29)/VLOOKUP(AT29,G58:K322,5,FALSE),\"no trades\")","v":"no trades"},null,null,null,null,null,null,null,null,null,null,null,"Trade ID no.","NET Profit / Loss","Balance","Balance CHART",null,"Rule Violations",{"$f":"SUM(BN20:CE20)","v":-18},{"$f":"SUM(BN15:CE15)","v":-18},{"$f":"SUM(BN10:CE10)","v":-18},{"$f":"SUM(BN5:CE5)","v":-18}]
["Week 7",{"$f":"INDEX('Detailed Stats'!$F$58:$BE$58,1,ROW(AM8))","v":0},{"$error":"#N/A"},null,null,null,null,null,null,"ONLY for 12 months",null,null,null,null,null,null,null,null,7,{"$f":"IFERROR(VLOOKUP(S30,Journal!$R:$AQ,26,FALSE),\"\")","v":""},{"$error":"#VALUE!"},{"$error":"#N/A"},"",{"$f":"IFERROR(VLOOKUP(S30,Journal!$R:$AV,32,FALSE),\"\")","v":""},null,null,"2020-01-08","Wednesday",{"$f":"IFERROR(VLOOKUP(AA30, 'Daily Snapshot'!$B:$J,7,FALSE),\"\")","v":""},"","",null,null,27,{"$f":"IFERROR(VLOOKUP(AH30,Journal!$R:$S,2,FALSE),\"\")","v":""},0,0,null,null,null,null,null,null,null,27,"2020-02-06","Thursday",{"$f":"IFERROR(COUNTIFS(Journal!$S:$S,\"W\",Journal!$B:$B,AT30)/VLOOKUP(AT30,G59:K323,5,FALSE),\"no trades\")","v":"no trades"},null,null,null,null,null,null,null,null,null,null,null,1,{"$f":"N125","v":0},{"$f":"H25+BI30","v":25000},{"$f":"BJ30","v":25000},null,"Trades outside Edge ",{"$f":"COUNTIF('Scatter Plot'!G2:G470,\"n\")","v":1},{"$f":"COUNTIF('Scatter Plot'!G176:G470,\"n\")","v":0},{"$f":"COUNTIF('Scatter Plot'!G176:G190,\"n\")","v":0},{"$f":"COUNTIF('Scatter Plot'!G180:G999,\"n\")","v":0}]
["Week 8",{"$f":"INDEX('Detailed Stats'!$F$58:$BE$58,1,ROW(AM9))","v":0},{"$error":"#N/A"},null,null,"For: DAILY NET P&L CHART + DAILY SNAPSHOT",null,null,null,null,null,null,null,null,null,null,null,null,8,{"$f":"IFERROR(VLOOKUP(S31,Journal!$R:$AQ,26,FALSE),\"\")","v":""},{"$error":"#VALUE!"},{"$error":"#N/A"},"",{"$f":"IFERROR(VLOOKUP(S31,Journal!$R:$AV,32,FALSE),\"\")","v":""},null,null,"2020-01-09","Thursday",{"$f":"IFERROR(VLOOKUP(AA31, 'Daily Snapshot'!$B:$J,7,FALSE),\"\")","v":""},"","",null,null,28,{"$f":"IFERROR(VLOOKUP(AH31,Journal!$R:$S,2,FALSE),\"\")","v":""},0,0,null,null,null,null,null,null,null,28,"2020-02-07","Friday",{"$f":"IFERROR(COUNTIFS(Journal!$S:$S,\"W\",Journal!$B:$B,AT31)/VLOOKUP(AT31,G60:K324,5,FALSE),\"no trades\")","v":"no trades"},null,null,null,null,null,null,null,null,null,null,null,2,{"$f":"N34","v":0},{"$f":"BI31+BJ30","v":25000},{"$f":"IF(OR(BI31=0,BI31<$H$26,BI31>$H$27),NA(),BI31+BJ30)","v":{"$error":"#N/A"}}]
["Week 9",{"$f":"INDEX('Detailed Stats'!$F$58:$BE$58,1,ROW(AM10))","v":0},{"$error":"#N/A"},null,null,"Day no.","Date","weekday","Net Profit","NetP&LCHART","No. of trades","Commissions","No. of executions","Gross profit","for horizontal line at 0",null,"Account Size",null,9,{"$f":"IFERROR(VLOOKUP(S32,Journal!$R:$AQ,26,FALSE),\"\")","v":""},{"$error":"#VALUE!"},{"$error":"#N/A"},"",{"$f":"IFERROR(VLOOKUP(S32,Journal!$R:$AV,32,FALSE),\"\")","v":""},null,null,"2020-01-10","Friday",{"$f":"IFERROR(VLOOKUP(AA32, 'Daily Snapshot'!$B:$J,7,FALSE),\"\")","v":""},{"$f":"IFERROR(AD31+AC32,\"\")","v":""},"",null,null,29,{"$f":"IFERROR(VLOOKUP(AH32,Journal!$R:$S,2,FALSE),\"\")","v":""},0,0,null,null,null,null,null,null,null,29,"2020-02-10","Monday",{"$f":"IFERROR(COUNTIFS(Journal!$S:$S,\"W\",Journal!$B:$B,AT32)/VLOOKUP(AT32,G61:K325,5,FALSE),\"no trades\")","v":"no trades"},null,null,null,null,null,null,null,null,null,null,null,3,{"$f":"N35","v":0},25000,{"$f":"IF(OR(BI32=0,BI32<$H$26,BI32>$H$27),NA(),BI32+BJ31)","v":{"$error":"#N/A"}}]
["Week 10",{"$f":"INDEX('Detailed Stats'!$F$58:$BE$58,1,ROW(AM11))","v":0},{"$error":"#N/A"},null,null,1,"2020-01-01",{"$f":"TEXT(G33,\"dddd\")","v":"Wednesday"},{"$f":"(N33-L33)","v":0},{"$f":"IF(OR(I33<$H$26,I33>$H$27,I33=0),NA(),I33)","v":{"$error":"#N/A"}},{"$f":"COUNTIFS(Journal!$S:$S,\"?\",Journal!$B:$B,$G33)","v":0},{"$f":"SUMIFS(Journal!$Q:$Q, Journal!$B:$B,$G33)","v":0},{"$f":"COUNTIF(Journal!$B:$B,$G33)","v":0},{"$f":"SUMIFS(Journal!$N:$N, Journal!$B:$B,$G33)","v":0},0,{"$f":"IFERROR(VLOOKUP(G33,'Daily Snapshot'!$B:$D,3,FALSE),\"\")","v":""},{"$f":"H25+I33","v":25000},null,10,{"$f":"IFERROR(VLOOKUP(S33,Journal!$R:$AQ,26,FALSE),\"\")","v":""},{"$error":"#VALUE!"},{"$error":"#N/A"},"",{"$f":"IFERROR(VLOOKUP(S33,Journal!$R:$AV,32,FALSE),\"\")","v":""},null,null,"2020-01-13","Monday",{"$f":"IFERROR(VLOOKUP(AA33, 'Daily Snapshot'!$B:$J,7,FALSE),\"\")","v":""},"",{"$f":"IFERROR(AD33/$AD32-1,\"\")","v":""},null,null,30,{"$f":"IFERROR(VLOOKUP(AH33,Journal!$R:$S,2,FALSE),\"\")","v":""},0,0,null,null,null,null,null,null,null,30,"2020-02-11","Tuesday",{"$f":"IFERROR(COUNTIFS(Journal!$S:$S,\"W\",Journal!$B:$B,AT33)/VLOOKUP(AT33,G62:K326,5,FALSE),\"no trades\")","v":"no trades"},null,null,null,null,null,null,null,null,null,null,null,4,0,25000,{"$f":"IF(OR(BI33=0,BI33<$H$26,BI33>$H$27),NA(),BI33+BJ32)","v":{"$error":"#N/A"}}]
["Week 11",{"$f":"INDEX('Detailed Stats'!$F$58:$BE$58,1,ROW(AM12))","v":0},{"$error":"#N/A"},null,null,2,"2020-01-02",{"$f":"TEXT(G34,\"dddd\")","v":"Thursday"},0,{"$error":"#N/A"},{"$f":"COUNTIFS(Journal!$S:$S,\"?\",Journal!$B:$B,$G34)","v":0},{"$f":"SUMIFS(Journal!$Q:$Q, Journal!$B:$B,$G34)","v":0},{"$f":"COUNTIF(Journal!$B:$B,$G34)","v":0},{"$f":"SUMIFS(Journal!$N:$N, Journal!$B:$B,$G34)","v":0},0,{"$f":"IFERROR(VLOOKUP(G34,'Daily Snapshot'!$B:$D,3,FALSE),\"\")","v":""},{"$f":"Q33+I34","v":25000},null,11,{"$f":"IFERROR(VLOOKUP(S34,Journal!$R:$AQ,26,FALSE),\"\")","v":""},{"$error":"#VALUE!"},{"$error":"#N/A"},"",{"$f":"IFERROR(VLOOKUP(S34,Journal!$R:$AV,32,FALSE),\"\")","v":""},null,null,"2020-01-14","Tuesday",{"$f":"IFERROR(VLOOKUP(AA34, 'Daily Snapshot'!$B:$J,7,FALSE),\"\")","v":""},"","",null,null,31,{"$f":"IFERROR(VLOOKUP(AH34,Journal!$R:$S,2,FALSE),\"\")","v":""},0,0,null,null,null,null,null,null,null,31,"2020-02-12","Wednesday",{"$f":"IFERROR(COUNTIFS(Journal!$S:$S,\"W\",Journal!$B:$B,AT34)/VLOOKUP(AT34,G63:K327,5,FALSE),\"no trades\")","v":"no trades"},null,null,null,null,null,null,null,null,null,null,null,5,0,25000,{"$f":"IF(OR(BI34=0,BI34<$H$26,BI34>$H$27),NA(),BI34+BJ33)","v":{"$error":"#N/A"}}]
["Week 12",{"$f":"INDEX('Detailed Stats'!$F$58:$BE$58,1,ROW(AM13))","v":0},{"$error":"#N/A"},null,null,3,"2020-01-03","Friday",0,{"$error":"#N/A"},{"$f":"COUNTIFS(Journal!$S:$S,\"?\",Journal!$B:$B,$G35)","v":0},{"$f":"SUMIFS(Journal!$Q:$Q, Journal!$B:$B,$G35)","v":0},{"$f":"COUNTIF(Journal!$B:$B,$G35)","v":0},{"$f":"SUMIFS(Journal!$N:$N, Journal!$B:$B,$G35)","v":0},0,{"$f":"IFERROR(VLOOKUP(G35,'Daily Snapshot'!$B:$D,3,FALSE),\"\")","v":""},{"$f":"Q34+I35","v":25000},null,12,{"$f":"IFERROR(VLOOKUP(S35,Journal!$R:$AQ,26,FALSE),\"\")","v":""},{"$error":"#VALUE!"},{"$error":"#N/A"},"",{"$f":"IFERROR(VLOOKUP(S35,Journal!$R:$AV,32,FALSE),\"\")","v":""},null,null,"2020-01-15","Wednesday",{"$f":"IFERROR(VLOOKUP(AA35, 'Daily Snapshot'!$B:$J,7,FALSE),\"\")","v":""},"","",null,null,32,{"$f":"IFERROR(VLOOKUP(AH35,Journal!$R:$S,2,FALSE),\"\")","v":""},0,0,null,null,null,null,null,null,null,32,"2020-02-13","Thursday",{"$f":"IFERROR(COUNTIFS(Journal!$S:$S,\"W\",Journal!$B:$B,AT35)/VLOOKUP(AT35,G64:K328,5,FALSE),\"no trades\")","v":"no trades"},null,null,null,null,null,null,null,null,null,null,null,6,0,25000,{"$error":"#N/A"}]
["Week 13",{"$f":"INDEX('Detailed Stats'!$F$58:$BE$58,1,ROW(AM14))","v":0},{"$error":"#N/A"},null,null,4,"2020-01-06","Monday",0,{"$error":"#N/A"},{"$f":"COUNTIFS(Journal!$S:$S,\"?\",Journal!$B:$B,$G36)","v":0},{"$f":"SUMIFS(Journal!$Q:$Q, Journal!$B:$B,$G36)","v":0},{"$f":"COUNTIF(Journal!$B:$B,$G36)","v":0},{"$f":"SUMIFS(Journal!$N:$N, Journal!$B:$B,$G36)","v":0},0,{"$f":"IFERROR(VLOOKUP(G36,'Daily Snapshot'!$B:$D,3,FALSE),\"\")","v":""},{"$f":"Q35+I36","v":25000},null,13,{"$f":"IFERROR(VLOOKUP(S36,Journal!$R:$AQ,26,FALSE),\"\")","v":""},{"$error":"#VALUE!"},{"$error":"#N/A"},"",{"$f":"IFERROR(VLOOKUP(S36,Journal!$R:$AV,32,FALSE),\"\")","v":""},null,null,"2020-01-16","Thursday",{"$f":"IFERROR(VLOOKUP(AA36, 'Daily Snapshot'!$B:$J,7,FALSE),\"\")","v":""},"","",null,null,33,{"$f":"IFERROR(VLOOKUP(AH36,Journal!$R:$S,2,FALSE),\"\")","v":""},0,0,null,null,null,null,null,null,null,33,"2020-02-14",{"$f":"TEXT(AT36,\"dddd\")","v":"Friday"},{"$f":"IFERROR(COUNTIFS(Journal!$S:$S,\"W\",Journal!$B:$B,AT36)/VLOOKUP(AT36,G65:K329,5,FALSE),\"no trades\")","v":"no trades"},null,null,null,null,null,null,null,null,null,null,null,7,0,25000,{"$error":"#N/A"}]
["Week 14",{"$f":"INDEX('Detailed Stats'!$F$58:$BE$58,1,ROW(AM15))","v":0},{"$error":"#N/A"},null,null,5,"2020-01-07","Tuesday",0,{"$error":"#N/A"},{"$f":"COUNTIFS(Journal!$S:$S,\"?\",Journal!$B:$B,$G37)","v":0},{"$f":"SUMIFS(Journal!$Q:$Q, Journal!$B:$B,$G37)","v":0},{"$f":"COUNTIF(Journal!$B:$B,$G37)","v":0},{"$f":"SUMIFS(Journal!$N:$N, Journal!$B:$B,$G37)","v":0},0,{"$f":"IFERROR(VLOOKUP(G37,'Daily Snapshot'!$B:$D,3,FALSE),\"\")","v":""},{"$f":"Q36+I37","v":25000},null,14,{"$f":"IFERROR(VLOOKUP(S37,Journal!$R:$AQ,26,FALSE),\"\")","v":""},{"$error":"#VALUE!"},{"$error":"#N/A"},"",{"$f":"IFERROR(VLOOKUP(S37,Journal!$R:$AV,32,FALSE),\"\")","v":""},null,null,"2020-01-17","Friday",{"$f":"IFERROR(VLOOKUP(AA37, 'Daily Snapshot'!$B:$J,7,FALSE),\"\")","v":""},"","",null,null,34,{"$f":"IFERROR(VLOOKUP(AH37,Journal!$R:$S,2,FALSE),\"\")","v":""},0,0,null,null,null,null,null,null,null,34,"2020-02-17","Monday",{"$f":"IFERROR(COUNTIFS(Journal!$S:$S,\"W\",Journal!$B:$B,AT37)/VLOOKUP(AT37,G66:K330,5,FALSE),\"no trades\")","v":"no trades"},null,null,null,null,null,null,null,null,null,null,null,8,0,25000,{"$error":"#N/A"}]
["Week 15",{"$f":"INDEX('Detailed Stats'!$F$58:$BE$58,1,ROW(AM16))","v":0},{"$error":"#N/A"},null,null,6,"2020-01-08","Wednesday",0,{"$error":"#N/A"},{"$f":"COUNTIFS(Journal!$S:$S,\"?\",Journal!$B:$B,$G38)","v":0},{"$f":"SUMIFS(Journal!$Q:$Q, Journal!$B:$B,$G38)","v":0},{"$f":"COUNTIF(Journal!$B:$B,$G38)","v":0},{"$f":"SUMIFS(Journal!$N:$N, Journal!$B:$B,$G38)","v":0},0,{"$f":"IFERROR(VLOOKUP(G38,'Daily Snapshot'!$B:$D,3,FALSE),\"\")","v":""},{"$f":"Q37+I38","v":25000},null,15,{"$f":"IFERROR(VLOOKUP(S38,Journal!$R:$AQ,26,FALSE),\"\")","v":""},{"$error":"#VALUE!"},{"$error":"#N/A"},"",{"$f":"IFERROR(VLOOKUP(S38,Journal!$R:$AV,32,FALSE),\"\")","v":""},null,null,"2020-01-20","Monday",{"$f":"IFERROR(VLOOKUP(AA38, 'Daily Snapshot'!$B:$J,7,FALSE),\"\")","v":""},"","",null,null,35,{"$f":"IFERROR(VLOOKUP(AH38,Journal!$R:$S,2,FALSE),\"\")","v":""},0,0,null,null,null,null,null,null,null,35,"2020-02-18","Tuesday",{"$f":"IFERROR(COUNTIFS(Journal!$S:$S,\"W\",Journal!$B:$B,AT38)/VLOOKUP(AT38,G67:K331,5,FALSE),\"no trades\")","v":"no trades"},null,null,null,null,null,null,null,null,null,null,null,9,25.380000000000003,25025.38,25025.38]
["Week 16",{"$f":"INDEX('Detailed Stats'!$F$58:$BE$58,1,ROW(AM17))","v":0},{"$error":"#N/A"},null,null,7,"2020-01-09","Thursday",0,{"$error":"#N/A"},{"$f":"COUNTIFS(Journal!$S:$S,\"?\",Journal!$B:$B,$G39)","v":0},{"$f":"SUMIFS(Journal!$Q:$Q, Journal!$B:$B,$G39)","v":0},{"$f":"COUNTIF(Journal!$B:$B,$G39)","v":0},{"$f":"SUMIFS(Journal!$N:$N, Journal!$B:$B,$G39)","v":0},0,{"$f":"IFERROR(VLOOKUP(G39,'Daily Snapshot'!$B:$D,3,FALSE),\"\")","v":""},25000,null,16,{"$f":"IFERROR(VLOOKUP(S39,Journal!$R:$AQ,26,FALSE),\"\")","v":""},{"$error":"#VALUE!"},{"$error":"#N/A"},"",{"$f":"IFERROR(VLOOKUP(S39,Journal!$R:$AV,32,FALSE),\"\")","v":""},null,null,"2020-01-21","Tuesday",{"$f":"IFERROR(VLOOKUP(AA39, 'Daily Snapshot'!$B:$J,7,FALSE),\"\")","v":""},"","",null,null,36,{"$f":"IFERROR(VLOOKUP(AH39,Journal!$R:$S,2,FALSE),\"\")","v":""},0,0,null,null,null,null,null,null,null,36,"2020-02-19","Wednesday",{"$f":"IFERROR(COUNTIFS(Journal!$S:$S,\"W\",Journal!$B:$B,AT39)/VLOOKUP(AT39,G68:K332,5,FALSE),\"no trades\")","v":"no trades"},null,null,null,null,null,null,null,null,null,null,null,10,0,25025.38,{"$error":"#N/A"}]
["Week 17",{"$f":"INDEX('Detailed Stats'!$F$58:$BE$58,1,ROW(AM18))","v":0},{"$error":"#N/A"},null,null,8,"2020-01-10","Friday",0,{"$error":"#N/A"},{"$f":"COUNTIFS(Journal!$S:$S,\"?\",Journal!$B:$B,$G40)","v":0},{"$f":"SUMIFS(Journal!$Q:$Q, Journal!$B:$B,$G40)","v":0},{"$f":"COUNTIF(Journal!$B:$B,$G40)","v":0},{"$f":"SUMIFS(Journal!$N:$N, Journal!$B:$B,$G40)","v":0},0,{"$f":"IFERROR(VLOOKUP(G40,'Daily Snapshot'!$B:$D,3,FALSE),\"\")","v":""},25000,null,17,{"$f":"IFERROR(VLOOKUP(S40,Journal!$R:$AQ,26,FALSE),\"\")","v":""},{"$error":"#VALUE!"},{"$error":"#N/A"},"",{"$f":"IFERROR(VLOOKUP(S40,Journal!$R:$AV,32,FALSE),\"\")","v":""},null,null,"2020-01-22","Wednesday",{"$f":"IFERROR(VLOOKUP(AA40, 'Daily Snapshot'!$B:$J,7,FALSE),\"\")","v":""},"","",null,null,37,{"$f":"IFERROR(VLOOKUP(AH40,Journal!$R:$S,2,FALSE),\"\")","v":""},0,0,null,null,null,null,null,null,null,37,"2020-02-20","Thursday",{"$f":"IFERROR(COUNTIFS(Journal!$S:$S,\"W\",Journal!$B:$B,AT40)/VLOOKUP(AT40,G69:K333,5,FALSE),\"no trades\")","v":"no trades"},null,null,null,null,null,null,null,null,null,null,null,11,0,25025.38,{"$error":"#N/A"}]
["Week 18",{"$f":"INDEX('Detailed Stats'!$F$58:$BE$58,1,ROW(AM19))","v":0},{"$error":"#N/A"},null,null,9,"2020-01-13","Monday",23.630000000000003,23.630000000000003,{"$f":"COUNTIFS(Journal!$S:$S,\"?\",Journal!$B:$B,$G41)","v":1},{"$f":"SUMIFS(Journal!$Q:$Q, Journal!$B:$B,$G41)","v":1.75},{"$f":"COUNTIF(Journal!$B:$B,$G41)","v":3},{"$f":"SUMIFS(Journal!$N:$N, Journal!$B:$B,$G41)","v":25.380000000000003},0,{"$f":"IFERROR(VLOOKUP(G41,'Daily Snapshot'!$B:$D,3,FALSE),\"\")","v":""},25023.63,null,18,{"$f":"IFERROR(VLOOKUP(S41,Journal!$R:$AQ,26,FALSE),\"\")","v":""},{"$error":"#VALUE!"},{"$error":"#N/A"},"",{"$f":"IFERROR(VLOOKUP(S41,Journal!$R:$AV,32,FALSE),\"\")","v":""},null,null,"2020-01-23","Thursday",{"$f":"IFERROR(VLOOKUP(AA41, 'Daily Snapshot'!$B:$J,7,FALSE),\"\")","v":""},"","",null,null,38,{"$f":"IFERROR(VLOOKUP(AH41,Journal!$R:$S,2,FALSE),\"\")","v":""},0,0,null,null,null,null,null,null,null,38,"2020-02-21","Friday",{"$f":"IFERROR(COUNTIFS(Journal!$S:$S,\"W\",Journal!$B:$B,AT41)/VLOOKUP(AT41,G70:K334,5,FALSE),\"no trades\")","v":"no trades"},null,null,null,null,null,null,null,null,null,null,null,12,0,25025.38,{"$error":"#N/A"}]
["Week 19",{"$f":"INDEX('Detailed Stats'!$F$58:$BE$58,1,ROW(AM20))","v":0},{"$error":"#N/A"},null,null,10,"2020-01-14","Tuesday",0,{"$f":"IF(OR(I42<$H$26,I42>$H$27,I42=0),NA(),I42)","v":{"$error":"#N/A"}},{"$f":"COUNTIFS(Journal!$S:$S,\"?\",Journal!$B:$B,$G42)","v":0},{"$f":"SUMIFS(Journal!$Q:$Q, Journal!$B:$B,$G42)","v":0},{"$f":"COUNTIF(Journal!$B:$B,$G42)","v":0},{"$f":"SUMIFS(Journal!$N:$N, Journal!$B:$B,$G42)","v":0},0,{"$f":"IFERROR(VLOOKUP(G42,'Daily Snapshot'!$B:$D,3,FALSE),\"\")","v":""},25023.63,null,19,{"$f":"IFERROR(VLOOKUP(S42,Journal!$R:$AQ,26,FALSE),\"\")","v":""},{"$error":"#VALUE!"},{"$error":"#N/A"},"",{"$f":"IFERROR(VLOOKUP(S42,Journal!$R:$AV,32,FALSE),\"\")","v":""},null,null,"2020-01-24","Friday",{"$f":"IFERROR(VLOOKUP(AA42, 'Daily Snapshot'!$B:$J,7,FALSE),\"\")","v":""},"","",null,null,39,{"$f":"IFERROR(VLOOKUP(AH42,Journal!$R:$S,2,FALSE),\"\")","v":""},0,0,null,null,null,null,null,null,null,39,"2020-02-24","Monday",{"$f":"IFERROR(COUNTIFS(Journal!$S:$S,\"W\",Journal!$B:$B,AT42)/VLOOKUP(AT42,G71:K335,5,FALSE),\"no trades\")","v":"no trades"},null,null,null,null,null,null,null,null,null,null,null,13,0,25025.38,{"$error":"#N/A"}]
["Week 20",{"$f":"INDEX('Detailed Stats'!$F$58:$BE$58,1,ROW(AM21))","v":0},{"$error":"#N/A"},null,null,11,"2020-01-15","Wednesday",0,{"$f":"IF(OR(I43<$H$26,I43>$H$27,I43=0),NA(),I43)","v":{"$error":"#N/A"}},{"$f":"COUNTIFS(Journal!$S:$S,\"?\",Journal!$B:$B,$G43)","v":0},{"$f":"SUMIFS(Journal!$Q:$Q, Journal!$B:$B,$G43)","v":0},{"$f":"COUNTIF(Journal!$B:$B,$G43)","v":0},{"$f":"SUMIFS(Journal!$N:$N, Journal!$B:$B,$G43)","v":0},0,{"$f":"IFERROR(VLOOKUP(G43,'Daily Snapshot'!$B:$D,3,FALSE),\"\")","v":""},25023.63,null,20,{"$f":"IFERROR(VLOOKUP(S43,Journal!$R:$AQ,26,FALSE),\"\")","v":""},{"$error":"#VALUE!"},{"$error":"#N/A"},"",{"$f":"IFERROR(VLOOKUP(S43,Journal!$R:$AV,32,FALSE),\"\")","v":""},null,null,"2020-01-27","Monday",{"$f":"IFERROR(VLOOKUP(AA43, 'Daily Snapshot'!$B:$J,7,FALSE),\"\")","v":""},"","",null,null,40,{"$f":"IFERROR(VLOOKUP(AH43,Journal!$R:$S,2,FALSE),\"\")","v":""},0,0,null,null,null,null,null,null,null,40,"2020-02-25",{"$f":"TEXT(AT43,\"dddd\")","v":"Tuesday"},{"$f":"IFERROR(COUNTIFS(Journal!$S:$S,\"W\",Journal!$B:$B,AT43)/VLOOKUP(AT43,G72:K336,5,FALSE),\"no trades\")","v":"no trades"},null,null,null,null,null,null,null,null,null,null,null,14,0,25025.38,{"$error":"#N/A"}]
["Week 21",{"$f":"INDEX('Detailed Stats'!$F$58:$BE$58,1,ROW(AM22))","v":0},{"$error":"#N/A"},null,null,12,"2020-01-16","Thursday",0,{"$error":"#N/A"},{"$f":"COUNTIFS(Journal!$S:$S,\"?\",Journal!$B:$B,$G44)","v":0},{"$f":"SUMIFS(Journal!$Q:$Q, Journal!$B:$B,$G44)","v":0},{"$f":"COUNTIF(Journal!$B:$B,$G44)","v":0},{"$f":"SUMIFS(Journal!$N:$N, Journal!$B:$B,$G44)","v":0},0,{"$f":"IFERROR(VLOOKUP(G44,'Daily Snapshot'!$B:$D,3,FALSE),\"\")","v":""},25023.63,null,21,{"$f":"IFERROR(VLOOKUP(S44,Journal!$R:$AQ,26,FALSE),\"\")","v":""},{"$error":"#VALUE!"},{"$error":"#N/A"},"",{"$f":"IFERROR(VLOOKUP(S44,Journal!$R:$AV,32,FALSE),\"\")","v":""},null,null,"2020-01-28","Tuesday",{"$f":"IFERROR(VLOOKUP(AA44, 'Daily Snapshot'!$B:$J,7,FALSE),\"\")","v":""},"","",null,null,41,{"$f":"IFERROR(VLOOKUP(AH44,Journal!$R:$S,2,FALSE),\"\")","v":""},0,0,null,null,null,null,null,null,null,41,"2020-02-26","Wednesday",{"$f":"IFERROR(COUNTIFS(Journal!$S:$S,\"W\",Journal!$B:$B,AT44)/VLOOKUP(AT44,G73:K337,5,FALSE),\"no trades\")","v":"no trades"},null,null,null,null,null,null,null,null,null,null,null,15,0,25025.38,{"$error":"#N/A"}]
["Week 22",{"$f":"INDEX('Detailed Stats'!$F$58:$BE$58,1,ROW(AM23))","v":0},{"$error":"#N/A"},null,null,13,"2020-01-17","Friday",0,{"$error":"#N/A"},{"$f":"COUNTIFS(Journal!$S:$S,\"?\",Journal!$B:$B,$G45)","v":0},{"$f":"SUMIFS(Journal!$Q:$Q, Journal!$B:$B,$G45)","v":0},{"$f":"COUNTIF(Journal!$B:$B,$G45)","v":0},{"$f":"SUMIFS(Journal!$N:$N, Journal!$B:$B,$G45)","v":0},0,{"$f":"IFERROR(VLOOKUP(G45,'Daily Snapshot'!$B:$D,3,FALSE),\"\")","v":""},25023.63,null,22,{"$f":"IFERROR(VLOOKUP(S45,Journal!$R:$AQ,26,FALSE),\"\")","v":""},{"$error":"#VALUE!"},{"$error":"#N/A"},"",{"$f":"IFERROR(VLOOKUP(S45,Journal!$R:$AV,32,FALSE),\"\")","v":""},null,null,"2020-01-29","Wednesday",{"$f":"IFERROR(VLOOKUP(AA45, 'Daily Snapshot'!$B:$J,7,FALSE),\"\")","v":""},"","",null,null,42,{"$f":"IFERROR(VLOOKUP(AH45,Journal!$R:$S,2,FALSE),\"\")","v":""},0,0,null,null,null,null,null,null,null,42,"2020-02-27","Thursday",{"$f":"IFERROR(COUNTIFS(Journal!$S:$S,\"W\",Journal!$B:$B,AT45)/VLOOKUP(AT45,G74:K338,5,FALSE),\"no trades\")","v":"no trades"},null,null,null,null,null,null,null,null,null,null,null,16,0,25025.38,{"$error":"#N/A"}]
["Week 23",{"$f":"INDEX('Detailed Stats'!$F$58:$BE$58,1,ROW(AM24))","v":0},{"$error":"#N/A"},null,null,14,"2020-01-20","Monday",0,{"$error":"#N/A"},{"$f":"COUNTIFS(Journal!$S:$S,\"?\",Journal!$B:$B,$G46)","v":0},{"$f":"SUMIFS(Journal!$Q:$Q, Journal!$B:$B,$G46)","v":0},{"$f":"COUNTIF(Journal!$B:$B,$G46)","v":0},{"$f":"SUMIFS(Journal!$N:$N, Journal!$B:$B,$G46)","v":0},0,{"$f":"IFERROR(VLOOKUP(G46,'Daily Snapshot'!$B:$D,3,FALSE),\"\")","v":""},25023.63,null,23,{"$f":"IFERROR(VLOOKUP(S46,Journal!$R:$AQ,26,FALSE),\"\")","v":""},{"$error":"#VALUE!"},{"$error":"#N/A"},"",{"$f":"IFERROR(VLOOKUP(S46,Journal!$R:$AV,32,FALSE),\"\")","v":""},null,null,"2020-01-30","Thursday",{"$f":"IFERROR(VLOOKUP(AA46, 'Daily Snapshot'!$B:$J,7,FALSE),\"\")","v":""},"","",null,null,43,{"$f":"IFERROR(VLOOKUP(AH46,Journal!$R:$S,2,FALSE),\"\")","v":""},0,0,null,null,null,null,null,null,null,43,"2020-02-28","Friday",{"$f":"IFERROR(COUNTIFS(Journal!$S:$S,\"W\",Journal!$B:$B,AT46)/VLOOKUP(AT46,G75:K339,5,FALSE),\"no trades\")","v":"no trades"},null,null,null,null,null,null,null,null,null,null,null,17,0,25025.38,{"$error":"#N/A"}]
["Week 24",{"$f":"INDEX('Detailed Stats'!$F$58:$BE$58,1,ROW(AM25))","v":0},{"$error":"#N/A"},null,null,15,"2020-01-21","Tuesday",0,{"$error":"#N/A"},{"$f":"COUNTIFS(Journal!$S:$S,\"?\",Journal!$B:$B,$G47)","v":0},{"$f":"SUMIFS(Journal!$Q:$Q, Journal!$B:$B,$G47)","v":0},{"$f":"COUNTIF(Journal!$B:$B,$G47)","v":0},{"$f":"SUMIFS(Journal!$N:$N, Journal!$B:$B,$G47)","v":0},0,{"$f":"IFERROR(VLOOKUP(G47,'Daily Snapshot'!$B:$D,3,FALSE),\"\")","v":""},25023.63,null,24,{"$f":"IFERROR(VLOOKUP(S47,Journal!$R:$AQ,26,FALSE),\"\")","v":""},{"$error":"#VALUE!"},{"$error":"#N/A"},"",{"$f":"IFERROR(VLOOKUP(S47,Journal!$R:$AV,32,FALSE),\"\")","v":""},null,null,"2020-01-31","Friday",{"$f":"IFERROR(VLOOKUP(AA47, 'Daily Snapshot'!$B:$J,7,FALSE),\"\")","v":""},"","",null,null,44,{"$f":"IFERROR(VLOOKUP(AH47,Journal!$R:$S,2,FALSE),\"\")","v":""},0,0,null,null,null,null,null,null,null,44,"2020-03-02","Monday",{"$f":"IFERROR(COUNTIFS(Journal!$S:$S,\"W\",Journal!$B:$B,AT47)/VLOOKUP(AT47,G76:K340,5,FALSE),\"no trades\")","v":"no trades"},null,null,null,null,null,null,null,null,null,null,null,18,0,25025.38,{"$error":"#N/A"}]
["Week 25",{"$f":"INDEX('Detailed Stats'!$F$58:$BE$58,1,ROW(AM26))","v":0},{"$error":"#N/A"},null,null,16,"2020-01-22","Wednesday",0,{"$error":"#N/A"},{"$f":"COUNTIFS(Journal!$S:$S,\"?\",Journal!$B:$B,$G48)","v":0},{"$f":"SUMIFS(Journal!$Q:$Q, Journal!$B:$B,$G48)","v":0},{"$f":"COUNTIF(Journal!$B:$B,$G48)","v":0},{"$f":"SUMIFS(Journal!$N:$N, Journal!$B:$B,$G48)","v":0},0,{"$f":"IFERROR(VLOOKUP(G48,'Daily Snapshot'!$B:$D,3,FALSE),\"\")","v":""},25023.63,null,25,{"$f":"IFERROR(VLOOKUP(S48,Journal!$R:$AQ,26,FALSE),\"\")","v":""},{"$error":"#VALUE!"},{"$error":"#N/A"},"",{"$f":"IFERROR(VLOOKUP(S48,Journal!$R:$AV,32,FALSE),\"\")","v":""},null,null,"2020-02-03","Monday",{"$f":"IFERROR(VLOOKUP(AA48, 'Daily Snapshot'!$B:$J,7,FALSE),\"\")","v":0},{"$f":"AD46","v":""},"",null,null,45,{"$f":"IFERROR(VLOOKUP(AH48,Journal!$R:$S,2,FALSE),\"\")","v":""},0,0,null,null,null,null,null,null,null,45,"2020-03-03","Tuesday",{"$f":"IFERROR(COUNTIFS(Journal!$S:$S,\"W\",Journal!$B:$B,AT48)/VLOOKUP(AT48,G77:K341,5,FALSE),\"no trades\")","v":"no trades"},null,null,null,null,null,null,null,null,null,null,null,19,0,25025.38,{"$error":"#N/A"}]
["Week 26",{"$f":"INDEX('Detailed Stats'!$F$58:$BE$58,1,ROW(AM27))","v":0},{"$error":"#N/A"},null,null,17,"2020-01-23","Thursday",0,{"$error":"#N/A"},{"$f":"COUNTIFS(Journal!$S:$S,\"?\",Journal!$B:$B,$G49)","v":0},{"$f":"SUMIFS(Journal!$Q:$Q, Journal!$B:$B,$G49)","v":0},{"$f":"COUNTIF(Journal!$B:$B,$G49)","v":0},{"$f":"SUMIFS(Journal!$N:$N, Journal!$B:$B,$G49)","v":0},0,{"$f":"IFERROR(VLOOKUP(G49,'Daily Snapshot'!$B:$D,3,FALSE),\"\")","v":""},25023.63,null,26,{"$f":"IFERROR(VLOOKUP(S49,Journal!$R:$AQ,26,FALSE),\"\")","v":""},{"$error":"#VALUE!"},{"$error":"#N/A"},"",{"$f":"IFERROR(VLOOKUP(S49,Journal!$R:$AV,32,FALSE),\"\")","v":""},null,null,"2020-02-04","Tuesday",{"$f":"IFERROR(VLOOKUP(AA49, 'Daily Snapshot'!$B:$J,7,FALSE),\"\")","v":""},"","",null,null,46,{"$f":"IFERROR(VLOOKUP(AH49,Journal!$R:$S,2,FALSE),\"\")","v":""},0,0,null,null,null,null,null,null,null,46,"2020-03-04","Wednesday",{"$f":"IFERROR(COUNTIFS(Journal!$S:$S,\"W\",Journal!$B:$B,AT49)/VLOOKUP(AT49,G78:K342,5,FALSE),\"no trades\")","v":"no trades"},null,null,null,null,null,null,null,null,null,null,null,20,0,25025.38,{"$error":"#N/A"}]
["Week 27",{"$f":"INDEX('Detailed Stats'!$F$58:$BE$58,1,ROW(AM28))","v":0},{"$error":"#N/A"},null,null,18,"2020-01-24","Friday",0,{"$error":"#N/A"},{"$f":"COUNTIFS(Journal!$S:$S,\"?\",Journal!$B:$B,$G50)","v":0},{"$f":"SUMIFS(Journal!$Q:$Q, Journal!$B:$B,$G50)","v":0},{"$f":"COUNTIF(Journal!$B:$B,$G50)","v":0},{"$f":"SUMIFS(Journal!$N:$N, Journal!$B:$B,$G50)","v":0},0,{"$f":"IFERROR(VLOOKUP(G50,'Daily Snapshot'!$B:$D,3,FALSE),\"\")","v":""},25023.63,null,27,{"$f":"IFERROR(VLOOKUP(S50,Journal!$R:$AQ,26,FALSE),\"\")","v":""},{"$error":"#VALUE!"},{"$error":"#N/A"},"",{"$f":"IFERROR(VLOOKUP(S50,Journal!$R:$AV,32,FALSE),\"\")","v":""},null,null,"2020-02-05","Wednesday",{"$f":"IFERROR(VLOOKUP(AA50, 'Daily Snapshot'!$B:$J,7,FALSE),\"\")","v":""},"","",null,null,47,{"$f":"IFERROR(VLOOKUP(AH50,Journal!$R:$S,2,FALSE),\"\")","v":""},0,0,null,null,null,null,null,null,null,47,"2020-03-05","Thursday",{"$f":"IFERROR(COUNTIFS(Journal!$S:$S,\"W\",Journal!$B:$B,AT50)/VLOOKUP(AT50,G79:K343,5,FALSE),\"no trades\")","v":"no trades"},null,null,null,null,null,null,null,null,null,null,null,21,0,25025.38,{"$error":"#N/A"}]
["Week 28",{"$f":"INDEX('Detailed Stats'!$F$58:$BE$58,1,ROW(AM29))","v":0},{"$error":"#N/A"},null,null,19,"2020-01-27","Monday",0,{"$error":"#N/A"},{"$f":"COUNTIFS(Journal!$S:$S,\"?\",Journal!$B:$B,$G51)","v":0},{"$f":"SUMIFS(Journal!$Q:$Q, Journal!$B:$B,$G51)","v":0},{"$f":"COUNTIF(Journal!$B:$B,$G51)","v":0},{"$f":"SUMIFS(Journal!$N:$N, Journal!$B:$B,$G51)","v":0},0,{"$f":"IFERROR(VLOOKUP(G51,'Daily Snapshot'!$B:$D,3,FALSE),\"\")","v":""},25023.63,null,28,{"$f":"IFERROR(VLOOKUP(S51,Journal!$R:$AQ,26,FALSE),\"\")","v":""},{"$error":"#VALUE!"},{"$error":"#N/A"},"",{"$f":"IFERROR(VLOOKUP(S51,Journal!$R:$AV,32,FALSE),\"\")","v":""},null,null,"2020-02-06","Thursday",{"$f":"IFERROR(VLOOKUP(AA51, 'Daily Snapshot'!$B:$J,7,FALSE),\"\")","v":""},"","",null,null,48,{"$f":"IFERROR(VLOOKUP(AH51,Journal!$R:$S,2,FALSE),\"\")","v":""},0,0,null,null,null,null,null,null,null,48,"2020-03-06","Friday",{"$f":"IFERROR(COUNTIFS(Journal!$S:$S,\"W\",Journal!$B:$B,AT51)/VLOOKUP(AT51,G80:K344,5,FALSE),\"no trades\")","v":"no trades"},null,null,null,null,null,null,null,null,null,null,null,22,0,25025.38,{"$error":"#N/A"}]
["Week 29",{"$f":"INDEX('Detailed Stats'!$F$58:$BE$58,1,ROW(AM30))","v":0},{"$error":"#N/A"},null,null,20,"2020-01-28","Tuesday",0,{"$error":"#N/A"},{"$f":"COUNTIFS(Journal!$S:$S,\"?\",Journal!$B:$B,$G52)","v":0},{"$f":"SUMIFS(Journal!$Q:$Q, Journal!$B:$B,$G52)","v":0},{"$f":"COUNTIF(Journal!$B:$B,$G52)","v":0},{"$f":"SUMIFS(Journal!$N:$N, Journal!$B:$B,$G52)","v":0},0,{"$f":"IFERROR(VLOOKUP(G52,'Daily Snapshot'!$B:$D,3,FALSE),\"\")","v":""},25023.63,null,29,{"$f":"IFERROR(VLOOKUP(S52,Journal!$R:$AQ,26,FALSE),\"\")","v":""},{"$error":"#VALUE!"},{"$error":"#N/A"},"",{"$f":"IFERROR(VLOOKUP(S52,Journal!$R:$AV,32,FALSE),\"\")","v":""},null,null,"2020-02-07","Friday",{"$f":"IFERROR(VLOOKUP(AA52, 'Daily Snapshot'!$B:$J,7,FALSE),\"\")","v":""},"","",null,null,49,{"$f":"IFERROR(VLOOKUP(AH52,Journal!$R:$S,2,FALSE),\"\")","v":""},0,0,null,null,null,null,null,null,null,49,"2020-03-09","Monday",{"$f":"IFERROR(COUNTIFS(Journal!$S:$S,\"W\",Journal!$B:$B,AT52)/VLOOKUP(AT52,G81:K345,5,FALSE),\"no trades\")","v":"no trades"},null,null,null,null,null,null,null,null,null,null,null,23,0,25025.38,{"$error":"#N/A"}]
["Week 30",{"$f":"INDEX('Detailed Stats'!$F$58:$BE$58,1,ROW(AM31))","v":0},{"$error":"#N/A"},null,null,21,"2020-01-29","Wednesday",0,{"$error":"#N/A"},{"$f":"COUNTIFS(Journal!$S:$S,\"?\",Journal!$B:$B,$G53)","v":0},{"$f":"SUMIFS(Journal!$Q:$Q, Journal!$B:$B,$G53)","v":0},{"$f":"COUNTIF(Journal!$B:$B,$G53)","v":0},{"$f":"SUMIFS(Journal!$N:$N, Journal!$B:$B,$G53)","v":0},0,{"$f":"IFERROR(VLOOKUP(G53,'Daily Snapshot'!$B:$D,3,FALSE),\"\")","v":""},25023.63,null,30,{"$f":"IFERROR(VLOOKUP(S53,Journal!$R:$AQ,26,FALSE),\"\")","v":""},{"$error":"#VALUE!"},{"$error":"#N/A"},"",{"$f":"IFERROR(VLOOKUP(S53,Journal!$R:$AV,32,FALSE),\"\")","v":""},null,null,"2020-02-10","Monday",{"$f":"IFERROR(VLOOKUP(AA53, 'Daily Snapshot'!$B:$J,7,FALSE),\"\")","v":""},"","",null,null,50,{"$f":"IFERROR(VLOOKUP(AH53,Journal!$R:$S,2,FALSE),\"\")","v":""},0,0,null,null,null,null,null,null,null,50,"2020-03-10","Tuesday",{"$f":"IFERROR(COUNTIFS(Journal!$S:$S,\"W\",Journal!$B:$B,AT53)/VLOOKUP(AT53,G82:K346,5,FALSE),\"no trades\")","v":"no trades"},null,null,null,null,null,null,null,null,null,null,null,24,0,25025.38,{"$error":"#N/A"}]
["Week 31",{"$f":"INDEX('Detailed Stats'!$F$58:$BE$58,1,ROW(AM32))","v":0},{"$error":"#N/A"},null,null,22,"2020-01-30","Thursday",0,{"$error":"#N/A"},{"$f":"COUNTIFS(Journal!$S:$S,\"?\",Journal!$B:$B,$G54)","v":0},{"$f":"SUMIFS(Journal!$Q:$Q, Journal!$B:$B,$G54)","v":0},{"$f":"COUNTIF(Journal!$B:$B,$G54)","v":0},{"$f":"SUMIFS(Journal!$N:$N, Journal!$B:$B,$G54)","v":0},0,{"$f":"IFERROR(VLOOKUP(G54,'Daily Snapshot'!$B:$D,3,FALSE),\"\")","v":""},25023.63,null,31,{"$f":"IFERROR(VLOOKUP(S54,Journal!$R:$AQ,26,FALSE),\"\")","v":""},{"$error":"#VALUE!"},{"$error":"#N/A"},"",{"$f":"IFERROR(VLOOKUP(S54,Journal!$R:$AV,32,FALSE),\"\")","v":""},null,null,"2020-02-11","Tuesday",{"$f":"IFERROR(VLOOKUP(AA54, 'Daily Snapshot'!$B:$J,7,FALSE),\"\")","v":""},"","",null,null,51,{"$f":"IFERROR(VLOOKUP(AH54,Journal!$R:$S,2,FALSE),\"\")","v":""},0,0,null,null,null,null,null,null,null,51,"2020-03-11","Wednesday",{"$f":"IFERROR(COUNTIFS(Journal!$S:$S,\"W\",Journal!$B:$B,AT54)/VLOOKUP(AT54,G83:K347,5,FALSE),\"no trades\")","v":"no trades"},null,null,null,null,null,null,null,null,null,null,null,25,0,25025.38,{"$error":"#N/A"}]
["Week 32",{"$f":"INDEX('Detailed Stats'!$F$58:$BE$58,1,ROW(AM33))","v":0},{"$error":"#N/A"},null,null,23,"2020-01-31","Friday",0,{"$error":"#N/A"},{"$f":"COUNTIFS(Journal!$S:$S,\"?\",Journal!$B:$B,$G55)","v":0},{"$f":"SUMIFS(Journal!$Q:$Q, Journal!$B:$B,$G55)","v":0},{"$f":"COUNTIF(Journal!$B:$B,$G55)","v":0},{"$f":"SUMIFS(Journal!$N:$N, Journal!$B:$B,$G55)","v":0},0,{"$f":"IFERROR(VLOOKUP(G55,'Daily Snapshot'!$B:$D,3,FALSE),\"\")","v":""},25023.63,null,32,{"$f":"IFERROR(VLOOKUP(S55,Journal!$R:$AQ,26,FALSE),\"\")","v":""},{"$error":"#VALUE!"},{"$error":"#N/A"},"",{"$f":"IFERROR(VLOOKUP(S55,Journal!$R:$AV,32,FALSE),\"\")","v":""},null,null,"2020-02-12","Wednesday",{"$f":"IFERROR(VLOOKUP(AA55, 'Daily Snapshot'!$B:$J,7,FALSE),\"\")","v":""},"","",null,null,52,{"$f":"IFERROR(VLOOKUP(AH55,Journal!$R:$S,2,FALSE),\"\")","v":""},0,0,null,null,null,null,null,null,null,52,"2020-03-12","Thursday",{"$f":"IFERROR(COUNTIFS(Journal!$S:$S,\"W\",Journal!$B:$B,AT55)/VLOOKUP(AT55,G84:K348,5,FALSE),\"no trades\")","v":"no trades"},null,null,null,null,null,null,null,null,null,null,null,26,0,25025.38,{"$error":"#N/A"}]
["Week 33",{"$f":"INDEX('Detailed Stats'!$F$58:$BE$58,1,ROW(AM34))","v":0},{"$error":"#N/A"},null,null,24,"2020-02-03","Monday",0,{"$error":"#N/A"},{"$f":"COUNTIFS(Journal!$S:$S,\"?\",Journal!$B:$B,$G56)","v":0},{"$f":"SUMIFS(Journal!$Q:$Q, Journal!$B:$B,$G56)","v":0},{"$f":"COUNTIF(Journal!$B:$B,$G56)","v":0},{"$f":"SUMIFS(Journal!$N:$N, Journal!$B:$B,$G56)","v":0},0,{"$f":"IFERROR(VLOOKUP(G56,'Daily Snapshot'!$B:$D,3,FALSE),\"\")","v":0},25023.63,null,33,{"$f":"IFERROR(VLOOKUP(S56,Journal!$R:$AQ,26,FALSE),\"\")","v":""},{"$error":"#VALUE!"},{"$error":"#N/A"},"",{"$f":"IFERROR(VLOOKUP(S56,Journal!$R:$AV,32,FALSE),\"\")","v":""},null,null,"2020-02-13","Thursday",{"$f":"IFERROR(VLOOKUP(AA56, 'Daily Snapshot'!$B:$J,7,FALSE),\"\")","v":""},"","",null,null,53,{"$f":"IFERROR(VLOOKUP(AH56,Journal!$R:$S,2,FALSE),\"\")","v":""},0,0,null,null,null,null,null,null,null,53,"2020-03-13","Friday",{"$f":"IFERROR(COUNTIFS(Journal!$S:$S,\"W\",Journal!$B:$B,AT56)/VLOOKUP(AT56,G85:K349,5,FALSE),\"no trades\")","v":"no trades"},null,null,null,null,null,null,null,null,null,null,null,27,0,25025.38,{"$error":"#N/A"}]
["Week 34",{"$f":"INDEX('Detailed Stats'!$F$58:$BE$58,1,ROW(AM35))","v":0},{"$error":"#N/A"},null,null,25,"2020-02-04","Tuesday",0,{"$error":"#N/A"},{"$f":"COUNTIFS(Journal!$S:$S,\"?\",Journal!$B:$B,$G57)","v":0},{"$f":"SUMIFS(Journal!$Q:$Q, Journal!$B:$B,$G57)","v":0},{"$f":"COUNTIF(Journal!$B:$B,$G57)","v":0},{"$f":"SUMIFS(Journal!$N:$N, Journal!$B:$B,$G57)","v":0},0,{"$f":"IFERROR(VLOOKUP(G57,'Daily Snapshot'!$B:$D,3,FALSE),\"\")","v":""},25023.63,null,34,{"$f":"IFERROR(VLOOKUP(S57,Journal!$R:$AQ,26,FALSE),\"\")","v":""},{"$error":"#VALUE!"},{"$error":"#N/A"},"",{"$f":"IFERROR(VLOOKUP(S57,Journal!$R:$AV,32,FALSE),\"\")","v":""},null,null,"2020-02-14","Friday",{"$f":"IFERROR(VLOOKUP(AA57, 'Daily Snapshot'!$B:$J,7,FALSE),\"\")","v":""},"","",null,null,54,{"$f":"IFERROR(VLOOKUP(AH57,Journal!$R:$S,2,FALSE),\"\")","v":""},0,0,null,null,null,null,null,null,null,54,"2020-03-16","Monday",{"$f":"IFERROR(COUNTIFS(Journal!$S:$S,\"W\",Journal!$B:$B,AT57)/VLOOKUP(AT57,G86:K350,5,FALSE),\"no trades\")","v":"no trades"},null,null,null,null,null,null,null,null,null,null,null,28,0,25025.38,{"$error":"#N/A"}]
["Week 35",{"$f":"INDEX('Detailed Stats'!$F$58:$BE$58,1,ROW(AM36))","v":0},{"$error":"#N/A"},null,null,26,"2020-02-05","Wednesday",0,{"$error":"#N/A"},{"$f":"COUNTIFS(Journal!$S:$S,\"?\",Journal!$B:$B,$G58)","v":0},{"$f":"SUMIFS(Journal!$Q:$Q, Journal!$B:$B,$G58)","v":0},{"$f":"COUNTIF(Journal!$B:$B,$G58)","v":0},{"$f":"SUMIFS(Journal!$N:$N, Journal!$B:$B,$G58)","v":0},0,{"$f":"IFERROR(VLOOKUP(G58,'Daily Snapshot'!$B:$D,3,FALSE),\"\")","v":""},25023.63,null,35,{"$f":"IFERROR(VLOOKUP(S58,Journal!$R:$AQ,26,FALSE),\"\")","v":""},{"$error":"#VALUE!"},{"$error":"#N/A"},"",{"$f":"IFERROR(VLOOKUP(S58,Journal!$R:$AV,32,FALSE),\"\")","v":""},null,null,"2020-02-17","Monday",{"$f":"IFERROR(VLOOKUP(AA58, 'Daily Snapshot'!$B:$J,7,FALSE),\"\")","v":""},"","",null,null,55,{"$f":"IFERROR(VLOOKUP(AH58,Journal!$R:$S,2,FALSE),\"\")","v":""},0,0,null,null,null,null,null,null,null,55,"2020-03-17","Tuesday",{"$f":"IFERROR(COUNTIFS(Journal!$S:$S,\"W\",Journal!$B:$B,AT58)/VLOOKUP(AT58,G87:K351,5,FALSE),\"no trades\")","v":"no trades"},null,null,null,null,null,null,null,null,null,null,null,29,0,25025.38,{"$error":"#N/A"}]
["Week 36",{"$f":"INDEX('Detailed Stats'!$F$58:$BE$58,1,ROW(AM37))","v":0},{"$error":"#N/A"},null,null,27,"2020-02-06","Thursday",0,{"$error":"#N/A"},{"$f":"COUNTIFS(Journal!$S:$S,\"?\",Journal!$B:$B,$G59)","v":0},{"$f":"SUMIFS(Journal!$Q:$Q, Journal!$B:$B,$G59)","v":0},{"$f":"COUNTIF(Journal!$B:$B,$G59)","v":0},{"$f":"SUMIFS(Journal!$N:$N, Journal!$B:$B,$G59)","v":0},0,{"$f":"IFERROR(VLOOKUP(G59,'Daily Snapshot'!$B:$D,3,FALSE),\"\")","v":""},25023.63,null,36,{"$f":"IFERROR(VLOOKUP(S59,Journal!$R:$AQ,26,FALSE),\"\")","v":""},{"$error":"#VALUE!"},{"$error":"#N/A"},"",{"$f":"IFERROR(VLOOKUP(S59,Journal!$R:$AV,32,FALSE),\"\")","v":""},null,null,"2020-02-18","Tuesday",{"$f":"IFERROR(VLOOKUP(AA59, 'Daily Snapshot'!$B:$J,7,FALSE),\"\")","v":""},"","",null,null,56,{"$f":"IFERROR(VLOOKUP(AH59,Journal!$R:$S,2,FALSE),\"\")","v":""},0,0,null,null,null,null,null,null,null,56,"2020-03-18","Wednesday",{"$f":"IFERROR(COUNTIFS(Journal!$S:$S,\"W\",Journal!$B:$B,AT59)/VLOOKUP(AT59,G88:K352,5,FALSE),\"no trades\")","v":"no trades"},null,null,null,null,null,null,null,null,null,null,null,30,0,25025.38,{"$error":"#N/A"}]
["Week 37",{"$f":"INDEX('Detailed Stats'!$F$58:$BE$58,1,ROW(AM38))","v":0},{"$error":"#N/A"},null,null,28,"2020-02-07","Friday",0,{"$error":"#N/A"},{"$f":"COUNTIFS(Journal!$S:$S,\"?\",Journal!$B:$B,$G60)","v":0},{"$f":"SUMIFS(Journal!$Q:$Q, Journal!$B:$B,$G60)","v":0},{"$f":"COUNTIF(Journal!$B:$B,$G60)","v":0},{"$f":"SUMIFS(Journal!$N:$N, Journal!$B:$B,$G60)","v":0},0,{"$f":"IFERROR(VLOOKUP(G60,'Daily Snapshot'!$B:$D,3,FALSE),\"\")","v":""},25023.63,null,37,{"$f":"IFERROR(VLOOKUP(S60,Journal!$R:$AQ,26,FALSE),\"\")","v":""},{"$error":"#VALUE!"},{"$error":"#N/A"},"",{"$f":"IFERROR(VLOOKUP(S60,Journal!$R:$AV,32,FALSE),\"\")","v":""},null,null,"2020-02-19","Wednesday",{"$f":"IFERROR(VLOOKUP(AA60, 'Daily Snapshot'!$B:$J,7,FALSE),\"\")","v":""},"","",null,null,57,{"$f":"IFERROR(VLOOKUP(AH60,Journal!$R:$S,2,FALSE),\"\")","v":""},0,0,null,null,null,null,null,null,null,57,"2020-03-19","Thursday",{"$f":"IFERROR(COUNTIFS(Journal!$S:$S,\"W\",Journal!$B:$B,AT60)/VLOOKUP(AT60,G89:K353,5,FALSE),\"no trades\")","v":"no trades"},null,null,null,null,null,null,null,null,null,null,null,31,0,25025.38,{"$error":"#N/A"}]
["Week 38",{"$f":"INDEX('Detailed Stats'!$F$58:$BE$58,1,ROW(AM39))","v":0},{"$error":"#N/A"},null,null,29,"2020-02-10","Monday",0,{"$error":"#N/A"},{"$f":"COUNTIFS(Journal!$S:$S,\"?\",Journal!$B:$B,$G61)","v":0},{"$f":"SUMIFS(Journal!$Q:$Q, Journal!$B:$B,$G61)","v":0},{"$f":"COUNTIF(Journal!$B:$B,$G61)","v":0},{"$f":"SUMIFS(Journal!$N:$N, Journal!$B:$B,$G61)","v":0},0,{"$f":"IFERROR(VLOOKUP(G61,'Daily Snapshot'!$B:$D,3,FALSE),\"\")","v":""},25023.63,null,38,{"$f":"IFERROR(VLOOKUP(S61,Journal!$R:$AQ,26,FALSE),\"\")","v":""},{"$error":"#VALUE!"},{"$error":"#N/A"},"",{"$f":"IFERROR(VLOOKUP(S61,Journal!$R:$AV,32,FALSE),\"\")","v":""},null,null,"2020-02-20","Thursday",{"$f":"IFERROR(VLOOKUP(AA61, 'Daily Snapshot'!$B:$J,7,FALSE),\"\")","v":""},"","",null,null,58,{"$f":"IFERROR(VLOOKUP(AH61,Journal!$R:$S,2,FALSE),\"\")","v":""},0,0,null,null,null,null,null,null,null,58,"2020-03-20","Friday",{"$f":"IFERROR(COUNTIFS(Journal!$S:$S,\"W\",Journal!$B:$B,AT61)/VLOOKUP(AT61,G90:K354,5,FALSE),\"no trades\")","v":"no trades"},null,null,null,null,null,null,null,null,null,null,null,32,0,25025.38,{"$error":"#N/A"}]
["Week 39",{"$f":"INDEX('Detailed Stats'!$F$58:$BE$58,1,ROW(AM40))","v":0},{"$error":"#N/A"},null,null,30,"2020-02-11","Tuesday",0,{"$error":"#N/A"},{"$f":"COUNTIFS(Journal!$S:$S,\"?\",Journal!$B:$B,$G62)","v":0},{"$f":"SUMIFS(Journal!$Q:$Q, Journal!$B:$B,$G62)","v":0},{"$f":"COUNTIF(Journal!$B:$B,$G62)","v":0},{"$f":"SUMIFS(Journal!$N:$N, Journal!$B:$B,$G62)","v":0},0,{"$f":"IFERROR(VLOOKUP(G62,'Daily Snapshot'!$B:$D,3,FALSE),\"\")","v":""},25023.63,null,39,{"$f":"IFERROR(VLOOKUP(S62,Journal!$R:$AQ,26,FALSE),\"\")","v":""},{"$error":"#VALUE!"},{"$error":"#N/A"},"",{"$f":"IFERROR(VLOOKUP(S62,Journal!$R:$AV,32,FALSE),\"\")","v":""},null,null,"2020-02-21","Friday",{"$f":"IFERROR(VLOOKUP(AA62, 'Daily Snapshot'!$B:$J,7,FALSE),\"\")","v":""},"","",null,null,59,{"$f":"IFERROR(VLOOKUP(AH62,Journal!$R:$S,2,FALSE),\"\")","v":""},0,0,null,null,null,null,null,null,null,59,"2020-03-23","Monday",{"$f":"IFERROR(COUNTIFS(Journal!$S:$S,\"W\",Journal!$B:$B,AT62)/VLOOKUP(AT62,G91:K355,5,FALSE),\"no trades\")","v":"no trades"},null,null,null,null,null,null,null,null,null,null,null,33,0,25025.38,{"$error":"#N/A"}]
["Week 40",{"$f":"INDEX('Detailed Stats'!$F$58:$BE$58,1,ROW(AM41))","v":0},{"$error":"#N/A"},null,null,31,"2020-02-12","Wednesday",0,{"$error":"#N/A"},{"$f":"COUNTIFS(Journal!$S:$S,\"?\",Journal!$B:$B,$G63)","v":0},{"$f":"SUMIFS(Journal!$Q:$Q, Journal!$B:$B,$G63)","v":0},{"$f":"COUNTIF(Journal!$B:$B,$G63)","v":0},{"$f":"SUMIFS(Journal!$N:$N, Journal!$B:$B,$G63)","v":0},0,{"$f":"IFERROR(VLOOKUP(G63,'Daily Snapshot'!$B:$D,3,FALSE),\"\")","v":""},25023.63,null,40,{"$f":"IFERROR(VLOOKUP(S63,Journal!$R:$AQ,26,FALSE),\"\")","v":""},{"$error":"#VALUE!"},{"$error":"#N/A"},"",{"$f":"IFERROR(VLOOKUP(S63,Journal!$R:$AV,32,FALSE),\"\")","v":""},null,null,"2020-02-24","Monday",{"$f":"IFERROR(VLOOKUP(AA63, 'Daily Snapshot'!$B:$J,7,FALSE),\"\")","v":""},"","",null,null,60,{"$f":"IFERROR(VLOOKUP(AH63,Journal!$R:$S,2,FALSE),\"\")","v":""},0,0,null,null,null,null,null,null,null,60,"2020-03-24",{"$f":"TEXT(AT63,\"dddd\")","v":"Tuesday"},{"$f":"IFERROR(COUNTIFS(Journal!$S:$S,\"W\",Journal!$B:$B,AT63)/VLOOKUP(AT63,G92:K356,5,FALSE),\"no trades\")","v":"no trades"},null,null,null,null,null,null,null,null,null,null,null,34,0,25025.38,{"$error":"#N/A"}]
["Week 41",{"$f":"INDEX('Detailed Stats'!$F$58:$BE$58,1,ROW(AM42))","v":0},{"$error":"#N/A"},null,null,32,"2020-02-13","Thursday",0,{"$error":"#N/A"},{"$f":"COUNTIFS(Journal!$S:$S,\"?\",Journal!$B:$B,$G64)","v":0},{"$f":"SUMIFS(Journal!$Q:$Q, Journal!$B:$B,$G64)","v":0},{"$f":"COUNTIF(Journal!$B:$B,$G64)","v":0},{"$f":"SUMIFS(Journal!$N:$N, Journal!$B:$B,$G64)","v":0},0,{"$f":"IFERROR(VLOOKUP(G64,'Daily Snapshot'!$B:$D,3,FALSE),\"\")","v":""},25023.63,null,41,{"$f":"IFERROR(VLOOKUP(S64,Journal!$R:$AQ,26,FALSE),\"\")","v":""},{"$error":"#VALUE!"},{"$error":"#N/A"},"",{"$f":"IFERROR(VLOOKUP(S64,Journal!$R:$AV,32,FALSE),\"\")","v":""},null,null,"2020-02-25","Tuesday",{"$f":"IFERROR(VLOOKUP(AA64, 'Daily Snapshot'!$B:$J,7,FALSE),\"\")","v":""},"","",null,null,61,{"$f":"IFERROR(VLOOKUP(AH64,Journal!$R:$S,2,FALSE),\"\")","v":""},0,0,null,null,null,null,null,null,null,61,"2020-03-25",{"$f":"TEXT(AT64,\"dddd\")","v":"Wednesday"},{"$f":"IFERROR(COUNTIFS(Journal!$S:$S,\"W\",Journal!$B:$B,AT64)/VLOOKUP(AT64,G93:K357,5,FALSE),\"no trades\")","v":"no trades"},null,null,null,null,null,null,null,null,null,null,null,35,0,25025.38,{"$error":"#N/A"}]
["Week 42",{"$f":"INDEX('Detailed Stats'!$F$58:$BE$58,1,ROW(AM43))","v":0},{"$error":"#N/A"},null,null,33,"2020-02-14","Friday",{"$f":"(N65-L65)","v":0},{"$error":"#N/A"},{"$f":"COUNTIFS(Journal!$S:$S,\"?\",Journal!$B:$B,$G65)","v":0},{"$f":"SUMIFS(Journal!$Q:$Q, Journal!$B:$B,$G65)","v":0},{"$f":"COUNTIF(Journal!$B:$B,$G65)","v":0},{"$f":"SUMIFS(Journal!$N:$N, Journal!$B:$B,$G65)","v":0},0,{"$f":"IFERROR(VLOOKUP(G65,'Daily Snapshot'!$B:$D,3,FALSE),\"\")","v":""},25023.63,null,42,{"$f":"IFERROR(VLOOKUP(S65,Journal!$R:$AQ,26,FALSE),\"\")","v":""},{"$error":"#VALUE!"},{"$error":"#N/A"},"",{"$f":"IFERROR(VLOOKUP(S65,Journal!$R:$AV,32,FALSE),\"\")","v":""},null,null,"2020-02-26","Wednesday",{"$f":"IFERROR(VLOOKUP(AA65, 'Daily Snapshot'!$B:$J,7,FALSE),\"\")","v":""},"","",null,null,62,{"$f":"IFERROR(VLOOKUP(AH65,Journal!$R:$S,2,FALSE),\"\")","v":""},0,0,null,null,null,null,null,null,null,62,"2020-03-26",{"$f":"TEXT(AT65,\"dddd\")","v":"Thursday"},{"$f":"IFERROR(COUNTIFS(Journal!$S:$S,\"W\",Journal!$B:$B,AT65)/VLOOKUP(AT65,G94:K358,5,FALSE),\"no trades\")","v":"no trades"},null,null,null,null,null,null,null,null,null,null,null,36,0,25025.38,{"$error":"#N/A"}]
["Week 43",{"$f":"INDEX('Detailed Stats'!$F$58:$BE$58,1,ROW(AM44))","v":0},{"$error":"#N/A"},null,null,34,"2020-02-17","Monday",0,{"$error":"#N/A"},{"$f":"COUNTIFS(Journal!$S:$S,\"?\",Journal!$B:$B,$G66)","v":0},{"$f":"SUMIFS(Journal!$Q:$Q, Journal!$B:$B,$G66)","v":0},{"$f":"COUNTIF(Journal!$B:$B,$G66)","v":0},{"$f":"SUMIFS(Journal!$N:$N, Journal!$B:$B,$G66)","v":0},0,{"$f":"IFERROR(VLOOKUP(G66,'Daily Snapshot'!$B:$D,3,FALSE),\"\")","v":""},25023.63,null,43,{"$f":"IFERROR(VLOOKUP(S66,Journal!$R:$AQ,26,FALSE),\"\")","v":""},{"$error":"#VALUE!"},{"$error":"#N/A"},"",{"$f":"IFERROR(VLOOKUP(S66,Journal!$R:$AV,32,FALSE),\"\")","v":""},null,null,"2020-02-27","Thursday",{"$f":"IFERROR(VLOOKUP(AA66, 'Daily Snapshot'!$B:$J,7,FALSE),\"\")","v":""},"","",null,null,63,{"$f":"IFERROR(VLOOKUP(AH66,Journal!$R:$S,2,FALSE),\"\")","v":""},0,0,null,null,null,null,null,null,null,63,"2020-03-27",{"$f":"TEXT(AT66,\"dddd\")","v":"Friday"},{"$f":"IFERROR(COUNTIFS(Journal!$S:$S,\"W\",Journal!$B:$B,AT66)/VLOOKUP(AT66,G95:K359,5,FALSE),\"no trades\")","v":"no trades"},null,null,null,null,null,null,null,null,null,null,null,37,0,25025.38,{"$error":"#N/A"}]
["Week 44",{"$f":"INDEX('Detailed Stats'!$F$58:$BE$58,1,ROW(AM45))","v":0},{"$error":"#N/A"},null,null,35,"2020-02-18","Tuesday",0,{"$error":"#N/A"},{"$f":"COUNTIFS(Journal!$S:$S,\"?\",Journal!$B:$B,$G67)","v":0},{"$f":"SUMIFS(Journal!$Q:$Q, Journal!$B:$B,$G67)","v":0},{"$f":"COUNTIF(Journal!$B:$B,$G67)","v":0},{"$f":"SUMIFS(Journal!$N:$N, Journal!$B:$B,$G67)","v":0},0,{"$f":"IFERROR(VLOOKUP(G67,'Daily Snapshot'!$B:$D,3,FALSE),\"\")","v":""},25023.63,null,44,{"$f":"IFERROR(VLOOKUP(S67,Journal!$R:$AQ,26,FALSE),\"\")","v":""},{"$error":"#VALUE!"},{"$error":"#N/A"},"",{"$f":"IFERROR(VLOOKUP(S67,Journal!$R:$AV,32,FALSE),\"\")","v":""},null,null,"2020-02-28","Friday",{"$f":"IFERROR(VLOOKUP(AA67, 'Daily Snapshot'!$B:$J,7,FALSE),\"\")","v":""},"","",null,null,64,{"$f":"IFERROR(VLOOKUP(AH67,Journal!$R:$S,2,FALSE),\"\")","v":""},0,0,null,null,null,null,null,null,null,64,"2020-03-30",{"$f":"TEXT(AT67,\"dddd\")","v":"Monday"},{"$f":"IFERROR(COUNTIFS(Journal!$S:$S,\"W\",Journal!$B:$B,AT67)/VLOOKUP(AT67,G96:K360,5,FALSE),\"no trades\")","v":"no trades"},null,null,null,null,null,null,null,null,null,null,null,38,0,25025.38,{"$error":"#N/A"}]
["Week 45",{"$f":"INDEX('Detailed Stats'!$F$58:$BE$58,1,ROW(AM46))","v":0},{"$error":"#N/A"},null,null,36,"2020-02-19","Wednesday",0,{"$error":"#N/A"},{"$f":"COUNTIFS(Journal!$S:$S,\"?\",Journal!$B:$B,$G68)","v":0},{"$f":"SUMIFS(Journal!$Q:$Q, Journal!$B:$B,$G68)","v":0},{"$f":"COUNTIF(Journal!$B:$B,$G68)","v":0},{"$f":"SUMIFS(Journal!$N:$N, Journal!$B:$B,$G68)","v":0},0,{"$f":"IFERROR(VLOOKUP(G68,'Daily Snapshot'!$B:$D,3,FALSE),\"\")","v":""},25023.63,null,45,{"$f":"IFERROR(VLOOKUP(S68,Journal!$R:$AQ,26,FALSE),\"\")","v":""},{"$error":"#VALUE!"},{"$error":"#N/A"},"",{"$f":"IFERROR(VLOOKUP(S68,Journal!$R:$AV,32,FALSE),\"\")","v":""},null,null,"2020-03-02","Monday",{"$f":"IFERROR(VLOOKUP(AA68, 'Daily Snapshot'!$B:$J,7,FALSE),\"\")","v":""},"","",null,null,65,{"$f":"IFERROR(VLOOKUP(AH68,Journal!$R:$S,2,FALSE),\"\")","v":""},{"$f":"IF($AI68=\"W\", 1,0)","v":0},{"$f":"IF($AI68=\"L\", -1,0)","v":0},null,null,null,null,null,null,null,65,"2020-03-31","Tuesday",{"$f":"IFERROR(COUNTIFS(Journal!$S:$S,\"W\",Journal!$B:$B,AT68)/VLOOKUP(AT68,G97:K361,5,FALSE),\"no trades\")","v":"no trades"},null,null,null,null,null,null,null,null,null,null,null,39,0,25025.38,{"$error":"#N/A"}]
["Week 46",{"$f":"INDEX('Detailed Stats'!$F$58:$BE$58,1,ROW(AM47))","v":0},{"$error":"#N/A"},null,null,37,"2020-02-20","Thursday",0,{"$error":"#N/A"},{"$f":"COUNTIFS(Journal!$S:$S,\"?\",Journal!$B:$B,$G69)","v":0},{"$f":"SUMIFS(Journal!$Q:$Q, Journal!$B:$B,$G69)","v":0},{"$f":"COUNTIF(Journal!$B:$B,$G69)","v":0},{"$f":"SUMIFS(Journal!$N:$N, Journal!$B:$B,$G69)","v":0},0,{"$f":"IFERROR(VLOOKUP(G69,'Daily Snapshot'!$B:$D,3,FALSE),\"\")","v":""},25023.63,null,46,{"$f":"IFERROR(VLOOKUP(S69,Journal!$R:$AQ,26,FALSE),\"\")","v":""},{"$error":"#VALUE!"},{"$error":"#N/A"},"",{"$f":"IFERROR(VLOOKUP(S69,Journal!$R:$AV,32,FALSE),\"\")","v":""},null,null,"2020-03-03","Tuesday",{"$f":"IFERROR(VLOOKUP(AA69, 'Daily Snapshot'!$B:$J,7,FALSE),\"\")","v":""},"","",null,null,66,{"$f":"IFERROR(VLOOKUP(AH69,Journal!$R:$S,2,FALSE),\"\")","v":""},0,0,null,null,null,null,null,null,null,66,{"$f":"G98","v":"2020-04-01"},"Wednesday",{"$f":"IFERROR(COUNTIFS(Journal!$S:$S,\"W\",Journal!$B:$B,AT69)/VLOOKUP(AT69,G98:K362,5,FALSE),\"no trades\")","v":"no trades"},null,null,null,null,null,null,null,null,null,null,null,40,0,25025.38,{"$error":"#N/A"}]
["Week 47",{"$f":"INDEX('Detailed Stats'!$F$58:$BE$58,1,ROW(AM48))","v":0},{"$error":"#N/A"},null,null,38,"2020-02-21","Friday",0,{"$error":"#N/A"},{"$f":"COUNTIFS(Journal!$S:$S,\"?\",Journal!$B:$B,$G70)","v":0},{"$f":"SUMIFS(Journal!$Q:$Q, Journal!$B:$B,$G70)","v":0},{"$f":"COUNTIF(Journal!$B:$B,$G70)","v":0},{"$f":"SUMIFS(Journal!$N:$N, Journal!$B:$B,$G70)","v":0},0,{"$f":"IFERROR(VLOOKUP(G70,'Daily Snapshot'!$B:$D,3,FALSE),\"\")","v":""},25023.63,null,47,{"$f":"IFERROR(VLOOKUP(S70,Journal!$R:$AQ,26,FALSE),\"\")","v":""},{"$error":"#VALUE!"},{"$error":"#N/A"},"",{"$f":"IFERROR(VLOOKUP(S70,Journal!$R:$AV,32,FALSE),\"\")","v":""},null,null,"2020-03-04","Wednesday",{"$f":"IFERROR(VLOOKUP(AA70, 'Daily Snapshot'!$B:$J,7,FALSE),\"\")","v":""},"","",null,null,67,{"$f":"IFERROR(VLOOKUP(AH70,Journal!$R:$S,2,FALSE),\"\")","v":""},0,0,null,null,null,null,null,null,null,67,"2020-04-02","Thursday",{"$f":"IFERROR(COUNTIFS(Journal!$S:$S,\"W\",Journal!$B:$B,AT70)/VLOOKUP(AT70,G99:K363,5,FALSE),\"no trades\")","v":"no trades"},null,null,null,null,null,null,null,null,null,null,null,41,0,25025.38,{"$error":"#N/A"}]
["Week 48",{"$f":"INDEX('Detailed Stats'!$F$58:$BE$58,1,ROW(AM49))","v":0},{"$error":"#N/A"},null,null,39,"2020-02-24","Monday",0,{"$error":"#N/A"},{"$f":"COUNTIFS(Journal!$S:$S,\"?\",Journal!$B:$B,$G71)","v":0},{"$f":"SUMIFS(Journal!$Q:$Q, Journal!$B:$B,$G71)","v":0},{"$f":"COUNTIF(Journal!$B:$B,$G71)","v":0},{"$f":"SUMIFS(Journal!$N:$N, Journal!$B:$B,$G71)","v":0},0,{"$f":"IFERROR(VLOOKUP(G71,'Daily Snapshot'!$B:$D,3,FALSE),\"\")","v":""},25023.63,null,48,{"$f":"IFERROR(VLOOKUP(S71,Journal!$R:$AQ,26,FALSE),\"\")","v":""},{"$error":"#VALUE!"},{"$error":"#N/A"},"",{"$f":"IFERROR(VLOOKUP(S71,Journal!$R:$AV,32,FALSE),\"\")","v":""},null,null,"2020-03-05","Thursday",{"$f":"IFERROR(VLOOKUP(AA71, 'Daily Snapshot'!$B:$J,7,FALSE),\"\")","v":""},"","",null,null,68,{"$f":"IFERROR(VLOOKUP(AH71,Journal!$R:$S,2,FALSE),\"\")","v":""},0,0,null,null,null,null,null,null,null,68,"2020-04-03","Friday",{"$f":"IFERROR(COUNTIFS(Journal!$S:$S,\"W\",Journal!$B:$B,AT71)/VLOOKUP(AT71,G100:K364,5,FALSE),\"no trades\")","v":"no trades"},null,null,null,null,null,null,null,null,null,null,null,42,0,25025.38,{"$error":"#N/A"}]
["Week 49",{"$f":"INDEX('Detailed Stats'!$F$58:$BE$58,1,ROW(AM50))","v":0},{"$error":"#N/A"},null,null,40,"2020-02-25","Tuesday",0,{"$error":"#N/A"},{"$f":"COUNTIFS(Journal!$S:$S,\"?\",Journal!$B:$B,$G72)","v":0},{"$f":"SUMIFS(Journal!$Q:$Q, Journal!$B:$B,$G72)","v":0},{"$f":"COUNTIF(Journal!$B:$B,$G72)","v":0},{"$f":"SUMIFS(Journal!$N:$N, Journal!$B:$B,$G72)","v":0},0,{"$f":"IFERROR(VLOOKUP(G72,'Daily Snapshot'!$B:$D,3,FALSE),\"\")","v":""},25023.63,null,49,{"$f":"IFERROR(VLOOKUP(S72,Journal!$R:$AQ,26,FALSE),\"\")","v":""},{"$error":"#VALUE!"},{"$error":"#N/A"},"",{"$f":"IFERROR(VLOOKUP(S72,Journal!$R:$AV,32,FALSE),\"\")","v":""},null,null,"2020-03-06","Friday",{"$f":"IFERROR(VLOOKUP(AA72, 'Daily Snapshot'!$B:$J,7,FALSE),\"\")","v":""},"","",null,null,69,{"$f":"IFERROR(VLOOKUP(AH72,Journal!$R:$S,2,FALSE),\"\")","v":""},0,0,null,null,null,null,null,null,null,69,"2020-04-06","Monday",{"$f":"IFERROR(COUNTIFS(Journal!$S:$S,\"W\",Journal!$B:$B,AT72)/VLOOKUP(AT72,G101:K365,5,FALSE),\"no trades\")","v":"no trades"},null,null,null,null,null,null,null,null,null,null,null,43,0,25025.38,{"$error":"#N/A"}]
["Week 50",{"$f":"INDEX('Detailed Stats'!$F$58:$BE$58,1,ROW(AM51))","v":0},{"$error":"#N/A"},null,null,41,"2020-02-26","Wednesday",0,{"$error":"#N/A"},{"$f":"COUNTIFS(Journal!$S:$S,\"?\",Journal!$B:$B,$G73)","v":0},{"$f":"SUMIFS(Journal!$Q:$Q, Journal!$B:$B,$G73)","v":0},{"$f":"COUNTIF(Journal!$B:$B,$G73)","v":0},{"$f":"SUMIFS(Journal!$N:$N, Journal!$B:$B,$G73)","v":0},0,{"$f":"IFERROR(VLOOKUP(G73,'Daily Snapshot'!$B:$D,3,FALSE),\"\")","v":""},25023.63,null,50,{"$f":"IFERROR(VLOOKUP(S73,Journal!$R:$AQ,26,FALSE),\"\")","v":""},{"$error":"#VALUE!"},{"$error":"#N/A"},"",{"$f":"IFERROR(VLOOKUP(S73,Journal!$R:$AV,32,FALSE),\"\")","v":""},null,null,"2020-03-09","Monday",{"$f":"IFERROR(VLOOKUP(AA73, 'Daily Snapshot'!$B:$J,7,FALSE),\"\")","v":""},"","",null,null,70,{"$f":"IFERROR(VLOOKUP(AH73,Journal!$R:$S,2,FALSE),\"\")","v":""},0,0,null,null,null,null,null,null,null,70,"2020-04-07","Tuesday",{"$f":"IFERROR(COUNTIFS(Journal!$S:$S,\"W\",Journal!$B:$B,AT73)/VLOOKUP(AT73,G102:K366,5,FALSE),\"no trades\")","v":"no trades"},null,null,null,null,null,null,null,null,null,null,null,44,0,25025.38,{"$error":"#N/A"}]
["Week 51",{"$f":"INDEX('Detailed Stats'!$F$58:$BE$58,1,ROW(AM52))","v":0},{"$error":"#N/A"},null,null,42,"2020-02-27","Thursday",0,{"$error":"#N/A"},{"$f":"COUNTIFS(Journal!$S:$S,\"?\",Journal!$B:$B,$G74)","v":0},{"$f":"SUMIFS(Journal!$Q:$Q, Journal!$B:$B,$G74)","v":0},{"$f":"COUNTIF(Journal!$B:$B,$G74)","v":0},{"$f":"SUMIFS(Journal!$N:$N, Journal!$B:$B,$G74)","v":0},0,{"$f":"IFERROR(VLOOKUP(G74,'Daily Snapshot'!$B:$D,3,FALSE),\"\")","v":""},25023.63,null,51,{"$f":"IFERROR(VLOOKUP(S74,Journal!$R:$AQ,26,FALSE),\"\")","v":""},{"$error":"#VALUE!"},{"$error":"#N/A"},"",{"$f":"IFERROR(VLOOKUP(S74,Journal!$R:$AV,32,FALSE),\"\")","v":""},null,null,"2020-03-10","Tuesday",{"$f":"IFERROR(VLOOKUP(AA74, 'Daily Snapshot'!$B:$J,7,FALSE),\"\")","v":""},"","",null,null,71,{"$f":"IFERROR(VLOOKUP(AH74,Journal!$R:$S,2,FALSE),\"\")","v":""},0,0,null,null,null,null,null,null,null,71,"2020-04-08","Wednesday",{"$f":"IFERROR(COUNTIFS(Journal!$S:$S,\"W\",Journal!$B:$B,AT74)/VLOOKUP(AT74,G103:K367,5,FALSE),\"no trades\")","v":"no trades"},null,null,null,null,null,null,null,null,null,null,null,45,0,25025.38,{"$error":"#N/A"}]
["Week 52",{"$f":"INDEX('Detailed Stats'!$F$19:$BE$19,1,ROW(AM53))","v":{"$error":"#REF!"}},{"$error":"#REF!"},null,null,43,"2020-02-28","Friday",0,{"$f":"IF(OR(I75<$H$26,I75>$H$27,I75=0),NA(),I75)","v":{"$error":"#N/A"}},{"$f":"COUNTIFS(Journal!$S:$S,\"?\",Journal!$B:$B,$G75)","v":0},{"$f":"SUMIFS(Journal!$Q:$Q, Journal!$B:$B,$G75)","v":0},{"$f":"COUNTIF(Journal!$B:$B,$G75)","v":0},{"$f":"SUMIFS(Journal!$N:$N, Journal!$B:$B,$G75)","v":0},0,{"$f":"IFERROR(VLOOKUP(G75,'Daily Snapshot'!$B:$D,3,FALSE),\"\")","v":""},25023.63,null,52,{"$f":"IFERROR(VLOOKUP(S75,Journal!$R:$AQ,26,FALSE),\"\")","v":""},{"$error":"#VALUE!"},{"$error":"#N/A"},"",{"$f":"IFERROR(VLOOKUP(S75,Journal!$R:$AV,32,FALSE),\"\")","v":""},null,null,"2020-03-11","Wednesday",{"$f":"IFERROR(VLOOKUP(AA75, 'Daily Snapshot'!$B:$J,7,FALSE),\"\")","v":""},"","",null,null,72,{"$f":"IFERROR(VLOOKUP(AH75,Journal!$R:$S,2,FALSE),\"\")","v":""},0,0,null,null,null,null,null,null,null,72,"2020-04-09","Thursday",{"$f":"IFERROR(COUNTIFS(Journal!$S:$S,\"W\",Journal!$B:$B,AT75)/VLOOKUP(AT75,G104:K368,5,FALSE),\"no trades\")","v":"no trades"},null,null,null,null,null,null,null,null,null,null,null,46,0,25025.38,{"$error":"#N/A"}]
[null,null,null,null,null,44,"2020-03-02","Monday",0,{"$error":"#N/A"},{"$f":"COUNTIFS(Journal!$S:$S,\"?\",Journal!$B:$B,$G76)","v":0},{"$f":"SUMIFS(Journal!$Q:$Q, Journal!$B:$B,$G76)","v":0},{"$f":"COUNTIF(Journal!$B:$B,$G76)","v":0},{"$f":"SUMIFS(Journal!$N:$N, Journal!$B:$B,$G76)","v":0},0,{"$f":"IFERROR(VLOOKUP(G76,'Daily Snapshot'!$B:$D,3,FALSE),\"\")","v":""},25023.63,null,53,{"$f":"IFERROR(VLOOKUP(S76,Journal!$R:$AQ,26,FALSE),\"\")","v":""},{"$error":"#VALUE!"},{"$error":"#N/A"},"",{"$f":"IFERROR(VLOOKUP(S76,Journal!$R:$AV,32,FALSE),\"\")","v":""},null,null,"2020-03-12","Thursday",{"$f":"IFERROR(VLOOKUP(AA76, 'Daily Snapshot'!$B:$J,7,FALSE),\"\")","v":""},"","",null,null,73,{"$f":"IFERROR(VLOOKUP(AH76,Journal!$R:$S,2,FALSE),\"\")","v":""},0,0,null,null,null,null,null,null,null,73,"2020-04-10","Friday",{"$f":"IFERROR(COUNTIFS(Journal!$S:$S,\"W\",Journal!$B:$B,AT76)/VLOOKUP(AT76,G105:K369,5,FALSE),\"no trades\")","v":"no trades"},null,null,null,null,null,null,null,null,null,null,null,47,0,25025.38,{"$error":"#N/A"}]
[null,"Weekly Gross",{"$f":"SUM(N41:N45)","v":25.380000000000003},null,null,45,"2020-03-03","Tuesday",0,{"$error":"#N/A"},{"$f":"COUNTIFS(Journal!$S:$S,\"?\",Journal!$B:$B,$G77)","v":0},{"$f":"SUMIFS(Journal!$Q:$Q, Journal!$B:$B,$G77)","v":0},{"$f":"COUNTIF(Journal!$B:$B,$G77)","v":0},{"$f":"SUMIFS(Journal!$N:$N, Journal!$B:$B,$G77)","v":0},0,{"$f":"IFERROR(VLOOKUP(G77,'Daily Snapshot'!$B:$D,3,FALSE),\"\")","v":""},25023.63,null,54,{"$f":"IFERROR(VLOOKUP(S77,Journal!$R:$AQ,26,FALSE),\"\")","v":""},{"$error":"#VALUE!"},{"$error":"#N/A"},"",{"$f":"IFERROR(VLOOKUP(S77,Journal!$R:$AV,32,FALSE),\"\")","v":""},null,null,"2020-03-13","Friday",{"$f":"IFERROR(VLOOKUP(AA77, 'Daily Snapshot'!$B:$J,7,FALSE),\"\")","v":""},"","",null,null,74,{"$f":"IFERROR(VLOOKUP(AH77,Journal!$R:$S,2,FALSE),\"\")","v":""},0,0,null,null,null,null,null,null,null,74,"2020-04-13","Monday",{"$f":"IFERROR(COUNTIFS(Journal!$S:$S,\"W\",Journal!$B:$B,AT77)/VLOOKUP(AT77,G106:K370,5,FALSE),\"no trades\")","v":"no trades"},null,null,null,null,null,null,null,null,null,null,null,48,0,25025.38,{"$error":"#N/A"}]
[null,"Weekly ECN",{"$f":"SUM(B94:B106)","v":-1.44},null,null,46,"2020-03-04","Wednesday",0,{"$error":"#N/A"},{"$f":"COUNTIFS(Journal!$S:$S,\"?\",Journal!$B:$B,$G78)","v":0},{"$f":"SUMIFS(Journal!$Q:$Q, Journal!$B:$B,$G78)","v":0},{"$f":"COUNTIF(Journal!$B:$B,$G78)","v":0},{"$f":"SUMIFS(Journal!$N:$N, Journal!$B:$B,$G78)","v":0},0,{"$f":"IFERROR(VLOOKUP(G78,'Daily Snapshot'!$B:$D,3,FALSE),\"\")","v":""},25023.63,null,55,{"$f":"IFERROR(VLOOKUP(S78,Journal!$R:$AQ,26,FALSE),\"\")","v":""},{"$error":"#VALUE!"},{"$error":"#N/A"},"",{"$f":"IFERROR(VLOOKUP(S78,Journal!$R:$AV,32,FALSE),\"\")","v":""},null,null,"2020-03-16","Monday",{"$f":"IFERROR(VLOOKUP(AA78, 'Daily Snapshot'!$B:$J,7,FALSE),\"\")","v":""},"","",null,null,75,{"$f":"IFERROR(VLOOKUP(AH78,Journal!$R:$S,2,FALSE),\"\")","v":""},0,0,null,null,null,null,null,null,null,75,"2020-04-14","Tuesday",{"$f":"IFERROR(COUNTIFS(Journal!$S:$S,\"W\",Journal!$B:$B,AT78)/VLOOKUP(AT78,G107:K371,5,FALSE),\"no trades\")","v":"no trades"},null,null,null,null,null,null,null,null,null,null,null,49,0,25025.38,{"$error":"#N/A"}]
[null,"Weekly Comm",{"$f":"SUM(L41:L45)*-1","v":-1.75},null,null,47,"2020-03-05","Thursday",0,{"$error":"#N/A"},{"$f":"COUNTIFS(Journal!$S:$S,\"?\",Journal!$B:$B,$G79)","v":0},{"$f":"SUMIFS(Journal!$Q:$Q, Journal!$B:$B,$G79)","v":0},{"$f":"COUNTIF(Journal!$B:$B,$G79)","v":0},{"$f":"SUMIFS(Journal!$N:$N, Journal!$B:$B,$G79)","v":0},0,{"$f":"IFERROR(VLOOKUP(G79,'Daily Snapshot'!$B:$D,3,FALSE),\"\")","v":""},25023.63,null,56,{"$f":"IFERROR(VLOOKUP(S79,Journal!$R:$AQ,26,FALSE),\"\")","v":""},{"$error":"#VALUE!"},{"$error":"#N/A"},"",{"$f":"IFERROR(VLOOKUP(S79,Journal!$R:$AV,32,FALSE),\"\")","v":""},null,null,"2020-03-17","Tuesday",{"$f":"IFERROR(VLOOKUP(AA79, 'Daily Snapshot'!$B:$J,7,FALSE),\"\")","v":""},"","",null,null,76,{"$f":"IFERROR(VLOOKUP(AH79,Journal!$R:$S,2,FALSE),\"\")","v":""},0,0,null,null,null,null,null,null,null,76,"2020-04-15","Wednesday",{"$f":"IFERROR(COUNTIFS(Journal!$S:$S,\"W\",Journal!$B:$B,AT79)/VLOOKUP(AT79,G108:K372,5,FALSE),\"no trades\")","v":"no trades"},null,null,null,null,null,null,null,null,null,null,null,50,0,25025.38,{"$error":"#N/A"}]
[null,"Total Weekly",{"$f":"SUM(C77:C79)","v":22.19},null,null,48,"2020-03-06","Friday",0,{"$error":"#N/A"},{"$f":"COUNTIFS(Journal!$S:$S,\"?\",Journal!$B:$B,$G80)","v":0},{"$f":"SUMIFS(Journal!$Q:$Q, Journal!$B:$B,$G80)","v":0},{"$f":"COUNTIF(Journal!$B:$B,$G80)","v":0},{"$f":"SUMIFS(Journal!$N:$N, Journal!$B:$B,$G80)","v":0},0,{"$f":"IFERROR(VLOOKUP(G80,'Daily Snapshot'!$B:$D,3,FALSE),\"\")","v":""},25023.63,null,57,{"$f":"IFERROR(VLOOKUP(S80,Journal!$R:$AQ,26,FALSE),\"\")","v":""},{"$error":"#VALUE!"},{"$error":"#N/A"},"",{"$f":"IFERROR(VLOOKUP(S80,Journal!$R:$AV,32,FALSE),\"\")","v":""},null,null,"2020-03-18","Wednesday",{"$f":"IFERROR(VLOOKUP(AA80, 'Daily Snapshot'!$B:$J,7,FALSE),\"\")","v":""},"","",null,null,77,{"$f":"IFERROR(VLOOKUP(AH80,Journal!$R:$S,2,FALSE),\"\")","v":""},0,0,null,null,null,null,null,null,null,77,"2020-04-16","Thursday",{"$f":"IFERROR(COUNTIFS(Journal!$S:$S,\"W\",Journal!$B:$B,AT80)/VLOOKUP(AT80,G109:K373,5,FALSE),\"no trades\")","v":"no trades"},null,null,null,null,null,null,null,null,null,null,null,51,0,25025.38,{"$error":"#N/A"}]
[null,null,null,null,null,49,"2020-03-09","Monday",0,{"$error":"#N/A"},{"$f":"COUNTIFS(Journal!$S:$S,\"?\",Journal!$B:$B,$G81)","v":0},{"$f":"SUMIFS(Journal!$Q:$Q, Journal!$B:$B,$G81)","v":0},{"$f":"COUNTIF(Journal!$B:$B,$G81)","v":0},{"$f":"SUMIFS(Journal!$N:$N, Journal!$B:$B,$G81)","v":0},0,{"$f":"IFERROR(VLOOKUP(G81,'Daily Snapshot'!$B:$D,3,FALSE),\"\")","v":""},25023.63,null,58,{"$f":"IFERROR(VLOOKUP(S81,Journal!$R:$AQ,26,FALSE),\"\")","v":""},{"$error":"#VALUE!"},{"$error":"#N/A"},"",{"$f":"IFERROR(VLOOKUP(S81,Journal!$R:$AV,32,FALSE),\"\")","v":""},null,null,"2020-03-19","Thursday",{"$f":"IFERROR(VLOOKUP(AA81, 'Daily Snapshot'!$B:$J,7,FALSE),\"\")","v":""},"","",null,null,78,{"$f":"IFERROR(VLOOKUP(AH81,Journal!$R:$S,2,FALSE),\"\")","v":""},0,0,null,null,null,null,null,null,null,78,"2020-04-17","Friday",{"$f":"IFERROR(COUNTIFS(Journal!$S:$S,\"W\",Journal!$B:$B,AT81)/VLOOKUP(AT81,G110:K374,5,FALSE),\"no trades\")","v":"no trades"},null,null,null,null,null,null,null,null,null,null,null,52,0,25025.38,{"$error":"#N/A"}]
[null,"Weekly Net",{"$f":"SUM(I41:I45)","v":23.630000000000003},null,null,50,"2020-03-10","Tuesday",0,{"$error":"#N/A"},{"$f":"COUNTIFS(Journal!$S:$S,\"?\",Journal!$B:$B,$G82)","v":0},{"$f":"SUMIFS(Journal!$Q:$Q, Journal!$B:$B,$G82)","v":0},{"$f":"COUNTIF(Journal!$B:$B,$G82)","v":0},{"$f":"SUMIFS(Journal!$N:$N, Journal!$B:$B,$G82)","v":0},0,{"$f":"IFERROR(VLOOKUP(G82,'Daily Snapshot'!$B:$D,3,FALSE),\"\")","v":""},25023.63,null,59,{"$f":"IFERROR(VLOOKUP(S82,Journal!$R:$AQ,26,FALSE),\"\")","v":""},{"$error":"#VALUE!"},{"$error":"#N/A"},"",{"$f":"IFERROR(VLOOKUP(S82,Journal!$R:$AV,32,FALSE),\"\")","v":""},null,null,"2020-03-20","Friday",{"$f":"IFERROR(VLOOKUP(AA82, 'Daily Snapshot'!$B:$J,7,FALSE),\"\")","v":""},"","",null,null,79,{"$f":"IFERROR(VLOOKUP(AH82,Journal!$R:$S,2,FALSE),\"\")","v":""},0,0,null,null,null,null,null,null,null,79,"2020-04-20","Monday",{"$f":"IFERROR(COUNTIFS(Journal!$S:$S,\"W\",Journal!$B:$B,AT82)/VLOOKUP(AT82,G111:K375,5,FALSE),\"no trades\")","v":"no trades"},null,null,null,null,null,null,null,null,null,null,null,53,0,25025.38,{"$error":"#N/A"}]
[null,null,null,null,null,51,"2020-03-11","Wednesday",0,{"$error":"#N/A"},{"$f":"COUNTIFS(Journal!$S:$S,\"?\",Journal!$B:$B,$G83)","v":0},{"$f":"SUMIFS(Journal!$Q:$Q, Journal!$B:$B,$G83)","v":0},{"$f":"COUNTIF(Journal!$B:$B,$G83)","v":0},{"$f":"SUMIFS(Journal!$N:$N, Journal!$B:$B,$G83)","v":0},0,{"$f":"IFERROR(VLOOKUP(G83,'Daily Snapshot'!$B:$D,3,FALSE),\"\")","v":""},25023.63,null,60,{"$f":"IFERROR(VLOOKUP(S83,Journal!$R:$AQ,26,FALSE),\"\")","v":""},{"$error":"#VALUE!"},{"$error":"#N/A"},"",{"$f":"IFERROR(VLOOKUP(S83,Journal!$R:$AV,32,FALSE),\"\")","v":""},null,null,"2020-03-23","Monday",{"$f":"IFERROR(VLOOKUP(AA83, 'Daily Snapshot'!$B:$J,7,FALSE),\"\")","v":""},"","",null,null,80,{"$f":"IFERROR(VLOOKUP(AH83,Journal!$R:$S,2,FALSE),\"\")","v":""},0,0,null,null,null,null,null,null,null,80,"2020-04-21","Tuesday",{"$f":"IFERROR(COUNTIFS(Journal!$S:$S,\"W\",Journal!$B:$B,AT83)/VLOOKUP(AT83,G112:K376,5,FALSE),\"no trades\")","v":"no trades"},null,null,null,null,null,null,null,null,null,null,null,54,0,25025.38,{"$error":"#N/A"}]
[null,"Monthly Gross",{"$f":"SUM(N33:N55)","v":25.380000000000003},null,null,52,"2020-03-12","Thursday",0,{"$error":"#N/A"},{"$f":"COUNTIFS(Journal!$S:$S,\"?\",Journal!$B:$B,$G84)","v":0},{"$f":"SUMIFS(Journal!$Q:$Q, Journal!$B:$B,$G84)","v":0},{"$f":"COUNTIF(Journal!$B:$B,$G84)","v":0},{"$f":"SUMIFS(Journal!$N:$N, Journal!$B:$B,$G84)","v":0},0,{"$f":"IFERROR(VLOOKUP(G84,'Daily Snapshot'!$B:$D,3,FALSE),\"\")","v":""},25023.63,null,61,{"$f":"IFERROR(VLOOKUP(S84,Journal!$R:$AQ,26,FALSE),\"\")","v":""},{"$error":"#VALUE!"},{"$error":"#N/A"},"",{"$f":"IFERROR(VLOOKUP(S84,Journal!$R:$AV,32,FALSE),\"\")","v":""},null,null,"2020-03-24","Tuesday",{"$f":"IFERROR(VLOOKUP(AA84, 'Daily Snapshot'!$B:$J,7,FALSE),\"\")","v":""},"","",null,null,81,{"$f":"IFERROR(VLOOKUP(AH84,Journal!$R:$S,2,FALSE),\"\")","v":""},0,0,null,null,null,null,null,null,null,81,"2020-04-22","Wednesday",{"$f":"IFERROR(COUNTIFS(Journal!$S:$S,\"W\",Journal!$B:$B,AT84)/VLOOKUP(AT84,G113:K377,5,FALSE),\"no trades\")","v":"no trades"},null,null,null,null,null,null,null,null,null,null,null,55,0,25025.38,{"$error":"#N/A"}]
[null,"Monthly ECN",{"$f":"B92","v":-1.44},null,null,53,"2020-03-13","Friday",0,{"$error":"#N/A"},{"$f":"COUNTIFS(Journal!$S:$S,\"?\",Journal!$B:$B,$G85)","v":0},{"$f":"SUMIFS(Journal!$Q:$Q, Journal!$B:$B,$G85)","v":0},{"$f":"COUNTIF(Journal!$B:$B,$G85)","v":0},{"$f":"SUMIFS(Journal!$N:$N, Journal!$B:$B,$G85)","v":0},0,{"$f":"IFERROR(VLOOKUP(G85,'Daily Snapshot'!$B:$D,3,FALSE),\"\")","v":""},25023.63,null,62,{"$f":"IFERROR(VLOOKUP(S85,Journal!$R:$AQ,26,FALSE),\"\")","v":""},{"$error":"#VALUE!"},{"$error":"#N/A"},"",{"$f":"IFERROR(VLOOKUP(S85,Journal!$R:$AV,32,FALSE),\"\")","v":""},null,null,"2020-03-25","Wednesday",{"$f":"IFERROR(VLOOKUP(AA85, 'Daily Snapshot'!$B:$J,7,FALSE),\"\")","v":""},"","",null,null,82,{"$f":"IFERROR(VLOOKUP(AH85,Journal!$R:$S,2,FALSE),\"\")","v":""},0,0,null,null,null,null,null,null,null,82,"2020-04-23","Thursday",{"$f":"IFERROR(COUNTIFS(Journal!$S:$S,\"W\",Journal!$B:$B,AT85)/VLOOKUP(AT85,G114:K378,5,FALSE),\"no trades\")","v":"no trades"},null,null,null,null,null,null,null,null,null,null,null,56,0,25025.38,{"$error":"#N/A"}]
[null,"Monthly Comm",{"$f":"SUM(L33:L55)*-1","v":-1.75},null,null,54,"2020-03-16","Monday",0,{"$error":"#N/A"},{"$f":"COUNTIFS(Journal!$S:$S,\"?\",Journal!$B:$B,$G86)","v":0},{"$f":"SUMIFS(Journal!$Q:$Q, Journal!$B:$B,$G86)","v":0},{"$f":"COUNTIF(Journal!$B:$B,$G86)","v":0},{"$f":"SUMIFS(Journal!$N:$N, Journal!$B:$B,$G86)","v":0},0,{"$f":"IFERROR(VLOOKUP(G86,'Daily Snapshot'!$B:$D,3,FALSE),\"\")","v":""},25023.63,null,63,{"$f":"IFERROR(VLOOKUP(S86,Journal!$R:$AQ,26,FALSE),\"\")","v":""},{"$error":"#VALUE!"},{"$error":"#N/A"},"",{"$f":"IFERROR(VLOOKUP(S86,Journal!$R:$AV,32,FALSE),\"\")","v":""},null,null,"2020-03-26","Thursday",{"$f":"IFERROR(VLOOKUP(AA86, 'Daily Snapshot'!$B:$J,7,FALSE),\"\")","v":""},"","",null,null,83,{"$f":"IFERROR(VLOOKUP(AH86,Journal!$R:$S,2,FALSE),\"\")","v":""},0,0,null,null,null,null,null,null,null,83,"2020-04-24","Friday",{"$f":"IFERROR(COUNTIFS(Journal!$S:$S,\"W\",Journal!$B:$B,AT86)/VLOOKUP(AT86,G115:K379,5,FALSE),\"no trades\")","v":"no trades"},null,null,null,null,null,null,null,null,null,null,null,57,0,25025.38,{"$error":"#N/A"}]
[null,"Total Monthly",{"$f":"SUM(C84:C86)","v":22.19},null,null,55,"2020-03-17","Tuesday",0,{"$error":"#N/A"},{"$f":"COUNTIFS(Journal!$S:$S,\"?\",Journal!$B:$B,$G87)","v":0},{"$f":"SUMIFS(Journal!$Q:$Q, Journal!$B:$B,$G87)","v":0},{"$f":"COUNTIF(Journal!$B:$B,$G87)","v":0},{"$f":"SUMIFS(Journal!$N:$N, Journal!$B:$B,$G87)","v":0},0,{"$f":"IFERROR(VLOOKUP(G87,'Daily Snapshot'!$B:$D,3,FALSE),\"\")","v":""},25023.63,null,64,{"$f":"IFERROR(VLOOKUP(S87,Journal!$R:$AQ,26,FALSE),\"\")","v":""},{"$error":"#VALUE!"},{"$error":"#N/A"},"",{"$f":"IFERROR(VLOOKUP(S87,Journal!$R:$AV,32,FALSE),\"\")","v":""},null,null,"2020-03-27","Friday",{"$f":"IFERROR(VLOOKUP(AA87, 'Daily Snapshot'!$B:$J,7,FALSE),\"\")","v":""},"","",null,null,84,{"$f":"IFERROR(VLOOKUP(AH87,Journal!$R:$S,2,FALSE),\"\")","v":""},0,0,null,null,null,null,null,null,null,84,"2020-04-27","Monday",{"$f":"IFERROR(COUNTIFS(Journal!$S:$S,\"W\",Journal!$B:$B,AT87)/VLOOKUP(AT87,G116:K380,5,FALSE),\"no trades\")","v":"no trades"},null,null,null,null,null,null,null,null,null,null,null,58,0,25025.38,{"$error":"#N/A"}]
[null,null,null,null,null,56,"2020-03-18","Wednesday",0,{"$error":"#N/A"},{"$f":"COUNTIFS(Journal!$S:$S,\"?\",Journal!$B:$B,$G88)","v":0},{"$f":"SUMIFS(Journal!$Q:$Q, Journal!$B:$B,$G88)","v":0},{"$f":"COUNTIF(Journal!$B:$B,$G88)","v":0},{"$f":"SUMIFS(Journal!$N:$N, Journal!$B:$B,$G88)","v":0},0,{"$f":"IFERROR(VLOOKUP(G88,'Daily Snapshot'!$B:$D,3,FALSE),\"\")","v":""},25023.63,null,65,{"$f":"IFERROR(VLOOKUP(S88,Journal!$R:$AQ,26,FALSE),\"\")","v":""},{"$error":"#VALUE!"},{"$error":"#N/A"},"",{"$f":"IFERROR(VLOOKUP(S88,Journal!$R:$AV,32,FALSE),\"\")","v":""},null,null,"2020-03-30","Monday",{"$f":"IFERROR(VLOOKUP(AA88, 'Daily Snapshot'!$B:$J,7,FALSE),\"\")","v":""},"","",null,null,85,{"$f":"IFERROR(VLOOKUP(AH88,Journal!$R:$S,2,FALSE),\"\")","v":""},0,0,null,null,null,null,null,null,null,85,"2020-04-28","Tuesday",{"$f":"IFERROR(COUNTIFS(Journal!$S:$S,\"W\",Journal!$B:$B,AT88)/VLOOKUP(AT88,G117:K381,5,FALSE),\"no trades\")","v":"no trades"},null,null,null,null,null,null,null,null,null,null,null,59,0,25025.38,{"$error":"#N/A"}]
[null,"Monthly Net",{"$f":"SUM(I33:I50)","v":23.630000000000003},null,null,57,"2020-03-19","Thursday",0,{"$error":"#N/A"},{"$f":"COUNTIFS(Journal!$S:$S,\"?\",Journal!$B:$B,$G89)","v":0},{"$f":"SUMIFS(Journal!$Q:$Q, Journal!$B:$B,$G89)","v":0},{"$f":"COUNTIF(Journal!$B:$B,$G89)","v":0},{"$f":"SUMIFS(Journal!$N:$N, Journal!$B:$B,$G89)","v":0},0,{"$f":"IFERROR(VLOOKUP(G89,'Daily Snapshot'!$B:$D,3,FALSE),\"\")","v":""},25023.63,null,66,{"$f":"IFERROR(VLOOKUP(S89,Journal!$R:$AQ,26,FALSE),\"\")","v":""},{"$f":"T89+U88","v":{"$error":"#VALUE!"}},{"$error":"#N/A"},{"$f":"IFERROR(T89/$H$25,\"\")","v":""},{"$f":"IFERROR(VLOOKUP(S89,Journal!$R:$AV,32,FALSE),\"\")","v":""},null,null,"2020-03-31",{"$f":"TEXT(AA89,\"dddd\")","v":"Tuesday"},{"$f":"IFERROR(VLOOKUP(AA89, 'Daily Snapshot'!$B:$J,7,FALSE),\"\")","v":""},"","",null,null,86,{"$f":"IFERROR(VLOOKUP(AH89,Journal!$R:$S,2,FALSE),\"\")","v":""},0,0,null,null,null,null,null,null,null,86,"2020-04-29","Wednesday",{"$f":"IFERROR(COUNTIFS(Journal!$S:$S,\"W\",Journal!$B:$B,AT89)/VLOOKUP(AT89,G118:K382,5,FALSE),\"no trades\")","v":"no trades"},null,null,null,null,null,null,null,null,null,null,null,60,0,25025.38,{"$error":"#N/A"}]
["ECN Fees",null,null,null,null,58,"2020-03-20","Friday",0,{"$error":"#N/A"},{"$f":"COUNTIFS(Journal!$S:$S,\"?\",Journal!$B:$B,$G90)","v":0},{"$f":"SUMIFS(Journal!$Q:$Q, Journal!$B:$B,$G90)","v":0},{"$f":"COUNTIF(Journal!$B:$B,$G90)","v":0},{"$f":"SUMIFS(Journal!$N:$N, Journal!$B:$B,$G90)","v":0},0,{"$f":"IFERROR(VLOOKUP(G90,'Daily Snapshot'!$B:$D,3,FALSE),\"\")","v":""},25023.63,null,67,{"$f":"IFERROR(VLOOKUP(S90,Journal!$R:$AQ,26,FALSE),\"\")","v":""},{"$error":"#VALUE!"},{"$error":"#N/A"},"",{"$f":"IFERROR(VLOOKUP(S90,Journal!$R:$AV,32,FALSE),\"\")","v":""},null,null,{"$f":"G98","v":"2020-04-01"},"Wednesday",{"$f":"IFERROR(VLOOKUP(AA90, 'Daily Snapshot'!$B:$J,7,FALSE),\"\")","v":""},"","",null,null,87,{"$f":"IFERROR(VLOOKUP(AH90,Journal!$R:$S,2,FALSE),\"\")","v":""},0,0,null,null,null,null,null,null,null,87,"2020-04-30","Thursday",{"$f":"IFERROR(COUNTIFS(Journal!$S:$S,\"W\",Journal!$B:$B,AT90)/VLOOKUP(AT90,G119:K383,5,FALSE),\"no trades\")","v":"no trades"},null,null,null,null,null,null,null,null,null,null,null,61,0,25025.38,{"$error":"#N/A"}]
["Daily ECN Fee",{"$f":"SUM($D$92:$D$130)","v":1.1100000000000001},null,"Fees",null,59,"2020-03-23","Monday",0,{"$error":"#N/A"},{"$f":"COUNTIFS(Journal!$S:$S,\"?\",Journal!$B:$B,$G91)","v":0},{"$f":"SUMIFS(Journal!$Q:$Q, Journal!$B:$B,$G91)","v":0},{"$f":"COUNTIF(Journal!$B:$B,$G91)","v":0},{"$f":"SUMIFS(Journal!$N:$N, Journal!$B:$B,$G91)","v":0},0,{"$f":"IFERROR(VLOOKUP(G91,'Daily Snapshot'!$B:$D,3,FALSE),\"\")","v":""},25023.63,null,68,{"$f":"IFERROR(VLOOKUP(S91,Journal!$R:$AQ,26,FALSE),\"\")","v":""},{"$error":"#VALUE!"},{"$error":"#N/A"},"",{"$f":"IFERROR(VLOOKUP(S91,Journal!$R:$AV,32,FALSE),\"\")","v":""},null,null,"2020-04-02","Thursday",{"$f":"IFERROR(VLOOKUP(AA91, 'Daily Snapshot'!$B:$J,7,FALSE),\"\")","v":""},"","",null,null,88,{"$f":"IFERROR(VLOOKUP(AH91,Journal!$R:$S,2,FALSE),\"\")","v":""},0,0,null,null,null,null,null,null,null,88,"2020-05-01","Friday",{"$f":"IFERROR(COUNTIFS(Journal!$S:$S,\"W\",Journal!$B:$B,AT91)/VLOOKUP(AT91,G120:K384,5,FALSE),\"no trades\")","v":"no trades"},null,null,null,null,null,null,null,null,null,null,null,62,0,25025.38,{"$error":"#N/A"}]
["Monthly ECN Fee",{"$f":"SUM(B94:B109)","v":-1.44},null,0.39,null,60,"2020-03-24","Tuesday",0,{"$error":"#N/A"},{"$f":"COUNTIFS(Journal!$S:$S,\"?\",Journal!$B:$B,$G92)","v":0},{"$f":"SUMIFS(Journal!$Q:$Q, Journal!$B:$B,$G92)","v":0},{"$f":"COUNTIF(Journal!$B:$B,$G92)","v":0},{"$f":"SUMIFS(Journal!$N:$N, Journal!$B:$B,$G92)","v":0},0,{"$f":"IFERROR(VLOOKUP(G92,'Daily Snapshot'!$B:$D,3,FALSE),\"\")","v":""},25023.63,null,69,{"$f":"IFERROR(VLOOKUP(S92,Journal!$R:$AQ,26,FALSE),\"\")","v":""},{"$error":"#VALUE!"},{"$f":"IF(OR(T92=0,T92<$H$26,T92>$H$27),NA(),T92+U91)","v":{"$error":"#N/A"}},"",{"$f":"IFERROR(VLOOKUP(S92,Journal!$R:$AV,32,FALSE),\"\")","v":""},null,null,"2020-04-03","Friday",{"$f":"IFERROR(VLOOKUP(AA92, 'Daily Snapshot'!$B:$J,7,FALSE),\"\")","v":""},"","",null,null,89,{"$f":"IFERROR(VLOOKUP(AH92,Journal!$R:$S,2,FALSE),\"\")","v":""},0,0,null,null,null,null,null,null,null,89,"2020-05-04","Monday",{"$f":"IFERROR(COUNTIFS(Journal!$S:$S,\"W\",Journal!$B:$B,AT92)/VLOOKUP(AT92,G121:K385,5,FALSE),\"no trades\")","v":"no trades"},null,null,null,null,null,null,null,null,null,null,null,63,0,25025.38,{"$error":"#N/A"}]
["Date","Amount",null,0.39,null,61,"2020-03-25","Wednesday",0,{"$error":"#N/A"},{"$f":"COUNTIFS(Journal!$S:$S,\"?\",Journal!$B:$B,$G93)","v":0},{"$f":"SUMIFS(Journal!$Q:$Q, Journal!$B:$B,$G93)","v":0},{"$f":"COUNTIF(Journal!$B:$B,$G93)","v":0},{"$f":"SUMIFS(Journal!$N:$N, Journal!$B:$B,$G93)","v":0},0,{"$f":"IFERROR(VLOOKUP(G93,'Daily Snapshot'!$B:$D,3,FALSE),\"\")","v":""},25023.63,null,70,{"$f":"IFERROR(VLOOKUP(S93,Journal!$R:$AQ,26,FALSE),\"\")","v":""},{"$error":"#VALUE!"},{"$error":"#N/A"},"",{"$f":"IFERROR(VLOOKUP(S93,Journal!$R:$AV,32,FALSE),\"\")","v":""},null,null,"2020-04-06","Monday",{"$f":"IFERROR(VLOOKUP(AA93, 'Daily Snapshot'!$B:$J,7,FALSE),\"\")","v":""},"","",null,null,90,{"$f":"IFERROR(VLOOKUP(AH93,Journal!$R:$S,2,FALSE),\"\")","v":""},0,0,null,null,null,null,null,null,null,90,"2020-05-05","Tuesday",{"$f":"IFERROR(COUNTIFS(Journal!$S:$S,\"W\",Journal!$B:$B,AT93)/VLOOKUP(AT93,G122:K386,5,FALSE),\"no trades\")","v":"no trades"},null,null,null,null,null,null,null,null,null,null,null,64,0,25025.38,{"$error":"#N/A"}]
["2020-01-13",-1.44,null,0.33,null,62,"2020-03-26","Thursday",0,{"$error":"#N/A"},{"$f":"COUNTIFS(Journal!$S:$S,\"?\",Journal!$B:$B,$G94)","v":0},{"$f":"SUMIFS(Journal!$Q:$Q, Journal!$B:$B,$G94)","v":0},{"$f":"COUNTIF(Journal!$B:$B,$G94)","v":0},{"$f":"SUMIFS(Journal!$N:$N, Journal!$B:$B,$G94)","v":0},0,{"$f":"IFERROR(VLOOKUP(G94,'Daily Snapshot'!$B:$D,3,FALSE),\"\")","v":""},25023.63,null,71,{"$f":"IFERROR(VLOOKUP(S94,Journal!$R:$AQ,26,FALSE),\"\")","v":""},{"$error":"#VALUE!"},{"$error":"#N/A"},"",{"$f":"IFERROR(VLOOKUP(S94,Journal!$R:$AV,32,FALSE),\"\")","v":""},null,null,"2020-04-07","Tuesday",{"$f":"IFERROR(VLOOKUP(AA94, 'Daily Snapshot'!$B:$J,7,FALSE),\"\")","v":""},"","",null,null,91,{"$f":"IFERROR(VLOOKUP(AH94,Journal!$R:$S,2,FALSE),\"\")","v":""},0,0,null,null,null,null,null,null,null,91,"2020-05-06","Wednesday",{"$f":"IFERROR(COUNTIFS(Journal!$S:$S,\"W\",Journal!$B:$B,AT94)/VLOOKUP(AT94,G123:K387,5,FALSE),\"no trades\")","v":"no trades"},null,null,null,null,null,null,null,null,null,null,null,65,0,25025.38,{"$error":"#N/A"}]
[null,null,null,null,null,63,"2020-03-27","Friday",0,{"$error":"#N/A"},{"$f":"COUNTIFS(Journal!$S:$S,\"?\",Journal!$B:$B,$G95)","v":0},{"$f":"SUMIFS(Journal!$Q:$Q, Journal!$B:$B,$G95)","v":0},{"$f":"COUNTIF(Journal!$B:$B,$G95)","v":0},{"$f":"SUMIFS(Journal!$N:$N, Journal!$B:$B,$G95)","v":0},0,{"$f":"IFERROR(VLOOKUP(G95,'Daily Snapshot'!$B:$D,3,FALSE),\"\")","v":""},25023.63,null,72,{"$f":"IFERROR(VLOOKUP(S95,Journal!$R:$AQ,26,FALSE),\"\")","v":""},{"$error":"#VALUE!"},{"$error":"#N/A"},"",{"$f":"IFERROR(VLOOKUP(S95,Journal!$R:$AV,32,FALSE),\"\")","v":""},null,null,"2020-04-08","Wednesday",{"$f":"IFERROR(VLOOKUP(AA95, 'Daily Snapshot'!$B:$J,7,FALSE),\"\")","v":""},"","",null,null,92,{"$f":"IFERROR(VLOOKUP(AH95,Journal!$R:$S,2,FALSE),\"\")","v":""},0,0,null,null,null,null,null,null,null,92,"2020-05-07","Thursday",{"$f":"IFERROR(COUNTIFS(Journal!$S:$S,\"W\",Journal!$B:$B,AT95)/VLOOKUP(AT95,G124:K388,5,FALSE),\"no trades\")","v":"no trades"},null,null,null,null,null,null,null,null,null,null,null,66,0,{"$f":"BI95+BJ94","v":25025.38},{"$error":"#N/A"}]
[null,null,null,null,null,64,"2020-03-30","Monday",0,{"$error":"#N/A"},{"$f":"COUNTIFS(Journal!$S:$S,\"?\",Journal!$B:$B,$G96)","v":0},{"$f":"SUMIFS(Journal!$Q:$Q, Journal!$B:$B,$G96)","v":0},{"$f":"COUNTIF(Journal!$B:$B,$G96)","v":0},{"$f":"SUMIFS(Journal!$N:$N, Journal!$B:$B,$G96)","v":0},0,{"$f":"IFERROR(VLOOKUP(G96,'Daily Snapshot'!$B:$D,3,FALSE),\"\")","v":""},25023.63,null,73,{"$f":"IFERROR(VLOOKUP(S96,Journal!$R:$AQ,26,FALSE),\"\")","v":""},{"$error":"#VALUE!"},{"$error":"#N/A"},"",{"$f":"IFERROR(VLOOKUP(S96,Journal!$R:$AV,32,FALSE),\"\")","v":""},null,null,"2020-04-09","Thursday",{"$f":"IFERROR(VLOOKUP(AA96, 'Daily Snapshot'!$B:$J,7,FALSE),\"\")","v":""},{"$f":"IFERROR(AD95+AC96,\"\")","v":""},"",null,null,93,{"$f":"IFERROR(VLOOKUP(AH96,Journal!$R:$S,2,FALSE),\"\")","v":""},0,0,null,null,null,null,null,null,null,93,"2020-05-08","Friday",{"$f":"IFERROR(COUNTIFS(Journal!$S:$S,\"W\",Journal!$B:$B,AT96)/VLOOKUP(AT96,G125:K389,5,FALSE),\"no trades\")","v":"no trades"},null,null,null,null,null,null,null,null,null,null,null,67,{"$f":"N99","v":0},25025.38,{"$error":"#N/A"}]
[null,null,null,null,null,65,"2020-03-31",{"$f":"TEXT(G97,\"dddd\")","v":"Tuesday"},{"$f":"(N97-L97)","v":0},{"$error":"#N/A"},{"$f":"COUNTIFS(Journal!$S:$S,\"?\",Journal!$B:$B,$G97)","v":0},{"$f":"SUMIFS(Journal!$Q:$Q, Journal!$B:$B,$G97)","v":0},{"$f":"COUNTIF(Journal!$B:$B,$G97)","v":0},{"$f":"SUMIFS(Journal!$N:$N, Journal!$B:$B,$G97)","v":0},0,{"$f":"IFERROR(VLOOKUP(G97,'Daily Snapshot'!$B:$D,3,FALSE),\"\")","v":""},25023.63,null,74,{"$f":"IFERROR(VLOOKUP(S97,Journal!$R:$AQ,26,FALSE),\"\")","v":""},{"$error":"#VALUE!"},{"$error":"#N/A"},"",{"$f":"IFERROR(VLOOKUP(S97,Journal!$R:$AV,32,FALSE),\"\")","v":""},null,null,"2020-04-10","Friday",{"$f":"IFERROR(VLOOKUP(AA97, 'Daily Snapshot'!$B:$J,7,FALSE),\"\")","v":""},"",{"$f":"IFERROR(AD97/$AD96-1,\"\")","v":""},null,null,94,{"$f":"IFERROR(VLOOKUP(AH97,Journal!$R:$S,2,FALSE),\"\")","v":""},0,0,null,null,null,null,null,null,null,94,"2020-05-11","Monday",{"$f":"IFERROR(COUNTIFS(Journal!$S:$S,\"W\",Journal!$B:$B,AT97)/VLOOKUP(AT97,G126:K390,5,FALSE),\"no trades\")","v":"no trades"},null,null,null,null,null,null,null,null,null,null,null,68,0,25025.38,{"$error":"#N/A"}]
[null,null,null,null,null,66,"2020-04-01","Wednesday",0,{"$error":"#N/A"},{"$f":"COUNTIFS(Journal!$S:$S,\"?\",Journal!$B:$B,$G98)","v":0},{"$f":"SUMIFS(Journal!$Q:$Q, Journal!$B:$B,$G98)","v":0},{"$f":"COUNTIF(Journal!$B:$B,$G98)","v":0},{"$f":"SUMIFS(Journal!$N:$N, Journal!$B:$B,$G98)","v":0},0,{"$f":"IFERROR(VLOOKUP(G98,'Daily Snapshot'!$B:$D,3,FALSE),\"\")","v":""},25023.63,null,75,{"$f":"IFERROR(VLOOKUP(S98,Journal!$R:$AQ,26,FALSE),\"\")","v":""},{"$error":"#VALUE!"},{"$error":"#N/A"},"",{"$f":"IFERROR(VLOOKUP(S98,Journal!$R:$AV,32,FALSE),\"\")","v":""},null,null,"2020-04-13","Monday",{"$f":"IFERROR(VLOOKUP(AA98, 'Daily Snapshot'!$B:$J,7,FALSE),\"\")","v":""},"","",null,null,95,{"$f":"IFERROR(VLOOKUP(AH98,Journal!$R:$S,2,FALSE),\"\")","v":""},0,0,null,null,null,null,null,null,null,95,"2020-05-12","Tuesday",{"$f":"IFERROR(COUNTIFS(Journal!$S:$S,\"W\",Journal!$B:$B,AT98)/VLOOKUP(AT98,G127:K391,5,FALSE),\"no trades\")","v":"no trades"},null,null,null,null,null,null,null,null,null,null,null,69,0,25025.38,{"$f":"IF(OR(BI98=0,BI98<$H$26,BI98>$H$27),NA(),BI98+BJ97)","v":{"$error":"#N/A"}}]
[null,null,null,null,null,67,"2020-04-02","Thursday",0,{"$error":"#N/A"},{"$f":"COUNTIFS(Journal!$S:$S,\"?\",Journal!$B:$B,$G99)","v":0},{"$f":"SUMIFS(Journal!$Q:$Q, Journal!$B:$B,$G99)","v":0},{"$f":"COUNTIF(Journal!$B:$B,$G99)","v":0},{"$f":"SUMIFS(Journal!$N:$N, Journal!$B:$B,$G99)","v":0},0,{"$f":"IFERROR(VLOOKUP(G99,'Daily Snapshot'!$B:$D,3,FALSE),\"\")","v":""},25023.63,null,76,{"$f":"IFERROR(VLOOKUP(S99,Journal!$R:$AQ,26,FALSE),\"\")","v":""},{"$error":"#VALUE!"},{"$error":"#N/A"},"",{"$f":"IFERROR(VLOOKUP(S99,Journal!$R:$AV,32,FALSE),\"\")","v":""},null,null,"2020-04-14","Tuesday",{"$f":"IFERROR(VLOOKUP(AA99, 'Daily Snapshot'!$B:$J,7,FALSE),\"\")","v":""},"","",null,null,96,{"$f":"IFERROR(VLOOKUP(AH99,Journal!$R:$S,2,FALSE),\"\")","v":""},0,0,null,null,null,null,null,null,null,96,"2020-05-13","Wednesday",{"$f":"IFERROR(COUNTIFS(Journal!$S:$S,\"W\",Journal!$B:$B,AT99)/VLOOKUP(AT99,G128:K392,5,FALSE),\"no trades\")","v":"no trades"},null,null,null,null,null,null,null,null,null,null,null,70,0,25025.38,{"$error":"#N/A"}]
[null,null,null,null,null,68,"2020-04-03","Friday",0,{"$error":"#N/A"},{"$f":"COUNTIFS(Journal!$S:$S,\"?\",Journal!$B:$B,$G100)","v":0},{"$f":"SUMIFS(Journal!$Q:$Q, Journal!$B:$B,$G100)","v":0},{"$f":"COUNTIF(Journal!$B:$B,$G100)","v":0},{"$f":"SUMIFS(Journal!$N:$N, Journal!$B:$B,$G100)","v":0},0,{"$f":"IFERROR(VLOOKUP(G100,'Daily Snapshot'!$B:$D,3,FALSE),\"\")","v":""},25023.63,null,77,{"$f":"IFERROR(VLOOKUP(S100,Journal!$R:$AQ,26,FALSE),\"\")","v":""},{"$error":"#VALUE!"},{"$error":"#N/A"},"",{"$f":"IFERROR(VLOOKUP(S100,Journal!$R:$AV,32,FALSE),\"\")","v":""},null,null,"2020-04-15","Wednesday",{"$f":"IFERROR(VLOOKUP(AA100, 'Daily Snapshot'!$B:$J,7,FALSE),\"\")","v":""},"","",null,null,97,{"$f":"IFERROR(VLOOKUP(AH100,Journal!$R:$S,2,FALSE),\"\")","v":""},0,0,null,null,null,null,null,null,null,97,"2020-05-14","Thursday",{"$f":"IFERROR(COUNTIFS(Journal!$S:$S,\"W\",Journal!$B:$B,AT100)/VLOOKUP(AT100,G129:K393,5,FALSE),\"no trades\")","v":"no trades"},null,null,null,null,null,null,null,null,null,null,null,71,0,25025.38,{"$error":"#N/A"}]
[null,null,null,null,null,69,"2020-04-06","Monday",0,{"$error":"#N/A"},{"$f":"COUNTIFS(Journal!$S:$S,\"?\",Journal!$B:$B,$G101)","v":0},{"$f":"SUMIFS(Journal!$Q:$Q, Journal!$B:$B,$G101)","v":0},{"$f":"COUNTIF(Journal!$B:$B,$G101)","v":0},{"$f":"SUMIFS(Journal!$N:$N, Journal!$B:$B,$G101)","v":0},0,{"$f":"IFERROR(VLOOKUP(G101,'Daily Snapshot'!$B:$D,3,FALSE),\"\")","v":""},25023.63,null,78,{"$f":"IFERROR(VLOOKUP(S101,Journal!$R:$AQ,26,FALSE),\"\")","v":""},{"$error":"#VALUE!"},{"$error":"#N/A"},"",{"$f":"IFERROR(VLOOKUP(S101,Journal!$R:$AV,32,FALSE),\"\")","v":""},null,null,"2020-04-16","Thursday",{"$f":"IFERROR(VLOOKUP(AA101, 'Daily Snapshot'!$B:$J,7,FALSE),\"\")","v":""},"","",null,null,98,{"$f":"IFERROR(VLOOKUP(AH101,Journal!$R:$S,2,FALSE),\"\")","v":""},0,0,null,null,null,null,null,null,null,98,"2020-05-15","Friday",{"$f":"IFERROR(COUNTIFS(Journal!$S:$S,\"W\",Journal!$B:$B,AT101)/VLOOKUP(AT101,G130:K394,5,FALSE),\"no trades\")","v":"no trades"},null,null,null,null,null,null,null,null,null,null,null,72,0,25025.38,{"$error":"#N/A"}]
[null,null,null,null,null,70,"2020-04-07","Tuesday",0,{"$error":"#N/A"},{"$f":"COUNTIFS(Journal!$S:$S,\"?\",Journal!$B:$B,$G102)","v":0},{"$f":"SUMIFS(Journal!$Q:$Q, Journal!$B:$B,$G102)","v":0},{"$f":"COUNTIF(Journal!$B:$B,$G102)","v":0},{"$f":"SUMIFS(Journal!$N:$N, Journal!$B:$B,$G102)","v":0},0,{"$f":"IFERROR(VLOOKUP(G102,'Daily Snapshot'!$B:$D,3,FALSE),\"\")","v":""},{"$f":"Q101+I102","v":25023.63},null,79,{"$f":"IFERROR(VLOOKUP(S102,Journal!$R:$AQ,26,FALSE),\"\")","v":""},{"$error":"#VALUE!"},{"$error":"#N/A"},"",{"$f":"IFERROR(VLOOKUP(S102,Journal!$R:$AV,32,FALSE),\"\")","v":""},null,null,"2020-04-17","Friday",{"$f":"IFERROR(VLOOKUP(AA102, 'Daily Snapshot'!$B:$J,7,FALSE),\"\")","v":""},"","",null,null,99,{"$f":"IFERROR(VLOOKUP(AH102,Journal!$R:$S,2,FALSE),\"\")","v":""},0,0,null,null,null,null,null,null,null,99,"2020-05-18","Monday",{"$f":"IFERROR(COUNTIFS(Journal!$S:$S,\"W\",Journal!$B:$B,AT102)/VLOOKUP(AT102,G131:K395,5,FALSE),\"no trades\")","v":"no trades"},null,null,null,null,null,null,null,null,null,null,null,73,0,25025.38,{"$error":"#N/A"}]
[null,null,null,null,null,71,"2020-04-08","Wednesday",0,{"$error":"#N/A"},{"$f":"COUNTIFS(Journal!$S:$S,\"?\",Journal!$B:$B,$G103)","v":0},{"$f":"SUMIFS(Journal!$Q:$Q, Journal!$B:$B,$G103)","v":0},{"$f":"COUNTIF(Journal!$B:$B,$G103)","v":0},{"$f":"SUMIFS(Journal!$N:$N, Journal!$B:$B,$G103)","v":0},0,{"$f":"IFERROR(VLOOKUP(G103,'Daily Snapshot'!$B:$D,3,FALSE),\"\")","v":""},25023.63,null,80,{"$f":"IFERROR(VLOOKUP(S103,Journal!$R:$AQ,26,FALSE),\"\")","v":""},{"$error":"#VALUE!"},{"$error":"#N/A"},"",{"$f":"IFERROR(VLOOKUP(S103,Journal!$R:$AV,32,FALSE),\"\")","v":""},null,null,"2020-04-20","Monday",{"$f":"IFERROR(VLOOKUP(AA103, 'Daily Snapshot'!$B:$J,7,FALSE),\"\")","v":""},"","",null,null,100,{"$f":"IFERROR(VLOOKUP(AH103,Journal!$R:$S,2,FALSE),\"\")","v":""},0,0,null,null,null,null,null,null,null,100,"2020-05-19","Tuesday",{"$f":"IFERROR(COUNTIFS(Journal!$S:$S,\"W\",Journal!$B:$B,AT103)/VLOOKUP(AT103,G132:K396,5,FALSE),\"no trades\")","v":"no trades"},null,null,null,null,null,null,null,null,null,null,null,74,0,25025.38,{"$error":"#N/A"}]
[null,null,null,null,null,72,"2020-04-09","Thursday",0,{"$error":"#N/A"},{"$f":"COUNTIFS(Journal!$S:$S,\"?\",Journal!$B:$B,$G104)","v":0},{"$f":"SUMIFS(Journal!$Q:$Q, Journal!$B:$B,$G104)","v":0},{"$f":"COUNTIF(Journal!$B:$B,$G104)","v":0},{"$f":"SUMIFS(Journal!$N:$N, Journal!$B:$B,$G104)","v":0},0,{"$f":"IFERROR(VLOOKUP(G104,'Daily Snapshot'!$B:$D,3,FALSE),\"\")","v":""},25023.63,null,81,{"$f":"IFERROR(VLOOKUP(S104,Journal!$R:$AQ,26,FALSE),\"\")","v":""},{"$error":"#VALUE!"},{"$error":"#N/A"},"",{"$f":"IFERROR(VLOOKUP(S104,Journal!$R:$AV,32,FALSE),\"\")","v":""},null,null,"2020-04-21","Tuesday",{"$f":"IFERROR(VLOOKUP(AA104, 'Daily Snapshot'!$B:$J,7,FALSE),\"\")","v":""},"","",null,null,101,{"$f":"IFERROR(VLOOKUP(AH104,Journal!$R:$S,2,FALSE),\"\")","v":""},0,0,null,null,null,null,null,null,null,101,"2020-05-20","Wednesday",{"$f":"IFERROR(COUNTIFS(Journal!$S:$S,\"W\",Journal!$B:$B,AT104)/VLOOKUP(AT104,G133:K397,5,FALSE),\"no trades\")","v":"no trades"},null,null,null,null,null,null,null,null,null,null,null,75,0,25025.38,{"$error":"#N/A"}]
[null,null,null,null,null,73,"2020-04-10","Friday",0,{"$error":"#N/A"},{"$f":"COUNTIFS(Journal!$S:$S,\"?\",Journal!$B:$B,$G105)","v":0},{"$f":"SUMIFS(Journal!$Q:$Q, Journal!$B:$B,$G105)","v":0},{"$f":"COUNTIF(Journal!$B:$B,$G105)","v":0},{"$f":"SUMIFS(Journal!$N:$N, Journal!$B:$B,$G105)","v":0},0,{"$f":"IFERROR(VLOOKUP(G105,'Daily Snapshot'!$B:$D,3,FALSE),\"\")","v":""},25023.63,null,82,{"$f":"IFERROR(VLOOKUP(S105,Journal!$R:$AQ,26,FALSE),\"\")","v":""},{"$error":"#VALUE!"},{"$error":"#N/A"},"",{"$f":"IFERROR(VLOOKUP(S105,Journal!$R:$AV,32,FALSE),\"\")","v":""},null,null,"2020-04-22","Wednesday",{"$f":"IFERROR(VLOOKUP(AA105, 'Daily Snapshot'!$B:$J,7,FALSE),\"\")","v":""},"","",null,null,102,{"$f":"IFERROR(VLOOKUP(AH105,Journal!$R:$S,2,FALSE),\"\")","v":""},0,0,null,null,null,null,null,null,null,102,"2020-05-21","Thursday",{"$f":"IFERROR(COUNTIFS(Journal!$S:$S,\"W\",Journal!$B:$B,AT105)/VLOOKUP(AT105,G134:K398,5,FALSE),\"no trades\")","v":"no trades"},null,null,null,null,null,null,null,null,null,null,null,76,0,25025.38,{"$error":"#N/A"}]
[null,null,null,null,null,74,"2020-04-13","Monday",0,{"$error":"#N/A"},{"$f":"COUNTIFS(Journal!$S:$S,\"?\",Journal!$B:$B,$G106)","v":0},{"$f":"SUMIFS(Journal!$Q:$Q, Journal!$B:$B,$G106)","v":0},{"$f":"COUNTIF(Journal!$B:$B,$G106)","v":0},{"$f":"SUMIFS(Journal!$N:$N, Journal!$B:$B,$G106)","v":0},0,{"$f":"IFERROR(VLOOKUP(G106,'Daily Snapshot'!$B:$D,3,FALSE),\"\")","v":""},25023.63,null,83,{"$f":"IFERROR(VLOOKUP(S106,Journal!$R:$AQ,26,FALSE),\"\")","v":""},{"$error":"#VALUE!"},{"$error":"#N/A"},"",{"$f":"IFERROR(VLOOKUP(S106,Journal!$R:$AV,32,FALSE),\"\")","v":""},null,null,"2020-04-23","Thursday",{"$f":"IFERROR(VLOOKUP(AA106, 'Daily Snapshot'!$B:$J,7,FALSE),\"\")","v":""},"","",null,null,103,{"$f":"IFERROR(VLOOKUP(AH106,Journal!$R:$S,2,FALSE),\"\")","v":""},0,0,null,null,null,null,null,null,null,103,"2020-05-22","Friday",{"$f":"IFERROR(COUNTIFS(Journal!$S:$S,\"W\",Journal!$B:$B,AT106)/VLOOKUP(AT106,G135:K399,5,FALSE),\"no trades\")","v":"no trades"},null,null,null,null,null,null,null,null,null,null,null,77,0,25025.38,{"$error":"#N/A"}]
[null,null,null,null,null,75,"2020-04-14","Tuesday",0,{"$f":"IF(OR(I107<$H$26,I107>$H$27,I107=0),NA(),I107)","v":{"$error":"#N/A"}},{"$f":"COUNTIFS(Journal!$S:$S,\"?\",Journal!$B:$B,$G107)","v":0},{"$f":"SUMIFS(Journal!$Q:$Q, Journal!$B:$B,$G107)","v":0},{"$f":"COUNTIF(Journal!$B:$B,$G107)","v":0},{"$f":"SUMIFS(Journal!$N:$N, Journal!$B:$B,$G107)","v":0},0,{"$f":"IFERROR(VLOOKUP(G107,'Daily Snapshot'!$B:$D,3,FALSE),\"\")","v":""},25023.63,null,84,{"$f":"IFERROR(VLOOKUP(S107,Journal!$R:$AQ,26,FALSE),\"\")","v":""},{"$error":"#VALUE!"},{"$error":"#N/A"},"",{"$f":"IFERROR(VLOOKUP(S107,Journal!$R:$AV,32,FALSE),\"\")","v":""},null,null,"2020-04-24","Friday",{"$f":"IFERROR(VLOOKUP(AA107, 'Daily Snapshot'!$B:$J,7,FALSE),\"\")","v":""},"","",null,null,104,{"$f":"IFERROR(VLOOKUP(AH107,Journal!$R:$S,2,FALSE),\"\")","v":""},0,0,null,null,null,null,null,null,null,104,"2020-05-25","Monday",{"$f":"IFERROR(COUNTIFS(Journal!$S:$S,\"W\",Journal!$B:$B,AT107)/VLOOKUP(AT107,G136:K400,5,FALSE),\"no trades\")","v":"no trades"},null,null,null,null,null,null,null,null,null,null,null,78,0,25025.38,{"$error":"#N/A"}]
[null,null,null,null,null,76,"2020-04-15","Wednesday",0,{"$error":"#N/A"},{"$f":"COUNTIFS(Journal!$S:$S,\"?\",Journal!$B:$B,$G108)","v":0},{"$f":"SUMIFS(Journal!$Q:$Q, Journal!$B:$B,$G108)","v":0},{"$f":"COUNTIF(Journal!$B:$B,$G108)","v":0},{"$f":"SUMIFS(Journal!$N:$N, Journal!$B:$B,$G108)","v":0},0,{"$f":"IFERROR(VLOOKUP(G108,'Daily Snapshot'!$B:$D,3,FALSE),\"\")","v":""},25023.63,null,85,{"$f":"IFERROR(VLOOKUP(S108,Journal!$R:$AQ,26,FALSE),\"\")","v":""},{"$error":"#VALUE!"},{"$error":"#N/A"},"",{"$f":"IFERROR(VLOOKUP(S108,Journal!$R:$AV,32,FALSE),\"\")","v":""},null,null,"2020-04-27","Monday",{"$f":"IFERROR(VLOOKUP(AA108, 'Daily Snapshot'!$B:$J,7,FALSE),\"\")","v":""},"","",null,null,105,{"$f":"IFERROR(VLOOKUP(AH108,Journal!$R:$S,2,FALSE),\"\")","v":""},0,0,null,null,null,null,null,null,null,105,"2020-05-26","Tuesday",{"$f":"IFERROR(COUNTIFS(Journal!$S:$S,\"W\",Journal!$B:$B,AT108)/VLOOKUP(AT108,G137:K401,5,FALSE),\"no trades\")","v":"no trades"},null,null,null,null,null,null,null,null,null,null,null,79,0,25025.38,{"$error":"#N/A"}]
[null,null,null,null,null,77,"2020-04-16","Thursday",0,{"$error":"#N/A"},{"$f":"COUNTIFS(Journal!$S:$S,\"?\",Journal!$B:$B,$G109)","v":0},{"$f":"SUMIFS(Journal!$Q:$Q, Journal!$B:$B,$G109)","v":0},{"$f":"COUNTIF(Journal!$B:$B,$G109)","v":0},{"$f":"SUMIFS(Journal!$N:$N, Journal!$B:$B,$G109)","v":0},0,{"$f":"IFERROR(VLOOKUP(G109,'Daily Snapshot'!$B:$D,3,FALSE),\"\")","v":""},25023.63,null,86,{"$f":"IFERROR(VLOOKUP(S109,Journal!$R:$AQ,26,FALSE),\"\")","v":""},{"$error":"#VALUE!"},{"$error":"#N/A"},"",{"$f":"IFERROR(VLOOKUP(S109,Journal!$R:$AV,32,FALSE),\"\")","v":""},null,null,"2020-04-28","Tuesday",{"$f":"IFERROR(VLOOKUP(AA109, 'Daily Snapshot'!$B:$J,7,FALSE),\"\")","v":""},"","",null,null,106,{"$f":"IFERROR(VLOOKUP(AH109,Journal!$R:$S,2,FALSE),\"\")","v":""},0,0,null,null,null,null,null,null,null,106,"2020-05-27","Wednesday",{"$f":"IFERROR(COUNTIFS(Journal!$S:$S,\"W\",Journal!$B:$B,AT109)/VLOOKUP(AT109,G138:K402,5,FALSE),\"no trades\")","v":"no trades"},null,null,null,null,null,null,null,null,null,null,null,80,0,25025.38,{"$error":"#N/A"}]
[null,null,null,null,null,78,"2020-04-17","Friday",0,{"$error":"#N/A"},{"$f":"COUNTIFS(Journal!$S:$S,\"?\",Journal!$B:$B,$G110)","v":0},{"$f":"SUMIFS(Journal!$Q:$Q, Journal!$B:$B,$G110)","v":0},{"$f":"COUNTIF(Journal!$B:$B,$G110)","v":0},{"$f":"SUMIFS(Journal!$N:$N, Journal!$B:$B,$G110)","v":0},0,{"$f":"IFERROR(VLOOKUP(G110,'Daily Snapshot'!$B:$D,3,FALSE),\"\")","v":""},25023.63,null,87,{"$f":"IFERROR(VLOOKUP(S110,Journal!$R:$AQ,26,FALSE),\"\")","v":""},{"$error":"#VALUE!"},{"$error":"#N/A"},"",{"$f":"IFERROR(VLOOKUP(S110,Journal!$R:$AV,32,FALSE),\"\")","v":""},null,null,"2020-04-29","Wednesday",{"$f":"IFERROR(VLOOKUP(AA110, 'Daily Snapshot'!$B:$J,7,FALSE),\"\")","v":""},"","",null,null,107,{"$f":"IFERROR(VLOOKUP(AH110,Journal!$R:$S,2,FALSE),\"\")","v":""},0,0,null,null,null,null,null,null,null,107,"2020-05-28","Thursday",{"$f":"IFERROR(COUNTIFS(Journal!$S:$S,\"W\",Journal!$B:$B,AT110)/VLOOKUP(AT110,G139:K403,5,FALSE),\"no trades\")","v":"no trades"},null,null,null,null,null,null,null,null,null,null,null,81,0,25025.38,{"$error":"#N/A"}]
[null,null,null,null,null,79,"2020-04-20","Monday",0,{"$error":"#N/A"},{"$f":"COUNTIFS(Journal!$S:$S,\"?\",Journal!$B:$B,$G111)","v":0},{"$f":"SUMIFS(Journal!$Q:$Q, Journal!$B:$B,$G111)","v":0},{"$f":"COUNTIF(Journal!$B:$B,$G111)","v":0},{"$f":"SUMIFS(Journal!$N:$N, Journal!$B:$B,$G111)","v":0},0,{"$f":"IFERROR(VLOOKUP(G111,'Daily Snapshot'!$B:$D,3,FALSE),\"\")","v":""},25023.63,null,88,{"$f":"IFERROR(VLOOKUP(S111,Journal!$R:$AQ,26,FALSE),\"\")","v":""},{"$error":"#VALUE!"},{"$error":"#N/A"},"",{"$f":"IFERROR(VLOOKUP(S111,Journal!$R:$AV,32,FALSE),\"\")","v":""},null,null,"2020-04-30","Thursday",{"$f":"IFERROR(VLOOKUP(AA111, 'Daily Snapshot'!$B:$J,7,FALSE),\"\")","v":""},"","",null,null,108,{"$f":"IFERROR(VLOOKUP(AH111,Journal!$R:$S,2,FALSE),\"\")","v":""},0,0,null,null,null,null,null,null,null,108,"2020-05-29","Friday",{"$f":"IFERROR(COUNTIFS(Journal!$S:$S,\"W\",Journal!$B:$B,AT111)/VLOOKUP(AT111,G140:K404,5,FALSE),\"no trades\")","v":"no trades"},null,null,null,null,null,null,null,null,null,null,null,82,0,25025.38,{"$error":"#N/A"}]
[null,null,null,null,null,80,"2020-04-21","Tuesday",0,{"$error":"#N/A"},{"$f":"COUNTIFS(Journal!$S:$S,\"?\",Journal!$B:$B,$G112)","v":0},{"$f":"SUMIFS(Journal!$Q:$Q, Journal!$B:$B,$G112)","v":0},{"$f":"COUNTIF(Journal!$B:$B,$G112)","v":0},{"$f":"SUMIFS(Journal!$N:$N, Journal!$B:$B,$G112)","v":0},0,{"$f":"IFERROR(VLOOKUP(G112,'Daily Snapshot'!$B:$D,3,FALSE),\"\")","v":""},25023.63,null,89,{"$f":"IFERROR(VLOOKUP(S112,Journal!$R:$AQ,26,FALSE),\"\")","v":""},{"$error":"#VALUE!"},{"$error":"#N/A"},"",{"$f":"IFERROR(VLOOKUP(S112,Journal!$R:$AV,32,FALSE),\"\")","v":""},null,null,"2020-05-01","Friday",{"$f":"IFERROR(VLOOKUP(AA112, 'Daily Snapshot'!$B:$J,7,FALSE),\"\")","v":""},"","",null,null,109,{"$f":"IFERROR(VLOOKUP(AH112,Journal!$R:$S,2,FALSE),\"\")","v":""},0,0,null,null,null,null,null,null,null,109,"2020-06-01","Monday",{"$f":"IFERROR(COUNTIFS(Journal!$S:$S,\"W\",Journal!$B:$B,AT112)/VLOOKUP(AT112,G141:K405,5,FALSE),\"no trades\")","v":"no trades"},null,null,null,null,null,null,null,null,null,null,null,83,0,25025.38,{"$error":"#N/A"}]
[null,null,null,null,null,81,"2020-04-22","Wednesday",0,{"$error":"#N/A"},{"$f":"COUNTIFS(Journal!$S:$S,\"?\",Journal!$B:$B,$G113)","v":0},{"$f":"SUMIFS(Journal!$Q:$Q, Journal!$B:$B,$G113)","v":0},{"$f":"COUNTIF(Journal!$B:$B,$G113)","v":0},{"$f":"SUMIFS(Journal!$N:$N, Journal!$B:$B,$G113)","v":0},0,{"$f":"IFERROR(VLOOKUP(G113,'Daily Snapshot'!$B:$D,3,FALSE),\"\")","v":""},25023.63,null,90,{"$f":"IFERROR(VLOOKUP(S113,Journal!$R:$AQ,26,FALSE),\"\")","v":""},{"$error":"#VALUE!"},{"$error":"#N/A"},"",{"$f":"IFERROR(VLOOKUP(S113,Journal!$R:$AV,32,FALSE),\"\")","v":""},null,null,"2020-05-04","Monday",{"$f":"IFERROR(VLOOKUP(AA113, 'Daily Snapshot'!$B:$J,7,FALSE),\"\")","v":""},"","",null,null,110,{"$f":"IFERROR(VLOOKUP(AH113,Journal!$R:$S,2,FALSE),\"\")","v":""},0,0,null,null,null,null,null,null,null,110,"2020-06-02","Tuesday",{"$f":"IFERROR(COUNTIFS(Journal!$S:$S,\"W\",Journal!$B:$B,AT113)/VLOOKUP(AT113,G142:K406,5,FALSE),\"no trades\")","v":"no trades"},null,null,null,null,null,null,null,null,null,null,null,84,0,25025.38,{"$error":"#N/A"}]
[null,null,null,null,null,82,"2020-04-23","Thursday",0,{"$error":"#N/A"},{"$f":"COUNTIFS(Journal!$S:$S,\"?\",Journal!$B:$B,$G114)","v":0},{"$f":"SUMIFS(Journal!$Q:$Q, Journal!$B:$B,$G114)","v":0},{"$f":"COUNTIF(Journal!$B:$B,$G114)","v":0},{"$f":"SUMIFS(Journal!$N:$N, Journal!$B:$B,$G114)","v":0},0,{"$f":"IFERROR(VLOOKUP(G114,'Daily Snapshot'!$B:$D,3,FALSE),\"\")","v":""},25023.63,null,91,{"$f":"IFERROR(VLOOKUP(S114,Journal!$R:$AQ,26,FALSE),\"\")","v":""},{"$error":"#VALUE!"},{"$error":"#N/A"},"",{"$f":"IFERROR(VLOOKUP(S114,Journal!$R:$AV,32,FALSE),\"\")","v":""},null,null,"2020-05-05","Tuesday",{"$f":"IFERROR(VLOOKUP(AA114, 'Daily Snapshot'!$B:$J,7,FALSE),\"\")","v":""},"","",null,null,111,{"$f":"IFERROR(VLOOKUP(AH114,Journal!$R:$S,2,FALSE),\"\")","v":""},0,0,null,null,null,null,null,null,null,111,"2020-06-03","Wednesday",{"$f":"IFERROR(COUNTIFS(Journal!$S:$S,\"W\",Journal!$B:$B,AT114)/VLOOKUP(AT114,G143:K407,5,FALSE),\"no trades\")","v":"no trades"},null,null,null,null,null,null,null,null,null,null,null,85,0,25025.38,{"$error":"#N/A"}]
[null,null,null,null,null,83,"2020-04-24","Friday",0,{"$error":"#N/A"},{"$f":"COUNTIFS(Journal!$S:$S,\"?\",Journal!$B:$B,$G115)","v":0},{"$f":"SUMIFS(Journal!$Q:$Q, Journal!$B:$B,$G115)","v":0},{"$f":"COUNTIF(Journal!$B:$B,$G115)","v":0},{"$f":"SUMIFS(Journal!$N:$N, Journal!$B:$B,$G115)","v":0},0,{"$f":"IFERROR(VLOOKUP(G115,'Daily Snapshot'!$B:$D,3,FALSE),\"\")","v":""},25023.63,null,92,{"$f":"IFERROR(VLOOKUP(S115,Journal!$R:$AQ,26,FALSE),\"\")","v":""},{"$error":"#VALUE!"},{"$error":"#N/A"},"",{"$f":"IFERROR(VLOOKUP(S115,Journal!$R:$AV,32,FALSE),\"\")","v":""},null,null,"2020-05-06","Wednesday",{"$f":"IFERROR(VLOOKUP(AA115, 'Daily Snapshot'!$B:$J,7,FALSE),\"\")","v":""},"","",null,null,112,{"$f":"IFERROR(VLOOKUP(AH115,Journal!$R:$S,2,FALSE),\"\")","v":""},0,0,null,null,null,null,null,null,null,112,"2020-06-04","Thursday",{"$f":"IFERROR(COUNTIFS(Journal!$S:$S,\"W\",Journal!$B:$B,AT115)/VLOOKUP(AT115,G144:K408,5,FALSE),\"no trades\")","v":"no trades"},null,null,null,null,null,null,null,null,null,null,null,86,0,25025.38,{"$error":"#N/A"}]
[null,null,null,null,null,84,"2020-04-27","Monday",0,{"$error":"#N/A"},{"$f":"COUNTIFS(Journal!$S:$S,\"?\",Journal!$B:$B,$G116)","v":0},{"$f":"SUMIFS(Journal!$Q:$Q, Journal!$B:$B,$G116)","v":0},{"$f":"COUNTIF(Journal!$B:$B,$G116)","v":0},{"$f":"SUMIFS(Journal!$N:$N, Journal!$B:$B,$G116)","v":0},0,{"$f":"IFERROR(VLOOKUP(G116,'Daily Snapshot'!$B:$D,3,FALSE),\"\")","v":""},25023.63,null,93,{"$f":"IFERROR(VLOOKUP(S116,Journal!$R:$AQ,26,FALSE),\"\")","v":""},{"$error":"#VALUE!"},{"$error":"#N/A"},"",{"$f":"IFERROR(VLOOKUP(S116,Journal!$R:$AV,32,FALSE),\"\")","v":""},null,null,"2020-05-07","Thursday",{"$f":"IFERROR(VLOOKUP(AA116, 'Daily Snapshot'!$B:$J,7,FALSE),\"\")","v":""},"","",null,null,113,{"$f":"IFERROR(VLOOKUP(AH116,Journal!$R:$S,2,FALSE),\"\")","v":""},0,0,null,null,null,null,null,null,null,113,"2020-06-05","Friday",{"$f":"IFERROR(COUNTIFS(Journal!$S:$S,\"W\",Journal!$B:$B,AT116)/VLOOKUP(AT116,G145:K409,5,FALSE),\"no trades\")","v":"no trades"},null,null,null,null,null,null,null,null,null,null,null,87,0,25025.38,{"$error":"#N/A"}]
[null,null,null,null,null,85,"2020-04-28","Tuesday",0,{"$error":"#N/A"},{"$f":"COUNTIFS(Journal!$S:$S,\"?\",Journal!$B:$B,$G117)","v":0},{"$f":"SUMIFS(Journal!$Q:$Q, Journal!$B:$B,$G117)","v":0},{"$f":"COUNTIF(Journal!$B:$B,$G117)","v":0},{"$f":"SUMIFS(Journal!$N:$N, Journal!$B:$B,$G117)","v":0},0,{"$f":"IFERROR(VLOOKUP(G117,'Daily Snapshot'!$B:$D,3,FALSE),\"\")","v":""},25023.63,null,94,{"$f":"IFERROR(VLOOKUP(S117,Journal!$R:$AQ,26,FALSE),\"\")","v":""},{"$error":"#VALUE!"},{"$error":"#N/A"},"",{"$f":"IFERROR(VLOOKUP(S117,Journal!$R:$AV,32,FALSE),\"\")","v":""},null,null,"2020-05-08","Friday",{"$f":"IFERROR(VLOOKUP(AA117, 'Daily Snapshot'!$B:$J,7,FALSE),\"\")","v":""},"","",null,null,114,{"$f":"IFERROR(VLOOKUP(AH117,Journal!$R:$S,2,FALSE),\"\")","v":""},0,0,null,null,null,null,null,null,null,114,"2020-06-08","Monday",{"$f":"IFERROR(COUNTIFS(Journal!$S:$S,\"W\",Journal!$B:$B,AT117)/VLOOKUP(AT117,G146:K410,5,FALSE),\"no trades\")","v":"no trades"},null,null,null,null,null,null,null,null,null,null,null,88,0,25025.38,{"$error":"#N/A"}]
[null,null,null,null,null,86,"2020-04-29","Wednesday",0,{"$error":"#N/A"},{"$f":"COUNTIFS(Journal!$S:$S,\"?\",Journal!$B:$B,$G118)","v":0},{"$f":"SUMIFS(Journal!$Q:$Q, Journal!$B:$B,$G118)","v":0},{"$f":"COUNTIF(Journal!$B:$B,$G118)","v":0},{"$f":"SUMIFS(Journal!$N:$N, Journal!$B:$B,$G118)","v":0},0,{"$f":"IFERROR(VLOOKUP(G118,'Daily Snapshot'!$B:$D,3,FALSE),\"\")","v":""},25023.63,null,95,{"$f":"IFERROR(VLOOKUP(S118,Journal!$R:$AQ,26,FALSE),\"\")","v":""},{"$error":"#VALUE!"},{"$error":"#N/A"},"",{"$f":"IFERROR(VLOOKUP(S118,Journal!$R:$AV,32,FALSE),\"\")","v":""},null,null,"2020-05-11","Monday",{"$f":"IFERROR(VLOOKUP(AA118, 'Daily Snapshot'!$B:$J,7,FALSE),\"\")","v":""},"","",null,null,115,{"$f":"IFERROR(VLOOKUP(AH118,Journal!$R:$S,2,FALSE),\"\")","v":""},0,0,null,null,null,null,null,null,null,115,"2020-06-09","Tuesday",{"$f":"IFERROR(COUNTIFS(Journal!$S:$S,\"W\",Journal!$B:$B,AT118)/VLOOKUP(AT118,G147:K411,5,FALSE),\"no trades\")","v":"no trades"},null,null,null,null,null,null,null,null,null,null,null,89,0,25025.38,{"$error":"#N/A"}]
[null,null,null,null,null,87,"2020-04-30","Thursday",0,{"$error":"#N/A"},{"$f":"COUNTIFS(Journal!$S:$S,\"?\",Journal!$B:$B,$G119)","v":0},{"$f":"SUMIFS(Journal!$Q:$Q, Journal!$B:$B,$G119)","v":0},{"$f":"COUNTIF(Journal!$B:$B,$G119)","v":0},{"$f":"SUMIFS(Journal!$N:$N, Journal!$B:$B,$G119)","v":0},0,{"$f":"IFERROR(VLOOKUP(G119,'Daily Snapshot'!$B:$D,3,FALSE),\"\")","v":""},25023.63,null,96,{"$f":"IFERROR(VLOOKUP(S119,Journal!$R:$AQ,26,FALSE),\"\")","v":""},{"$error":"#VALUE!"},{"$error":"#N/A"},"",{"$f":"IFERROR(VLOOKUP(S119,Journal!$R:$AV,32,FALSE),\"\")","v":""},null,null,"2020-05-12","Tuesday",{"$f":"IFERROR(VLOOKUP(AA119, 'Daily Snapshot'!$B:$J,7,FALSE),\"\")","v":""},"","",null,null,116,{"$f":"IFERROR(VLOOKUP(AH119,Journal!$R:$S,2,FALSE),\"\")","v":""},0,0,null,null,null,null,null,null,null,116,"2020-06-10","Wednesday",{"$f":"IFERROR(COUNTIFS(Journal!$S:$S,\"W\",Journal!$B:$B,AT119)/VLOOKUP(AT119,G148:K412,5,FALSE),\"no trades\")","v":"no trades"},null,null,null,null,null,null,null,null,null,null,null,90,0,25025.38,{"$error":"#N/A"}]
[null,null,null,null,null,88,"2020-05-01","Friday",0,{"$error":"#N/A"},{"$f":"COUNTIFS(Journal!$S:$S,\"?\",Journal!$B:$B,$G120)","v":0},{"$f":"SUMIFS(Journal!$Q:$Q, Journal!$B:$B,$G120)","v":0},{"$f":"COUNTIF(Journal!$B:$B,$G120)","v":0},{"$f":"SUMIFS(Journal!$N:$N, Journal!$B:$B,$G120)","v":0},0,{"$f":"IFERROR(VLOOKUP(G120,'Daily Snapshot'!$B:$D,3,FALSE),\"\")","v":""},25023.63,null,97,{"$f":"IFERROR(VLOOKUP(S120,Journal!$R:$AQ,26,FALSE),\"\")","v":""},{"$error":"#VALUE!"},{"$error":"#N/A"},"",{"$f":"IFERROR(VLOOKUP(S120,Journal!$R:$AV,32,FALSE),\"\")","v":""},null,null,"2020-05-13","Wednesday",{"$f":"IFERROR(VLOOKUP(AA120, 'Daily Snapshot'!$B:$J,7,FALSE),\"\")","v":""},"","",null,null,117,{"$f":"IFERROR(VLOOKUP(AH120,Journal!$R:$S,2,FALSE),\"\")","v":""},0,0,null,null,null,null,null,null,null,117,"2020-06-11","Thursday",{"$f":"IFERROR(COUNTIFS(Journal!$S:$S,\"W\",Journal!$B:$B,AT120)/VLOOKUP(AT120,G149:K413,5,FALSE),\"no trades\")","v":"no trades"},null,null,null,null,null,null,null,null,null,null,null,91,0,25025.38,{"$error":"#N/A"}]
[null,null,null,null,null,89,"2020-05-04","Monday",0,{"$error":"#N/A"},{"$f":"COUNTIFS(Journal!$S:$S,\"?\",Journal!$B:$B,$G121)","v":0},{"$f":"SUMIFS(Journal!$Q:$Q, Journal!$B:$B,$G121)","v":0},{"$f":"COUNTIF(Journal!$B:$B,$G121)","v":0},{"$f":"SUMIFS(Journal!$N:$N, Journal!$B:$B,$G121)","v":0},0,{"$f":"IFERROR(VLOOKUP(G121,'Daily Snapshot'!$B:$D,3,FALSE),\"\")","v":""},25023.63,null,98,{"$f":"IFERROR(VLOOKUP(S121,Journal!$R:$AQ,26,FALSE),\"\")","v":""},{"$error":"#VALUE!"},{"$error":"#N/A"},"",{"$f":"IFERROR(VLOOKUP(S121,Journal!$R:$AV,32,FALSE),\"\")","v":""},null,null,"2020-05-14","Thursday",{"$f":"IFERROR(VLOOKUP(AA121, 'Daily Snapshot'!$B:$J,7,FALSE),\"\")","v":""},"","",null,null,118,{"$f":"IFERROR(VLOOKUP(AH121,Journal!$R:$S,2,FALSE),\"\")","v":""},0,0,null,null,null,null,null,null,null,118,"2020-06-12","Friday",{"$f":"IFERROR(COUNTIFS(Journal!$S:$S,\"W\",Journal!$B:$B,AT121)/VLOOKUP(AT121,G150:K414,5,FALSE),\"no trades\")","v":"no trades"},null,null,null,null,null,null,null,null,null,null,null,92,0,25025.38,{"$error":"#N/A"}]
[null,null,null,null,null,90,"2020-05-05","Tuesday",0,{"$error":"#N/A"},{"$f":"COUNTIFS(Journal!$S:$S,\"?\",Journal!$B:$B,$G122)","v":0},{"$f":"SUMIFS(Journal!$Q:$Q, Journal!$B:$B,$G122)","v":0},{"$f":"COUNTIF(Journal!$B:$B,$G122)","v":0},{"$f":"SUMIFS(Journal!$N:$N, Journal!$B:$B,$G122)","v":0},0,{"$f":"IFERROR(VLOOKUP(G122,'Daily Snapshot'!$B:$D,3,FALSE),\"\")","v":""},25023.63,null,99,{"$f":"IFERROR(VLOOKUP(S122,Journal!$R:$AQ,26,FALSE),\"\")","v":""},{"$error":"#VALUE!"},{"$error":"#N/A"},"",{"$f":"IFERROR(VLOOKUP(S122,Journal!$R:$AV,32,FALSE),\"\")","v":""},null,null,"2020-05-15","Friday",{"$f":"IFERROR(VLOOKUP(AA122, 'Daily Snapshot'!$B:$J,7,FALSE),\"\")","v":""},"","",null,null,119,{"$f":"IFERROR(VLOOKUP(AH122,Journal!$R:$S,2,FALSE),\"\")","v":""},0,0,null,null,null,null,null,null,null,119,"2020-06-15","Monday",{"$f":"IFERROR(COUNTIFS(Journal!$S:$S,\"W\",Journal!$B:$B,AT122)/VLOOKUP(AT122,G151:K415,5,FALSE),\"no trades\")","v":"no trades"},null,null,null,null,null,null,null,null,null,null,null,93,0,25025.38,{"$error":"#N/A"}]
[null,null,null,null,null,91,"2020-05-06","Wednesday",0,{"$error":"#N/A"},{"$f":"COUNTIFS(Journal!$S:$S,\"?\",Journal!$B:$B,$G123)","v":0},{"$f":"SUMIFS(Journal!$Q:$Q, Journal!$B:$B,$G123)","v":0},{"$f":"COUNTIF(Journal!$B:$B,$G123)","v":0},{"$f":"SUMIFS(Journal!$N:$N, Journal!$B:$B,$G123)","v":0},0,{"$f":"IFERROR(VLOOKUP(G123,'Daily Snapshot'!$B:$D,3,FALSE),\"\")","v":""},25023.63,null,100,{"$f":"IFERROR(VLOOKUP(S123,Journal!$R:$AQ,26,FALSE),\"\")","v":""},{"$error":"#VALUE!"},{"$error":"#N/A"},"",{"$f":"IFERROR(VLOOKUP(S123,Journal!$R:$AV,32,FALSE),\"\")","v":""},null,null,"2020-05-18","Monday",{"$f":"IFERROR(VLOOKUP(AA123, 'Daily Snapshot'!$B:$J,7,FALSE),\"\")","v":""},"","",null,null,120,{"$f":"IFERROR(VLOOKUP(AH123,Journal!$R:$S,2,FALSE),\"\")","v":""},0,0,null,null,null,null,null,null,null,120,"2020-06-16","Tuesday",{"$f":"IFERROR(COUNTIFS(Journal!$S:$S,\"W\",Journal!$B:$B,AT123)/VLOOKUP(AT123,G152:K416,5,FALSE),\"no trades\")","v":"no trades"},null,null,null,null,null,null,null,null,null,null,null,94,0,25025.38,{"$error":"#N/A"}]
[null,null,null,null,null,92,"2020-05-07","Thursday",0,{"$error":"#N/A"},{"$f":"COUNTIFS(Journal!$S:$S,\"?\",Journal!$B:$B,$G124)","v":0},{"$f":"SUMIFS(Journal!$Q:$Q, Journal!$B:$B,$G124)","v":0},{"$f":"COUNTIF(Journal!$B:$B,$G124)","v":0},{"$f":"SUMIFS(Journal!$N:$N, Journal!$B:$B,$G124)","v":0},0,{"$f":"IFERROR(VLOOKUP(G124,'Daily Snapshot'!$B:$D,3,FALSE),\"\")","v":""},25023.63,null,101,{"$f":"IFERROR(VLOOKUP(S124,Journal!$R:$AQ,26,FALSE),\"\")","v":""},{"$error":"#VALUE!"},{"$error":"#N/A"},"",{"$f":"IFERROR(VLOOKUP(S124,Journal!$R:$AV,32,FALSE),\"\")","v":""},null,null,"2020-05-19","Tuesday",{"$f":"IFERROR(VLOOKUP(AA124, 'Daily Snapshot'!$B:$J,7,FALSE),\"\")","v":""},"","",null,null,121,{"$f":"IFERROR(VLOOKUP(AH124,Journal!$R:$S,2,FALSE),\"\")","v":""},0,0,null,null,null,null,null,null,null,121,"2020-06-17","Wednesday",{"$f":"IFERROR(COUNTIFS(Journal!$S:$S,\"W\",Journal!$B:$B,AT124)/VLOOKUP(AT124,G153:K417,5,FALSE),\"no trades\")","v":"no trades"},null,null,null,null,null,null,null,null,null,null,null,95,0,25025.38,{"$error":"#N/A"}]
[null,null,null,null,null,93,"2020-05-08","Friday",0,{"$error":"#N/A"},{"$f":"COUNTIFS(Journal!$S:$S,\"?\",Journal!$B:$B,$G125)","v":0},{"$f":"SUMIFS(Journal!$Q:$Q, Journal!$B:$B,$G125)","v":0},{"$f":"COUNTIF(Journal!$B:$B,$G125)","v":0},{"$f":"SUMIFS(Journal!$N:$N, Journal!$B:$B,$G125)","v":0},0,{"$f":"IFERROR(VLOOKUP(G125,'Daily Snapshot'!$B:$D,3,FALSE),\"\")","v":""},25023.63,null,102,{"$f":"IFERROR(VLOOKUP(S125,Journal!$R:$AQ,26,FALSE),\"\")","v":""},{"$error":"#VALUE!"},{"$error":"#N/A"},"",{"$f":"IFERROR(VLOOKUP(S125,Journal!$R:$AV,32,FALSE),\"\")","v":""},null,null,"2020-05-20","Wednesday",{"$f":"IFERROR(VLOOKUP(AA125, 'Daily Snapshot'!$B:$J,7,FALSE),\"\")","v":""},"","",null,null,122,{"$f":"IFERROR(VLOOKUP(AH125,Journal!$R:$S,2,FALSE),\"\")","v":""},0,0,null,null,null,null,null,null,null,122,"2020-06-18","Thursday",{"$f":"IFERROR(COUNTIFS(Journal!$S:$S,\"W\",Journal!$B:$B,AT125)/VLOOKUP(AT125,G154:K418,5,FALSE),\"no trades\")","v":"no trades"},null,null,null,null,null,null,null,null,null,null,null,96,0,25025.38,{"$error":"#N/A"}]
[null,null,null,null,null,94,"2020-05-11","Monday",0,{"$error":"#N/A"},{"$f":"COUNTIFS(Journal!$S:$S,\"?\",Journal!$B:$B,$G126)","v":0},{"$f":"SUMIFS(Journal!$Q:$Q, Journal!$B:$B,$G126)","v":0},{"$f":"COUNTIF(Journal!$B:$B,$G126)","v":0},{"$f":"SUMIFS(Journal!$N:$N, Journal!$B:$B,$G126)","v":0},0,{"$f":"IFERROR(VLOOKUP(G126,'Daily Snapshot'!$B:$D,3,FALSE),\"\")","v":""},25023.63,null,103,{"$f":"IFERROR(VLOOKUP(S126,Journal!$R:$AQ,26,FALSE),\"\")","v":""},{"$error":"#VALUE!"},{"$error":"#N/A"},"",{"$f":"IFERROR(VLOOKUP(S126,Journal!$R:$AV,32,FALSE),\"\")","v":""},null,null,"2020-05-21","Thursday",{"$f":"IFERROR(VLOOKUP(AA126, 'Daily Snapshot'!$B:$J,7,FALSE),\"\")","v":""},"","",null,null,123,{"$f":"IFERROR(VLOOKUP(AH126,Journal!$R:$S,2,FALSE),\"\")","v":""},0,0,null,null,null,null,null,null,null,123,"2020-06-19","Friday",{"$f":"IFERROR(COUNTIFS(Journal!$S:$S,\"W\",Journal!$B:$B,AT126)/VLOOKUP(AT126,G155:K419,5,FALSE),\"no trades\")","v":"no trades"},null,null,null,null,null,null,null,null,null,null,null,97,0,25025.38,{"$error":"#N/A"}]
[null,null,null,null,null,95,"2020-05-12","Tuesday",0,{"$error":"#N/A"},{"$f":"COUNTIFS(Journal!$S:$S,\"?\",Journal!$B:$B,$G127)","v":0},{"$f":"SUMIFS(Journal!$Q:$Q, Journal!$B:$B,$G127)","v":0},{"$f":"COUNTIF(Journal!$B:$B,$G127)","v":0},{"$f":"SUMIFS(Journal!$N:$N, Journal!$B:$B,$G127)","v":0},0,{"$f":"IFERROR(VLOOKUP(G127,'Daily Snapshot'!$B:$D,3,FALSE),\"\")","v":""},25023.63,null,104,{"$f":"IFERROR(VLOOKUP(S127,Journal!$R:$AQ,26,FALSE),\"\")","v":""},{"$error":"#VALUE!"},{"$error":"#N/A"},"",{"$f":"IFERROR(VLOOKUP(S127,Journal!$R:$AV,32,FALSE),\"\")","v":""},null,null,"2020-05-22","Friday",{"$f":"IFERROR(VLOOKUP(AA127, 'Daily Snapshot'!$B:$J,7,FALSE),\"\")","v":""},"","",null,null,124,{"$f":"IFERROR(VLOOKUP(AH127,Journal!$R:$S,2,FALSE),\"\")","v":""},0,0,null,null,null,null,null,null,null,124,"2020-06-22","Monday",{"$f":"IFERROR(COUNTIFS(Journal!$S:$S,\"W\",Journal!$B:$B,AT127)/VLOOKUP(AT127,G156:K420,5,FALSE),\"no trades\")","v":"no trades"},null,null,null,null,null,null,null,null,null,null,null,98,0,25025.38,{"$error":"#N/A"}]
[null,null,null,null,null,96,"2020-05-13","Wednesday",0,{"$f":"IF(OR(I128<$H$26,I128>$H$27,I128=0),NA(),I128)","v":{"$error":"#N/A"}},{"$f":"COUNTIFS(Journal!$S:$S,\"?\",Journal!$B:$B,$G128)","v":0},{"$f":"SUMIFS(Journal!$Q:$Q, Journal!$B:$B,$G128)","v":0},{"$f":"COUNTIF(Journal!$B:$B,$G128)","v":0},{"$f":"SUMIFS(Journal!$N:$N, Journal!$B:$B,$G128)","v":0},0,{"$f":"IFERROR(VLOOKUP(G128,'Daily Snapshot'!$B:$D,3,FALSE),\"\")","v":""},25023.63,null,105,{"$f":"IFERROR(VLOOKUP(S128,Journal!$R:$AQ,26,FALSE),\"\")","v":""},{"$error":"#VALUE!"},{"$error":"#N/A"},"",{"$f":"IFERROR(VLOOKUP(S128,Journal!$R:$AV,32,FALSE),\"\")","v":""},null,null,"2020-05-25","Monday",{"$f":"IFERROR(VLOOKUP(AA128, 'Daily Snapshot'!$B:$J,7,FALSE),\"\")","v":""},"","",null,null,125,{"$f":"IFERROR(VLOOKUP(AH128,Journal!$R:$S,2,FALSE),\"\")","v":""},0,0,null,null,null,null,null,null,null,125,"2020-06-23","Tuesday",{"$f":"IFERROR(COUNTIFS(Journal!$S:$S,\"W\",Journal!$B:$B,AT128)/VLOOKUP(AT128,G157:K421,5,FALSE),\"no trades\")","v":"no trades"},null,null,null,null,null,null,null,null,null,null,null,99,0,25025.38,{"$error":"#N/A"}]
[null,null,null,null,null,97,"2020-05-14","Thursday",{"$f":"(N129-L129)","v":0},{"$f":"IF(OR(I129<$H$26,I129>$H$27,I129=0),NA(),I129)","v":{"$error":"#N/A"}},{"$f":"COUNTIFS(Journal!$S:$S,\"?\",Journal!$B:$B,$G129)","v":0},{"$f":"SUMIFS(Journal!$Q:$Q, Journal!$B:$B,$G129)","v":0},{"$f":"COUNTIF(Journal!$B:$B,$G129)","v":0},{"$f":"SUMIFS(Journal!$N:$N, Journal!$B:$B,$G129)","v":0},0,{"$f":"IFERROR(VLOOKUP(G129,'Daily Snapshot'!$B:$D,3,FALSE),\"\")","v":""},25023.63,null,106,{"$f":"IFERROR(VLOOKUP(S129,Journal!$R:$AQ,26,FALSE),\"\")","v":""},{"$error":"#VALUE!"},{"$error":"#N/A"},"",{"$f":"IFERROR(VLOOKUP(S129,Journal!$R:$AV,32,FALSE),\"\")","v":""},null,null,"2020-05-26","Tuesday",{"$f":"IFERROR(VLOOKUP(AA129, 'Daily Snapshot'!$B:$J,7,FALSE),\"\")","v":""},"","",null,null,126,{"$f":"IFERROR(VLOOKUP(AH129,Journal!$R:$S,2,FALSE),\"\")","v":""},0,0,null,null,null,null,null,null,null,126,"2020-06-24","Wednesday",{"$f":"IFERROR(COUNTIFS(Journal!$S:$S,\"W\",Journal!$B:$B,AT129)/VLOOKUP(AT129,G158:K422,5,FALSE),\"no trades\")","v":"no trades"},null,null,null,null,null,null,null,null,null,null,null,100,0,25025.38,{"$error":"#N/A"}]
[null,null,null,null,null,98,"2020-05-15","Friday",0,{"$f":"IF(OR(I130<$H$26,I130>$H$27,I130=0),NA(),I130)","v":{"$error":"#N/A"}},{"$f":"COUNTIFS(Journal!$S:$S,\"?\",Journal!$B:$B,$G130)","v":0},{"$f":"SUMIFS(Journal!$Q:$Q, Journal!$B:$B,$G130)","v":0},{"$f":"COUNTIF(Journal!$B:$B,$G130)","v":0},{"$f":"SUMIFS(Journal!$N:$N, Journal!$B:$B,$G130)","v":0},0,{"$f":"IFERROR(VLOOKUP(G130,'Daily Snapshot'!$B:$D,3,FALSE),\"\")","v":""},25023.63,null,107,{"$f":"IFERROR(VLOOKUP(S130,Journal!$R:$AQ,26,FALSE),\"\")","v":""},{"$error":"#VALUE!"},{"$error":"#N/A"},"",{"$f":"IFERROR(VLOOKUP(S130,Journal!$R:$AV,32,FALSE),\"\")","v":""},null,null,"2020-05-27","Wednesday",{"$f":"IFERROR(VLOOKUP(AA130, 'Daily Snapshot'!$B:$J,7,FALSE),\"\")","v":""},"","",null,null,127,{"$f":"IFERROR(VLOOKUP(AH130,Journal!$R:$S,2,FALSE),\"\")","v":""},0,0,null,null,null,null,null,null,null,127,"2020-06-25","Thursday",{"$f":"IFERROR(COUNTIFS(Journal!$S:$S,\"W\",Journal!$B:$B,AT130)/VLOOKUP(AT130,G159:K423,5,FALSE),\"no trades\")","v":"no trades"},null,null,null,null,null,null,null,null,null,null,null,101,0,25025.38,{"$error":"#N/A"}]
[null,null,null,null,null,99,"2020-05-18","Monday",0,{"$f":"IF(OR(I131<$H$26,I131>$H$27,I131=0),NA(),I131)","v":{"$error":"#N/A"}},{"$f":"COUNTIFS(Journal!$S:$S,\"?\",Journal!$B:$B,$G131)","v":0},{"$f":"SUMIFS(Journal!$Q:$Q, Journal!$B:$B,$G131)","v":0},{"$f":"COUNTIF(Journal!$B:$B,$G131)","v":0},{"$f":"SUMIFS(Journal!$N:$N, Journal!$B:$B,$G131)","v":0},0,{"$f":"IFERROR(VLOOKUP(G131,'Daily Snapshot'!$B:$D,3,FALSE),\"\")","v":""},25023.63,null,108,{"$f":"IFERROR(VLOOKUP(S131,Journal!$R:$AQ,26,FALSE),\"\")","v":""},{"$error":"#VALUE!"},{"$error":"#N/A"},"",{"$f":"IFERROR(VLOOKUP(S131,Journal!$R:$AV,32,FALSE),\"\")","v":""},null,null,"2020-05-28","Thursday",{"$f":"IFERROR(VLOOKUP(AA131, 'Daily Snapshot'!$B:$J,7,FALSE),\"\")","v":""},"","",null,null,128,{"$f":"IFERROR(VLOOKUP(AH131,Journal!$R:$S,2,FALSE),\"\")","v":""},0,0,null,null,null,null,null,null,null,128,"2020-06-26",{"$f":"TEXT(AT131,\"dddd\")","v":"Friday"},{"$f":"IFERROR(COUNTIFS(Journal!$S:$S,\"W\",Journal!$B:$B,AT131)/VLOOKUP(AT131,G160:K424,5,FALSE),\"no trades\")","v":"no trades"},null,null,null,null,null,null,null,null,null,null,null,102,0,25025.38,{"$error":"#N/A"}]
[null,null,null,null,null,100,"2020-05-19","Tuesday",0,{"$f":"IF(OR(I132<$H$26,I132>$H$27,I132=0),NA(),I132)","v":{"$error":"#N/A"}},{"$f":"COUNTIFS(Journal!$S:$S,\"?\",Journal!$B:$B,$G132)","v":0},{"$f":"SUMIFS(Journal!$Q:$Q, Journal!$B:$B,$G132)","v":0},{"$f":"COUNTIF(Journal!$B:$B,$G132)","v":0},{"$f":"SUMIFS(Journal!$N:$N, Journal!$B:$B,$G132)","v":0},0,{"$f":"IFERROR(VLOOKUP(G132,'Daily Snapshot'!$B:$D,3,FALSE),\"\")","v":""},25023.63,null,109,{"$f":"IFERROR(VLOOKUP(S132,Journal!$R:$AQ,26,FALSE),\"\")","v":""},{"$error":"#VALUE!"},{"$error":"#N/A"},"",{"$f":"IFERROR(VLOOKUP(S132,Journal!$R:$AV,32,FALSE),\"\")","v":""},null,null,"2020-05-29","Friday",{"$f":"IFERROR(VLOOKUP(AA132, 'Daily Snapshot'!$B:$J,7,FALSE),\"\")","v":""},"","",null,null,129,{"$f":"IFERROR(VLOOKUP(AH132,Journal!$R:$S,2,FALSE),\"\")","v":""},{"$f":"IF($AI132=\"W\", 1,0)","v":0},{"$f":"IF($AI132=\"L\", -1,0)","v":0},null,null,null,null,null,null,null,129,"2020-06-29","Monday",{"$f":"IFERROR(COUNTIFS(Journal!$S:$S,\"W\",Journal!$B:$B,AT132)/VLOOKUP(AT132,G161:K425,5,FALSE),\"no trades\")","v":"no trades"},null,null,null,null,null,null,null,null,null,null,null,103,0,25025.38,{"$error":"#N/A"}]
[null,null,null,null,null,101,"2020-05-20","Wednesday",0,{"$f":"IF(OR(I133<$H$26,I133>$H$27,I133=0),NA(),I133)","v":{"$error":"#N/A"}},{"$f":"COUNTIFS(Journal!$S:$S,\"?\",Journal!$B:$B,$G133)","v":0},{"$f":"SUMIFS(Journal!$Q:$Q, Journal!$B:$B,$G133)","v":0},{"$f":"COUNTIF(Journal!$B:$B,$G133)","v":0},{"$f":"SUMIFS(Journal!$N:$N, Journal!$B:$B,$G133)","v":0},0,{"$f":"IFERROR(VLOOKUP(G133,'Daily Snapshot'!$B:$D,3,FALSE),\"\")","v":""},25023.63,null,110,{"$f":"IFERROR(VLOOKUP(S133,Journal!$R:$AQ,26,FALSE),\"\")","v":""},{"$error":"#VALUE!"},{"$error":"#N/A"},"",{"$f":"IFERROR(VLOOKUP(S133,Journal!$R:$AV,32,FALSE),\"\")","v":""},null,null,"2020-06-01","Monday",{"$f":"IFERROR(VLOOKUP(AA133, 'Daily Snapshot'!$B:$J,7,FALSE),\"\")","v":""},"","",null,null,130,{"$f":"IFERROR(VLOOKUP(AH133,Journal!$R:$S,2,FALSE),\"\")","v":""},0,0,null,null,null,null,null,null,null,130,{"$f":"G162","v":"2020-06-30"},"Tuesday",{"$f":"IFERROR(COUNTIFS(Journal!$S:$S,\"W\",Journal!$B:$B,AT133)/VLOOKUP(AT133,G162:K426,5,FALSE),\"no trades\")","v":"no trades"},null,null,null,null,null,null,null,null,null,null,null,104,0,25025.38,{"$error":"#N/A"}]
[null,null,null,null,null,102,"2020-05-21","Thursday",0,{"$error":"#N/A"},{"$f":"COUNTIFS(Journal!$S:$S,\"?\",Journal!$B:$B,$G134)","v":0},{"$f":"SUMIFS(Journal!$Q:$Q, Journal!$B:$B,$G134)","v":0},{"$f":"COUNTIF(Journal!$B:$B,$G134)","v":0},{"$f":"SUMIFS(Journal!$N:$N, Journal!$B:$B,$G134)","v":0},0,{"$f":"IFERROR(VLOOKUP(G134,'Daily Snapshot'!$B:$D,3,FALSE),\"\")","v":""},25023.63,null,111,{"$f":"IFERROR(VLOOKUP(S134,Journal!$R:$AQ,26,FALSE),\"\")","v":""},{"$error":"#VALUE!"},{"$error":"#N/A"},"",{"$f":"IFERROR(VLOOKUP(S134,Journal!$R:$AV,32,FALSE),\"\")","v":""},null,null,"2020-06-02","Tuesday",{"$f":"IFERROR(VLOOKUP(AA134, 'Daily Snapshot'!$B:$J,7,FALSE),\"\")","v":""},"","",null,null,131,{"$f":"IFERROR(VLOOKUP(AH134,Journal!$R:$S,2,FALSE),\"\")","v":""},0,0,null,null,null,null,null,null,null,131,"2020-07-01","Wednesday",{"$f":"IFERROR(COUNTIFS(Journal!$S:$S,\"W\",Journal!$B:$B,AT134)/VLOOKUP(AT134,G163:K427,5,FALSE),\"no trades\")","v":"no trades"},null,null,null,null,null,null,null,null,null,null,null,105,0,25025.38,{"$error":"#N/A"}]
[null,null,null,null,null,103,"2020-05-22","Friday",0,{"$error":"#N/A"},{"$f":"COUNTIFS(Journal!$S:$S,\"?\",Journal!$B:$B,$G135)","v":0},{"$f":"SUMIFS(Journal!$Q:$Q, Journal!$B:$B,$G135)","v":0},{"$f":"COUNTIF(Journal!$B:$B,$G135)","v":0},{"$f":"SUMIFS(Journal!$N:$N, Journal!$B:$B,$G135)","v":0},0,{"$f":"IFERROR(VLOOKUP(G135,'Daily Snapshot'!$B:$D,3,FALSE),\"\")","v":""},25023.63,null,112,{"$f":"IFERROR(VLOOKUP(S135,Journal!$R:$AQ,26,FALSE),\"\")","v":""},{"$error":"#VALUE!"},{"$error":"#N/A"},"",{"$f":"IFERROR(VLOOKUP(S135,Journal!$R:$AV,32,FALSE),\"\")","v":""},null,null,"2020-06-03","Wednesday",{"$f":"IFERROR(VLOOKUP(AA135, 'Daily Snapshot'!$B:$J,7,FALSE),\"\")","v":""},"","",null,null,132,{"$f":"IFERROR(VLOOKUP(AH135,Journal!$R:$S,2,FALSE),\"\")","v":""},0,0,null,null,null,null,null,null,null,132,"2020-07-02","Thursday",{"$f":"IFERROR(COUNTIFS(Journal!$S:$S,\"W\",Journal!$B:$B,AT135)/VLOOKUP(AT135,G164:K428,5,FALSE),\"no trades\")","v":"no trades"},null,null,null,null,null,null,null,null,null,null,null,106,0,25025.38,{"$error":"#N/A"}]
[null,null,null,null,null,104,"2020-05-25","Monday",0,{"$error":"#N/A"},{"$f":"COUNTIFS(Journal!$S:$S,\"?\",Journal!$B:$B,$G136)","v":0},{"$f":"SUMIFS(Journal!$Q:$Q, Journal!$B:$B,$G136)","v":0},{"$f":"COUNTIF(Journal!$B:$B,$G136)","v":0},{"$f":"SUMIFS(Journal!$N:$N, Journal!$B:$B,$G136)","v":0},0,{"$f":"IFERROR(VLOOKUP(G136,'Daily Snapshot'!$B:$D,3,FALSE),\"\")","v":""},25023.63,null,113,{"$f":"IFERROR(VLOOKUP(S136,Journal!$R:$AQ,26,FALSE),\"\")","v":""},{"$error":"#VALUE!"},{"$error":"#N/A"},"",{"$f":"IFERROR(VLOOKUP(S136,Journal!$R:$AV,32,FALSE),\"\")","v":""},null,null,"2020-06-04","Thursday",{"$f":"IFERROR(VLOOKUP(AA136, 'Daily Snapshot'!$B:$J,7,FALSE),\"\")","v":""},"","",null,null,133,{"$f":"IFERROR(VLOOKUP(AH136,Journal!$R:$S,2,FALSE),\"\")","v":""},0,0,null,null,null,null,null,null,null,133,"2020-07-03","Friday",{"$f":"IFERROR(COUNTIFS(Journal!$S:$S,\"W\",Journal!$B:$B,AT136)/VLOOKUP(AT136,G165:K429,5,FALSE),\"no trades\")","v":"no trades"},null,null,null,null,null,null,null,null,null,null,null,107,0,25025.38,{"$error":"#N/A"}]
[null,null,null,null,null,105,"2020-05-26",{"$f":"TEXT(G137,\"dddd\")","v":"Tuesday"},0,{"$error":"#N/A"},{"$f":"COUNTIFS(Journal!$S:$S,\"?\",Journal!$B:$B,$G137)","v":0},{"$f":"SUMIFS(Journal!$Q:$Q, Journal!$B:$B,$G137)","v":0},{"$f":"COUNTIF(Journal!$B:$B,$G137)","v":0},{"$f":"SUMIFS(Journal!$N:$N, Journal!$B:$B,$G137)","v":0},0,{"$f":"IFERROR(VLOOKUP(G137,'Daily Snapshot'!$B:$D,3,FALSE),\"\")","v":""},25023.63,null,114,{"$f":"IFERROR(VLOOKUP(S137,Journal!$R:$AQ,26,FALSE),\"\")","v":""},{"$error":"#VALUE!"},{"$error":"#N/A"},"",{"$f":"IFERROR(VLOOKUP(S137,Journal!$R:$AV,32,FALSE),\"\")","v":""},null,null,"2020-06-05","Friday",{"$f":"IFERROR(VLOOKUP(AA137, 'Daily Snapshot'!$B:$J,7,FALSE),\"\")","v":""},"","",null,null,134,{"$f":"IFERROR(VLOOKUP(AH137,Journal!$R:$S,2,FALSE),\"\")","v":""},0,0,null,null,null,null,null,null,null,134,"2020-07-06","Monday",{"$f":"IFERROR(COUNTIFS(Journal!$S:$S,\"W\",Journal!$B:$B,AT137)/VLOOKUP(AT137,G166:K430,5,FALSE),\"no trades\")","v":"no trades"},null,null,null,null,null,null,null,null,null,null,null,108,0,25025.38,{"$error":"#N/A"}]
[null,null,null,null,null,106,"2020-05-27",{"$f":"TEXT(G138,\"dddd\")","v":"Wednesday"},0,{"$error":"#N/A"},{"$f":"COUNTIFS(Journal!$S:$S,\"?\",Journal!$B:$B,$G138)","v":0},{"$f":"SUMIFS(Journal!$Q:$Q, Journal!$B:$B,$G138)","v":0},{"$f":"COUNTIF(Journal!$B:$B,$G138)","v":0},{"$f":"SUMIFS(Journal!$N:$N, Journal!$B:$B,$G138)","v":0},0,{"$f":"IFERROR(VLOOKUP(G138,'Daily Snapshot'!$B:$D,3,FALSE),\"\")","v":""},25023.63,null,115,{"$f":"IFERROR(VLOOKUP(S138,Journal!$R:$AQ,26,FALSE),\"\")","v":""},{"$error":"#VALUE!"},{"$error":"#N/A"},"",{"$f":"IFERROR(VLOOKUP(S138,Journal!$R:$AV,32,FALSE),\"\")","v":""},null,null,"2020-06-08","Monday",{"$f":"IFERROR(VLOOKUP(AA138, 'Daily Snapshot'!$B:$J,7,FALSE),\"\")","v":""},"","",null,null,135,{"$f":"IFERROR(VLOOKUP(AH138,Journal!$R:$S,2,FALSE),\"\")","v":""},0,0,null,null,null,null,null,null,null,135,"2020-07-07","Tuesday",{"$f":"IFERROR(COUNTIFS(Journal!$S:$S,\"W\",Journal!$B:$B,AT138)/VLOOKUP(AT138,G167:K431,5,FALSE),\"no trades\")","v":"no trades"},null,null,null,null,null,null,null,null,null,null,null,109,0,25025.38,{"$error":"#N/A"}]
[null,null,null,null,null,107,"2020-05-28",{"$f":"TEXT(G139,\"dddd\")","v":"Thursday"},0,{"$error":"#N/A"},{"$f":"COUNTIFS(Journal!$S:$S,\"?\",Journal!$B:$B,$G139)","v":0},{"$f":"SUMIFS(Journal!$Q:$Q, Journal!$B:$B,$G139)","v":0},{"$f":"COUNTIF(Journal!$B:$B,$G139)","v":0},{"$f":"SUMIFS(Journal!$N:$N, Journal!$B:$B,$G139)","v":0},0,{"$f":"IFERROR(VLOOKUP(G139,'Daily Snapshot'!$B:$D,3,FALSE),\"\")","v":""},25023.63,null,116,{"$f":"IFERROR(VLOOKUP(S139,Journal!$R:$AQ,26,FALSE),\"\")","v":""},{"$error":"#VALUE!"},{"$error":"#N/A"},"",{"$f":"IFERROR(VLOOKUP(S139,Journal!$R:$AV,32,FALSE),\"\")","v":""},null,null,"2020-06-09","Tuesday",{"$f":"IFERROR(VLOOKUP(AA139, 'Daily Snapshot'!$B:$J,7,FALSE),\"\")","v":""},"","",null,null,136,{"$f":"IFERROR(VLOOKUP(AH139,Journal!$R:$S,2,FALSE),\"\")","v":""},0,0,null,null,null,null,null,null,null,136,"2020-07-08","Wednesday",{"$f":"IFERROR(COUNTIFS(Journal!$S:$S,\"W\",Journal!$B:$B,AT139)/VLOOKUP(AT139,G168:K432,5,FALSE),\"no trades\")","v":"no trades"},null,null,null,null,null,null,null,null,null,null,null,110,0,25025.38,{"$error":"#N/A"}]
[null,null,null,null,null,108,"2020-05-29",{"$f":"TEXT(G140,\"dddd\")","v":"Friday"},0,{"$error":"#N/A"},{"$f":"COUNTIFS(Journal!$S:$S,\"?\",Journal!$B:$B,$G140)","v":0},{"$f":"SUMIFS(Journal!$Q:$Q, Journal!$B:$B,$G140)","v":0},{"$f":"COUNTIF(Journal!$B:$B,$G140)","v":0},{"$f":"SUMIFS(Journal!$N:$N, Journal!$B:$B,$G140)","v":0},0,{"$f":"IFERROR(VLOOKUP(G140,'Daily Snapshot'!$B:$D,3,FALSE),\"\")","v":""},25023.63,null,117,{"$f":"IFERROR(VLOOKUP(S140,Journal!$R:$AQ,26,FALSE),\"\")","v":""},{"$error":"#VALUE!"},{"$error":"#N/A"},"",{"$f":"IFERROR(VLOOKUP(S140,Journal!$R:$AV,32,FALSE),\"\")","v":""},null,null,"2020-06-10","Wednesday",{"$f":"IFERROR(VLOOKUP(AA140, 'Daily Snapshot'!$B:$J,7,FALSE),\"\")","v":""},"","",null,null,137,{"$f":"IFERROR(VLOOKUP(AH140,Journal!$R:$S,2,FALSE),\"\")","v":""},0,0,null,null,null,null,null,null,null,137,"2020-07-09","Thursday",{"$f":"IFERROR(COUNTIFS(Journal!$S:$S,\"W\",Journal!$B:$B,AT140)/VLOOKUP(AT140,G169:K433,5,FALSE),\"no trades\")","v":"no trades"},null,null,null,null,null,null,null,null,null,null,null,111,0,25025.38,{"$error":"#N/A"}]
[null,null,null,null,null,109,"2020-06-01",{"$f":"TEXT(G141,\"dddd\")","v":"Monday"},0,{"$error":"#N/A"},{"$f":"COUNTIFS(Journal!$S:$S,\"?\",Journal!$B:$B,$G141)","v":0},{"$f":"SUMIFS(Journal!$Q:$Q, Journal!$B:$B,$G141)","v":0},{"$f":"COUNTIF(Journal!$B:$B,$G141)","v":0},{"$f":"SUMIFS(Journal!$N:$N, Journal!$B:$B,$G141)","v":0},0,{"$f":"IFERROR(VLOOKUP(G141,'Daily Snapshot'!$B:$D,3,FALSE),\"\")","v":""},25023.63,null,118,{"$f":"IFERROR(VLOOKUP(S141,Journal!$R:$AQ,26,FALSE),\"\")","v":""},{"$error":"#VALUE!"},{"$error":"#N/A"},"",{"$f":"IFERROR(VLOOKUP(S141,Journal!$R:$AV,32,FALSE),\"\")","v":""},null,null,"2020-06-11","Thursday",{"$f":"IFERROR(VLOOKUP(AA141, 'Daily Snapshot'!$B:$J,7,FALSE),\"\")","v":""},"","",null,null,138,{"$f":"IFERROR(VLOOKUP(AH141,Journal!$R:$S,2,FALSE),\"\")","v":""},0,0,null,null,null,null,null,null,null,138,"2020-07-10","Friday",{"$f":"IFERROR(COUNTIFS(Journal!$S:$S,\"W\",Journal!$B:$B,AT141)/VLOOKUP(AT141,G170:K434,5,FALSE),\"no trades\")","v":"no trades"},null,null,null,null,null,null,null,null,null,null,null,112,0,25025.38,{"$error":"#N/A"}]
[null,null,null,null,null,110,"2020-06-02","Tuesday",0,{"$error":"#N/A"},{"$f":"COUNTIFS(Journal!$S:$S,\"?\",Journal!$B:$B,$G142)","v":0},{"$f":"SUMIFS(Journal!$Q:$Q, Journal!$B:$B,$G142)","v":0},{"$f":"COUNTIF(Journal!$B:$B,$G142)","v":0},{"$f":"SUMIFS(Journal!$N:$N, Journal!$B:$B,$G142)","v":0},0,{"$f":"IFERROR(VLOOKUP(G142,'Daily Snapshot'!$B:$D,3,FALSE),\"\")","v":""},25023.63,null,119,{"$f":"IFERROR(VLOOKUP(S142,Journal!$R:$AQ,26,FALSE),\"\")","v":""},{"$error":"#VALUE!"},{"$error":"#N/A"},"",{"$f":"IFERROR(VLOOKUP(S142,Journal!$R:$AV,32,FALSE),\"\")","v":""},null,null,"2020-06-12","Friday",{"$f":"IFERROR(VLOOKUP(AA142, 'Daily Snapshot'!$B:$J,7,FALSE),\"\")","v":""},"","",null,null,139,{"$f":"IFERROR(VLOOKUP(AH142,Journal!$R:$S,2,FALSE),\"\")","v":""},0,0,null,null,null,null,null,null,null,139,"2020-07-13","Monday",{"$f":"IFERROR(COUNTIFS(Journal!$S:$S,\"W\",Journal!$B:$B,AT142)/VLOOKUP(AT142,G171:K435,5,FALSE),\"no trades\")","v":"no trades"},null,null,null,null,null,null,null,null,null,null,null,113,0,25025.38,{"$error":"#N/A"}]
[null,null,null,null,null,111,"2020-06-03","Wednesday",0,{"$error":"#N/A"},{"$f":"COUNTIFS(Journal!$S:$S,\"?\",Journal!$B:$B,$G143)","v":0},{"$f":"SUMIFS(Journal!$Q:$Q, Journal!$B:$B,$G143)","v":0},{"$f":"COUNTIF(Journal!$B:$B,$G143)","v":0},{"$f":"SUMIFS(Journal!$N:$N, Journal!$B:$B,$G143)","v":0},0,{"$f":"IFERROR(VLOOKUP(G143,'Daily Snapshot'!$B:$D,3,FALSE),\"\")","v":""},25023.63,null,120,{"$f":"IFERROR(VLOOKUP(S143,Journal!$R:$AQ,26,FALSE),\"\")","v":""},{"$error":"#VALUE!"},{"$error":"#N/A"},"",{"$f":"IFERROR(VLOOKUP(S143,Journal!$R:$AV,32,FALSE),\"\")","v":""},null,null,"2020-06-15","Monday",{"$f":"IFERROR(VLOOKUP(AA143, 'Daily Snapshot'!$B:$J,7,FALSE),\"\")","v":""},"","",null,null,140,{"$f":"IFERROR(VLOOKUP(AH143,Journal!$R:$S,2,FALSE),\"\")","v":""},0,0,null,null,null,null,null,null,null,140,"2020-07-14","Tuesday",{"$f":"IFERROR(COUNTIFS(Journal!$S:$S,\"W\",Journal!$B:$B,AT143)/VLOOKUP(AT143,G172:K436,5,FALSE),\"no trades\")","v":"no trades"},null,null,null,null,null,null,null,null,null,null,null,114,0,25025.38,{"$error":"#N/A"}]
[null,null,null,null,null,112,"2020-06-04","Thursday",0,{"$error":"#N/A"},{"$f":"COUNTIFS(Journal!$S:$S,\"?\",Journal!$B:$B,$G144)","v":0},{"$f":"SUMIFS(Journal!$Q:$Q, Journal!$B:$B,$G144)","v":0},{"$f":"COUNTIF(Journal!$B:$B,$G144)","v":0},{"$f":"SUMIFS(Journal!$N:$N, Journal!$B:$B,$G144)","v":0},0,{"$f":"IFERROR(VLOOKUP(G144,'Daily Snapshot'!$B:$D,3,FALSE),\"\")","v":""},25023.63,null,121,{"$f":"IFERROR(VLOOKUP(S144,Journal!$R:$AQ,26,FALSE),\"\")","v":""},{"$error":"#VALUE!"},{"$error":"#N/A"},"",{"$f":"IFERROR(VLOOKUP(S144,Journal!$R:$AV,32,FALSE),\"\")","v":""},null,null,"2020-06-16","Tuesday",{"$f":"IFERROR(VLOOKUP(AA144, 'Daily Snapshot'!$B:$J,7,FALSE),\"\")","v":""},"","",null,null,141,{"$f":"IFERROR(VLOOKUP(AH144,Journal!$R:$S,2,FALSE),\"\")","v":""},0,0,null,null,null,null,null,null,null,141,"2020-07-15","Wednesday",{"$f":"IFERROR(COUNTIFS(Journal!$S:$S,\"W\",Journal!$B:$B,AT144)/VLOOKUP(AT144,G173:K437,5,FALSE),\"no trades\")","v":"no trades"},null,null,null,null,null,null,null,null,null,null,null,115,0,25025.38,{"$error":"#N/A"}]
[null,null,null,null,null,113,"2020-06-05","Friday",0,{"$error":"#N/A"},{"$f":"COUNTIFS(Journal!$S:$S,\"?\",Journal!$B:$B,$G145)","v":0},{"$f":"SUMIFS(Journal!$Q:$Q, Journal!$B:$B,$G145)","v":0},{"$f":"COUNTIF(Journal!$B:$B,$G145)","v":0},{"$f":"SUMIFS(Journal!$N:$N, Journal!$B:$B,$G145)","v":0},0,{"$f":"IFERROR(VLOOKUP(G145,'Daily Snapshot'!$B:$D,3,FALSE),\"\")","v":""},25023.63,null,122,{"$f":"IFERROR(VLOOKUP(S145,Journal!$R:$AQ,26,FALSE),\"\")","v":""},{"$error":"#VALUE!"},{"$error":"#N/A"},"",{"$f":"IFERROR(VLOOKUP(S145,Journal!$R:$AV,32,FALSE),\"\")","v":""},null,null,"2020-06-17","Wednesday",{"$f":"IFERROR(VLOOKUP(AA145, 'Daily Snapshot'!$B:$J,7,FALSE),\"\")","v":""},"","",null,null,142,{"$f":"IFERROR(VLOOKUP(AH145,Journal!$R:$S,2,FALSE),\"\")","v":""},0,0,null,null,null,null,null,null,null,142,"2020-07-16","Thursday",{"$f":"IFERROR(COUNTIFS(Journal!$S:$S,\"W\",Journal!$B:$B,AT145)/VLOOKUP(AT145,G174:K438,5,FALSE),\"no trades\")","v":"no trades"},null,null,null,null,null,null,null,null,null,null,null,116,0,25025.38,{"$error":"#N/A"}]
[null,null,null,null,null,114,"2020-06-08","Monday",0,{"$error":"#N/A"},{"$f":"COUNTIFS(Journal!$S:$S,\"?\",Journal!$B:$B,$G146)","v":0},{"$f":"SUMIFS(Journal!$Q:$Q, Journal!$B:$B,$G146)","v":0},{"$f":"COUNTIF(Journal!$B:$B,$G146)","v":0},{"$f":"SUMIFS(Journal!$N:$N, Journal!$B:$B,$G146)","v":0},0,{"$f":"IFERROR(VLOOKUP(G146,'Daily Snapshot'!$B:$D,3,FALSE),\"\")","v":""},25023.63,null,123,{"$f":"IFERROR(VLOOKUP(S146,Journal!$R:$AQ,26,FALSE),\"\")","v":""},{"$error":"#VALUE!"},{"$error":"#N/A"},"",{"$f":"IFERROR(VLOOKUP(S146,Journal!$R:$AV,32,FALSE),\"\")","v":""},null,null,"2020-06-18","Thursday",{"$f":"IFERROR(VLOOKUP(AA146, 'Daily Snapshot'!$B:$J,7,FALSE),\"\")","v":""},"","",null,null,143,{"$f":"IFERROR(VLOOKUP(AH146,Journal!$R:$S,2,FALSE),\"\")","v":""},0,0,null,null,null,null,null,null,null,143,"2020-07-17","Friday",{"$f":"IFERROR(COUNTIFS(Journal!$S:$S,\"W\",Journal!$B:$B,AT146)/VLOOKUP(AT146,G175:K439,5,FALSE),\"no trades\")","v":"no trades"},null,null,null,null,null,null,null,null,null,null,null,117,0,25025.38,{"$error":"#N/A"}]
[null,null,null,null,null,115,"2020-06-09","Tuesday",0,{"$error":"#N/A"},{"$f":"COUNTIFS(Journal!$S:$S,\"?\",Journal!$B:$B,$G147)","v":0},{"$f":"SUMIFS(Journal!$Q:$Q, Journal!$B:$B,$G147)","v":0},{"$f":"COUNTIF(Journal!$B:$B,$G147)","v":0},{"$f":"SUMIFS(Journal!$N:$N, Journal!$B:$B,$G147)","v":0},0,{"$f":"IFERROR(VLOOKUP(G147,'Daily Snapshot'!$B:$D,3,FALSE),\"\")","v":""},25023.63,null,124,{"$f":"IFERROR(VLOOKUP(S147,Journal!$R:$AQ,26,FALSE),\"\")","v":""},{"$error":"#VALUE!"},{"$error":"#N/A"},"",{"$f":"IFERROR(VLOOKUP(S147,Journal!$R:$AV,32,FALSE),\"\")","v":""},null,null,"2020-06-19","Friday",{"$f":"IFERROR(VLOOKUP(AA147, 'Daily Snapshot'!$B:$J,7,FALSE),\"\")","v":""},"","",null,null,144,{"$f":"IFERROR(VLOOKUP(AH147,Journal!$R:$S,2,FALSE),\"\")","v":""},0,0,null,null,null,null,null,null,null,144,"2020-07-20","Monday",{"$f":"IFERROR(COUNTIFS(Journal!$S:$S,\"W\",Journal!$B:$B,AT147)/VLOOKUP(AT147,G176:K440,5,FALSE),\"no trades\")","v":"no trades"},null,null,null,null,null,null,null,null,null,null,null,118,0,25025.38,{"$error":"#N/A"}]
[null,null,null,null,null,116,"2020-06-10","Wednesday",0,{"$error":"#N/A"},{"$f":"COUNTIFS(Journal!$S:$S,\"?\",Journal!$B:$B,$G148)","v":0},{"$f":"SUMIFS(Journal!$Q:$Q, Journal!$B:$B,$G148)","v":0},{"$f":"COUNTIF(Journal!$B:$B,$G148)","v":0},{"$f":"SUMIFS(Journal!$N:$N, Journal!$B:$B,$G148)","v":0},0,{"$f":"IFERROR(VLOOKUP(G148,'Daily Snapshot'!$B:$D,3,FALSE),\"\")","v":""},25023.63,null,125,{"$f":"IFERROR(VLOOKUP(S148,Journal!$R:$AQ,26,FALSE),\"\")","v":""},{"$error":"#VALUE!"},{"$error":"#N/A"},"",{"$f":"IFERROR(VLOOKUP(S148,Journal!$R:$AV,32,FALSE),\"\")","v":""},null,null,"2020-06-22","Monday",{"$f":"IFERROR(VLOOKUP(AA148, 'Daily Snapshot'!$B:$J,7,FALSE),\"\")","v":""},"","",null,null,145,{"$f":"IFERROR(VLOOKUP(AH148,Journal!$R:$S,2,FALSE),\"\")","v":""},0,0,null,null,null,null,null,null,null,145,"2020-07-21","Tuesday",{"$f":"IFERROR(COUNTIFS(Journal!$S:$S,\"W\",Journal!$B:$B,AT148)/VLOOKUP(AT148,G177:K441,5,FALSE),\"no trades\")","v":"no trades"},null,null,null,null,null,null,null,null,null,null,null,119,0,25025.38,{"$error":"#N/A"}]
[null,null,null,null,null,117,"2020-06-11","Thursday",0,{"$error":"#N/A"},{"$f":"COUNTIFS(Journal!$S:$S,\"?\",Journal!$B:$B,$G149)","v":0},{"$f":"SUMIFS(Journal!$Q:$Q, Journal!$B:$B,$G149)","v":0},{"$f":"COUNTIF(Journal!$B:$B,$G149)","v":0},{"$f":"SUMIFS(Journal!$N:$N, Journal!$B:$B,$G149)","v":0},0,{"$f":"IFERROR(VLOOKUP(G149,'Daily Snapshot'!$B:$D,3,FALSE),\"\")","v":""},25023.63,null,126,{"$f":"IFERROR(VLOOKUP(S149,Journal!$R:$AQ,26,FALSE),\"\")","v":""},{"$error":"#VALUE!"},{"$error":"#N/A"},"",{"$f":"IFERROR(VLOOKUP(S149,Journal!$R:$AV,32,FALSE),\"\")","v":""},null,null,"2020-06-23","Tuesday",{"$f":"IFERROR(VLOOKUP(AA149, 'Daily Snapshot'!$B:$J,7,FALSE),\"\")","v":""},"","",null,null,146,{"$f":"IFERROR(VLOOKUP(AH149,Journal!$R:$S,2,FALSE),\"\")","v":""},0,0,null,null,null,null,null,null,null,146,"2020-07-22","Wednesday",{"$f":"IFERROR(COUNTIFS(Journal!$S:$S,\"W\",Journal!$B:$B,AT149)/VLOOKUP(AT149,G178:K442,5,FALSE),\"no trades\")","v":"no trades"},null,null,null,null,null,null,null,null,null,null,null,120,0,25025.38,{"$error":"#N/A"}]
[null,null,null,null,null,118,"2020-06-12","Friday",0,{"$error":"#N/A"},{"$f":"COUNTIFS(Journal!$S:$S,\"?\",Journal!$B:$B,$G150)","v":0},{"$f":"SUMIFS(Journal!$Q:$Q, Journal!$B:$B,$G150)","v":0},{"$f":"COUNTIF(Journal!$B:$B,$G150)","v":0},{"$f":"SUMIFS(Journal!$N:$N, Journal!$B:$B,$G150)","v":0},0,{"$f":"IFERROR(VLOOKUP(G150,'Daily Snapshot'!$B:$D,3,FALSE),\"\")","v":""},25023.63,null,127,{"$f":"IFERROR(VLOOKUP(S150,Journal!$R:$AQ,26,FALSE),\"\")","v":""},{"$error":"#VALUE!"},{"$error":"#N/A"},"",{"$f":"IFERROR(VLOOKUP(S150,Journal!$R:$AV,32,FALSE),\"\")","v":""},null,null,"2020-06-24","Wednesday",{"$f":"IFERROR(VLOOKUP(AA150, 'Daily Snapshot'!$B:$J,7,FALSE),\"\")","v":""},"","",null,null,147,{"$f":"IFERROR(VLOOKUP(AH150,Journal!$R:$S,2,FALSE),\"\")","v":""},0,0,null,null,null,null,null,null,null,147,"2020-07-23","Thursday",{"$f":"IFERROR(COUNTIFS(Journal!$S:$S,\"W\",Journal!$B:$B,AT150)/VLOOKUP(AT150,G179:K443,5,FALSE),\"no trades\")","v":"no trades"},null,null,null,null,null,null,null,null,null,null,null,121,0,25025.38,{"$error":"#N/A"}]
[null,null,null,null,null,119,"2020-06-15","Monday",0,{"$error":"#N/A"},{"$f":"COUNTIFS(Journal!$S:$S,\"?\",Journal!$B:$B,$G151)","v":0},{"$f":"SUMIFS(Journal!$Q:$Q, Journal!$B:$B,$G151)","v":0},{"$f":"COUNTIF(Journal!$B:$B,$G151)","v":0},{"$f":"SUMIFS(Journal!$N:$N, Journal!$B:$B,$G151)","v":0},0,{"$f":"IFERROR(VLOOKUP(G151,'Daily Snapshot'!$B:$D,3,FALSE),\"\")","v":""},25023.63,null,128,{"$f":"IFERROR(VLOOKUP(S151,Journal!$R:$AQ,26,FALSE),\"\")","v":""},{"$error":"#VALUE!"},{"$error":"#N/A"},"",{"$f":"IFERROR(VLOOKUP(S151,Journal!$R:$AV,32,FALSE),\"\")","v":""},null,null,"2020-06-25","Thursday",{"$f":"IFERROR(VLOOKUP(AA151, 'Daily Snapshot'!$B:$J,7,FALSE),\"\")","v":""},"","",null,null,148,{"$f":"IFERROR(VLOOKUP(AH151,Journal!$R:$S,2,FALSE),\"\")","v":""},0,0,null,null,null,null,null,null,null,148,"2020-07-24","Friday",{"$f":"IFERROR(COUNTIFS(Journal!$S:$S,\"W\",Journal!$B:$B,AT151)/VLOOKUP(AT151,G180:K444,5,FALSE),\"no trades\")","v":"no trades"},null,null,null,null,null,null,null,null,null,null,null,122,0,25025.38,{"$error":"#N/A"}]
[null,null,null,null,null,120,"2020-06-16","Tuesday",0,{"$error":"#N/A"},{"$f":"COUNTIFS(Journal!$S:$S,\"?\",Journal!$B:$B,$G152)","v":0},{"$f":"SUMIFS(Journal!$Q:$Q, Journal!$B:$B,$G152)","v":0},{"$f":"COUNTIF(Journal!$B:$B,$G152)","v":0},{"$f":"SUMIFS(Journal!$N:$N, Journal!$B:$B,$G152)","v":0},0,{"$f":"IFERROR(VLOOKUP(G152,'Daily Snapshot'!$B:$D,3,FALSE),\"\")","v":""},25023.63,null,129,{"$f":"IFERROR(VLOOKUP(S152,Journal!$R:$AQ,26,FALSE),\"\")","v":""},{"$error":"#VALUE!"},{"$error":"#N/A"},"",{"$f":"IFERROR(VLOOKUP(S152,Journal!$R:$AV,32,FALSE),\"\")","v":""},null,null,"2020-06-26","Friday",{"$f":"IFERROR(VLOOKUP(AA152, 'Daily Snapshot'!$B:$J,7,FALSE),\"\")","v":""},"","",null,null,149,{"$f":"IFERROR(VLOOKUP(AH152,Journal!$R:$S,2,FALSE),\"\")","v":""},0,0,null,null,null,null,null,null,null,149,"2020-07-27","Monday",{"$f":"IFERROR(COUNTIFS(Journal!$S:$S,\"W\",Journal!$B:$B,AT152)/VLOOKUP(AT152,G181:K445,5,FALSE),\"no trades\")","v":"no trades"},null,null,null,null,null,null,null,null,null,null,null,123,0,25025.38,{"$error":"#N/A"}]
[null,null,null,null,null,121,"2020-06-17","Wednesday",0,{"$error":"#N/A"},{"$f":"COUNTIFS(Journal!$S:$S,\"?\",Journal!$B:$B,$G153)","v":0},{"$f":"SUMIFS(Journal!$Q:$Q, Journal!$B:$B,$G153)","v":0},{"$f":"COUNTIF(Journal!$B:$B,$G153)","v":0},{"$f":"SUMIFS(Journal!$N:$N, Journal!$B:$B,$G153)","v":0},0,{"$f":"IFERROR(VLOOKUP(G153,'Daily Snapshot'!$B:$D,3,FALSE),\"\")","v":""},25023.63,null,130,{"$f":"IFERROR(VLOOKUP(S153,Journal!$R:$AQ,26,FALSE),\"\")","v":""},{"$f":"T153+U152","v":{"$error":"#VALUE!"}},{"$error":"#N/A"},{"$f":"IFERROR(T153/$H$25,\"\")","v":""},{"$f":"IFERROR(VLOOKUP(S153,Journal!$R:$AV,32,FALSE),\"\")","v":""},null,null,"2020-06-29",{"$f":"TEXT(AA153,\"dddd\")","v":"Monday"},{"$f":"IFERROR(VLOOKUP(AA153, 'Daily Snapshot'!$B:$J,7,FALSE),\"\")","v":""},"","",null,null,150,{"$f":"IFERROR(VLOOKUP(AH153,Journal!$R:$S,2,FALSE),\"\")","v":""},0,0,null,null,null,null,null,null,null,150,"2020-07-28","Tuesday",{"$f":"IFERROR(COUNTIFS(Journal!$S:$S,\"W\",Journal!$B:$B,AT153)/VLOOKUP(AT153,G182:K446,5,FALSE),\"no trades\")","v":"no trades"},null,null,null,null,null,null,null,null,null,null,null,124,0,25025.38,{"$error":"#N/A"}]
[null,null,null,null,null,122,"2020-06-18","Thursday",0,{"$error":"#N/A"},{"$f":"COUNTIFS(Journal!$S:$S,\"?\",Journal!$B:$B,$G154)","v":0},{"$f":"SUMIFS(Journal!$Q:$Q, Journal!$B:$B,$G154)","v":0},{"$f":"COUNTIF(Journal!$B:$B,$G154)","v":0},{"$f":"SUMIFS(Journal!$N:$N, Journal!$B:$B,$G154)","v":0},0,{"$f":"IFERROR(VLOOKUP(G154,'Daily Snapshot'!$B:$D,3,FALSE),\"\")","v":""},25023.63,null,131,{"$f":"IFERROR(VLOOKUP(S154,Journal!$R:$AQ,26,FALSE),\"\")","v":""},{"$error":"#VALUE!"},{"$error":"#N/A"},"",{"$f":"IFERROR(VLOOKUP(S154,Journal!$R:$AV,32,FALSE),\"\")","v":""},null,null,{"$f":"G162","v":"2020-06-30"},"Tuesday",{"$f":"IFERROR(VLOOKUP(AA154, 'Daily Snapshot'!$B:$J,7,FALSE),\"\")","v":""},"","",null,null,151,{"$f":"IFERROR(VLOOKUP(AH154,Journal!$R:$S,2,FALSE),\"\")","v":""},0,0,null,null,null,null,null,null,null,151,"2020-07-29","Wednesday",{"$f":"IFERROR(COUNTIFS(Journal!$S:$S,\"W\",Journal!$B:$B,AT154)/VLOOKUP(AT154,G183:K447,5,FALSE),\"no trades\")","v":"no trades"},null,null,null,null,null,null,null,null,null,null,null,125,0,25025.38,{"$error":"#N/A"}]
[null,null,null,null,null,123,"2020-06-19","Friday",0,{"$error":"#N/A"},{"$f":"COUNTIFS(Journal!$S:$S,\"?\",Journal!$B:$B,$G155)","v":0},{"$f":"SUMIFS(Journal!$Q:$Q, Journal!$B:$B,$G155)","v":0},{"$f":"COUNTIF(Journal!$B:$B,$G155)","v":0},{"$f":"SUMIFS(Journal!$N:$N, Journal!$B:$B,$G155)","v":0},0,{"$f":"IFERROR(VLOOKUP(G155,'Daily Snapshot'!$B:$D,3,FALSE),\"\")","v":""},25023.63,null,132,{"$f":"IFERROR(VLOOKUP(S155,Journal!$R:$AQ,26,FALSE),\"\")","v":""},{"$error":"#VALUE!"},{"$error":"#N/A"},"",{"$f":"IFERROR(VLOOKUP(S155,Journal!$R:$AV,32,FALSE),\"\")","v":""},null,null,"2020-07-01","Wednesday",{"$f":"IFERROR(VLOOKUP(AA155, 'Daily Snapshot'!$B:$J,7,FALSE),\"\")","v":""},"","",null,null,152,{"$f":"IFERROR(VLOOKUP(AH155,Journal!$R:$S,2,FALSE),\"\")","v":""},0,0,null,null,null,null,null,null,null,152,"2020-07-30","Thursday",{"$f":"IFERROR(COUNTIFS(Journal!$S:$S,\"W\",Journal!$B:$B,AT155)/VLOOKUP(AT155,G184:K448,5,FALSE),\"no trades\")","v":"no trades"},null,null,null,null,null,null,null,null,null,null,null,126,0,25025.38,{"$error":"#N/A"}]
[null,null,null,null,null,124,"2020-06-22","Monday",0,{"$error":"#N/A"},{"$f":"COUNTIFS(Journal!$S:$S,\"?\",Journal!$B:$B,$G156)","v":0},{"$f":"SUMIFS(Journal!$Q:$Q, Journal!$B:$B,$G156)","v":0},{"$f":"COUNTIF(Journal!$B:$B,$G156)","v":0},{"$f":"SUMIFS(Journal!$N:$N, Journal!$B:$B,$G156)","v":0},0,{"$f":"IFERROR(VLOOKUP(G156,'Daily Snapshot'!$B:$D,3,FALSE),\"\")","v":""},25023.63,null,133,{"$f":"IFERROR(VLOOKUP(S156,Journal!$R:$AQ,26,FALSE),\"\")","v":""},{"$error":"#VALUE!"},{"$f":"IF(OR(T156=0,T156<$H$26,T156>$H$27),NA(),T156+U155)","v":{"$error":"#N/A"}},"",{"$f":"IFERROR(VLOOKUP(S156,Journal!$R:$AV,32,FALSE),\"\")","v":""},null,null,"2020-07-02","Thursday",{"$f":"IFERROR(VLOOKUP(AA156, 'Daily Snapshot'!$B:$J,7,FALSE),\"\")","v":""},"","",null,null,153,{"$f":"IFERROR(VLOOKUP(AH156,Journal!$R:$S,2,FALSE),\"\")","v":""},0,0,null,null,null,null,null,null,null,153,"2020-07-31","Friday",{"$f":"IFERROR(COUNTIFS(Journal!$S:$S,\"W\",Journal!$B:$B,AT156)/VLOOKUP(AT156,G185:K449,5,FALSE),\"no trades\")","v":"no trades"},null,null,null,null,null,null,null,null,null,null,null,127,0,25025.38,{"$error":"#N/A"}]
[null,null,null,null,null,125,"2020-06-23","Tuesday",0,{"$error":"#N/A"},{"$f":"COUNTIFS(Journal!$S:$S,\"?\",Journal!$B:$B,$G157)","v":0},{"$f":"SUMIFS(Journal!$Q:$Q, Journal!$B:$B,$G157)","v":0},{"$f":"COUNTIF(Journal!$B:$B,$G157)","v":0},{"$f":"SUMIFS(Journal!$N:$N, Journal!$B:$B,$G157)","v":0},0,{"$f":"IFERROR(VLOOKUP(G157,'Daily Snapshot'!$B:$D,3,FALSE),\"\")","v":""},25023.63,null,134,{"$f":"IFERROR(VLOOKUP(S157,Journal!$R:$AQ,26,FALSE),\"\")","v":""},{"$error":"#VALUE!"},{"$error":"#N/A"},"",{"$f":"IFERROR(VLOOKUP(S157,Journal!$R:$AV,32,FALSE),\"\")","v":""},null,null,"2020-07-03","Friday",{"$f":"IFERROR(VLOOKUP(AA157, 'Daily Snapshot'!$B:$J,7,FALSE),\"\")","v":""},"","",null,null,154,{"$f":"IFERROR(VLOOKUP(AH157,Journal!$R:$S,2,FALSE),\"\")","v":""},0,0,null,null,null,null,null,null,null,154,"2020-08-03","Monday",{"$f":"IFERROR(COUNTIFS(Journal!$S:$S,\"W\",Journal!$B:$B,AT157)/VLOOKUP(AT157,G186:K450,5,FALSE),\"no trades\")","v":"no trades"},null,null,null,null,null,null,null,null,null,null,null,128,0,25025.38,{"$error":"#N/A"}]
[null,null,null,null,null,126,"2020-06-24","Wednesday",0,{"$error":"#N/A"},{"$f":"COUNTIFS(Journal!$S:$S,\"?\",Journal!$B:$B,$G158)","v":0},{"$f":"SUMIFS(Journal!$Q:$Q, Journal!$B:$B,$G158)","v":0},{"$f":"COUNTIF(Journal!$B:$B,$G158)","v":0},{"$f":"SUMIFS(Journal!$N:$N, Journal!$B:$B,$G158)","v":0},0,{"$f":"IFERROR(VLOOKUP(G158,'Daily Snapshot'!$B:$D,3,FALSE),\"\")","v":""},25023.63,null,135,{"$f":"IFERROR(VLOOKUP(S158,Journal!$R:$AQ,26,FALSE),\"\")","v":""},{"$error":"#VALUE!"},{"$error":"#N/A"},"",{"$f":"IFERROR(VLOOKUP(S158,Journal!$R:$AV,32,FALSE),\"\")","v":""},null,null,"2020-07-06","Monday",{"$f":"IFERROR(VLOOKUP(AA158, 'Daily Snapshot'!$B:$J,7,FALSE),\"\")","v":""},"","",null,null,155,{"$f":"IFERROR(VLOOKUP(AH158,Journal!$R:$S,2,FALSE),\"\")","v":""},0,0,null,null,null,null,null,null,null,155,"2020-08-04","Tuesday",{"$f":"IFERROR(COUNTIFS(Journal!$S:$S,\"W\",Journal!$B:$B,AT158)/VLOOKUP(AT158,G187:K451,5,FALSE),\"no trades\")","v":"no trades"},null,null,null,null,null,null,null,null,null,null,null,129,0,25025.38,{"$error":"#N/A"}]
[null,null,null,null,null,127,"2020-06-25","Thursday",0,{"$error":"#N/A"},{"$f":"COUNTIFS(Journal!$S:$S,\"?\",Journal!$B:$B,$G159)","v":0},{"$f":"SUMIFS(Journal!$Q:$Q, Journal!$B:$B,$G159)","v":0},{"$f":"COUNTIF(Journal!$B:$B,$G159)","v":0},{"$f":"SUMIFS(Journal!$N:$N, Journal!$B:$B,$G159)","v":0},0,{"$f":"IFERROR(VLOOKUP(G159,'Daily Snapshot'!$B:$D,3,FALSE),\"\")","v":""},25023.63,null,136,{"$f":"IFERROR(VLOOKUP(S159,Journal!$R:$AQ,26,FALSE),\"\")","v":""},{"$error":"#VALUE!"},{"$error":"#N/A"},"",{"$f":"IFERROR(VLOOKUP(S159,Journal!$R:$AV,32,FALSE),\"\")","v":""},null,null,"2020-07-07","Tuesday",{"$f":"IFERROR(VLOOKUP(AA159, 'Daily Snapshot'!$B:$J,7,FALSE),\"\")","v":""},"","",null,null,156,{"$f":"IFERROR(VLOOKUP(AH159,Journal!$R:$S,2,FALSE),\"\")","v":""},0,0,null,null,null,null,null,null,null,156,"2020-08-05","Wednesday",{"$f":"IFERROR(COUNTIFS(Journal!$S:$S,\"W\",Journal!$B:$B,AT159)/VLOOKUP(AT159,G188:K452,5,FALSE),\"no trades\")","v":"no trades"},null,null,null,null,null,null,null,null,null,null,null,130,0,{"$f":"BI159+BJ158","v":25025.38},{"$error":"#N/A"}]
[null,null,null,null,null,128,"2020-06-26","Friday",0,{"$error":"#N/A"},{"$f":"COUNTIFS(Journal!$S:$S,\"?\",Journal!$B:$B,$G160)","v":0},{"$f":"SUMIFS(Journal!$Q:$Q, Journal!$B:$B,$G160)","v":0},{"$f":"COUNTIF(Journal!$B:$B,$G160)","v":0},{"$f":"SUMIFS(Journal!$N:$N, Journal!$B:$B,$G160)","v":0},0,{"$f":"IFERROR(VLOOKUP(G160,'Daily Snapshot'!$B:$D,3,FALSE),\"\")","v":""},25023.63,null,137,{"$f":"IFERROR(VLOOKUP(S160,Journal!$R:$AQ,26,FALSE),\"\")","v":""},{"$error":"#VALUE!"},{"$error":"#N/A"},"",{"$f":"IFERROR(VLOOKUP(S160,Journal!$R:$AV,32,FALSE),\"\")","v":""},null,null,"2020-07-08","Wednesday",{"$f":"IFERROR(VLOOKUP(AA160, 'Daily Snapshot'!$B:$J,7,FALSE),\"\")","v":""},{"$f":"IFERROR(AD159+AC160,\"\")","v":""},"",null,null,157,{"$f":"IFERROR(VLOOKUP(AH160,Journal!$R:$S,2,FALSE),\"\")","v":""},0,0,null,null,null,null,null,null,null,157,"2020-08-06","Thursday",{"$f":"IFERROR(COUNTIFS(Journal!$S:$S,\"W\",Journal!$B:$B,AT160)/VLOOKUP(AT160,G189:K453,5,FALSE),\"no trades\")","v":"no trades"},null,null,null,null,null,null,null,null,null,null,null,131,{"$f":"N163","v":0},25025.38,{"$error":"#N/A"}]
[null,null,null,null,null,129,"2020-06-29",{"$f":"TEXT(G161,\"dddd\")","v":"Monday"},{"$f":"(N161-L161)","v":0},{"$error":"#N/A"},{"$f":"COUNTIFS(Journal!$S:$S,\"?\",Journal!$B:$B,$G161)","v":0},{"$f":"SUMIFS(Journal!$Q:$Q, Journal!$B:$B,$G161)","v":0},{"$f":"COUNTIF(Journal!$B:$B,$G161)","v":0},{"$f":"SUMIFS(Journal!$N:$N, Journal!$B:$B,$G161)","v":0},0,{"$f":"IFERROR(VLOOKUP(G161,'Daily Snapshot'!$B:$D,3,FALSE),\"\")","v":""},25023.63,null,138,{"$f":"IFERROR(VLOOKUP(S161,Journal!$R:$AQ,26,FALSE),\"\")","v":""},{"$error":"#VALUE!"},{"$error":"#N/A"},"",{"$f":"IFERROR(VLOOKUP(S161,Journal!$R:$AV,32,FALSE),\"\")","v":""},null,null,"2020-07-09","Thursday",{"$f":"IFERROR(VLOOKUP(AA161, 'Daily Snapshot'!$B:$J,7,FALSE),\"\")","v":""},"",{"$f":"IFERROR(AD161/$AD160-1,\"\")","v":""},null,null,158,{"$f":"IFERROR(VLOOKUP(AH161,Journal!$R:$S,2,FALSE),\"\")","v":""},0,0,null,null,null,null,null,null,null,158,"2020-08-07","Friday",{"$f":"IFERROR(COUNTIFS(Journal!$S:$S,\"W\",Journal!$B:$B,AT161)/VLOOKUP(AT161,G190:K454,5,FALSE),\"no trades\")","v":"no trades"},null,null,null,null,null,null,null,null,null,null,null,132,0,25025.38,{"$error":"#N/A"}]
[null,null,null,null,null,130,"2020-06-30","Tuesday",0,{"$error":"#N/A"},{"$f":"COUNTIFS(Journal!$S:$S,\"?\",Journal!$B:$B,$G162)","v":0},{"$f":"SUMIFS(Journal!$Q:$Q, Journal!$B:$B,$G162)","v":0},{"$f":"COUNTIF(Journal!$B:$B,$G162)","v":0},{"$f":"SUMIFS(Journal!$N:$N, Journal!$B:$B,$G162)","v":0},0,{"$f":"IFERROR(VLOOKUP(G162,'Daily Snapshot'!$B:$D,3,FALSE),\"\")","v":""},25023.63,null,139,{"$f":"IFERROR(VLOOKUP(S162,Journal!$R:$AQ,26,FALSE),\"\")","v":""},{"$error":"#VALUE!"},{"$error":"#N/A"},"",{"$f":"IFERROR(VLOOKUP(S162,Journal!$R:$AV,32,FALSE),\"\")","v":""},null,null,"2020-07-10","Friday",{"$f":"IFERROR(VLOOKUP(AA162, 'Daily Snapshot'!$B:$J,7,FALSE),\"\")","v":""},"","",null,null,159,{"$f":"IFERROR(VLOOKUP(AH162,Journal!$R:$S,2,FALSE),\"\")","v":""},0,0,null,null,null,null,null,null,null,159,"2020-08-10","Monday",{"$f":"IFERROR(COUNTIFS(Journal!$S:$S,\"W\",Journal!$B:$B,AT162)/VLOOKUP(AT162,G191:K455,5,FALSE),\"no trades\")","v":"no trades"},null,null,null,null,null,null,null,null,null,null,null,133,0,25025.38,{"$f":"IF(OR(BI162=0,BI162<$H$26,BI162>$H$27),NA(),BI162+BJ161)","v":{"$error":"#N/A"}}]
[null,null,null,null,null,131,"2020-07-01","Wednesday",0,{"$error":"#N/A"},{"$f":"COUNTIFS(Journal!$S:$S,\"?\",Journal!$B:$B,$G163)","v":0},{"$f":"SUMIFS(Journal!$Q:$Q, Journal!$B:$B,$G163)","v":0},{"$f":"COUNTIF(Journal!$B:$B,$G163)","v":0},{"$f":"SUMIFS(Journal!$N:$N, Journal!$B:$B,$G163)","v":0},0,{"$f":"IFERROR(VLOOKUP(G163,'Daily Snapshot'!$B:$D,3,FALSE),\"\")","v":""},25023.63,null,140,{"$f":"IFERROR(VLOOKUP(S163,Journal!$R:$AQ,26,FALSE),\"\")","v":""},{"$error":"#VALUE!"},{"$error":"#N/A"},"",{"$f":"IFERROR(VLOOKUP(S163,Journal!$R:$AV,32,FALSE),\"\")","v":""},null,null,"2020-07-13","Monday",{"$f":"IFERROR(VLOOKUP(AA163, 'Daily Snapshot'!$B:$J,7,FALSE),\"\")","v":""},"","",null,null,160,{"$f":"IFERROR(VLOOKUP(AH163,Journal!$R:$S,2,FALSE),\"\")","v":""},0,0,null,null,null,null,null,null,null,160,"2020-08-11","Tuesday",{"$f":"IFERROR(COUNTIFS(Journal!$S:$S,\"W\",Journal!$B:$B,AT163)/VLOOKUP(AT163,G192:K456,5,FALSE),\"no trades\")","v":"no trades"},null,null,null,null,null,null,null,null,null,null,null,134,0,25025.38,{"$error":"#N/A"}]
[null,null,null,null,null,132,"2020-07-02","Thursday",0,{"$error":"#N/A"},{"$f":"COUNTIFS(Journal!$S:$S,\"?\",Journal!$B:$B,$G164)","v":0},{"$f":"SUMIFS(Journal!$Q:$Q, Journal!$B:$B,$G164)","v":0},{"$f":"COUNTIF(Journal!$B:$B,$G164)","v":0},{"$f":"SUMIFS(Journal!$N:$N, Journal!$B:$B,$G164)","v":0},0,{"$f":"IFERROR(VLOOKUP(G164,'Daily Snapshot'!$B:$D,3,FALSE),\"\")","v":""},25023.63,null,141,{"$f":"IFERROR(VLOOKUP(S164,Journal!$R:$AQ,26,FALSE),\"\")","v":""},{"$error":"#VALUE!"},{"$error":"#N/A"},"",{"$f":"IFERROR(VLOOKUP(S164,Journal!$R:$AV,32,FALSE),\"\")","v":""},null,null,"2020-07-14","Tuesday",{"$f":"IFERROR(VLOOKUP(AA164, 'Daily Snapshot'!$B:$J,7,FALSE),\"\")","v":""},"","",null,null,161,{"$f":"IFERROR(VLOOKUP(AH164,Journal!$R:$S,2,FALSE),\"\")","v":""},0,0,null,null,null,null,null,null,null,161,"2020-08-12","Wednesday",{"$f":"IFERROR(COUNTIFS(Journal!$S:$S,\"W\",Journal!$B:$B,AT164)/VLOOKUP(AT164,G193:K457,5,FALSE),\"no trades\")","v":"no trades"},null,null,null,null,null,null,null,null,null,null,null,135,0,25025.38,{"$error":"#N/A"}]
[null,null,null,null,null,133,"2020-07-03","Friday",0,{"$error":"#N/A"},{"$f":"COUNTIFS(Journal!$S:$S,\"?\",Journal!$B:$B,$G165)","v":0},{"$f":"SUMIFS(Journal!$Q:$Q, Journal!$B:$B,$G165)","v":0},{"$f":"COUNTIF(Journal!$B:$B,$G165)","v":0},{"$f":"SUMIFS(Journal!$N:$N, Journal!$B:$B,$G165)","v":0},0,{"$f":"IFERROR(VLOOKUP(G165,'Daily Snapshot'!$B:$D,3,FALSE),\"\")","v":""},25023.63,null,142,{"$f":"IFERROR(VLOOKUP(S165,Journal!$R:$AQ,26,FALSE),\"\")","v":""},{"$error":"#VALUE!"},{"$error":"#N/A"},"",{"$f":"IFERROR(VLOOKUP(S165,Journal!$R:$AV,32,FALSE),\"\")","v":""},null,null,"2020-07-15","Wednesday",{"$f":"IFERROR(VLOOKUP(AA165, 'Daily Snapshot'!$B:$J,7,FALSE),\"\")","v":""},"","",null,null,162,{"$f":"IFERROR(VLOOKUP(AH165,Journal!$R:$S,2,FALSE),\"\")","v":""},0,0,null,null,null,null,null,null,null,162,"2020-08-13","Thursday",{"$f":"IFERROR(COUNTIFS(Journal!$S:$S,\"W\",Journal!$B:$B,AT165)/VLOOKUP(AT165,G194:K458,5,FALSE),\"no trades\")","v":"no trades"},null,null,null,null,null,null,null,null,null,null,null,136,0,25025.38,{"$error":"#N/A"}]
[null,null,null,null,null,134,"2020-07-06","Monday",0,{"$error":"#N/A"},{"$f":"COUNTIFS(Journal!$S:$S,\"?\",Journal!$B:$B,$G166)","v":0},{"$f":"SUMIFS(Journal!$Q:$Q, Journal!$B:$B,$G166)","v":0},{"$f":"COUNTIF(Journal!$B:$B,$G166)","v":0},{"$f":"SUMIFS(Journal!$N:$N, Journal!$B:$B,$G166)","v":0},0,{"$f":"IFERROR(VLOOKUP(G166,'Daily Snapshot'!$B:$D,3,FALSE),\"\")","v":""},{"$f":"Q165+I166","v":25023.63},null,143,{"$f":"IFERROR(VLOOKUP(S166,Journal!$R:$AQ,26,FALSE),\"\")","v":""},{"$error":"#VALUE!"},{"$error":"#N/A"},"",{"$f":"IFERROR(VLOOKUP(S166,Journal!$R:$AV,32,FALSE),\"\")","v":""},null,null,"2020-07-16","Thursday",{"$f":"IFERROR(VLOOKUP(AA166, 'Daily Snapshot'!$B:$J,7,FALSE),\"\")","v":""},"","",null,null,163,{"$f":"IFERROR(VLOOKUP(AH166,Journal!$R:$S,2,FALSE),\"\")","v":""},0,0,null,null,null,null,null,null,null,163,"2020-08-14","Friday",{"$f":"IFERROR(COUNTIFS(Journal!$S:$S,\"W\",Journal!$B:$B,AT166)/VLOOKUP(AT166,G195:K459,5,FALSE),\"no trades\")","v":"no trades"},null,null,null,null,null,null,null,null,null,null,null,137,0,25025.38,{"$error":"#N/A"}]
[null,null,null,null,null,135,"2020-07-07","Tuesday",0,{"$error":"#N/A"},{"$f":"COUNTIFS(Journal!$S:$S,\"?\",Journal!$B:$B,$G167)","v":0},{"$f":"SUMIFS(Journal!$Q:$Q, Journal!$B:$B,$G167)","v":0},{"$f":"COUNTIF(Journal!$B:$B,$G167)","v":0},{"$f":"SUMIFS(Journal!$N:$N, Journal!$B:$B,$G167)","v":0},0,{"$f":"IFERROR(VLOOKUP(G167,'Daily Snapshot'!$B:$D,3,FALSE),\"\")","v":""},25023.63,null,144,{"$f":"IFERROR(VLOOKUP(S167,Journal!$R:$AQ,26,FALSE),\"\")","v":""},{"$error":"#VALUE!"},{"$error":"#N/A"},"",{"$f":"IFERROR(VLOOKUP(S167,Journal!$R:$AV,32,FALSE),\"\")","v":""},null,null,"2020-07-17","Friday",{"$f":"IFERROR(VLOOKUP(AA167, 'Daily Snapshot'!$B:$J,7,FALSE),\"\")","v":""},"","",null,null,164,{"$f":"IFERROR(VLOOKUP(AH167,Journal!$R:$S,2,FALSE),\"\")","v":""},0,0,null,null,null,null,null,null,null,164,"2020-08-17","Monday",{"$f":"IFERROR(COUNTIFS(Journal!$S:$S,\"W\",Journal!$B:$B,AT167)/VLOOKUP(AT167,G196:K460,5,FALSE),\"no trades\")","v":"no trades"},null,null,null,null,null,null,null,null,null,null,null,138,0,25025.38,{"$error":"#N/A"}]
[null,null,null,null,null,136,"2020-07-08","Wednesday",{"$f":"(N168-L168)","v":0},{"$error":"#N/A"},{"$f":"COUNTIFS(Journal!$S:$S,\"?\",Journal!$B:$B,$G168)","v":0},{"$f":"SUMIFS(Journal!$Q:$Q, Journal!$B:$B,$G168)","v":0},{"$f":"COUNTIF(Journal!$B:$B,$G168)","v":0},{"$f":"SUMIFS(Journal!$N:$N, Journal!$B:$B,$G168)","v":0},0,{"$f":"IFERROR(VLOOKUP(G168,'Daily Snapshot'!$B:$D,3,FALSE),\"\")","v":""},25023.63,null,145,{"$f":"IFERROR(VLOOKUP(S168,Journal!$R:$AQ,26,FALSE),\"\")","v":""},{"$error":"#VALUE!"},{"$error":"#N/A"},"",{"$f":"IFERROR(VLOOKUP(S168,Journal!$R:$AV,32,FALSE),\"\")","v":""},null,null,"2020-07-20","Monday",{"$f":"IFERROR(VLOOKUP(AA168, 'Daily Snapshot'!$B:$J,7,FALSE),\"\")","v":""},"","",null,null,165,{"$f":"IFERROR(VLOOKUP(AH168,Journal!$R:$S,2,FALSE),\"\")","v":""},0,0,null,null,null,null,null,null,null,165,"2020-08-18","Tuesday",{"$f":"IFERROR(COUNTIFS(Journal!$S:$S,\"W\",Journal!$B:$B,AT168)/VLOOKUP(AT168,G197:K461,5,FALSE),\"no trades\")","v":"no trades"},null,null,null,null,null,null,null,null,null,null,null,139,0,25025.38,{"$error":"#N/A"}]
[null,null,null,null,null,137,"2020-07-09","Thursday",{"$f":"(N169-L169)","v":0},{"$error":"#N/A"},{"$f":"COUNTIFS(Journal!$S:$S,\"?\",Journal!$B:$B,$G169)","v":0},{"$f":"SUMIFS(Journal!$Q:$Q, Journal!$B:$B,$G169)","v":0},{"$f":"COUNTIF(Journal!$B:$B,$G169)","v":0},{"$f":"SUMIFS(Journal!$N:$N, Journal!$B:$B,$G169)","v":0},0,{"$f":"IFERROR(VLOOKUP(G169,'Daily Snapshot'!$B:$D,3,FALSE),\"\")","v":""},25023.63,null,146,{"$f":"IFERROR(VLOOKUP(S169,Journal!$R:$AQ,26,FALSE),\"\")","v":""},{"$error":"#VALUE!"},{"$error":"#N/A"},"",{"$f":"IFERROR(VLOOKUP(S169,Journal!$R:$AV,32,FALSE),\"\")","v":""},null,null,"2020-07-21","Tuesday",{"$f":"IFERROR(VLOOKUP(AA169, 'Daily Snapshot'!$B:$J,7,FALSE),\"\")","v":""},"","",null,null,166,{"$f":"IFERROR(VLOOKUP(AH169,Journal!$R:$S,2,FALSE),\"\")","v":""},0,0,null,null,null,null,null,null,null,166,"2020-08-19","Wednesday",{"$f":"IFERROR(COUNTIFS(Journal!$S:$S,\"W\",Journal!$B:$B,AT169)/VLOOKUP(AT169,G198:K462,5,FALSE),\"no trades\")","v":"no trades"},null,null,null,null,null,null,null,null,null,null,null,140,0,25025.38,{"$error":"#N/A"}]
[null,null,null,null,null,138,"2020-07-10","Friday",{"$f":"(N170-L170)","v":0},{"$error":"#N/A"},{"$f":"COUNTIFS(Journal!$S:$S,\"?\",Journal!$B:$B,$G170)","v":0},{"$f":"SUMIFS(Journal!$Q:$Q, Journal!$B:$B,$G170)","v":0},{"$f":"COUNTIF(Journal!$B:$B,$G170)","v":0},{"$f":"SUMIFS(Journal!$N:$N, Journal!$B:$B,$G170)","v":0},0,{"$f":"IFERROR(VLOOKUP(G170,'Daily Snapshot'!$B:$D,3,FALSE),\"\")","v":""},25023.63,null,147,{"$f":"IFERROR(VLOOKUP(S170,Journal!$R:$AQ,26,FALSE),\"\")","v":""},{"$error":"#VALUE!"},{"$error":"#N/A"},"",{"$f":"IFERROR(VLOOKUP(S170,Journal!$R:$AV,32,FALSE),\"\")","v":""},null,null,"2020-07-22","Wednesday",{"$f":"IFERROR(VLOOKUP(AA170, 'Daily Snapshot'!$B:$J,7,FALSE),\"\")","v":""},"","",null,null,167,{"$f":"IFERROR(VLOOKUP(AH170,Journal!$R:$S,2,FALSE),\"\")","v":""},0,0,null,null,null,null,null,null,null,167,"2020-08-20","Thursday",{"$f":"IFERROR(COUNTIFS(Journal!$S:$S,\"W\",Journal!$B:$B,AT170)/VLOOKUP(AT170,G199:K463,5,FALSE),\"no trades\")","v":"no trades"},null,null,null,null,null,null,null,null,null,null,null,141,0,25025.38,{"$error":"#N/A"}]
[null,null,null,null,null,139,"2020-07-13","Monday",{"$f":"(N171-L171)","v":0},{"$error":"#N/A"},{"$f":"COUNTIFS(Journal!$S:$S,\"?\",Journal!$B:$B,$G171)","v":0},{"$f":"SUMIFS(Journal!$Q:$Q, Journal!$B:$B,$G171)","v":0},{"$f":"COUNTIF(Journal!$B:$B,$G171)","v":0},{"$f":"SUMIFS(Journal!$N:$N, Journal!$B:$B,$G171)","v":0},0,{"$f":"IFERROR(VLOOKUP(G171,'Daily Snapshot'!$B:$D,3,FALSE),\"\")","v":""},25023.63,null,148,{"$f":"IFERROR(VLOOKUP(S171,Journal!$R:$AQ,26,FALSE),\"\")","v":""},{"$error":"#VALUE!"},{"$error":"#N/A"},"",{"$f":"IFERROR(VLOOKUP(S171,Journal!$R:$AV,32,FALSE),\"\")","v":""},null,null,"2020-07-23","Thursday",{"$f":"IFERROR(VLOOKUP(AA171, 'Daily Snapshot'!$B:$J,7,FALSE),\"\")","v":""},"","",null,null,168,{"$f":"IFERROR(VLOOKUP(AH171,Journal!$R:$S,2,FALSE),\"\")","v":""},0,0,null,null,null,null,null,null,null,168,"2020-08-21","Friday",{"$f":"IFERROR(COUNTIFS(Journal!$S:$S,\"W\",Journal!$B:$B,AT171)/VLOOKUP(AT171,G200:K464,5,FALSE),\"no trades\")","v":"no trades"},null,null,null,null,null,null,null,null,null,null,null,142,0,25025.38,{"$error":"#N/A"}]
[null,null,null,null,null,140,"2020-07-14","Tuesday",{"$f":"(N172-L172)","v":0},{"$error":"#N/A"},{"$f":"COUNTIFS(Journal!$S:$S,\"?\",Journal!$B:$B,$G172)","v":0},{"$f":"SUMIFS(Journal!$Q:$Q, Journal!$B:$B,$G172)","v":0},{"$f":"COUNTIF(Journal!$B:$B,$G172)","v":0},{"$f":"SUMIFS(Journal!$N:$N, Journal!$B:$B,$G172)","v":0},0,{"$f":"IFERROR(VLOOKUP(G172,'Daily Snapshot'!$B:$D,3,FALSE),\"\")","v":""},25023.63,null,149,{"$f":"IFERROR(VLOOKUP(S172,Journal!$R:$AQ,26,FALSE),\"\")","v":""},{"$error":"#VALUE!"},{"$error":"#N/A"},"",{"$f":"IFERROR(VLOOKUP(S172,Journal!$R:$AV,32,FALSE),\"\")","v":""},null,null,"2020-07-24","Friday",{"$f":"IFERROR(VLOOKUP(AA172, 'Daily Snapshot'!$B:$J,7,FALSE),\"\")","v":""},"","",null,null,169,{"$f":"IFERROR(VLOOKUP(AH172,Journal!$R:$S,2,FALSE),\"\")","v":""},0,0,null,null,null,null,null,null,null,169,"2020-08-24","Monday",{"$f":"IFERROR(COUNTIFS(Journal!$S:$S,\"W\",Journal!$B:$B,AT172)/VLOOKUP(AT172,G201:K465,5,FALSE),\"no trades\")","v":"no trades"},null,null,null,null,null,null,null,null,null,null,null,143,0,25025.38,{"$error":"#N/A"}]
[null,null,null,null,null,141,"2020-07-15","Wednesday",{"$f":"(N173-L173)","v":0},{"$error":"#N/A"},{"$f":"COUNTIFS(Journal!$S:$S,\"?\",Journal!$B:$B,$G173)","v":0},{"$f":"SUMIFS(Journal!$Q:$Q, Journal!$B:$B,$G173)","v":0},{"$f":"COUNTIF(Journal!$B:$B,$G173)","v":0},{"$f":"SUMIFS(Journal!$N:$N, Journal!$B:$B,$G173)","v":0},0,{"$f":"IFERROR(VLOOKUP(G173,'Daily Snapshot'!$B:$D,3,FALSE),\"\")","v":""},25023.63,null,150,{"$f":"IFERROR(VLOOKUP(S173,Journal!$R:$AQ,26,FALSE),\"\")","v":""},{"$error":"#VALUE!"},{"$error":"#N/A"},"",{"$f":"IFERROR(VLOOKUP(S173,Journal!$R:$AV,32,FALSE),\"\")","v":""},null,null,"2020-07-27","Monday",{"$f":"IFERROR(VLOOKUP(AA173, 'Daily Snapshot'!$B:$J,7,FALSE),\"\")","v":""},"","",null,null,170,{"$f":"IFERROR(VLOOKUP(AH173,Journal!$R:$S,2,FALSE),\"\")","v":""},0,0,null,null,null,null,null,null,null,170,"2020-08-25","Tuesday",{"$f":"IFERROR(COUNTIFS(Journal!$S:$S,\"W\",Journal!$B:$B,AT173)/VLOOKUP(AT173,G202:K466,5,FALSE),\"no trades\")","v":"no trades"},null,null,null,null,null,null,null,null,null,null,null,144,0,25025.38,{"$error":"#N/A"}]
[null,null,null,null,null,142,"2020-07-16","Thursday",0,{"$f":"IF(OR(I174<$H$26,I174>$H$27,I174=0),NA(),I174)","v":{"$error":"#N/A"}},{"$f":"COUNTIFS(Journal!$S:$S,\"?\",Journal!$B:$B,$G174)","v":0},{"$f":"SUMIFS(Journal!$Q:$Q, Journal!$B:$B,$G174)","v":0},{"$f":"COUNTIF(Journal!$B:$B,$G174)","v":0},{"$f":"SUMIFS(Journal!$N:$N, Journal!$B:$B,$G174)","v":0},0,{"$f":"IFERROR(VLOOKUP(G174,'Daily Snapshot'!$B:$D,3,FALSE),\"\")","v":""},25023.63,null,151,{"$f":"IFERROR(VLOOKUP(S174,Journal!$R:$AQ,26,FALSE),\"\")","v":""},{"$error":"#VALUE!"},{"$error":"#N/A"},"",{"$f":"IFERROR(VLOOKUP(S174,Journal!$R:$AV,32,FALSE),\"\")","v":""},null,null,"2020-07-28","Tuesday",{"$f":"IFERROR(VLOOKUP(AA174, 'Daily Snapshot'!$B:$J,7,FALSE),\"\")","v":""},"","",null,null,171,{"$f":"IFERROR(VLOOKUP(AH174,Journal!$R:$S,2,FALSE),\"\")","v":""},0,0,null,null,null,null,null,null,null,171,"2020-08-26","Wednesday",{"$f":"IFERROR(COUNTIFS(Journal!$S:$S,\"W\",Journal!$B:$B,AT174)/VLOOKUP(AT174,G203:K467,5,FALSE),\"no trades\")","v":"no trades"},null,null,null,null,null,null,null,null,null,null,null,145,0,25025.38,{"$error":"#N/A"}]
[null,null,null,null,null,143,"2020-07-17","Friday",0,{"$f":"IF(OR(I175<$H$26,I175>$H$27,I175=0),NA(),I175)","v":{"$error":"#N/A"}},{"$f":"COUNTIFS(Journal!$S:$S,\"?\",Journal!$B:$B,$G175)","v":0},{"$f":"SUMIFS(Journal!$Q:$Q, Journal!$B:$B,$G175)","v":0},{"$f":"COUNTIF(Journal!$B:$B,$G175)","v":0},{"$f":"SUMIFS(Journal!$N:$N, Journal!$B:$B,$G175)","v":0},0,{"$f":"IFERROR(VLOOKUP(G175,'Daily Snapshot'!$B:$D,3,FALSE),\"\")","v":""},25023.63,null,152,{"$f":"IFERROR(VLOOKUP(S175,Journal!$R:$AQ,26,FALSE),\"\")","v":""},{"$f":"T175+U174","v":{"$error":"#VALUE!"}},{"$f":"IF(OR(T175=0,T175<$H$26,T175>$H$27),NA(),T175+U174)","v":{"$error":"#N/A"}},"",{"$f":"IFERROR(VLOOKUP(S175,Journal!$R:$AV,32,FALSE),\"\")","v":""},null,null,"2020-07-29","Wednesday",{"$f":"IFERROR(VLOOKUP(AA175, 'Daily Snapshot'!$B:$J,7,FALSE),\"\")","v":""},"","",null,null,172,{"$f":"IFERROR(VLOOKUP(AH175,Journal!$R:$S,2,FALSE),\"\")","v":""},0,0,null,null,null,null,null,null,null,172,"2020-08-27","Thursday",{"$f":"IFERROR(COUNTIFS(Journal!$S:$S,\"W\",Journal!$B:$B,AT175)/VLOOKUP(AT175,G204:K468,5,FALSE),\"no trades\")","v":"no trades"},null,null,null,null,null,null,null,null,null,null,null,146,0,25025.38,{"$error":"#N/A"}]
[null,null,null,null,null,144,"2020-07-20","Monday",0,{"$f":"IF(OR(I176<$H$26,I176>$H$27,I176=0),NA(),I176)","v":{"$error":"#N/A"}},{"$f":"COUNTIFS(Journal!$S:$S,\"?\",Journal!$B:$B,$G176)","v":0},{"$f":"SUMIFS(Journal!$Q:$Q, Journal!$B:$B,$G176)","v":0},{"$f":"COUNTIF(Journal!$B:$B,$G176)","v":0},{"$f":"SUMIFS(Journal!$N:$N, Journal!$B:$B,$G176)","v":0},0,{"$f":"IFERROR(VLOOKUP(G176,'Daily Snapshot'!$B:$D,3,FALSE),\"\")","v":""},25023.63,null,153,{"$f":"IFERROR(VLOOKUP(S176,Journal!$R:$AQ,26,FALSE),\"\")","v":""},{"$error":"#VALUE!"},{"$error":"#N/A"},"",{"$f":"IFERROR(VLOOKUP(S176,Journal!$R:$AV,32,FALSE),\"\")","v":""},null,null,"2020-07-30","Thursday",{"$f":"IFERROR(VLOOKUP(AA176, 'Daily Snapshot'!$B:$J,7,FALSE),\"\")","v":""},"","",null,null,173,{"$f":"IFERROR(VLOOKUP(AH176,Journal!$R:$S,2,FALSE),\"\")","v":""},0,0,null,null,null,null,null,null,null,173,"2020-08-28","Friday",{"$f":"IFERROR(COUNTIFS(Journal!$S:$S,\"W\",Journal!$B:$B,AT176)/VLOOKUP(AT176,G205:K469,5,FALSE),\"no trades\")","v":"no trades"},null,null,null,null,null,null,null,null,null,null,null,147,0,25025.38,{"$error":"#N/A"}]
[null,null,null,null,null,145,"2020-07-21","Tuesday",0,{"$f":"IF(OR(I177<$H$26,I177>$H$27,I177=0),NA(),I177)","v":{"$error":"#N/A"}},{"$f":"COUNTIFS(Journal!$S:$S,\"?\",Journal!$B:$B,$G177)","v":0},{"$f":"SUMIFS(Journal!$Q:$Q, Journal!$B:$B,$G177)","v":0},{"$f":"COUNTIF(Journal!$B:$B,$G177)","v":0},{"$f":"SUMIFS(Journal!$N:$N, Journal!$B:$B,$G177)","v":0},0,{"$f":"IFERROR(VLOOKUP(G177,'Daily Snapshot'!$B:$D,3,FALSE),\"\")","v":""},25023.63,null,154,{"$f":"IFERROR(VLOOKUP(S177,Journal!$R:$AQ,26,FALSE),\"\")","v":""},{"$error":"#VALUE!"},{"$error":"#N/A"},"",{"$f":"IFERROR(VLOOKUP(S177,Journal!$R:$AV,32,FALSE),\"\")","v":""},null,null,"2020-07-31","Friday",{"$f":"IFERROR(VLOOKUP(AA177, 'Daily Snapshot'!$B:$J,7,FALSE),\"\")","v":""},"","",null,null,174,{"$f":"IFERROR(VLOOKUP(AH177,Journal!$R:$S,2,FALSE),\"\")","v":""},0,0,null,null,null,null,null,null,null,174,"2020-08-31","Monday",{"$f":"IFERROR(COUNTIFS(Journal!$S:$S,\"W\",Journal!$B:$B,AT177)/VLOOKUP(AT177,G206:K470,5,FALSE),\"no trades\")","v":"no trades"},null,null,null,null,null,null,null,null,null,null,null,148,0,25025.38,{"$error":"#N/A"}]
[null,null,null,null,null,146,"2020-07-22","Wednesday",0,{"$f":"IF(OR(I178<$H$26,I178>$H$27,I178=0),NA(),I178)","v":{"$error":"#N/A"}},{"$f":"COUNTIFS(Journal!$S:$S,\"?\",Journal!$B:$B,$G178)","v":0},{"$f":"SUMIFS(Journal!$Q:$Q, Journal!$B:$B,$G178)","v":0},{"$f":"COUNTIF(Journal!$B:$B,$G178)","v":0},{"$f":"SUMIFS(Journal!$N:$N, Journal!$B:$B,$G178)","v":0},0,{"$f":"IFERROR(VLOOKUP(G178,'Daily Snapshot'!$B:$D,3,FALSE),\"\")","v":""},25023.63,null,155,{"$f":"IFERROR(VLOOKUP(S178,Journal!$R:$AQ,26,FALSE),\"\")","v":""},{"$error":"#VALUE!"},{"$error":"#N/A"},"",{"$f":"IFERROR(VLOOKUP(S178,Journal!$R:$AV,32,FALSE),\"\")","v":""},null,null,"2020-08-03","Monday",{"$f":"IFERROR(VLOOKUP(AA178, 'Daily Snapshot'!$B:$J,7,FALSE),\"\")","v":""},"","",null,null,175,{"$f":"IFERROR(VLOOKUP(AH178,Journal!$R:$S,2,FALSE),\"\")","v":""},0,0,null,null,null,null,null,null,null,175,"2020-09-01","Tuesday",{"$f":"IFERROR(COUNTIFS(Journal!$S:$S,\"W\",Journal!$B:$B,AT178)/VLOOKUP(AT178,G207:K471,5,FALSE),\"no trades\")","v":"no trades"},null,null,null,null,null,null,null,null,null,null,null,149,0,25025.38,{"$error":"#N/A"}]
[null,null,null,null,null,147,"2020-07-23","Thursday",0,{"$error":"#N/A"},{"$f":"COUNTIFS(Journal!$S:$S,\"?\",Journal!$B:$B,$G179)","v":0},{"$f":"SUMIFS(Journal!$Q:$Q, Journal!$B:$B,$G179)","v":0},{"$f":"COUNTIF(Journal!$B:$B,$G179)","v":0},{"$f":"SUMIFS(Journal!$N:$N, Journal!$B:$B,$G179)","v":0},0,{"$f":"IFERROR(VLOOKUP(G179,'Daily Snapshot'!$B:$D,3,FALSE),\"\")","v":""},25023.63,null,156,{"$f":"IFERROR(VLOOKUP(S179,Journal!$R:$AQ,26,FALSE),\"\")","v":""},{"$f":"T179+U175","v":{"$error":"#VALUE!"}},{"$f":"IF(OR(T179=0,T179<$H$26,T179>$H$27),NA(),T179+U175)","v":{"$error":"#N/A"}},"",{"$f":"IFERROR(VLOOKUP(S179,Journal!$R:$AV,32,FALSE),\"\")","v":""},null,null,"2020-08-04","Tuesday",{"$f":"IFERROR(VLOOKUP(AA179, 'Daily Snapshot'!$B:$J,7,FALSE),\"\")","v":""},"","",null,null,176,{"$f":"IFERROR(VLOOKUP(AH179,Journal!$R:$S,2,FALSE),\"\")","v":""},0,0,null,null,null,null,null,null,null,176,"2020-09-02","Wednesday",{"$f":"IFERROR(COUNTIFS(Journal!$S:$S,\"W\",Journal!$B:$B,AT179)/VLOOKUP(AT179,G208:K472,5,FALSE),\"no trades\")","v":"no trades"},null,null,null,null,null,null,null,null,null,null,null,150,0,25025.38,{"$error":"#N/A"}]
[null,null,null,null,null,148,"2020-07-24","Friday",0,{"$error":"#N/A"},{"$f":"COUNTIFS(Journal!$S:$S,\"?\",Journal!$B:$B,$G180)","v":0},{"$f":"SUMIFS(Journal!$Q:$Q, Journal!$B:$B,$G180)","v":0},{"$f":"COUNTIF(Journal!$B:$B,$G180)","v":0},{"$f":"SUMIFS(Journal!$N:$N, Journal!$B:$B,$G180)","v":0},0,{"$f":"IFERROR(VLOOKUP(G180,'Daily Snapshot'!$B:$D,3,FALSE),\"\")","v":""},25023.63,null,157,{"$f":"IFERROR(VLOOKUP(S180,Journal!$R:$AQ,26,FALSE),\"\")","v":""},{"$error":"#VALUE!"},{"$error":"#N/A"},"",{"$f":"IFERROR(VLOOKUP(S180,Journal!$R:$AV,32,FALSE),\"\")","v":""},null,null,"2020-08-05","Wednesday",{"$f":"IFERROR(VLOOKUP(AA180, 'Daily Snapshot'!$B:$J,7,FALSE),\"\")","v":""},"","",null,null,177,{"$f":"IFERROR(VLOOKUP(AH180,Journal!$R:$S,2,FALSE),\"\")","v":""},0,0,null,null,null,null,null,null,null,177,"2020-09-03","Thursday",{"$f":"IFERROR(COUNTIFS(Journal!$S:$S,\"W\",Journal!$B:$B,AT180)/VLOOKUP(AT180,G209:K473,5,FALSE),\"no trades\")","v":"no trades"},null,null,null,null,null,null,null,null,null,null,null,151,0,25025.38,{"$error":"#N/A"}]
[null,null,null,null,null,149,"2020-07-27","Monday",0,{"$error":"#N/A"},{"$f":"COUNTIFS(Journal!$S:$S,\"?\",Journal!$B:$B,$G181)","v":0},{"$f":"SUMIFS(Journal!$Q:$Q, Journal!$B:$B,$G181)","v":0},{"$f":"COUNTIF(Journal!$B:$B,$G181)","v":0},{"$f":"SUMIFS(Journal!$N:$N, Journal!$B:$B,$G181)","v":0},0,{"$f":"IFERROR(VLOOKUP(G181,'Daily Snapshot'!$B:$D,3,FALSE),\"\")","v":""},25023.63,null,158,{"$f":"IFERROR(VLOOKUP(S181,Journal!$R:$AQ,26,FALSE),\"\")","v":""},{"$f":"T181+U179","v":{"$error":"#VALUE!"}},{"$f":"IF(OR(T181=0,T181<$H$26,T181>$H$27),NA(),T181+U179)","v":{"$error":"#N/A"}},"",{"$f":"IFERROR(VLOOKUP(S181,Journal!$R:$AV,32,FALSE),\"\")","v":""},null,null,"2020-08-06","Thursday",{"$f":"IFERROR(VLOOKUP(AA181, 'Daily Snapshot'!$B:$J,7,FALSE),\"\")","v":""},"","",null,null,178,{"$f":"IFERROR(VLOOKUP(AH181,Journal!$R:$S,2,FALSE),\"\")","v":""},0,0,null,null,null,null,null,null,null,178,"2020-09-04","Friday",{"$f":"IFERROR(COUNTIFS(Journal!$S:$S,\"W\",Journal!$B:$B,AT181)/VLOOKUP(AT181,G210:K474,5,FALSE),\"no trades\")","v":"no trades"},null,null,null,null,null,null,null,null,null,null,null,152,0,25025.38,{"$error":"#N/A"}]
[null,null,null,null,null,150,"2020-07-28","Tuesday",0,{"$error":"#N/A"},{"$f":"COUNTIFS(Journal!$S:$S,\"?\",Journal!$B:$B,$G182)","v":0},{"$f":"SUMIFS(Journal!$Q:$Q, Journal!$B:$B,$G182)","v":0},{"$f":"COUNTIF(Journal!$B:$B,$G182)","v":0},{"$f":"SUMIFS(Journal!$N:$N, Journal!$B:$B,$G182)","v":0},0,{"$f":"IFERROR(VLOOKUP(G182,'Daily Snapshot'!$B:$D,3,FALSE),\"\")","v":""},25023.63,null,159,{"$f":"IFERROR(VLOOKUP(S182,Journal!$R:$AQ,26,FALSE),\"\")","v":""},{"$error":"#VALUE!"},{"$error":"#N/A"},"",{"$f":"IFERROR(VLOOKUP(S182,Journal!$R:$AV,32,FALSE),\"\")","v":""},null,null,"2020-08-07","Friday",{"$f":"IFERROR(VLOOKUP(AA182, 'Daily Snapshot'!$B:$J,7,FALSE),\"\")","v":""},"","",null,null,179,{"$f":"IFERROR(VLOOKUP(AH182,Journal!$R:$S,2,FALSE),\"\")","v":""},0,0,null,null,null,null,null,null,null,179,"2020-09-07","Monday",{"$f":"IFERROR(COUNTIFS(Journal!$S:$S,\"W\",Journal!$B:$B,AT182)/VLOOKUP(AT182,G211:K475,5,FALSE),\"no trades\")","v":"no trades"},null,null,null,null,null,null,null,null,null,null,null,153,0,25025.38,{"$error":"#N/A"}]
[null,null,null,null,null,151,"2020-07-29","Wednesday",0,{"$error":"#N/A"},{"$f":"COUNTIFS(Journal!$S:$S,\"?\",Journal!$B:$B,$G183)","v":0},{"$f":"SUMIFS(Journal!$Q:$Q, Journal!$B:$B,$G183)","v":0},{"$f":"COUNTIF(Journal!$B:$B,$G183)","v":0},{"$f":"SUMIFS(Journal!$N:$N, Journal!$B:$B,$G183)","v":0},0,{"$f":"IFERROR(VLOOKUP(G183,'Daily Snapshot'!$B:$D,3,FALSE),\"\")","v":""},25023.63,null,160,{"$f":"IFERROR(VLOOKUP(S183,Journal!$R:$AQ,26,FALSE),\"\")","v":""},{"$error":"#VALUE!"},{"$error":"#N/A"},"",{"$f":"IFERROR(VLOOKUP(S183,Journal!$R:$AV,32,FALSE),\"\")","v":""},null,null,"2020-08-10","Monday",{"$f":"IFERROR(VLOOKUP(AA183, 'Daily Snapshot'!$B:$J,7,FALSE),\"\")","v":""},"","",null,null,180,{"$f":"IFERROR(VLOOKUP(AH183,Journal!$R:$S,2,FALSE),\"\")","v":""},0,0,null,null,null,null,null,null,null,180,"2020-09-08","Tuesday",{"$f":"IFERROR(COUNTIFS(Journal!$S:$S,\"W\",Journal!$B:$B,AT183)/VLOOKUP(AT183,G212:K476,5,FALSE),\"no trades\")","v":"no trades"},null,null,null,null,null,null,null,null,null,null,null,154,0,25025.38,{"$error":"#N/A"}]
[null,null,null,null,null,152,"2020-07-30","Thursday",0,{"$error":"#N/A"},{"$f":"COUNTIFS(Journal!$S:$S,\"?\",Journal!$B:$B,$G184)","v":0},{"$f":"SUMIFS(Journal!$Q:$Q, Journal!$B:$B,$G184)","v":0},{"$f":"COUNTIF(Journal!$B:$B,$G184)","v":0},{"$f":"SUMIFS(Journal!$N:$N, Journal!$B:$B,$G184)","v":0},0,{"$f":"IFERROR(VLOOKUP(G184,'Daily Snapshot'!$B:$D,3,FALSE),\"\")","v":""},25023.63,null,161,{"$f":"IFERROR(VLOOKUP(S184,Journal!$R:$AQ,26,FALSE),\"\")","v":""},{"$error":"#VALUE!"},{"$error":"#N/A"},"",{"$f":"IFERROR(VLOOKUP(S184,Journal!$R:$AV,32,FALSE),\"\")","v":""},null,null,"2020-08-11","Tuesday",{"$f":"IFERROR(VLOOKUP(AA184, 'Daily Snapshot'!$B:$J,7,FALSE),\"\")","v":""},"","",null,null,181,{"$f":"IFERROR(VLOOKUP(AH184,Journal!$R:$S,2,FALSE),\"\")","v":""},0,0,null,null,null,null,null,null,null,181,"2020-09-09","Wednesday",{"$f":"IFERROR(COUNTIFS(Journal!$S:$S,\"W\",Journal!$B:$B,AT184)/VLOOKUP(AT184,G213:K477,5,FALSE),\"no trades\")","v":"no trades"},null,null,null,null,null,null,null,null,null,null,null,155,0,25025.38,{"$error":"#N/A"}]
[null,null,null,null,null,153,"2020-07-31","Friday",0,{"$error":"#N/A"},{"$f":"COUNTIFS(Journal!$S:$S,\"?\",Journal!$B:$B,$G185)","v":0},{"$f":"SUMIFS(Journal!$Q:$Q, Journal!$B:$B,$G185)","v":0},{"$f":"COUNTIF(Journal!$B:$B,$G185)","v":0},{"$f":"SUMIFS(Journal!$N:$N, Journal!$B:$B,$G185)","v":0},0,{"$f":"IFERROR(VLOOKUP(G185,'Daily Snapshot'!$B:$D,3,FALSE),\"\")","v":""},25023.63,null,162,{"$f":"IFERROR(VLOOKUP(S185,Journal!$R:$AQ,26,FALSE),\"\")","v":""},{"$error":"#VALUE!"},{"$error":"#N/A"},"",{"$f":"IFERROR(VLOOKUP(S185,Journal!$R:$AV,32,FALSE),\"\")","v":""},null,null,"2020-08-12","Wednesday",{"$f":"IFERROR(VLOOKUP(AA185, 'Daily Snapshot'!$B:$J,7,FALSE),\"\")","v":""},"","",null,null,182,{"$f":"IFERROR(VLOOKUP(AH185,Journal!$R:$S,2,FALSE),\"\")","v":""},0,0,null,null,null,null,null,null,null,182,"2020-09-10","Thursday",{"$f":"IFERROR(COUNTIFS(Journal!$S:$S,\"W\",Journal!$B:$B,AT185)/VLOOKUP(AT185,G214:K478,5,FALSE),\"no trades\")","v":"no trades"},null,null,null,null,null,null,null,null,null,null,null,156,0,25025.38,{"$error":"#N/A"}]
[null,null,null,null,null,154,"2020-08-03","Monday",0,{"$error":"#N/A"},{"$f":"COUNTIFS(Journal!$S:$S,\"?\",Journal!$B:$B,$G186)","v":0},{"$f":"SUMIFS(Journal!$Q:$Q, Journal!$B:$B,$G186)","v":0},{"$f":"COUNTIF(Journal!$B:$B,$G186)","v":0},{"$f":"SUMIFS(Journal!$N:$N, Journal!$B:$B,$G186)","v":0},0,{"$f":"IFERROR(VLOOKUP(G186,'Daily Snapshot'!$B:$D,3,FALSE),\"\")","v":""},25023.63,null,163,{"$f":"IFERROR(VLOOKUP(S186,Journal!$R:$AQ,26,FALSE),\"\")","v":""},{"$error":"#VALUE!"},{"$error":"#N/A"},"",{"$f":"IFERROR(VLOOKUP(S186,Journal!$R:$AV,32,FALSE),\"\")","v":""},null,null,"2020-08-13","Thursday",{"$f":"IFERROR(VLOOKUP(AA186, 'Daily Snapshot'!$B:$J,7,FALSE),\"\")","v":""},"","",null,null,183,{"$f":"IFERROR(VLOOKUP(AH186,Journal!$R:$S,2,FALSE),\"\")","v":""},0,0,null,null,null,null,null,null,null,183,"2020-09-11","Friday",{"$f":"IFERROR(COUNTIFS(Journal!$S:$S,\"W\",Journal!$B:$B,AT186)/VLOOKUP(AT186,G215:K479,5,FALSE),\"no trades\")","v":"no trades"},null,null,null,null,null,null,null,null,null,null,null,157,0,25025.38,{"$error":"#N/A"}]
[null,null,null,null,null,155,"2020-08-04","Tuesday",0,{"$error":"#N/A"},{"$f":"COUNTIFS(Journal!$S:$S,\"?\",Journal!$B:$B,$G187)","v":0},{"$f":"SUMIFS(Journal!$Q:$Q, Journal!$B:$B,$G187)","v":0},{"$f":"COUNTIF(Journal!$B:$B,$G187)","v":0},{"$f":"SUMIFS(Journal!$N:$N, Journal!$B:$B,$G187)","v":0},0,{"$f":"IFERROR(VLOOKUP(G187,'Daily Snapshot'!$B:$D,3,FALSE),\"\")","v":""},25023.63,null,164,{"$f":"IFERROR(VLOOKUP(S187,Journal!$R:$AQ,26,FALSE),\"\")","v":""},{"$error":"#VALUE!"},{"$error":"#N/A"},"",{"$f":"IFERROR(VLOOKUP(S187,Journal!$R:$AV,32,FALSE),\"\")","v":""},null,null,"2020-08-14","Friday",{"$f":"IFERROR(VLOOKUP(AA187, 'Daily Snapshot'!$B:$J,7,FALSE),\"\")","v":""},"","",null,null,184,{"$f":"IFERROR(VLOOKUP(AH187,Journal!$R:$S,2,FALSE),\"\")","v":""},0,0,null,null,null,null,null,null,null,184,"2020-09-14","Monday",{"$f":"IFERROR(COUNTIFS(Journal!$S:$S,\"W\",Journal!$B:$B,AT187)/VLOOKUP(AT187,G216:K480,5,FALSE),\"no trades\")","v":"no trades"},null,null,null,null,null,null,null,null,null,null,null,158,0,25025.38,{"$error":"#N/A"}]
[null,null,null,null,null,156,"2020-08-05","Wednesday",0,{"$error":"#N/A"},{"$f":"COUNTIFS(Journal!$S:$S,\"?\",Journal!$B:$B,$G188)","v":0},{"$f":"SUMIFS(Journal!$Q:$Q, Journal!$B:$B,$G188)","v":0},{"$f":"COUNTIF(Journal!$B:$B,$G188)","v":0},{"$f":"SUMIFS(Journal!$N:$N, Journal!$B:$B,$G188)","v":0},0,{"$f":"IFERROR(VLOOKUP(G188,'Daily Snapshot'!$B:$D,3,FALSE),\"\")","v":""},25023.63,null,165,{"$f":"IFERROR(VLOOKUP(S188,Journal!$R:$AQ,26,FALSE),\"\")","v":""},{"$error":"#VALUE!"},{"$error":"#N/A"},"",{"$f":"IFERROR(VLOOKUP(S188,Journal!$R:$AV,32,FALSE),\"\")","v":""},null,null,"2020-08-17","Monday",{"$f":"IFERROR(VLOOKUP(AA188, 'Daily Snapshot'!$B:$J,7,FALSE),\"\")","v":""},"","",null,null,185,{"$f":"IFERROR(VLOOKUP(AH188,Journal!$R:$S,2,FALSE),\"\")","v":""},0,0,null,null,null,null,null,null,null,185,"2020-09-15","Tuesday",{"$f":"IFERROR(COUNTIFS(Journal!$S:$S,\"W\",Journal!$B:$B,AT188)/VLOOKUP(AT188,G217:K481,5,FALSE),\"no trades\")","v":"no trades"},null,null,null,null,null,null,null,null,null,null,null,159,0,25025.38,{"$error":"#N/A"}]
[null,null,null,null,null,157,"2020-08-06","Thursday",0,{"$error":"#N/A"},{"$f":"COUNTIFS(Journal!$S:$S,\"?\",Journal!$B:$B,$G189)","v":0},{"$f":"SUMIFS(Journal!$Q:$Q, Journal!$B:$B,$G189)","v":0},{"$f":"COUNTIF(Journal!$B:$B,$G189)","v":0},{"$f":"SUMIFS(Journal!$N:$N, Journal!$B:$B,$G189)","v":0},0,{"$f":"IFERROR(VLOOKUP(G189,'Daily Snapshot'!$B:$D,3,FALSE),\"\")","v":""},25023.63,null,166,{"$f":"IFERROR(VLOOKUP(S189,Journal!$R:$AQ,26,FALSE),\"\")","v":""},{"$error":"#VALUE!"},{"$error":"#N/A"},"",{"$f":"IFERROR(VLOOKUP(S189,Journal!$R:$AV,32,FALSE),\"\")","v":""},null,null,"2020-08-18","Tuesday",{"$f":"IFERROR(VLOOKUP(AA189, 'Daily Snapshot'!$B:$J,7,FALSE),\"\")","v":""},"","",null,null,186,{"$f":"IFERROR(VLOOKUP(AH189,Journal!$R:$S,2,FALSE),\"\")","v":""},0,0,null,null,null,null,null,null,null,186,"2020-09-16","Wednesday",{"$f":"IFERROR(COUNTIFS(Journal!$S:$S,\"W\",Journal!$B:$B,AT189)/VLOOKUP(AT189,G218:K482,5,FALSE),\"no trades\")","v":"no trades"},null,null,null,null,null,null,null,null,null,null,null,160,0,25025.38,{"$error":"#N/A"}]
[null,null,null,null,null,158,"2020-08-07","Friday",0,{"$error":"#N/A"},{"$f":"COUNTIFS(Journal!$S:$S,\"?\",Journal!$B:$B,$G190)","v":0},{"$f":"SUMIFS(Journal!$Q:$Q, Journal!$B:$B,$G190)","v":0},{"$f":"COUNTIF(Journal!$B:$B,$G190)","v":0},{"$f":"SUMIFS(Journal!$N:$N, Journal!$B:$B,$G190)","v":0},0,{"$f":"IFERROR(VLOOKUP(G190,'Daily Snapshot'!$B:$D,3,FALSE),\"\")","v":""},25023.63,null,167,{"$f":"IFERROR(VLOOKUP(S190,Journal!$R:$AQ,26,FALSE),\"\")","v":""},{"$error":"#VALUE!"},{"$error":"#N/A"},"",{"$f":"IFERROR(VLOOKUP(S190,Journal!$R:$AV,32,FALSE),\"\")","v":""},null,null,"2020-08-19","Wednesday",{"$f":"IFERROR(VLOOKUP(AA190, 'Daily Snapshot'!$B:$J,7,FALSE),\"\")","v":""},"","",null,null,187,{"$f":"IFERROR(VLOOKUP(AH190,Journal!$R:$S,2,FALSE),\"\")","v":""},0,0,null,null,null,null,null,null,null,187,"2020-09-17","Thursday",{"$f":"IFERROR(COUNTIFS(Journal!$S:$S,\"W\",Journal!$B:$B,AT190)/VLOOKUP(AT190,G219:K483,5,FALSE),\"no trades\")","v":"no trades"},null,null,null,null,null,null,null,null,null,null,null,161,0,25025.38,{"$error":"#N/A"}]
[null,null,null,null,null,159,"2020-08-10","Monday",0,{"$error":"#N/A"},{"$f":"COUNTIFS(Journal!$S:$S,\"?\",Journal!$B:$B,$G191)","v":0},{"$f":"SUMIFS(Journal!$Q:$Q, Journal!$B:$B,$G191)","v":0},{"$f":"COUNTIF(Journal!$B:$B,$G191)","v":0},{"$f":"SUMIFS(Journal!$N:$N, Journal!$B:$B,$G191)","v":0},0,{"$f":"IFERROR(VLOOKUP(G191,'Daily Snapshot'!$B:$D,3,FALSE),\"\")","v":""},25023.63,null,168,{"$f":"IFERROR(VLOOKUP(S191,Journal!$R:$AQ,26,FALSE),\"\")","v":""},{"$error":"#VALUE!"},{"$error":"#N/A"},"",{"$f":"IFERROR(VLOOKUP(S191,Journal!$R:$AV,32,FALSE),\"\")","v":""},null,null,"2020-08-20","Thursday",{"$f":"IFERROR(VLOOKUP(AA191, 'Daily Snapshot'!$B:$J,7,FALSE),\"\")","v":""},"","",null,null,188,{"$f":"IFERROR(VLOOKUP(AH191,Journal!$R:$S,2,FALSE),\"\")","v":""},0,0,null,null,null,null,null,null,null,188,"2020-09-18","Friday",{"$f":"IFERROR(COUNTIFS(Journal!$S:$S,\"W\",Journal!$B:$B,AT191)/VLOOKUP(AT191,G220:K484,5,FALSE),\"no trades\")","v":"no trades"},null,null,null,null,null,null,null,null,null,null,null,162,0,25025.38,{"$error":"#N/A"}]
[null,null,null,null,null,160,"2020-08-11","Tuesday",0,{"$error":"#N/A"},{"$f":"COUNTIFS(Journal!$S:$S,\"?\",Journal!$B:$B,$G192)","v":0},{"$f":"SUMIFS(Journal!$Q:$Q, Journal!$B:$B,$G192)","v":0},{"$f":"COUNTIF(Journal!$B:$B,$G192)","v":0},{"$f":"SUMIFS(Journal!$N:$N, Journal!$B:$B,$G192)","v":0},0,{"$f":"IFERROR(VLOOKUP(G192,'Daily Snapshot'!$B:$D,3,FALSE),\"\")","v":""},25023.63,null,169,{"$f":"IFERROR(VLOOKUP(S192,Journal!$R:$AQ,26,FALSE),\"\")","v":""},{"$error":"#VALUE!"},{"$error":"#N/A"},"",{"$f":"IFERROR(VLOOKUP(S192,Journal!$R:$AV,32,FALSE),\"\")","v":""},null,null,"2020-08-21","Friday",{"$f":"IFERROR(VLOOKUP(AA192, 'Daily Snapshot'!$B:$J,7,FALSE),\"\")","v":""},"","",null,null,189,{"$f":"IFERROR(VLOOKUP(AH192,Journal!$R:$S,2,FALSE),\"\")","v":""},0,0,null,null,null,null,null,null,null,189,"2020-09-21","Monday",{"$f":"IFERROR(COUNTIFS(Journal!$S:$S,\"W\",Journal!$B:$B,AT192)/VLOOKUP(AT192,G221:K485,5,FALSE),\"no trades\")","v":"no trades"},null,null,null,null,null,null,null,null,null,null,null,163,0,25025.38,{"$error":"#N/A"}]
[null,null,null,null,null,161,"2020-08-12","Wednesday",0,{"$error":"#N/A"},{"$f":"COUNTIFS(Journal!$S:$S,\"?\",Journal!$B:$B,$G193)","v":0},{"$f":"SUMIFS(Journal!$Q:$Q, Journal!$B:$B,$G193)","v":0},{"$f":"COUNTIF(Journal!$B:$B,$G193)","v":0},{"$f":"SUMIFS(Journal!$N:$N, Journal!$B:$B,$G193)","v":0},0,{"$f":"IFERROR(VLOOKUP(G193,'Daily Snapshot'!$B:$D,3,FALSE),\"\")","v":""},25023.63,null,170,{"$f":"IFERROR(VLOOKUP(S193,Journal!$R:$AQ,26,FALSE),\"\")","v":""},{"$error":"#VALUE!"},{"$error":"#N/A"},"",{"$f":"IFERROR(VLOOKUP(S193,Journal!$R:$AV,32,FALSE),\"\")","v":""},null,null,"2020-08-24","Monday",{"$f":"IFERROR(VLOOKUP(AA193, 'Daily Snapshot'!$B:$J,7,FALSE),\"\")","v":""},"","",null,null,190,{"$f":"IFERROR(VLOOKUP(AH193,Journal!$R:$S,2,FALSE),\"\")","v":""},0,0,null,null,null,null,null,null,null,190,"2020-09-22","Tuesday",{"$f":"IFERROR(COUNTIFS(Journal!$S:$S,\"W\",Journal!$B:$B,AT193)/VLOOKUP(AT193,G222:K486,5,FALSE),\"no trades\")","v":"no trades"},null,null,null,null,null,null,null,null,null,null,null,164,0,25025.38,{"$error":"#N/A"}]
[null,null,null,null,null,162,"2020-08-13","Thursday",0,{"$error":"#N/A"},{"$f":"COUNTIFS(Journal!$S:$S,\"?\",Journal!$B:$B,$G194)","v":0},{"$f":"SUMIFS(Journal!$Q:$Q, Journal!$B:$B,$G194)","v":0},{"$f":"COUNTIF(Journal!$B:$B,$G194)","v":0},{"$f":"SUMIFS(Journal!$N:$N, Journal!$B:$B,$G194)","v":0},0,{"$f":"IFERROR(VLOOKUP(G194,'Daily Snapshot'!$B:$D,3,FALSE),\"\")","v":""},25023.63,null,171,{"$f":"IFERROR(VLOOKUP(S194,Journal!$R:$AQ,26,FALSE),\"\")","v":""},{"$error":"#VALUE!"},{"$error":"#N/A"},"",{"$f":"IFERROR(VLOOKUP(S194,Journal!$R:$AV,32,FALSE),\"\")","v":""},null,null,"2020-08-25","Tuesday",{"$f":"IFERROR(VLOOKUP(AA194, 'Daily Snapshot'!$B:$J,7,FALSE),\"\")","v":""},"","",null,null,191,{"$f":"IFERROR(VLOOKUP(AH194,Journal!$R:$S,2,FALSE),\"\")","v":""},0,0,null,null,null,null,null,null,null,191,"2020-09-23","Wednesday",{"$f":"IFERROR(COUNTIFS(Journal!$S:$S,\"W\",Journal!$B:$B,AT194)/VLOOKUP(AT194,G223:K487,5,FALSE),\"no trades\")","v":"no trades"},null,null,null,null,null,null,null,null,null,null,null,165,0,25025.38,{"$error":"#N/A"}]
[null,null,null,null,null,163,"2020-08-14","Friday",0,{"$error":"#N/A"},{"$f":"COUNTIFS(Journal!$S:$S,\"?\",Journal!$B:$B,$G195)","v":0},{"$f":"SUMIFS(Journal!$Q:$Q, Journal!$B:$B,$G195)","v":0},{"$f":"COUNTIF(Journal!$B:$B,$G195)","v":0},{"$f":"SUMIFS(Journal!$N:$N, Journal!$B:$B,$G195)","v":0},0,{"$f":"IFERROR(VLOOKUP(G195,'Daily Snapshot'!$B:$D,3,FALSE),\"\")","v":""},25023.63,null,172,{"$f":"IFERROR(VLOOKUP(S195,Journal!$R:$AQ,26,FALSE),\"\")","v":""},{"$error":"#VALUE!"},{"$error":"#N/A"},"",{"$f":"IFERROR(VLOOKUP(S195,Journal!$R:$AV,32,FALSE),\"\")","v":""},null,null,"2020-08-26","Wednesday",{"$f":"IFERROR(VLOOKUP(AA195, 'Daily Snapshot'!$B:$J,7,FALSE),\"\")","v":""},"","",null,null,192,{"$f":"IFERROR(VLOOKUP(AH195,Journal!$R:$S,2,FALSE),\"\")","v":""},0,0,null,null,null,null,null,null,null,192,"2020-09-24",{"$f":"TEXT(AT195,\"dddd\")","v":"Thursday"},{"$f":"IFERROR(COUNTIFS(Journal!$S:$S,\"W\",Journal!$B:$B,AT195)/VLOOKUP(AT195,G224:K488,5,FALSE),\"no trades\")","v":"no trades"},null,null,null,null,null,null,null,null,null,null,null,166,0,25025.38,{"$error":"#N/A"}]
[null,null,null,null,null,164,"2020-08-17","Monday",0,{"$error":"#N/A"},{"$f":"COUNTIFS(Journal!$S:$S,\"?\",Journal!$B:$B,$G196)","v":0},{"$f":"SUMIFS(Journal!$Q:$Q, Journal!$B:$B,$G196)","v":0},{"$f":"COUNTIF(Journal!$B:$B,$G196)","v":0},{"$f":"SUMIFS(Journal!$N:$N, Journal!$B:$B,$G196)","v":0},0,{"$f":"IFERROR(VLOOKUP(G196,'Daily Snapshot'!$B:$D,3,FALSE),\"\")","v":""},25023.63,null,173,{"$f":"IFERROR(VLOOKUP(S196,Journal!$R:$AQ,26,FALSE),\"\")","v":""},{"$error":"#VALUE!"},{"$error":"#N/A"},"",{"$f":"IFERROR(VLOOKUP(S196,Journal!$R:$AV,32,FALSE),\"\")","v":""},null,null,"2020-08-27","Thursday",{"$f":"IFERROR(VLOOKUP(AA196, 'Daily Snapshot'!$B:$J,7,FALSE),\"\")","v":""},"","",null,null,193,{"$f":"IFERROR(VLOOKUP(AH196,Journal!$R:$S,2,FALSE),\"\")","v":""},{"$f":"IF($AI196=\"W\", 1,0)","v":0},{"$f":"IF($AI196=\"L\", -1,0)","v":0},null,null,null,null,null,null,null,193,"2020-09-25","Friday",{"$f":"IFERROR(COUNTIFS(Journal!$S:$S,\"W\",Journal!$B:$B,AT196)/VLOOKUP(AT196,G225:K489,5,FALSE),\"no trades\")","v":"no trades"},null,null,null,null,null,null,null,null,null,null,null,167,0,25025.38,{"$error":"#N/A"}]
[null,null,null,null,null,165,"2020-08-18","Tuesday",0,{"$error":"#N/A"},{"$f":"COUNTIFS(Journal!$S:$S,\"?\",Journal!$B:$B,$G197)","v":0},{"$f":"SUMIFS(Journal!$Q:$Q, Journal!$B:$B,$G197)","v":0},{"$f":"COUNTIF(Journal!$B:$B,$G197)","v":0},{"$f":"SUMIFS(Journal!$N:$N, Journal!$B:$B,$G197)","v":0},0,{"$f":"IFERROR(VLOOKUP(G197,'Daily Snapshot'!$B:$D,3,FALSE),\"\")","v":""},25023.63,null,174,{"$f":"IFERROR(VLOOKUP(S197,Journal!$R:$AQ,26,FALSE),\"\")","v":""},{"$error":"#VALUE!"},{"$error":"#N/A"},"",{"$f":"IFERROR(VLOOKUP(S197,Journal!$R:$AV,32,FALSE),\"\")","v":""},null,null,"2020-08-28","Friday",{"$f":"IFERROR(VLOOKUP(AA197, 'Daily Snapshot'!$B:$J,7,FALSE),\"\")","v":""},"","",null,null,194,{"$f":"IFERROR(VLOOKUP(AH197,Journal!$R:$S,2,FALSE),\"\")","v":""},0,0,null,null,null,null,null,null,null,194,{"$f":"G226","v":"2020-09-28"},"Monday",{"$f":"IFERROR(COUNTIFS(Journal!$S:$S,\"W\",Journal!$B:$B,AT197)/VLOOKUP(AT197,G226:K490,5,FALSE),\"no trades\")","v":"no trades"},null,null,null,null,null,null,null,null,null,null,null,168,0,25025.38,{"$error":"#N/A"}]
[null,null,null,null,null,166,"2020-08-19","Wednesday",0,{"$error":"#N/A"},{"$f":"COUNTIFS(Journal!$S:$S,\"?\",Journal!$B:$B,$G198)","v":0},{"$f":"SUMIFS(Journal!$Q:$Q, Journal!$B:$B,$G198)","v":0},{"$f":"COUNTIF(Journal!$B:$B,$G198)","v":0},{"$f":"SUMIFS(Journal!$N:$N, Journal!$B:$B,$G198)","v":0},0,{"$f":"IFERROR(VLOOKUP(G198,'Daily Snapshot'!$B:$D,3,FALSE),\"\")","v":""},25023.63,null,175,{"$f":"IFERROR(VLOOKUP(S198,Journal!$R:$AQ,26,FALSE),\"\")","v":""},{"$error":"#VALUE!"},{"$error":"#N/A"},"",{"$f":"IFERROR(VLOOKUP(S198,Journal!$R:$AV,32,FALSE),\"\")","v":""},null,null,"2020-08-31","Monday",{"$f":"IFERROR(VLOOKUP(AA198, 'Daily Snapshot'!$B:$J,7,FALSE),\"\")","v":""},"","",null,null,195,{"$f":"IFERROR(VLOOKUP(AH198,Journal!$R:$S,2,FALSE),\"\")","v":""},0,0,null,null,null,null,null,null,null,195,"2020-09-29","Tuesday",{"$f":"IFERROR(COUNTIFS(Journal!$S:$S,\"W\",Journal!$B:$B,AT198)/VLOOKUP(AT198,G227:K491,5,FALSE),\"no trades\")","v":"no trades"},null,null,null,null,null,null,null,null,null,null,null,169,0,25025.38,{"$error":"#N/A"}]
[null,null,null,null,null,167,"2020-08-20","Thursday",0,{"$error":"#N/A"},{"$f":"COUNTIFS(Journal!$S:$S,\"?\",Journal!$B:$B,$G199)","v":0},{"$f":"SUMIFS(Journal!$Q:$Q, Journal!$B:$B,$G199)","v":0},{"$f":"COUNTIF(Journal!$B:$B,$G199)","v":0},{"$f":"SUMIFS(Journal!$N:$N, Journal!$B:$B,$G199)","v":0},0,{"$f":"IFERROR(VLOOKUP(G199,'Daily Snapshot'!$B:$D,3,FALSE),\"\")","v":""},25023.63,null,176,{"$f":"IFERROR(VLOOKUP(S199,Journal!$R:$AQ,26,FALSE),\"\")","v":""},{"$error":"#VALUE!"},{"$error":"#N/A"},"",{"$f":"IFERROR(VLOOKUP(S199,Journal!$R:$AV,32,FALSE),\"\")","v":""},null,null,"2020-09-01","Tuesday",{"$f":"IFERROR(VLOOKUP(AA199, 'Daily Snapshot'!$B:$J,7,FALSE),\"\")","v":""},"","",null,null,196,{"$f":"IFERROR(VLOOKUP(AH199,Journal!$R:$S,2,FALSE),\"\")","v":""},0,0,null,null,null,null,null,null,null,196,"2020-09-30","Wednesday",{"$f":"IFERROR(COUNTIFS(Journal!$S:$S,\"W\",Journal!$B:$B,AT199)/VLOOKUP(AT199,G228:K492,5,FALSE),\"no trades\")","v":"no trades"},null,null,null,null,null,null,null,null,null,null,null,170,0,25025.38,{"$error":"#N/A"}]
[null,null,null,null,null,168,"2020-08-21","Friday",0,{"$error":"#N/A"},{"$f":"COUNTIFS(Journal!$S:$S,\"?\",Journal!$B:$B,$G200)","v":0},{"$f":"SUMIFS(Journal!$Q:$Q, Journal!$B:$B,$G200)","v":0},{"$f":"COUNTIF(Journal!$B:$B,$G200)","v":0},{"$f":"SUMIFS(Journal!$N:$N, Journal!$B:$B,$G200)","v":0},0,{"$f":"IFERROR(VLOOKUP(G200,'Daily Snapshot'!$B:$D,3,FALSE),\"\")","v":""},25023.63,null,177,{"$f":"IFERROR(VLOOKUP(S200,Journal!$R:$AQ,26,FALSE),\"\")","v":""},{"$error":"#VALUE!"},{"$error":"#N/A"},"",{"$f":"IFERROR(VLOOKUP(S200,Journal!$R:$AV,32,FALSE),\"\")","v":""},null,null,"2020-09-02","Wednesday",{"$f":"IFERROR(VLOOKUP(AA200, 'Daily Snapshot'!$B:$J,7,FALSE),\"\")","v":""},"","",null,null,197,{"$f":"IFERROR(VLOOKUP(AH200,Journal!$R:$S,2,FALSE),\"\")","v":""},0,0,null,null,null,null,null,null,null,197,"2020-10-01","Thursday",{"$f":"IFERROR(COUNTIFS(Journal!$S:$S,\"W\",Journal!$B:$B,AT200)/VLOOKUP(AT200,G229:K493,5,FALSE),\"no trades\")","v":"no trades"},null,null,null,null,null,null,null,null,null,null,null,171,0,25025.38,{"$error":"#N/A"}]
[null,null,null,null,null,169,"2020-08-24","Monday",0,{"$error":"#N/A"},{"$f":"COUNTIFS(Journal!$S:$S,\"?\",Journal!$B:$B,$G201)","v":0},{"$f":"SUMIFS(Journal!$Q:$Q, Journal!$B:$B,$G201)","v":0},{"$f":"COUNTIF(Journal!$B:$B,$G201)","v":0},{"$f":"SUMIFS(Journal!$N:$N, Journal!$B:$B,$G201)","v":0},0,{"$f":"IFERROR(VLOOKUP(G201,'Daily Snapshot'!$B:$D,3,FALSE),\"\")","v":""},25023.63,null,178,{"$f":"IFERROR(VLOOKUP(S201,Journal!$R:$AQ,26,FALSE),\"\")","v":""},{"$error":"#VALUE!"},{"$error":"#N/A"},"",{"$f":"IFERROR(VLOOKUP(S201,Journal!$R:$AV,32,FALSE),\"\")","v":""},null,null,"2020-09-03","Thursday",{"$f":"IFERROR(VLOOKUP(AA201, 'Daily Snapshot'!$B:$J,7,FALSE),\"\")","v":""},"","",null,null,198,{"$f":"IFERROR(VLOOKUP(AH201,Journal!$R:$S,2,FALSE),\"\")","v":""},0,0,null,null,null,null,null,null,null,198,"2020-10-02","Friday",{"$f":"IFERROR(COUNTIFS(Journal!$S:$S,\"W\",Journal!$B:$B,AT201)/VLOOKUP(AT201,G230:K494,5,FALSE),\"no trades\")","v":"no trades"},null,null,null,null,null,null,null,null,null,null,null,172,0,25025.38,{"$error":"#N/A"}]
[null,null,null,null,null,170,"2020-08-25","Tuesday",0,{"$error":"#N/A"},{"$f":"COUNTIFS(Journal!$S:$S,\"?\",Journal!$B:$B,$G202)","v":0},{"$f":"SUMIFS(Journal!$Q:$Q, Journal!$B:$B,$G202)","v":0},{"$f":"COUNTIF(Journal!$B:$B,$G202)","v":0},{"$f":"SUMIFS(Journal!$N:$N, Journal!$B:$B,$G202)","v":0},0,{"$f":"IFERROR(VLOOKUP(G202,'Daily Snapshot'!$B:$D,3,FALSE),\"\")","v":""},25023.63,null,179,{"$f":"IFERROR(VLOOKUP(S202,Journal!$R:$AQ,26,FALSE),\"\")","v":""},{"$error":"#VALUE!"},{"$error":"#N/A"},"",{"$f":"IFERROR(VLOOKUP(S202,Journal!$R:$AV,32,FALSE),\"\")","v":""},null,null,"2020-09-04","Friday",{"$f":"IFERROR(VLOOKUP(AA202, 'Daily Snapshot'!$B:$J,7,FALSE),\"\")","v":""},"","",null,null,199,{"$f":"IFERROR(VLOOKUP(AH202,Journal!$R:$S,2,FALSE),\"\")","v":""},0,0,null,null,null,null,null,null,null,199,"2020-10-05","Monday",{"$f":"IFERROR(COUNTIFS(Journal!$S:$S,\"W\",Journal!$B:$B,AT202)/VLOOKUP(AT202,G231:K495,5,FALSE),\"no trades\")","v":"no trades"},null,null,null,null,null,null,null,null,null,null,null,173,0,25025.38,{"$error":"#N/A"}]
[null,null,null,null,null,171,"2020-08-26","Wednesday",0,{"$error":"#N/A"},{"$f":"COUNTIFS(Journal!$S:$S,\"?\",Journal!$B:$B,$G203)","v":0},{"$f":"SUMIFS(Journal!$Q:$Q, Journal!$B:$B,$G203)","v":0},{"$f":"COUNTIF(Journal!$B:$B,$G203)","v":0},{"$f":"SUMIFS(Journal!$N:$N, Journal!$B:$B,$G203)","v":0},0,{"$f":"IFERROR(VLOOKUP(G203,'Daily Snapshot'!$B:$D,3,FALSE),\"\")","v":""},25023.63,null,180,{"$f":"IFERROR(VLOOKUP(S203,Journal!$R:$AQ,26,FALSE),\"\")","v":""},{"$error":"#VALUE!"},{"$error":"#N/A"},"",{"$f":"IFERROR(VLOOKUP(S203,Journal!$R:$AV,32,FALSE),\"\")","v":""},null,null,"2020-09-07","Monday",{"$f":"IFERROR(VLOOKUP(AA203, 'Daily Snapshot'!$B:$J,7,FALSE),\"\")","v":""},"","",null,null,200,{"$f":"IFERROR(VLOOKUP(AH203,Journal!$R:$S,2,FALSE),\"\")","v":""},0,0,null,null,null,null,null,null,null,200,"2020-10-06","Tuesday",{"$f":"IFERROR(COUNTIFS(Journal!$S:$S,\"W\",Journal!$B:$B,AT203)/VLOOKUP(AT203,G232:K496,5,FALSE),\"no trades\")","v":"no trades"},null,null,null,null,null,null,null,null,null,null,null,174,0,25025.38,{"$error":"#N/A"}]
[null,null,null,null,null,172,"2020-08-27","Thursday",0,{"$error":"#N/A"},{"$f":"COUNTIFS(Journal!$S:$S,\"?\",Journal!$B:$B,$G204)","v":0},{"$f":"SUMIFS(Journal!$Q:$Q, Journal!$B:$B,$G204)","v":0},{"$f":"COUNTIF(Journal!$B:$B,$G204)","v":0},{"$f":"SUMIFS(Journal!$N:$N, Journal!$B:$B,$G204)","v":0},0,{"$f":"IFERROR(VLOOKUP(G204,'Daily Snapshot'!$B:$D,3,FALSE),\"\")","v":""},25023.63,null,181,{"$f":"IFERROR(VLOOKUP(S204,Journal!$R:$AQ,26,FALSE),\"\")","v":""},{"$error":"#VALUE!"},{"$error":"#N/A"},"",{"$f":"IFERROR(VLOOKUP(S204,Journal!$R:$AV,32,FALSE),\"\")","v":""},null,null,"2020-09-08","Tuesday",{"$f":"IFERROR(VLOOKUP(AA204, 'Daily Snapshot'!$B:$J,7,FALSE),\"\")","v":""},"","",null,null,201,{"$f":"IFERROR(VLOOKUP(AH204,Journal!$R:$S,2,FALSE),\"\")","v":""},0,0,null,null,null,null,null,null,null,201,"2020-10-07","Wednesday",{"$f":"IFERROR(COUNTIFS(Journal!$S:$S,\"W\",Journal!$B:$B,AT204)/VLOOKUP(AT204,G233:K497,5,FALSE),\"no trades\")","v":"no trades"},null,null,null,null,null,null,null,null,null,null,null,175,0,25025.38,{"$error":"#N/A"}]
[null,null,null,null,null,173,"2020-08-28","Friday",0,{"$error":"#N/A"},{"$f":"COUNTIFS(Journal!$S:$S,\"?\",Journal!$B:$B,$G205)","v":0},{"$f":"SUMIFS(Journal!$Q:$Q, Journal!$B:$B,$G205)","v":0},{"$f":"COUNTIF(Journal!$B:$B,$G205)","v":0},{"$f":"SUMIFS(Journal!$N:$N, Journal!$B:$B,$G205)","v":0},0,{"$f":"IFERROR(VLOOKUP(G205,'Daily Snapshot'!$B:$D,3,FALSE),\"\")","v":""},25023.63,null,182,{"$f":"IFERROR(VLOOKUP(S205,Journal!$R:$AQ,26,FALSE),\"\")","v":""},{"$error":"#VALUE!"},{"$error":"#N/A"},"",{"$f":"IFERROR(VLOOKUP(S205,Journal!$R:$AV,32,FALSE),\"\")","v":""},null,null,"2020-09-09","Wednesday",{"$f":"IFERROR(VLOOKUP(AA205, 'Daily Snapshot'!$B:$J,7,FALSE),\"\")","v":""},"","",null,null,202,{"$f":"IFERROR(VLOOKUP(AH205,Journal!$R:$S,2,FALSE),\"\")","v":""},0,0,null,null,null,null,null,null,null,202,{"$f":"G234","v":"2020-10-08"},{"$f":"TEXT(AT205,\"dddd\")","v":"Thursday"},{"$f":"IFERROR(COUNTIFS(Journal!$S:$S,\"W\",Journal!$B:$B,AT205)/VLOOKUP(AT205,G234:K498,5,FALSE),\"no trades\")","v":"no trades"},null,null,null,null,null,null,null,null,null,null,null,176,0,25025.38,{"$error":"#N/A"}]
[null,null,null,null,null,174,"2020-08-31","Monday",0,{"$error":"#N/A"},{"$f":"COUNTIFS(Journal!$S:$S,\"?\",Journal!$B:$B,$G206)","v":0},{"$f":"SUMIFS(Journal!$Q:$Q, Journal!$B:$B,$G206)","v":0},{"$f":"COUNTIF(Journal!$B:$B,$G206)","v":0},{"$f":"SUMIFS(Journal!$N:$N, Journal!$B:$B,$G206)","v":0},0,{"$f":"IFERROR(VLOOKUP(G206,'Daily Snapshot'!$B:$D,3,FALSE),\"\")","v":""},25023.63,null,183,{"$f":"IFERROR(VLOOKUP(S206,Journal!$R:$AQ,26,FALSE),\"\")","v":""},{"$error":"#VALUE!"},{"$error":"#N/A"},"",{"$f":"IFERROR(VLOOKUP(S206,Journal!$R:$AV,32,FALSE),\"\")","v":""},null,null,"2020-09-10","Thursday",{"$f":"IFERROR(VLOOKUP(AA206, 'Daily Snapshot'!$B:$J,7,FALSE),\"\")","v":""},"","",null,null,203,{"$f":"IFERROR(VLOOKUP(AH206,Journal!$R:$S,2,FALSE),\"\")","v":""},0,0,null,null,null,null,null,null,null,203,"2020-10-09","Friday",{"$f":"IFERROR(COUNTIFS(Journal!$S:$S,\"W\",Journal!$B:$B,AT206)/VLOOKUP(AT206,G235:K499,5,FALSE),\"no trades\")","v":"no trades"},null,null,null,null,null,null,null,null,null,null,null,177,0,25025.38,{"$error":"#N/A"}]
[null,null,null,null,null,175,"2020-09-01","Tuesday",0,{"$error":"#N/A"},{"$f":"COUNTIFS(Journal!$S:$S,\"?\",Journal!$B:$B,$G207)","v":0},{"$f":"SUMIFS(Journal!$Q:$Q, Journal!$B:$B,$G207)","v":0},{"$f":"COUNTIF(Journal!$B:$B,$G207)","v":0},{"$f":"SUMIFS(Journal!$N:$N, Journal!$B:$B,$G207)","v":0},0,{"$f":"IFERROR(VLOOKUP(G207,'Daily Snapshot'!$B:$D,3,FALSE),\"\")","v":""},25023.63,null,184,{"$f":"IFERROR(VLOOKUP(S207,Journal!$R:$AQ,26,FALSE),\"\")","v":""},{"$error":"#VALUE!"},{"$error":"#N/A"},"",{"$f":"IFERROR(VLOOKUP(S207,Journal!$R:$AV,32,FALSE),\"\")","v":""},null,null,"2020-09-11","Friday",{"$f":"IFERROR(VLOOKUP(AA207, 'Daily Snapshot'!$B:$J,7,FALSE),\"\")","v":""},"","",null,null,204,{"$f":"IFERROR(VLOOKUP(AH207,Journal!$R:$S,2,FALSE),\"\")","v":""},0,0,null,null,null,null,null,null,null,204,"2020-10-12","Monday",{"$f":"IFERROR(COUNTIFS(Journal!$S:$S,\"W\",Journal!$B:$B,AT207)/VLOOKUP(AT207,G236:K500,5,FALSE),\"no trades\")","v":"no trades"},null,null,null,null,null,null,null,null,null,null,null,178,0,25025.38,{"$error":"#N/A"}]
[null,null,null,null,null,176,"2020-09-02","Wednesday",0,{"$error":"#N/A"},{"$f":"COUNTIFS(Journal!$S:$S,\"?\",Journal!$B:$B,$G208)","v":0},{"$f":"SUMIFS(Journal!$Q:$Q, Journal!$B:$B,$G208)","v":0},{"$f":"COUNTIF(Journal!$B:$B,$G208)","v":0},{"$f":"SUMIFS(Journal!$N:$N, Journal!$B:$B,$G208)","v":0},0,{"$f":"IFERROR(VLOOKUP(G208,'Daily Snapshot'!$B:$D,3,FALSE),\"\")","v":""},25023.63,null,185,{"$f":"IFERROR(VLOOKUP(S208,Journal!$R:$AQ,26,FALSE),\"\")","v":""},{"$error":"#VALUE!"},{"$error":"#N/A"},"",{"$f":"IFERROR(VLOOKUP(S208,Journal!$R:$AV,32,FALSE),\"\")","v":""},null,null,"2020-09-14","Monday",{"$f":"IFERROR(VLOOKUP(AA208, 'Daily Snapshot'!$B:$J,7,FALSE),\"\")","v":""},"","",null,null,205,{"$f":"IFERROR(VLOOKUP(AH208,Journal!$R:$S,2,FALSE),\"\")","v":""},0,0,null,null,null,null,null,null,null,205,"2020-10-13","Tuesday",{"$f":"IFERROR(COUNTIFS(Journal!$S:$S,\"W\",Journal!$B:$B,AT208)/VLOOKUP(AT208,G237:K501,5,FALSE),\"no trades\")","v":"no trades"},null,null,null,null,null,null,null,null,null,null,null,179,0,25025.38,{"$error":"#N/A"}]
[null,null,null,null,null,177,"2020-09-03","Thursday",0,{"$error":"#N/A"},{"$f":"COUNTIFS(Journal!$S:$S,\"?\",Journal!$B:$B,$G209)","v":0},{"$f":"SUMIFS(Journal!$Q:$Q, Journal!$B:$B,$G209)","v":0},{"$f":"COUNTIF(Journal!$B:$B,$G209)","v":0},{"$f":"SUMIFS(Journal!$N:$N, Journal!$B:$B,$G209)","v":0},0,{"$f":"IFERROR(VLOOKUP(G209,'Daily Snapshot'!$B:$D,3,FALSE),\"\")","v":""},25023.63,null,186,{"$f":"IFERROR(VLOOKUP(S209,Journal!$R:$AQ,26,FALSE),\"\")","v":""},{"$error":"#VALUE!"},{"$error":"#N/A"},"",{"$f":"IFERROR(VLOOKUP(S209,Journal!$R:$AV,32,FALSE),\"\")","v":""},null,null,"2020-09-15","Tuesday",{"$f":"IFERROR(VLOOKUP(AA209, 'Daily Snapshot'!$B:$J,7,FALSE),\"\")","v":""},"","",null,null,206,{"$f":"IFERROR(VLOOKUP(AH209,Journal!$R:$S,2,FALSE),\"\")","v":""},0,0,null,null,null,null,null,null,null,206,"2020-10-14","Wednesday",{"$f":"IFERROR(COUNTIFS(Journal!$S:$S,\"W\",Journal!$B:$B,AT209)/VLOOKUP(AT209,G238:K502,5,FALSE),\"no trades\")","v":"no trades"},null,null,null,null,null,null,null,null,null,null,null,180,0,25025.38,{"$error":"#N/A"}]
[null,null,null,null,null,178,"2020-09-04","Friday",0,{"$error":"#N/A"},{"$f":"COUNTIFS(Journal!$S:$S,\"?\",Journal!$B:$B,$G210)","v":0},{"$f":"SUMIFS(Journal!$Q:$Q, Journal!$B:$B,$G210)","v":0},{"$f":"COUNTIF(Journal!$B:$B,$G210)","v":0},{"$f":"SUMIFS(Journal!$N:$N, Journal!$B:$B,$G210)","v":0},0,null,25023.63,null,187,{"$f":"IFERROR(VLOOKUP(S210,Journal!$R:$AQ,26,FALSE),\"\")","v":""},{"$error":"#VALUE!"},{"$error":"#N/A"},"",{"$f":"IFERROR(VLOOKUP(S210,Journal!$R:$AV,32,FALSE),\"\")","v":""},null,null,"2020-09-16","Wednesday",{"$f":"IFERROR(VLOOKUP(AA210, 'Daily Snapshot'!$B:$J,7,FALSE),\"\")","v":""},"","",null,null,207,{"$f":"IFERROR(VLOOKUP(AH210,Journal!$R:$S,2,FALSE),\"\")","v":""},0,0,null,null,null,null,null,null,null,207,"2020-10-15","Thursday",{"$f":"IFERROR(COUNTIFS(Journal!$S:$S,\"W\",Journal!$B:$B,AT210)/VLOOKUP(AT210,G239:K503,5,FALSE),\"no trades\")","v":"no trades"},null,null,null,null,null,null,null,null,null,null,null,181,0,25025.38,{"$error":"#N/A"}]
[null,null,null,null,null,179,"2020-09-07","Monday",0,{"$error":"#N/A"},{"$f":"COUNTIFS(Journal!$S:$S,\"?\",Journal!$B:$B,$G211)","v":0},{"$f":"SUMIFS(Journal!$Q:$Q, Journal!$B:$B,$G211)","v":0},{"$f":"COUNTIF(Journal!$B:$B,$G211)","v":0},{"$f":"SUMIFS(Journal!$N:$N, Journal!$B:$B,$G211)","v":0},0,null,25023.63,null,188,{"$f":"IFERROR(VLOOKUP(S211,Journal!$R:$AQ,26,FALSE),\"\")","v":""},{"$error":"#VALUE!"},{"$error":"#N/A"},"",{"$f":"IFERROR(VLOOKUP(S211,Journal!$R:$AV,32,FALSE),\"\")","v":""},null,null,"2020-09-17","Thursday",{"$f":"IFERROR(VLOOKUP(AA211, 'Daily Snapshot'!$B:$J,7,FALSE),\"\")","v":""},"","",null,null,208,{"$f":"IFERROR(VLOOKUP(AH211,Journal!$R:$S,2,FALSE),\"\")","v":""},0,0,null,null,null,null,null,null,null,208,"2020-10-16","Friday",{"$f":"IFERROR(COUNTIFS(Journal!$S:$S,\"W\",Journal!$B:$B,AT211)/VLOOKUP(AT211,G240:K504,5,FALSE),\"no trades\")","v":"no trades"},null,null,null,null,null,null,null,null,null,null,null,182,0,25025.38,{"$error":"#N/A"}]
[null,null,null,null,null,180,"2020-09-08","Tuesday",0,{"$error":"#N/A"},{"$f":"COUNTIFS(Journal!$S:$S,\"?\",Journal!$B:$B,$G212)","v":0},{"$f":"SUMIFS(Journal!$Q:$Q, Journal!$B:$B,$G212)","v":0},{"$f":"COUNTIF(Journal!$B:$B,$G212)","v":0},{"$f":"SUMIFS(Journal!$N:$N, Journal!$B:$B,$G212)","v":0},0,null,25023.63,null,189,{"$f":"IFERROR(VLOOKUP(S212,Journal!$R:$AQ,26,FALSE),\"\")","v":""},{"$error":"#VALUE!"},{"$error":"#N/A"},"",{"$f":"IFERROR(VLOOKUP(S212,Journal!$R:$AV,32,FALSE),\"\")","v":""},null,null,"2020-09-18","Friday",{"$f":"IFERROR(VLOOKUP(AA212, 'Daily Snapshot'!$B:$J,7,FALSE),\"\")","v":""},"","",null,null,209,{"$f":"IFERROR(VLOOKUP(AH212,Journal!$R:$S,2,FALSE),\"\")","v":""},0,0,null,null,null,null,null,null,null,209,"2020-10-19","Monday",{"$f":"IFERROR(COUNTIFS(Journal!$S:$S,\"W\",Journal!$B:$B,AT212)/VLOOKUP(AT212,G241:K505,5,FALSE),\"no trades\")","v":"no trades"},null,null,null,null,null,null,null,null,null,null,null,183,0,25025.38,{"$error":"#N/A"}]
[null,null,null,null,null,181,"2020-09-09","Wednesday",0,{"$error":"#N/A"},{"$f":"COUNTIFS(Journal!$S:$S,\"?\",Journal!$B:$B,$G213)","v":0},{"$f":"SUMIFS(Journal!$Q:$Q, Journal!$B:$B,$G213)","v":0},{"$f":"COUNTIF(Journal!$B:$B,$G213)","v":0},{"$f":"SUMIFS(Journal!$N:$N, Journal!$B:$B,$G213)","v":0},0,null,25023.63,null,190,{"$f":"IFERROR(VLOOKUP(S213,Journal!$R:$AQ,26,FALSE),\"\")","v":""},{"$error":"#VALUE!"},{"$error":"#N/A"},"",{"$f":"IFERROR(VLOOKUP(S213,Journal!$R:$AV,32,FALSE),\"\")","v":""},null,null,"2020-09-21","Monday",{"$f":"IFERROR(VLOOKUP(AA213, 'Daily Snapshot'!$B:$J,7,FALSE),\"\")","v":""},"","",null,null,210,{"$f":"IFERROR(VLOOKUP(AH213,Journal!$R:$S,2,FALSE),\"\")","v":""},0,0,null,null,null,null,null,null,null,210,"2020-10-20","Tuesday",{"$f":"IFERROR(COUNTIFS(Journal!$S:$S,\"W\",Journal!$B:$B,AT213)/VLOOKUP(AT213,G242:K506,5,FALSE),\"no trades\")","v":"no trades"},null,null,null,null,null,null,null,null,null,null,null,184,0,25025.38,{"$error":"#N/A"}]
[null,null,null,null,null,182,"2020-09-10","Thursday",0,{"$error":"#N/A"},{"$f":"COUNTIFS(Journal!$S:$S,\"?\",Journal!$B:$B,$G214)","v":0},{"$f":"SUMIFS(Journal!$Q:$Q, Journal!$B:$B,$G214)","v":0},{"$f":"COUNTIF(Journal!$B:$B,$G214)","v":0},{"$f":"SUMIFS(Journal!$N:$N, Journal!$B:$B,$G214)","v":0},0,null,25023.63,null,191,{"$f":"IFERROR(VLOOKUP(S214,Journal!$R:$AQ,26,FALSE),\"\")","v":""},{"$error":"#VALUE!"},{"$error":"#N/A"},"",{"$f":"IFERROR(VLOOKUP(S214,Journal!$R:$AV,32,FALSE),\"\")","v":""},null,null,"2020-09-22","Tuesday",{"$f":"IFERROR(VLOOKUP(AA214, 'Daily Snapshot'!$B:$J,7,FALSE),\"\")","v":""},"","",null,null,211,{"$f":"IFERROR(VLOOKUP(AH214,Journal!$R:$S,2,FALSE),\"\")","v":""},0,0,null,null,null,null,null,null,null,211,"2020-10-21","Wednesday",{"$f":"IFERROR(COUNTIFS(Journal!$S:$S,\"W\",Journal!$B:$B,AT214)/VLOOKUP(AT214,G243:K507,5,FALSE),\"no trades\")","v":"no trades"},null,null,null,null,null,null,null,null,null,null,null,185,0,25025.38,{"$error":"#N/A"}]
[null,null,null,null,null,183,"2020-09-11","Friday",0,{"$error":"#N/A"},{"$f":"COUNTIFS(Journal!$S:$S,\"?\",Journal!$B:$B,$G215)","v":0},{"$f":"SUMIFS(Journal!$Q:$Q, Journal!$B:$B,$G215)","v":0},{"$f":"COUNTIF(Journal!$B:$B,$G215)","v":0},{"$f":"SUMIFS(Journal!$N:$N, Journal!$B:$B,$G215)","v":0},0,null,25023.63,null,192,{"$f":"IFERROR(VLOOKUP(S215,Journal!$R:$AQ,26,FALSE),\"\")","v":""},{"$error":"#VALUE!"},{"$error":"#N/A"},"",{"$f":"IFERROR(VLOOKUP(S215,Journal!$R:$AV,32,FALSE),\"\")","v":""},null,null,"2020-09-23","Wednesday",{"$f":"IFERROR(VLOOKUP(AA215, 'Daily Snapshot'!$B:$J,7,FALSE),\"\")","v":""},"","",null,null,212,{"$f":"IFERROR(VLOOKUP(AH215,Journal!$R:$S,2,FALSE),\"\")","v":""},0,0,null,null,null,null,null,null,null,212,"2020-10-22","Thursday",{"$f":"IFERROR(COUNTIFS(Journal!$S:$S,\"W\",Journal!$B:$B,AT215)/VLOOKUP(AT215,G244:K508,5,FALSE),\"no trades\")","v":"no trades"},null,null,null,null,null,null,null,null,null,null,null,186,0,25025.38,{"$error":"#N/A"}]
[null,null,null,null,null,184,"2020-09-14","Monday",{"$f":"(N216-L216)","v":0},{"$f":"IF(OR(I216<$H$26,I216>$H$27,I216=0),NA(),I216)","v":{"$error":"#N/A"}},{"$f":"COUNTIFS(Journal!$S:$S,\"?\",Journal!$B:$B,$G216)","v":0},{"$f":"SUMIFS(Journal!$Q:$Q, Journal!$B:$B,$G216)","v":0},{"$f":"COUNTIF(Journal!$B:$B,$G216)","v":0},{"$f":"SUMIFS(Journal!$N:$N, Journal!$B:$B,$G216)","v":0},0,null,25023.63,null,193,{"$f":"IFERROR(VLOOKUP(S216,Journal!$R:$AQ,26,FALSE),\"\")","v":""},{"$error":"#VALUE!"},{"$error":"#N/A"},"",{"$f":"IFERROR(VLOOKUP(S216,Journal!$R:$AV,32,FALSE),\"\")","v":""},null,null,"2020-09-24","Thursday",{"$f":"IFERROR(VLOOKUP(AA216, 'Daily Snapshot'!$B:$J,7,FALSE),\"\")","v":""},"","",null,null,213,{"$f":"IFERROR(VLOOKUP(AH216,Journal!$R:$S,2,FALSE),\"\")","v":""},0,0,null,null,null,null,null,null,null,213,"2020-10-23","Friday",{"$f":"IFERROR(COUNTIFS(Journal!$S:$S,\"W\",Journal!$B:$B,AT216)/VLOOKUP(AT216,G245:K509,5,FALSE),\"no trades\")","v":"no trades"},null,null,null,null,null,null,null,null,null,null,null,187,0,25025.38,{"$error":"#N/A"}]
[null,null,null,null,null,185,"2020-09-15","Tuesday",0,{"$error":"#N/A"},{"$f":"COUNTIFS(Journal!$S:$S,\"?\",Journal!$B:$B,$G217)","v":0},{"$f":"SUMIFS(Journal!$Q:$Q, Journal!$B:$B,$G217)","v":0},{"$f":"COUNTIF(Journal!$B:$B,$G217)","v":0},{"$f":"SUMIFS(Journal!$N:$N, Journal!$B:$B,$G217)","v":0},0,null,25023.63,null,194,{"$f":"IFERROR(VLOOKUP(S217,Journal!$R:$AQ,26,FALSE),\"\")","v":""},{"$f":"T217+U216","v":{"$error":"#VALUE!"}},{"$error":"#N/A"},{"$f":"IFERROR(T217/$H$25,\"\")","v":""},{"$f":"IFERROR(VLOOKUP(S217,Journal!$R:$AV,32,FALSE),\"\")","v":""},null,null,"2020-09-25",{"$f":"TEXT(AA217,\"dddd\")","v":"Friday"},{"$f":"IFERROR(VLOOKUP(AA217, 'Daily Snapshot'!$B:$J,7,FALSE),\"\")","v":""},"","",null,null,214,{"$f":"IFERROR(VLOOKUP(AH217,Journal!$R:$S,2,FALSE),\"\")","v":""},0,0,null,null,null,null,null,null,null,214,"2020-10-26","Monday",{"$f":"IFERROR(COUNTIFS(Journal!$S:$S,\"W\",Journal!$B:$B,AT217)/VLOOKUP(AT217,G246:K510,5,FALSE),\"no trades\")","v":"no trades"},null,null,null,null,null,null,null,null,null,null,null,188,0,25025.38,{"$error":"#N/A"}]
[null,null,null,null,null,186,"2020-09-16","Wednesday",0,{"$error":"#N/A"},{"$f":"COUNTIFS(Journal!$S:$S,\"?\",Journal!$B:$B,$G218)","v":0},{"$f":"SUMIFS(Journal!$Q:$Q, Journal!$B:$B,$G218)","v":0},{"$f":"COUNTIF(Journal!$B:$B,$G218)","v":0},{"$f":"SUMIFS(Journal!$N:$N, Journal!$B:$B,$G218)","v":0},0,null,25023.63,null,195,{"$f":"IFERROR(VLOOKUP(S218,Journal!$R:$AQ,26,FALSE),\"\")","v":""},{"$error":"#VALUE!"},{"$error":"#N/A"},"",{"$f":"IFERROR(VLOOKUP(S218,Journal!$R:$AV,32,FALSE),\"\")","v":""},null,null,{"$f":"G226","v":"2020-09-28"},"Monday",{"$f":"IFERROR(VLOOKUP(AA218, 'Daily Snapshot'!$B:$J,7,FALSE),\"\")","v":""},"","",null,null,215,{"$f":"IFERROR(VLOOKUP(AH218,Journal!$R:$S,2,FALSE),\"\")","v":""},0,0,null,null,null,null,null,null,null,215,"2020-10-27","Tuesday",{"$f":"IFERROR(COUNTIFS(Journal!$S:$S,\"W\",Journal!$B:$B,AT218)/VLOOKUP(AT218,G247:K511,5,FALSE),\"no trades\")","v":"no trades"},null,null,null,null,null,null,null,null,null,null,null,189,0,25025.38,{"$error":"#N/A"}]
[null,null,null,null,null,187,"2020-09-17","Thursday",0,{"$error":"#N/A"},{"$f":"COUNTIFS(Journal!$S:$S,\"?\",Journal!$B:$B,$G219)","v":0},{"$f":"SUMIFS(Journal!$Q:$Q, Journal!$B:$B,$G219)","v":0},{"$f":"COUNTIF(Journal!$B:$B,$G219)","v":0},{"$f":"SUMIFS(Journal!$N:$N, Journal!$B:$B,$G219)","v":0},0,null,25023.63,null,196,{"$f":"IFERROR(VLOOKUP(S219,Journal!$R:$AQ,26,FALSE),\"\")","v":""},{"$error":"#VALUE!"},{"$error":"#N/A"},"",{"$f":"IFERROR(VLOOKUP(S219,Journal!$R:$AV,32,FALSE),\"\")","v":""},null,null,"2020-09-29","Tuesday",{"$f":"IFERROR(VLOOKUP(AA219, 'Daily Snapshot'!$B:$J,7,FALSE),\"\")","v":""},"","",null,null,216,{"$f":"IFERROR(VLOOKUP(AH219,Journal!$R:$S,2,FALSE),\"\")","v":""},0,0,null,null,null,null,null,null,null,216,"2020-10-28","Wednesday",{"$f":"IFERROR(COUNTIFS(Journal!$S:$S,\"W\",Journal!$B:$B,AT219)/VLOOKUP(AT219,G248:K512,5,FALSE),\"no trades\")","v":"no trades"},null,null,null,null,null,null,null,null,null,null,null,190,0,25025.38,{"$error":"#N/A"}]
[null,null,null,null,null,188,"2020-09-18","Friday",0,{"$error":"#N/A"},{"$f":"COUNTIFS(Journal!$S:$S,\"?\",Journal!$B:$B,$G220)","v":0},{"$f":"SUMIFS(Journal!$Q:$Q, Journal!$B:$B,$G220)","v":0},{"$f":"COUNTIF(Journal!$B:$B,$G220)","v":0},{"$f":"SUMIFS(Journal!$N:$N, Journal!$B:$B,$G220)","v":0},0,null,25023.63,null,197,{"$f":"IFERROR(VLOOKUP(S220,Journal!$R:$AQ,26,FALSE),\"\")","v":""},{"$error":"#VALUE!"},{"$f":"IF(OR(T220=0,T220<$H$26,T220>$H$27),NA(),T220+U219)","v":{"$error":"#N/A"}},"",{"$f":"IFERROR(VLOOKUP(S220,Journal!$R:$AV,32,FALSE),\"\")","v":""},null,null,"2020-09-30","Wednesday",{"$f":"IFERROR(VLOOKUP(AA220, 'Daily Snapshot'!$B:$J,7,FALSE),\"\")","v":""},"","",null,null,217,{"$f":"IFERROR(VLOOKUP(AH220,Journal!$R:$S,2,FALSE),\"\")","v":""},0,0,null,null,null,null,null,null,null,217,"2020-10-29","Thursday",{"$f":"IFERROR(COUNTIFS(Journal!$S:$S,\"W\",Journal!$B:$B,AT220)/VLOOKUP(AT220,G249:K513,5,FALSE),\"no trades\")","v":"no trades"},null,null,null,null,null,null,null,null,null,null,null,191,0,25025.38,{"$error":"#N/A"}]
[null,null,null,null,null,189,"2020-09-21","Monday",0,{"$error":"#N/A"},{"$f":"COUNTIFS(Journal!$S:$S,\"?\",Journal!$B:$B,$G221)","v":0},{"$f":"SUMIFS(Journal!$Q:$Q, Journal!$B:$B,$G221)","v":0},{"$f":"COUNTIF(Journal!$B:$B,$G221)","v":0},{"$f":"SUMIFS(Journal!$N:$N, Journal!$B:$B,$G221)","v":0},0,null,25023.63,null,198,{"$f":"IFERROR(VLOOKUP(S221,Journal!$R:$AQ,26,FALSE),\"\")","v":""},{"$error":"#VALUE!"},{"$error":"#N/A"},"",{"$f":"IFERROR(VLOOKUP(S221,Journal!$R:$AV,32,FALSE),\"\")","v":""},null,null,"2020-10-01","Thursday",{"$f":"IFERROR(VLOOKUP(AA221, 'Daily Snapshot'!$B:$J,7,FALSE),\"\")","v":""},"","",null,null,218,{"$f":"IFERROR(VLOOKUP(AH221,Journal!$R:$S,2,FALSE),\"\")","v":""},0,0,null,null,null,null,null,null,null,218,"2020-10-30","Friday",{"$f":"IFERROR(COUNTIFS(Journal!$S:$S,\"W\",Journal!$B:$B,AT221)/VLOOKUP(AT221,G250:K514,5,FALSE),\"no trades\")","v":"no trades"},null,null,null,null,null,null,null,null,null,null,null,192,0,25025.38,{"$error":"#N/A"}]
[null,null,null,null,null,190,"2020-09-22","Tuesday",0,{"$error":"#N/A"},{"$f":"COUNTIFS(Journal!$S:$S,\"?\",Journal!$B:$B,$G222)","v":0},{"$f":"SUMIFS(Journal!$Q:$Q, Journal!$B:$B,$G222)","v":0},{"$f":"COUNTIF(Journal!$B:$B,$G222)","v":0},{"$f":"SUMIFS(Journal!$N:$N, Journal!$B:$B,$G222)","v":0},0,null,25023.63,null,199,{"$f":"IFERROR(VLOOKUP(S222,Journal!$R:$AQ,26,FALSE),\"\")","v":""},{"$error":"#VALUE!"},{"$error":"#N/A"},"",{"$f":"IFERROR(VLOOKUP(S222,Journal!$R:$AV,32,FALSE),\"\")","v":""},null,null,"2020-10-02","Friday",{"$f":"IFERROR(VLOOKUP(AA222, 'Daily Snapshot'!$B:$J,7,FALSE),\"\")","v":""},"","",null,null,219,{"$f":"IFERROR(VLOOKUP(AH222,Journal!$R:$S,2,FALSE),\"\")","v":""},0,0,null,null,null,null,null,null,null,219,"2020-11-02","Monday",{"$f":"IFERROR(COUNTIFS(Journal!$S:$S,\"W\",Journal!$B:$B,AT222)/VLOOKUP(AT222,G251:K515,5,FALSE),\"no trades\")","v":"no trades"},null,null,null,null,null,null,null,null,null,null,null,193,0,25025.38,{"$error":"#N/A"}]
[null,null,null,null,null,191,"2020-09-23","Wednesday",0,{"$error":"#N/A"},{"$f":"COUNTIFS(Journal!$S:$S,\"?\",Journal!$B:$B,$G223)","v":0},{"$f":"SUMIFS(Journal!$Q:$Q, Journal!$B:$B,$G223)","v":0},{"$f":"COUNTIF(Journal!$B:$B,$G223)","v":0},{"$f":"SUMIFS(Journal!$N:$N, Journal!$B:$B,$G223)","v":0},0,null,25023.63,null,200,{"$f":"IFERROR(VLOOKUP(S223,Journal!$R:$AQ,26,FALSE),\"\")","v":""},{"$error":"#VALUE!"},{"$error":"#N/A"},"",{"$f":"IFERROR(VLOOKUP(S223,Journal!$R:$AV,32,FALSE),\"\")","v":""},null,null,"2020-10-05","Monday",{"$f":"IFERROR(VLOOKUP(AA223, 'Daily Snapshot'!$B:$J,7,FALSE),\"\")","v":""},"","",null,null,220,{"$f":"IFERROR(VLOOKUP(AH223,Journal!$R:$S,2,FALSE),\"\")","v":""},0,0,null,null,null,null,null,null,null,220,"2020-11-03","Tuesday",{"$f":"IFERROR(COUNTIFS(Journal!$S:$S,\"W\",Journal!$B:$B,AT223)/VLOOKUP(AT223,G252:K516,5,FALSE),\"no trades\")","v":"no trades"},null,null,null,null,null,null,null,null,null,null,null,194,0,{"$f":"BI223+BJ222","v":25025.38},{"$error":"#N/A"}]
[null,null,null,null,null,192,"2020-09-24","Thursday",0,{"$error":"#N/A"},{"$f":"COUNTIFS(Journal!$S:$S,\"?\",Journal!$B:$B,$G224)","v":0},{"$f":"SUMIFS(Journal!$Q:$Q, Journal!$B:$B,$G224)","v":0},{"$f":"COUNTIF(Journal!$B:$B,$G224)","v":0},{"$f":"SUMIFS(Journal!$N:$N, Journal!$B:$B,$G224)","v":0},0,null,25023.63,null,201,{"$f":"IFERROR(VLOOKUP(S224,Journal!$R:$AQ,26,FALSE),\"\")","v":""},{"$error":"#VALUE!"},{"$error":"#N/A"},"",{"$f":"IFERROR(VLOOKUP(S224,Journal!$R:$AV,32,FALSE),\"\")","v":""},null,null,"2020-10-06","Tuesday",{"$f":"IFERROR(VLOOKUP(AA224, 'Daily Snapshot'!$B:$J,7,FALSE),\"\")","v":""},{"$f":"IFERROR(AD223+AC224,\"\")","v":""},"",null,null,221,{"$f":"IFERROR(VLOOKUP(AH224,Journal!$R:$S,2,FALSE),\"\")","v":""},0,0,null,null,null,null,null,null,null,221,"2020-11-04","Wednesday",{"$f":"IFERROR(COUNTIFS(Journal!$S:$S,\"W\",Journal!$B:$B,AT224)/VLOOKUP(AT224,G253:K517,5,FALSE),\"no trades\")","v":"no trades"},null,null,null,null,null,null,null,null,null,null,null,195,{"$f":"N227","v":0},25025.38,{"$error":"#N/A"}]
[null,null,null,null,null,193,"2020-09-25",{"$f":"TEXT(G225,\"dddd\")","v":"Friday"},0,{"$error":"#N/A"},{"$f":"COUNTIFS(Journal!$S:$S,\"?\",Journal!$B:$B,$G225)","v":0},{"$f":"SUMIFS(Journal!$Q:$Q, Journal!$B:$B,$G225)","v":0},{"$f":"COUNTIF(Journal!$B:$B,$G225)","v":0},{"$f":"SUMIFS(Journal!$N:$N, Journal!$B:$B,$G225)","v":0},0,null,25023.63,null,202,{"$f":"IFERROR(VLOOKUP(S225,Journal!$R:$AQ,26,FALSE),\"\")","v":""},{"$error":"#VALUE!"},{"$error":"#N/A"},"",{"$f":"IFERROR(VLOOKUP(S225,Journal!$R:$AV,32,FALSE),\"\")","v":""},null,null,"2020-10-07","Wednesday",{"$f":"IFERROR(VLOOKUP(AA225, 'Daily Snapshot'!$B:$J,7,FALSE),\"\")","v":""},"",{"$f":"IFERROR(AD225/$AD224-1,\"\")","v":""},null,null,222,{"$f":"IFERROR(VLOOKUP(AH225,Journal!$R:$S,2,FALSE),\"\")","v":""},0,0,null,null,null,null,null,null,null,222,"2020-11-05","Thursday",{"$f":"IFERROR(COUNTIFS(Journal!$S:$S,\"W\",Journal!$B:$B,AT225)/VLOOKUP(AT225,G254:K518,5,FALSE),\"no trades\")","v":"no trades"},null,null,null,null,null,null,null,null,null,null,null,196,0,25025.38,{"$error":"#N/A"}]
[null,null,null,null,null,194,"2020-09-28","Monday",0,{"$error":"#N/A"},{"$f":"COUNTIFS(Journal!$S:$S,\"?\",Journal!$B:$B,$G226)","v":0},{"$f":"SUMIFS(Journal!$Q:$Q, Journal!$B:$B,$G226)","v":0},{"$f":"COUNTIF(Journal!$B:$B,$G226)","v":0},{"$f":"SUMIFS(Journal!$N:$N, Journal!$B:$B,$G226)","v":0},0,null,25023.63,null,203,{"$f":"IFERROR(VLOOKUP(S226,Journal!$R:$AQ,26,FALSE),\"\")","v":""},{"$error":"#VALUE!"},{"$error":"#N/A"},"",{"$f":"IFERROR(VLOOKUP(S226,Journal!$R:$AV,32,FALSE),\"\")","v":""},null,null,"2020-10-08","Thursday",{"$f":"IFERROR(VLOOKUP(AA226, 'Daily Snapshot'!$B:$J,7,FALSE),\"\")","v":""},"","",null,null,223,{"$f":"IFERROR(VLOOKUP(AH226,Journal!$R:$S,2,FALSE),\"\")","v":""},0,0,null,null,null,null,null,null,null,223,"2020-11-06","Friday",{"$f":"IFERROR(COUNTIFS(Journal!$S:$S,\"W\",Journal!$B:$B,AT226)/VLOOKUP(AT226,G255:K519,5,FALSE),\"no trades\")","v":"no trades"},null,null,null,null,null,null,null,null,null,null,null,197,0,25025.38,{"$f":"IF(OR(BI226=0,BI226<$H$26,BI226>$H$27),NA(),BI226+BJ225)","v":{"$error":"#N/A"}}]
[null,null,null,null,null,195,"2020-09-29","Tuesday",0,{"$error":"#N/A"},{"$f":"COUNTIFS(Journal!$S:$S,\"?\",Journal!$B:$B,$G227)","v":0},{"$f":"SUMIFS(Journal!$Q:$Q, Journal!$B:$B,$G227)","v":0},{"$f":"COUNTIF(Journal!$B:$B,$G227)","v":0},{"$f":"SUMIFS(Journal!$N:$N, Journal!$B:$B,$G227)","v":0},0,null,25023.63,null,204,{"$f":"IFERROR(VLOOKUP(S227,Journal!$R:$AQ,26,FALSE),\"\")","v":""},{"$error":"#VALUE!"},{"$error":"#N/A"},"",{"$f":"IFERROR(VLOOKUP(S227,Journal!$R:$AV,32,FALSE),\"\")","v":""},null,null,"2020-10-09","Friday",{"$f":"IFERROR(VLOOKUP(AA227, 'Daily Snapshot'!$B:$J,7,FALSE),\"\")","v":""},"","",null,null,224,{"$f":"IFERROR(VLOOKUP(AH227,Journal!$R:$S,2,FALSE),\"\")","v":""},0,0,null,null,null,null,null,null,null,224,"2020-11-09","Monday",{"$f":"IFERROR(COUNTIFS(Journal!$S:$S,\"W\",Journal!$B:$B,AT227)/VLOOKUP(AT227,G256:K520,5,FALSE),\"no trades\")","v":"no trades"},null,null,null,null,null,null,null,null,null,null,null,198,0,25025.38,{"$error":"#N/A"}]
[null,null,null,null,null,196,"2020-09-30","Wednesday",0,{"$error":"#N/A"},{"$f":"COUNTIFS(Journal!$S:$S,\"?\",Journal!$B:$B,$G228)","v":0},{"$f":"SUMIFS(Journal!$Q:$Q, Journal!$B:$B,$G228)","v":0},{"$f":"COUNTIF(Journal!$B:$B,$G228)","v":0},{"$f":"SUMIFS(Journal!$N:$N, Journal!$B:$B,$G228)","v":0},0,null,25023.63,null,205,{"$f":"IFERROR(VLOOKUP(S228,Journal!$R:$AQ,26,FALSE),\"\")","v":""},{"$error":"#VALUE!"},{"$error":"#N/A"},"",{"$f":"IFERROR(VLOOKUP(S228,Journal!$R:$AV,32,FALSE),\"\")","v":""},null,null,"2020-10-12","Monday",{"$f":"IFERROR(VLOOKUP(AA228, 'Daily Snapshot'!$B:$J,7,FALSE),\"\")","v":""},"","",null,null,225,{"$f":"IFERROR(VLOOKUP(AH228,Journal!$R:$S,2,FALSE),\"\")","v":""},0,0,null,null,null,null,null,null,null,225,"2020-11-10","Tuesday",{"$f":"IFERROR(COUNTIFS(Journal!$S:$S,\"W\",Journal!$B:$B,AT228)/VLOOKUP(AT228,G257:K521,5,FALSE),\"no trades\")","v":"no trades"},null,null,null,null,null,null,null,null,null,null,null,199,0,25025.38,{"$error":"#N/A"}]
[null,null,null,null,null,197,"2020-10-01","Thursday",0,{"$error":"#N/A"},{"$f":"COUNTIFS(Journal!$S:$S,\"?\",Journal!$B:$B,$G229)","v":0},{"$f":"SUMIFS(Journal!$Q:$Q, Journal!$B:$B,$G229)","v":0},{"$f":"COUNTIF(Journal!$B:$B,$G229)","v":0},{"$f":"SUMIFS(Journal!$N:$N, Journal!$B:$B,$G229)","v":0},0,null,25023.63,null,206,{"$f":"IFERROR(VLOOKUP(S229,Journal!$R:$AQ,26,FALSE),\"\")","v":""},{"$error":"#VALUE!"},{"$error":"#N/A"},"",{"$f":"IFERROR(VLOOKUP(S229,Journal!$R:$AV,32,FALSE),\"\")","v":""},null,null,"2020-10-13","Tuesday",{"$f":"IFERROR(VLOOKUP(AA229, 'Daily Snapshot'!$B:$J,7,FALSE),\"\")","v":""},"","",null,null,226,{"$f":"IFERROR(VLOOKUP(AH229,Journal!$R:$S,2,FALSE),\"\")","v":""},0,0,null,null,null,null,null,null,null,226,"2020-11-11","Wednesday",{"$f":"IFERROR(COUNTIFS(Journal!$S:$S,\"W\",Journal!$B:$B,AT229)/VLOOKUP(AT229,G258:K522,5,FALSE),\"no trades\")","v":"no trades"},null,null,null,null,null,null,null,null,null,null,null,200,0,25025.38,{"$error":"#N/A"}]
[null,null,null,null,null,198,"2020-10-02","Friday",0,{"$error":"#N/A"},{"$f":"COUNTIFS(Journal!$S:$S,\"?\",Journal!$B:$B,$G230)","v":0},{"$f":"SUMIFS(Journal!$Q:$Q, Journal!$B:$B,$G230)","v":0},{"$f":"COUNTIF(Journal!$B:$B,$G230)","v":0},{"$f":"SUMIFS(Journal!$N:$N, Journal!$B:$B,$G230)","v":0},0,null,{"$f":"Q229+I230","v":25023.63},null,207,{"$f":"IFERROR(VLOOKUP(S230,Journal!$R:$AQ,26,FALSE),\"\")","v":""},{"$error":"#VALUE!"},{"$error":"#N/A"},"",{"$f":"IFERROR(VLOOKUP(S230,Journal!$R:$AV,32,FALSE),\"\")","v":""},null,null,"2020-10-14","Wednesday",{"$f":"IFERROR(VLOOKUP(AA230, 'Daily Snapshot'!$B:$J,7,FALSE),\"\")","v":""},"","",null,null,227,{"$f":"IFERROR(VLOOKUP(AH230,Journal!$R:$S,2,FALSE),\"\")","v":""},0,0,null,null,null,null,null,null,null,227,"2020-11-12","Thursday",{"$f":"IFERROR(COUNTIFS(Journal!$S:$S,\"W\",Journal!$B:$B,AT230)/VLOOKUP(AT230,G259:K523,5,FALSE),\"no trades\")","v":"no trades"},null,null,null,null,null,null,null,null,null,null,null,201,0,25025.38,{"$error":"#N/A"}]
[null,null,null,null,null,199,"2020-10-05","Monday",0,{"$error":"#N/A"},{"$f":"COUNTIFS(Journal!$S:$S,\"?\",Journal!$B:$B,$G231)","v":0},{"$f":"SUMIFS(Journal!$Q:$Q, Journal!$B:$B,$G231)","v":0},{"$f":"COUNTIF(Journal!$B:$B,$G231)","v":0},{"$f":"SUMIFS(Journal!$N:$N, Journal!$B:$B,$G231)","v":0},0,null,25023.63,null,208,{"$f":"IFERROR(VLOOKUP(S231,Journal!$R:$AQ,26,FALSE),\"\")","v":""},{"$error":"#VALUE!"},{"$error":"#N/A"},"",{"$f":"IFERROR(VLOOKUP(S231,Journal!$R:$AV,32,FALSE),\"\")","v":""},null,null,"2020-10-15","Thursday",{"$f":"IFERROR(VLOOKUP(AA231, 'Daily Snapshot'!$B:$J,7,FALSE),\"\")","v":""},"","",null,null,228,{"$f":"IFERROR(VLOOKUP(AH231,Journal!$R:$S,2,FALSE),\"\")","v":""},0,0,null,null,null,null,null,null,null,228,"2020-11-13","Friday",{"$f":"IFERROR(COUNTIFS(Journal!$S:$S,\"W\",Journal!$B:$B,AT231)/VLOOKUP(AT231,G260:K524,5,FALSE),\"no trades\")","v":"no trades"},null,null,null,null,null,null,null,null,null,null,null,202,0,25025.38,{"$error":"#N/A"}]
[null,null,null,null,null,200,"2020-10-06","Tuesday",0,{"$error":"#N/A"},{"$f":"COUNTIFS(Journal!$S:$S,\"?\",Journal!$B:$B,$G232)","v":0},{"$f":"SUMIFS(Journal!$Q:$Q, Journal!$B:$B,$G232)","v":0},{"$f":"COUNTIF(Journal!$B:$B,$G232)","v":0},{"$f":"SUMIFS(Journal!$N:$N, Journal!$B:$B,$G232)","v":0},0,null,25023.63,null,209,{"$f":"IFERROR(VLOOKUP(S232,Journal!$R:$AQ,26,FALSE),\"\")","v":""},{"$error":"#VALUE!"},{"$error":"#N/A"},"",{"$f":"IFERROR(VLOOKUP(S232,Journal!$R:$AV,32,FALSE),\"\")","v":""},null,null,"2020-10-16","Friday",{"$f":"IFERROR(VLOOKUP(AA232, 'Daily Snapshot'!$B:$J,7,FALSE),\"\")","v":""},"","",null,null,229,{"$f":"IFERROR(VLOOKUP(AH232,Journal!$R:$S,2,FALSE),\"\")","v":""},0,0,null,null,null,null,null,null,null,229,"2020-11-16","Monday",{"$f":"IFERROR(COUNTIFS(Journal!$S:$S,\"W\",Journal!$B:$B,AT232)/VLOOKUP(AT232,G261:K525,5,FALSE),\"no trades\")","v":"no trades"},null,null,null,null,null,null,null,null,null,null,null,203,0,25025.38,{"$error":"#N/A"}]
[null,null,null,null,null,201,"2020-10-07","Wednesday",0,{"$error":"#N/A"},{"$f":"COUNTIFS(Journal!$S:$S,\"?\",Journal!$B:$B,$G233)","v":0},{"$f":"SUMIFS(Journal!$Q:$Q, Journal!$B:$B,$G233)","v":0},{"$f":"COUNTIF(Journal!$B:$B,$G233)","v":0},{"$f":"SUMIFS(Journal!$N:$N, Journal!$B:$B,$G233)","v":0},0,null,25023.63,null,210,{"$f":"IFERROR(VLOOKUP(S233,Journal!$R:$AQ,26,FALSE),\"\")","v":""},{"$error":"#VALUE!"},{"$error":"#N/A"},"",{"$f":"IFERROR(VLOOKUP(S233,Journal!$R:$AV,32,FALSE),\"\")","v":""},null,null,"2020-10-19","Monday",{"$f":"IFERROR(VLOOKUP(AA233, 'Daily Snapshot'!$B:$J,7,FALSE),\"\")","v":""},"","",null,null,230,{"$f":"IFERROR(VLOOKUP(AH233,Journal!$R:$S,2,FALSE),\"\")","v":""},0,0,null,null,null,null,null,null,null,230,"2020-11-17","Tuesday",{"$f":"IFERROR(COUNTIFS(Journal!$S:$S,\"W\",Journal!$B:$B,AT233)/VLOOKUP(AT233,G262:K526,5,FALSE),\"no trades\")","v":"no trades"},null,null,null,null,null,null,null,null,null,null,null,204,0,25025.38,{"$error":"#N/A"}]
[null,null,null,null,null,202,"2020-10-08","Thursday",0,{"$error":"#N/A"},{"$f":"COUNTIFS(Journal!$S:$S,\"?\",Journal!$B:$B,$G234)","v":0},{"$f":"SUMIFS(Journal!$Q:$Q, Journal!$B:$B,$G234)","v":0},{"$f":"COUNTIF(Journal!$B:$B,$G234)","v":0},{"$f":"SUMIFS(Journal!$N:$N, Journal!$B:$B,$G234)","v":0},0,null,25023.63,null,211,{"$f":"IFERROR(VLOOKUP(S234,Journal!$R:$AQ,26,FALSE),\"\")","v":""},{"$error":"#VALUE!"},{"$error":"#N/A"},"",{"$f":"IFERROR(VLOOKUP(S234,Journal!$R:$AV,32,FALSE),\"\")","v":""},null,null,"2020-10-20","Tuesday",{"$f":"IFERROR(VLOOKUP(AA234, 'Daily Snapshot'!$B:$J,7,FALSE),\"\")","v":""},"","",null,null,231,{"$f":"IFERROR(VLOOKUP(AH234,Journal!$R:$S,2,FALSE),\"\")","v":""},0,0,null,null,null,null,null,null,null,231,{"$f":"G263","v":"2020-11-18"},{"$f":"TEXT(AT234,\"dddd\")","v":"Wednesday"},{"$f":"IFERROR(COUNTIFS(Journal!$S:$S,\"W\",Journal!$B:$B,AT234)/VLOOKUP(AT234,G263:K527,5,FALSE),\"no trades\")","v":"no trades"},null,null,null,null,null,null,null,null,null,null,null,205,0,25025.38,{"$error":"#N/A"}]
[null,null,null,null,null,203,"2020-10-09","Friday",0,{"$error":"#N/A"},{"$f":"COUNTIFS(Journal!$S:$S,\"?\",Journal!$B:$B,$G235)","v":0},{"$f":"SUMIFS(Journal!$Q:$Q, Journal!$B:$B,$G235)","v":0},{"$f":"COUNTIF(Journal!$B:$B,$G235)","v":0},{"$f":"SUMIFS(Journal!$N:$N, Journal!$B:$B,$G235)","v":0},0,null,25023.63,null,212,{"$f":"IFERROR(VLOOKUP(S235,Journal!$R:$AQ,26,FALSE),\"\")","v":""},{"$error":"#VALUE!"},{"$error":"#N/A"},"",{"$f":"IFERROR(VLOOKUP(S235,Journal!$R:$AV,32,FALSE),\"\")","v":""},null,null,"2020-10-21","Wednesday",{"$f":"IFERROR(VLOOKUP(AA235, 'Daily Snapshot'!$B:$J,7,FALSE),\"\")","v":""},"","",null,null,232,{"$f":"IFERROR(VLOOKUP(AH235,Journal!$R:$S,2,FALSE),\"\")","v":""},0,0,null,null,null,null,null,null,null,232,"2020-11-19","Thursday",{"$f":"IFERROR(COUNTIFS(Journal!$S:$S,\"W\",Journal!$B:$B,AT235)/VLOOKUP(AT235,G264:K528,5,FALSE),\"no trades\")","v":"no trades"},null,null,null,null,null,null,null,null,null,null,null,206,0,25025.38,{"$error":"#N/A"}]
[null,null,null,null,null,204,"2020-10-12","Monday",0,{"$error":"#N/A"},{"$f":"COUNTIFS(Journal!$S:$S,\"?\",Journal!$B:$B,$G236)","v":0},{"$f":"SUMIFS(Journal!$Q:$Q, Journal!$B:$B,$G236)","v":0},{"$f":"COUNTIF(Journal!$B:$B,$G236)","v":0},{"$f":"SUMIFS(Journal!$N:$N, Journal!$B:$B,$G236)","v":0},0,null,25023.63,null,213,{"$f":"IFERROR(VLOOKUP(S236,Journal!$R:$AQ,26,FALSE),\"\")","v":""},{"$error":"#VALUE!"},{"$error":"#N/A"},"",{"$f":"IFERROR(VLOOKUP(S236,Journal!$R:$AV,32,FALSE),\"\")","v":""},null,null,"2020-10-22","Thursday",{"$f":"IFERROR(VLOOKUP(AA236, 'Daily Snapshot'!$B:$J,7,FALSE),\"\")","v":""},"","",null,null,233,{"$f":"IFERROR(VLOOKUP(AH236,Journal!$R:$S,2,FALSE),\"\")","v":""},0,0,null,null,null,null,null,null,null,233,"2020-11-20","Friday",{"$f":"IFERROR(COUNTIFS(Journal!$S:$S,\"W\",Journal!$B:$B,AT236)/VLOOKUP(AT236,G265:K529,5,FALSE),\"no trades\")","v":"no trades"},null,null,null,null,null,null,null,null,null,null,null,207,0,25025.38,{"$error":"#N/A"}]
[null,null,null,null,null,205,"2020-10-13","Tuesday",0,{"$error":"#N/A"},{"$f":"COUNTIFS(Journal!$S:$S,\"?\",Journal!$B:$B,$G237)","v":0},{"$f":"SUMIFS(Journal!$Q:$Q, Journal!$B:$B,$G237)","v":0},{"$f":"COUNTIF(Journal!$B:$B,$G237)","v":0},{"$f":"SUMIFS(Journal!$N:$N, Journal!$B:$B,$G237)","v":0},0,null,25023.63,null,214,{"$f":"IFERROR(VLOOKUP(S237,Journal!$R:$AQ,26,FALSE),\"\")","v":""},{"$error":"#VALUE!"},{"$error":"#N/A"},"",{"$f":"IFERROR(VLOOKUP(S237,Journal!$R:$AV,32,FALSE),\"\")","v":""},null,null,"2020-10-23","Friday",{"$f":"IFERROR(VLOOKUP(AA237, 'Daily Snapshot'!$B:$J,7,FALSE),\"\")","v":""},"","",null,null,234,{"$f":"IFERROR(VLOOKUP(AH237,Journal!$R:$S,2,FALSE),\"\")","v":""},0,0,null,null,null,null,null,null,null,234,"2020-11-23","Monday",{"$f":"IFERROR(COUNTIFS(Journal!$S:$S,\"W\",Journal!$B:$B,AT237)/VLOOKUP(AT237,G266:K530,5,FALSE),\"no trades\")","v":"no trades"},null,null,null,null,null,null,null,null,null,null,null,208,0,25025.38,{"$error":"#N/A"}]
[null,null,null,null,null,206,"2020-10-14","Wednesday",0,{"$error":"#N/A"},{"$f":"COUNTIFS(Journal!$S:$S,\"?\",Journal!$B:$B,$G238)","v":0},{"$f":"SUMIFS(Journal!$Q:$Q, Journal!$B:$B,$G238)","v":0},{"$f":"COUNTIF(Journal!$B:$B,$G238)","v":0},{"$f":"SUMIFS(Journal!$N:$N, Journal!$B:$B,$G238)","v":0},0,null,25023.63,null,215,{"$f":"IFERROR(VLOOKUP(S238,Journal!$R:$AQ,26,FALSE),\"\")","v":""},{"$error":"#VALUE!"},{"$error":"#N/A"},"",{"$f":"IFERROR(VLOOKUP(S238,Journal!$R:$AV,32,FALSE),\"\")","v":""},null,null,"2020-10-26","Monday",{"$f":"IFERROR(VLOOKUP(AA238, 'Daily Snapshot'!$B:$J,7,FALSE),\"\")","v":""},"","",null,null,235,{"$f":"IFERROR(VLOOKUP(AH238,Journal!$R:$S,2,FALSE),\"\")","v":""},0,0,null,null,null,null,null,null,null,235,"2020-11-24","Tuesday",{"$f":"IFERROR(COUNTIFS(Journal!$S:$S,\"W\",Journal!$B:$B,AT238)/VLOOKUP(AT238,G267:K531,5,FALSE),\"no trades\")","v":"no trades"},null,null,null,null,null,null,null,null,null,null,null,209,0,25025.38,{"$error":"#N/A"}]
[null,null,null,null,null,207,"2020-10-15","Thursday",0,{"$error":"#N/A"},{"$f":"COUNTIFS(Journal!$S:$S,\"?\",Journal!$B:$B,$G239)","v":0},{"$f":"SUMIFS(Journal!$Q:$Q, Journal!$B:$B,$G239)","v":0},{"$f":"COUNTIF(Journal!$B:$B,$G239)","v":0},{"$f":"SUMIFS(Journal!$N:$N, Journal!$B:$B,$G239)","v":0},0,null,25023.63,null,216,{"$f":"IFERROR(VLOOKUP(S239,Journal!$R:$AQ,26,FALSE),\"\")","v":""},{"$error":"#VALUE!"},{"$error":"#N/A"},"",{"$f":"IFERROR(VLOOKUP(S239,Journal!$R:$AV,32,FALSE),\"\")","v":""},null,null,"2020-10-27","Tuesday",{"$f":"IFERROR(VLOOKUP(AA239, 'Daily Snapshot'!$B:$J,7,FALSE),\"\")","v":""},"","",null,null,236,{"$f":"IFERROR(VLOOKUP(AH239,Journal!$R:$S,2,FALSE),\"\")","v":""},0,0,null,null,null,null,null,null,null,236,"2020-11-25","Wednesday",{"$f":"IFERROR(COUNTIFS(Journal!$S:$S,\"W\",Journal!$B:$B,AT239)/VLOOKUP(AT239,G268:K532,5,FALSE),\"no trades\")","v":"no trades"},null,null,null,null,null,null,null,null,null,null,null,210,0,25025.38,{"$error":"#N/A"}]
[null,null,null,null,null,208,"2020-10-16","Friday",0,{"$error":"#N/A"},{"$f":"COUNTIFS(Journal!$S:$S,\"?\",Journal!$B:$B,$G240)","v":0},{"$f":"SUMIFS(Journal!$Q:$Q, Journal!$B:$B,$G240)","v":0},{"$f":"COUNTIF(Journal!$B:$B,$G240)","v":0},{"$f":"SUMIFS(Journal!$N:$N, Journal!$B:$B,$G240)","v":0},0,null,25023.63,null,217,{"$f":"IFERROR(VLOOKUP(S240,Journal!$R:$AQ,26,FALSE),\"\")","v":""},{"$error":"#VALUE!"},{"$error":"#N/A"},"",{"$f":"IFERROR(VLOOKUP(S240,Journal!$R:$AV,32,FALSE),\"\")","v":""},null,null,"2020-10-28","Wednesday",{"$f":"IFERROR(VLOOKUP(AA240, 'Daily Snapshot'!$B:$J,7,FALSE),\"\")","v":""},"","",null,null,237,{"$f":"IFERROR(VLOOKUP(AH240,Journal!$R:$S,2,FALSE),\"\")","v":""},0,0,null,null,null,null,null,null,null,237,"2020-11-27","Friday",{"$f":"IFERROR(COUNTIFS(Journal!$S:$S,\"W\",Journal!$B:$B,AT240)/VLOOKUP(AT240,G269:K533,5,FALSE),\"no trades\")","v":"no trades"},null,null,null,null,null,null,null,null,null,null,null,211,0,25025.38,{"$error":"#N/A"}]
[null,null,null,null,null,209,"2020-10-19","Monday",0,{"$error":"#N/A"},{"$f":"COUNTIFS(Journal!$S:$S,\"?\",Journal!$B:$B,$G241)","v":0},{"$f":"SUMIFS(Journal!$Q:$Q, Journal!$B:$B,$G241)","v":0},{"$f":"COUNTIF(Journal!$B:$B,$G241)","v":0},{"$f":"SUMIFS(Journal!$N:$N, Journal!$B:$B,$G241)","v":0},0,null,25023.63,null,218,{"$f":"IFERROR(VLOOKUP(S241,Journal!$R:$AQ,26,FALSE),\"\")","v":""},{"$error":"#VALUE!"},{"$error":"#N/A"},"",{"$f":"IFERROR(VLOOKUP(S241,Journal!$R:$AV,32,FALSE),\"\")","v":""},null,null,"2020-10-29","Thursday",{"$f":"IFERROR(VLOOKUP(AA241, 'Daily Snapshot'!$B:$J,7,FALSE),\"\")","v":""},"","",null,null,238,{"$f":"IFERROR(VLOOKUP(AH241,Journal!$R:$S,2,FALSE),\"\")","v":""},0,0,null,null,null,null,null,null,null,238,"2020-11-30","Monday",{"$f":"IFERROR(COUNTIFS(Journal!$S:$S,\"W\",Journal!$B:$B,AT241)/VLOOKUP(AT241,G270:K534,5,FALSE),\"no trades\")","v":"no trades"},null,null,null,null,null,null,null,null,null,null,null,212,0,25025.38,{"$error":"#N/A"}]
[null,null,null,null,null,210,"2020-10-20","Tuesday",0,{"$error":"#N/A"},{"$f":"COUNTIFS(Journal!$S:$S,\"?\",Journal!$B:$B,$G242)","v":0},{"$f":"SUMIFS(Journal!$Q:$Q, Journal!$B:$B,$G242)","v":0},{"$f":"COUNTIF(Journal!$B:$B,$G242)","v":0},{"$f":"SUMIFS(Journal!$N:$N, Journal!$B:$B,$G242)","v":0},0,null,25023.63,null,219,{"$f":"IFERROR(VLOOKUP(S242,Journal!$R:$AQ,26,FALSE),\"\")","v":""},{"$error":"#VALUE!"},{"$error":"#N/A"},"",{"$f":"IFERROR(VLOOKUP(S242,Journal!$R:$AV,32,FALSE),\"\")","v":""},null,null,"2020-10-30","Friday",{"$f":"IFERROR(VLOOKUP(AA242, 'Daily Snapshot'!$B:$J,7,FALSE),\"\")","v":""},"","",null,null,239,{"$f":"IFERROR(VLOOKUP(AH242,Journal!$R:$S,2,FALSE),\"\")","v":""},0,0,null,null,null,null,null,null,null,239,"2020-12-01","Tuesday",{"$f":"IFERROR(COUNTIFS(Journal!$S:$S,\"W\",Journal!$B:$B,AT242)/VLOOKUP(AT242,G271:K535,5,FALSE),\"no trades\")","v":"no trades"},null,null,null,null,null,null,null,null,null,null,null,213,0,25025.38,{"$error":"#N/A"}]
[null,null,null,null,null,211,"2020-10-21","Wednesday",0,{"$error":"#N/A"},{"$f":"COUNTIFS(Journal!$S:$S,\"?\",Journal!$B:$B,$G243)","v":0},{"$f":"SUMIFS(Journal!$Q:$Q, Journal!$B:$B,$G243)","v":0},{"$f":"COUNTIF(Journal!$B:$B,$G243)","v":0},{"$f":"SUMIFS(Journal!$N:$N, Journal!$B:$B,$G243)","v":0},0,null,25023.63,null,220,{"$f":"IFERROR(VLOOKUP(S243,Journal!$R:$AQ,26,FALSE),\"\")","v":""},{"$error":"#VALUE!"},{"$error":"#N/A"},"",{"$f":"IFERROR(VLOOKUP(S243,Journal!$R:$AV,32,FALSE),\"\")","v":""},null,null,"2020-11-02","Monday",{"$f":"IFERROR(VLOOKUP(AA243, 'Daily Snapshot'!$B:$J,7,FALSE),\"\")","v":""},"","",null,null,240,{"$f":"IFERROR(VLOOKUP(AH243,Journal!$R:$S,2,FALSE),\"\")","v":""},0,0,null,null,null,null,null,null,null,240,"2020-12-02","Wednesday",{"$f":"IFERROR(COUNTIFS(Journal!$S:$S,\"W\",Journal!$B:$B,AT243)/VLOOKUP(AT243,G272:K536,5,FALSE),\"no trades\")","v":"no trades"},null,null,null,null,null,null,null,null,null,null,null,214,0,25025.38,{"$error":"#N/A"}]
[null,null,null,null,null,212,"2020-10-22","Thursday",0,{"$error":"#N/A"},{"$f":"COUNTIFS(Journal!$S:$S,\"?\",Journal!$B:$B,$G244)","v":0},{"$f":"SUMIFS(Journal!$Q:$Q, Journal!$B:$B,$G244)","v":0},{"$f":"COUNTIF(Journal!$B:$B,$G244)","v":0},{"$f":"SUMIFS(Journal!$N:$N, Journal!$B:$B,$G244)","v":0},0,null,25023.63,null,221,{"$f":"IFERROR(VLOOKUP(S244,Journal!$R:$AQ,26,FALSE),\"\")","v":""},{"$error":"#VALUE!"},{"$error":"#N/A"},"",{"$f":"IFERROR(VLOOKUP(S244,Journal!$R:$AV,32,FALSE),\"\")","v":""},null,null,"2020-11-03","Tuesday",{"$f":"IFERROR(VLOOKUP(AA244, 'Daily Snapshot'!$B:$J,7,FALSE),\"\")","v":""},"","",null,null,241,{"$f":"IFERROR(VLOOKUP(AH244,Journal!$R:$S,2,FALSE),\"\")","v":""},0,0,null,null,null,null,null,null,null,241,"2020-12-03","Thursday",{"$f":"IFERROR(COUNTIFS(Journal!$S:$S,\"W\",Journal!$B:$B,AT244)/VLOOKUP(AT244,G273:K537,5,FALSE),\"no trades\")","v":"no trades"},null,null,null,null,null,null,null,null,null,null,null,215,0,25025.38,{"$error":"#N/A"}]
[null,null,null,null,null,213,"2020-10-23","Friday",0,{"$error":"#N/A"},{"$f":"COUNTIFS(Journal!$S:$S,\"?\",Journal!$B:$B,$G245)","v":0},{"$f":"SUMIFS(Journal!$Q:$Q, Journal!$B:$B,$G245)","v":0},{"$f":"COUNTIF(Journal!$B:$B,$G245)","v":0},{"$f":"SUMIFS(Journal!$N:$N, Journal!$B:$B,$G245)","v":0},0,null,25023.63,null,222,{"$f":"IFERROR(VLOOKUP(S245,Journal!$R:$AQ,26,FALSE),\"\")","v":""},{"$error":"#VALUE!"},{"$error":"#N/A"},"",{"$f":"IFERROR(VLOOKUP(S245,Journal!$R:$AV,32,FALSE),\"\")","v":""},null,null,"2020-11-04","Wednesday",{"$f":"IFERROR(VLOOKUP(AA245, 'Daily Snapshot'!$B:$J,7,FALSE),\"\")","v":""},"","",null,null,242,{"$f":"IFERROR(VLOOKUP(AH245,Journal!$R:$S,2,FALSE),\"\")","v":""},0,0,null,null,null,null,null,null,null,242,"2020-12-04","Friday",{"$f":"IFERROR(COUNTIFS(Journal!$S:$S,\"W\",Journal!$B:$B,AT245)/VLOOKUP(AT245,G274:K538,5,FALSE),\"no trades\")","v":"no trades"},null,null,null,null,null,null,null,null,null,null,null,216,0,25025.38,{"$error":"#N/A"}]
[null,null,null,null,null,214,"2020-10-26","Monday",0,{"$error":"#N/A"},{"$f":"COUNTIFS(Journal!$S:$S,\"?\",Journal!$B:$B,$G246)","v":0},{"$f":"SUMIFS(Journal!$Q:$Q, Journal!$B:$B,$G246)","v":0},{"$f":"COUNTIF(Journal!$B:$B,$G246)","v":0},{"$f":"SUMIFS(Journal!$N:$N, Journal!$B:$B,$G246)","v":0},0,null,25023.63,null,223,{"$f":"IFERROR(VLOOKUP(S246,Journal!$R:$AQ,26,FALSE),\"\")","v":""},{"$error":"#VALUE!"},{"$error":"#N/A"},"",{"$f":"IFERROR(VLOOKUP(S246,Journal!$R:$AV,32,FALSE),\"\")","v":""},null,null,"2020-11-05","Thursday",{"$f":"IFERROR(VLOOKUP(AA246, 'Daily Snapshot'!$B:$J,7,FALSE),\"\")","v":""},"","",null,null,243,{"$f":"IFERROR(VLOOKUP(AH246,Journal!$R:$S,2,FALSE),\"\")","v":""},0,0,null,null,null,null,null,null,null,243,"2020-12-07","Monday",{"$f":"IFERROR(COUNTIFS(Journal!$S:$S,\"W\",Journal!$B:$B,AT246)/VLOOKUP(AT246,G275:K539,5,FALSE),\"no trades\")","v":"no trades"},null,null,null,null,null,null,null,null,null,null,null,217,0,25025.38,{"$error":"#N/A"}]
[null,null,null,null,null,215,"2020-10-27","Tuesday",0,{"$error":"#N/A"},{"$f":"COUNTIFS(Journal!$S:$S,\"?\",Journal!$B:$B,$G247)","v":0},{"$f":"SUMIFS(Journal!$Q:$Q, Journal!$B:$B,$G247)","v":0},{"$f":"COUNTIF(Journal!$B:$B,$G247)","v":0},{"$f":"SUMIFS(Journal!$N:$N, Journal!$B:$B,$G247)","v":0},0,null,25023.63,null,224,{"$f":"IFERROR(VLOOKUP(S247,Journal!$R:$AQ,26,FALSE),\"\")","v":""},{"$error":"#VALUE!"},{"$error":"#N/A"},"",{"$f":"IFERROR(VLOOKUP(S247,Journal!$R:$AV,32,FALSE),\"\")","v":""},null,null,"2020-11-06","Friday",{"$f":"IFERROR(VLOOKUP(AA247, 'Daily Snapshot'!$B:$J,7,FALSE),\"\")","v":""},"","",null,null,244,{"$f":"IFERROR(VLOOKUP(AH247,Journal!$R:$S,2,FALSE),\"\")","v":""},0,0,null,null,null,null,null,null,null,244,"2020-12-08","Tuesday",{"$f":"IFERROR(COUNTIFS(Journal!$S:$S,\"W\",Journal!$B:$B,AT247)/VLOOKUP(AT247,G276:K540,5,FALSE),\"no trades\")","v":"no trades"},null,null,null,null,null,null,null,null,null,null,null,218,0,25025.38,{"$error":"#N/A"}]
[null,null,null,null,null,216,"2020-10-28","Wednesday",0,{"$error":"#N/A"},{"$f":"COUNTIFS(Journal!$S:$S,\"?\",Journal!$B:$B,$G248)","v":0},{"$f":"SUMIFS(Journal!$Q:$Q, Journal!$B:$B,$G248)","v":0},{"$f":"COUNTIF(Journal!$B:$B,$G248)","v":0},{"$f":"SUMIFS(Journal!$N:$N, Journal!$B:$B,$G248)","v":0},0,null,25023.63,null,225,{"$f":"IFERROR(VLOOKUP(S248,Journal!$R:$AQ,26,FALSE),\"\")","v":""},{"$error":"#VALUE!"},{"$error":"#N/A"},"",{"$f":"IFERROR(VLOOKUP(S248,Journal!$R:$AV,32,FALSE),\"\")","v":""},null,null,"2020-11-09","Monday",{"$f":"IFERROR(VLOOKUP(AA248, 'Daily Snapshot'!$B:$J,7,FALSE),\"\")","v":""},"","",null,null,245,{"$f":"IFERROR(VLOOKUP(AH248,Journal!$R:$S,2,FALSE),\"\")","v":""},0,0,null,null,null,null,null,null,null,245,"2020-12-09","Wednesday",{"$f":"IFERROR(COUNTIFS(Journal!$S:$S,\"W\",Journal!$B:$B,AT248)/VLOOKUP(AT248,G277:K541,5,FALSE),\"no trades\")","v":"no trades"},null,null,null,null,null,null,null,null,null,null,null,219,0,25025.38,{"$error":"#N/A"}]
[null,null,null,null,null,217,"2020-10-29","Thursday",0,{"$error":"#N/A"},{"$f":"COUNTIFS(Journal!$S:$S,\"?\",Journal!$B:$B,$G249)","v":0},{"$f":"SUMIFS(Journal!$Q:$Q, Journal!$B:$B,$G249)","v":0},{"$f":"COUNTIF(Journal!$B:$B,$G249)","v":0},{"$f":"SUMIFS(Journal!$N:$N, Journal!$B:$B,$G249)","v":0},0,null,25023.63,null,226,{"$f":"IFERROR(VLOOKUP(S249,Journal!$R:$AQ,26,FALSE),\"\")","v":""},{"$error":"#VALUE!"},{"$error":"#N/A"},"",{"$f":"IFERROR(VLOOKUP(S249,Journal!$R:$AV,32,FALSE),\"\")","v":""},null,null,"2020-11-10","Tuesday",{"$f":"IFERROR(VLOOKUP(AA249, 'Daily Snapshot'!$B:$J,7,FALSE),\"\")","v":""},"","",null,null,246,{"$f":"IFERROR(VLOOKUP(AH249,Journal!$R:$S,2,FALSE),\"\")","v":""},0,0,null,null,null,null,null,null,null,246,"2020-12-10","Thursday",{"$f":"IFERROR(COUNTIFS(Journal!$S:$S,\"W\",Journal!$B:$B,AT249)/VLOOKUP(AT249,G278:K542,5,FALSE),\"no trades\")","v":"no trades"},null,null,null,null,null,null,null,null,null,null,null,220,0,25025.38,{"$error":"#N/A"}]
[null,null,null,null,null,218,"2020-10-30","Friday",0,{"$error":"#N/A"},{"$f":"COUNTIFS(Journal!$S:$S,\"?\",Journal!$B:$B,$G250)","v":0},{"$f":"SUMIFS(Journal!$Q:$Q, Journal!$B:$B,$G250)","v":0},{"$f":"COUNTIF(Journal!$B:$B,$G250)","v":0},{"$f":"SUMIFS(Journal!$N:$N, Journal!$B:$B,$G250)","v":0},0,null,25023.63,null,227,{"$f":"IFERROR(VLOOKUP(S250,Journal!$R:$AQ,26,FALSE),\"\")","v":""},{"$error":"#VALUE!"},{"$error":"#N/A"},"",{"$f":"IFERROR(VLOOKUP(S250,Journal!$R:$AV,32,FALSE),\"\")","v":""},null,null,"2020-11-11","Wednesday",{"$f":"IFERROR(VLOOKUP(AA250, 'Daily Snapshot'!$B:$J,7,FALSE),\"\")","v":""},"","",null,null,247,{"$f":"IFERROR(VLOOKUP(AH250,Journal!$R:$S,2,FALSE),\"\")","v":""},0,0,null,null,null,null,null,null,null,247,"2020-12-11","Friday",{"$f":"IFERROR(COUNTIFS(Journal!$S:$S,\"W\",Journal!$B:$B,AT250)/VLOOKUP(AT250,G279:K543,5,FALSE),\"no trades\")","v":"no trades"},null,null,null,null,null,null,null,null,null,null,null,221,0,25025.38,{"$error":"#N/A"}]
[null,null,null,null,null,219,"2020-11-02","Monday",0,{"$error":"#N/A"},{"$f":"COUNTIFS(Journal!$S:$S,\"?\",Journal!$B:$B,$G251)","v":0},{"$f":"SUMIFS(Journal!$Q:$Q, Journal!$B:$B,$G251)","v":0},{"$f":"COUNTIF(Journal!$B:$B,$G251)","v":0},{"$f":"SUMIFS(Journal!$N:$N, Journal!$B:$B,$G251)","v":0},0,null,25023.63,null,228,{"$f":"IFERROR(VLOOKUP(S251,Journal!$R:$AQ,26,FALSE),\"\")","v":""},{"$error":"#VALUE!"},{"$error":"#N/A"},"",{"$f":"IFERROR(VLOOKUP(S251,Journal!$R:$AV,32,FALSE),\"\")","v":""},null,null,"2020-11-12","Thursday",{"$f":"IFERROR(VLOOKUP(AA251, 'Daily Snapshot'!$B:$J,7,FALSE),\"\")","v":""},"","",null,null,248,{"$f":"IFERROR(VLOOKUP(AH251,Journal!$R:$S,2,FALSE),\"\")","v":""},0,0,null,null,null,null,null,null,null,248,"2020-12-14","Monday",{"$f":"IFERROR(COUNTIFS(Journal!$S:$S,\"W\",Journal!$B:$B,AT251)/VLOOKUP(AT251,G280:K544,5,FALSE),\"no trades\")","v":"no trades"},null,null,null,null,null,null,null,null,null,null,null,222,0,25025.38,{"$error":"#N/A"}]
[null,null,null,null,null,220,"2020-11-03","Tuesday",0,{"$error":"#N/A"},{"$f":"COUNTIFS(Journal!$S:$S,\"?\",Journal!$B:$B,$G252)","v":0},{"$f":"SUMIFS(Journal!$Q:$Q, Journal!$B:$B,$G252)","v":0},{"$f":"COUNTIF(Journal!$B:$B,$G252)","v":0},{"$f":"SUMIFS(Journal!$N:$N, Journal!$B:$B,$G252)","v":0},0,null,25023.63,null,229,{"$f":"IFERROR(VLOOKUP(S252,Journal!$R:$AQ,26,FALSE),\"\")","v":""},{"$error":"#VALUE!"},{"$error":"#N/A"},"",{"$f":"IFERROR(VLOOKUP(S252,Journal!$R:$AV,32,FALSE),\"\")","v":""},null,null,"2020-11-13","Friday",{"$f":"IFERROR(VLOOKUP(AA252, 'Daily Snapshot'!$B:$J,7,FALSE),\"\")","v":""},"","",null,null,249,{"$f":"IFERROR(VLOOKUP(AH252,Journal!$R:$S,2,FALSE),\"\")","v":""},0,0,null,null,null,null,null,null,null,249,"2020-12-15","Tuesday",{"$f":"IFERROR(COUNTIFS(Journal!$S:$S,\"W\",Journal!$B:$B,AT252)/VLOOKUP(AT252,G281:K545,5,FALSE),\"no trades\")","v":"no trades"},null,null,null,null,null,null,null,null,null,null,null,223,0,25025.38,{"$error":"#N/A"}]
[null,null,null,null,null,221,"2020-11-04","Wednesday",0,{"$error":"#N/A"},{"$f":"COUNTIFS(Journal!$S:$S,\"?\",Journal!$B:$B,$G253)","v":0},{"$f":"SUMIFS(Journal!$Q:$Q, Journal!$B:$B,$G253)","v":0},{"$f":"COUNTIF(Journal!$B:$B,$G253)","v":0},{"$f":"SUMIFS(Journal!$N:$N, Journal!$B:$B,$G253)","v":0},0,null,25023.63,null,230,{"$f":"IFERROR(VLOOKUP(S253,Journal!$R:$AQ,26,FALSE),\"\")","v":""},{"$error":"#VALUE!"},{"$error":"#N/A"},"",{"$f":"IFERROR(VLOOKUP(S253,Journal!$R:$AV,32,FALSE),\"\")","v":""},null,null,"2020-11-16","Monday",{"$f":"IFERROR(VLOOKUP(AA253, 'Daily Snapshot'!$B:$J,7,FALSE),\"\")","v":""},"","",null,null,250,{"$f":"IFERROR(VLOOKUP(AH253,Journal!$R:$S,2,FALSE),\"\")","v":""},0,0,null,null,null,null,null,null,null,250,"2020-12-16","Wednesday",{"$f":"IFERROR(COUNTIFS(Journal!$S:$S,\"W\",Journal!$B:$B,AT253)/VLOOKUP(AT253,G282:K546,5,FALSE),\"no trades\")","v":"no trades"},null,null,null,null,null,null,null,null,null,null,null,224,0,25025.38,{"$error":"#N/A"}]
[null,null,null,null,null,222,"2020-11-05","Thursday",0,{"$error":"#N/A"},{"$f":"COUNTIFS(Journal!$S:$S,\"?\",Journal!$B:$B,$G254)","v":0},{"$f":"SUMIFS(Journal!$Q:$Q, Journal!$B:$B,$G254)","v":0},{"$f":"COUNTIF(Journal!$B:$B,$G254)","v":0},{"$f":"SUMIFS(Journal!$N:$N, Journal!$B:$B,$G254)","v":0},0,null,25023.63,null,231,{"$f":"IFERROR(VLOOKUP(S254,Journal!$R:$AQ,26,FALSE),\"\")","v":""},{"$error":"#VALUE!"},{"$error":"#N/A"},"",{"$f":"IFERROR(VLOOKUP(S254,Journal!$R:$AV,32,FALSE),\"\")","v":""},null,null,"2020-11-17","Tuesday",{"$f":"IFERROR(VLOOKUP(AA254, 'Daily Snapshot'!$B:$J,7,FALSE),\"\")","v":""},"","",null,null,251,{"$f":"IFERROR(VLOOKUP(AH254,Journal!$R:$S,2,FALSE),\"\")","v":""},0,0,null,null,null,null,null,null,null,251,"2020-12-17","Thursday",{"$f":"IFERROR(COUNTIFS(Journal!$S:$S,\"W\",Journal!$B:$B,AT254)/VLOOKUP(AT254,G283:K547,5,FALSE),\"no trades\")","v":"no trades"},null,null,null,null,null,null,null,null,null,null,null,225,0,25025.38,{"$error":"#N/A"}]
[null,null,null,null,null,223,"2020-11-06","Friday",0,{"$error":"#N/A"},{"$f":"COUNTIFS(Journal!$S:$S,\"?\",Journal!$B:$B,$G255)","v":0},{"$f":"SUMIFS(Journal!$Q:$Q, Journal!$B:$B,$G255)","v":0},{"$f":"COUNTIF(Journal!$B:$B,$G255)","v":0},{"$f":"SUMIFS(Journal!$N:$N, Journal!$B:$B,$G255)","v":0},0,null,25023.63,null,232,{"$f":"IFERROR(VLOOKUP(S255,Journal!$R:$AQ,26,FALSE),\"\")","v":""},{"$error":"#VALUE!"},{"$error":"#N/A"},"",{"$f":"IFERROR(VLOOKUP(S255,Journal!$R:$AV,32,FALSE),\"\")","v":""},null,null,"2020-11-18","Wednesday",{"$f":"IFERROR(VLOOKUP(AA255, 'Daily Snapshot'!$B:$J,7,FALSE),\"\")","v":""},"","",null,null,252,{"$f":"IFERROR(VLOOKUP(AH255,Journal!$R:$S,2,FALSE),\"\")","v":""},0,0,null,null,null,null,null,null,null,252,"2020-12-18","Friday",{"$f":"IFERROR(COUNTIFS(Journal!$S:$S,\"W\",Journal!$B:$B,AT255)/VLOOKUP(AT255,G284:K548,5,FALSE),\"no trades\")","v":"no trades"},null,null,null,null,null,null,null,null,null,null,null,226,0,25025.38,{"$error":"#N/A"}]
[null,null,null,null,null,224,"2020-11-09","Monday",0,{"$error":"#N/A"},{"$f":"COUNTIFS(Journal!$S:$S,\"?\",Journal!$B:$B,$G256)","v":0},{"$f":"SUMIFS(Journal!$Q:$Q, Journal!$B:$B,$G256)","v":0},{"$f":"COUNTIF(Journal!$B:$B,$G256)","v":0},{"$f":"SUMIFS(Journal!$N:$N, Journal!$B:$B,$G256)","v":0},0,null,25023.63,null,233,{"$f":"IFERROR(VLOOKUP(S256,Journal!$R:$AQ,26,FALSE),\"\")","v":""},{"$error":"#VALUE!"},{"$error":"#N/A"},"",{"$f":"IFERROR(VLOOKUP(S256,Journal!$R:$AV,32,FALSE),\"\")","v":""},null,null,"2020-11-19","Thursday",{"$f":"IFERROR(VLOOKUP(AA256, 'Daily Snapshot'!$B:$J,7,FALSE),\"\")","v":""},"","",null,null,253,{"$f":"IFERROR(VLOOKUP(AH256,Journal!$R:$S,2,FALSE),\"\")","v":""},0,0,null,null,null,null,null,null,null,253,"2020-12-21","Monday",{"$f":"IFERROR(COUNTIFS(Journal!$S:$S,\"W\",Journal!$B:$B,AT256)/VLOOKUP(AT256,G285:K549,5,FALSE),\"no trades\")","v":"no trades"},null,null,null,null,null,null,null,null,null,null,null,227,0,25025.38,{"$error":"#N/A"}]
[null,null,null,null,null,225,"2020-11-10","Tuesday",0,{"$error":"#N/A"},{"$f":"COUNTIFS(Journal!$S:$S,\"?\",Journal!$B:$B,$G257)","v":0},{"$f":"SUMIFS(Journal!$Q:$Q, Journal!$B:$B,$G257)","v":0},{"$f":"COUNTIF(Journal!$B:$B,$G257)","v":0},{"$f":"SUMIFS(Journal!$N:$N, Journal!$B:$B,$G257)","v":0},0,null,25023.63,null,234,{"$f":"IFERROR(VLOOKUP(S257,Journal!$R:$AQ,26,FALSE),\"\")","v":""},{"$error":"#VALUE!"},{"$error":"#N/A"},"",{"$f":"IFERROR(VLOOKUP(S257,Journal!$R:$AV,32,FALSE),\"\")","v":""},null,null,"2020-11-20","Friday",{"$f":"IFERROR(VLOOKUP(AA257, 'Daily Snapshot'!$B:$J,7,FALSE),\"\")","v":""},"","",null,null,254,{"$f":"IFERROR(VLOOKUP(AH257,Journal!$R:$S,2,FALSE),\"\")","v":""},0,0,null,null,null,null,null,null,null,254,"2020-12-22","Tuesday",{"$f":"IFERROR(COUNTIFS(Journal!$S:$S,\"W\",Journal!$B:$B,AT257)/VLOOKUP(AT257,G286:K550,5,FALSE),\"no trades\")","v":"no trades"},null,null,null,null,null,null,null,null,null,null,null,228,0,25025.38,{"$error":"#N/A"}]
[null,null,null,null,null,226,"2020-11-11","Wednesday",0,{"$error":"#N/A"},{"$f":"COUNTIFS(Journal!$S:$S,\"?\",Journal!$B:$B,$G258)","v":0},{"$f":"SUMIFS(Journal!$Q:$Q, Journal!$B:$B,$G258)","v":0},{"$f":"COUNTIF(Journal!$B:$B,$G258)","v":0},{"$f":"SUMIFS(Journal!$N:$N, Journal!$B:$B,$G258)","v":0},0,null,25023.63,null,235,{"$f":"IFERROR(VLOOKUP(S258,Journal!$R:$AQ,26,FALSE),\"\")","v":""},{"$error":"#VALUE!"},{"$error":"#N/A"},"",{"$f":"IFERROR(VLOOKUP(S258,Journal!$R:$AV,32,FALSE),\"\")","v":""},null,null,"2020-11-23","Monday",{"$f":"IFERROR(VLOOKUP(AA258, 'Daily Snapshot'!$B:$J,7,FALSE),\"\")","v":""},"","",null,null,255,{"$f":"IFERROR(VLOOKUP(AH258,Journal!$R:$S,2,FALSE),\"\")","v":""},0,0,null,null,null,null,null,null,null,255,"2020-12-23","Wednesday",{"$f":"IFERROR(COUNTIFS(Journal!$S:$S,\"W\",Journal!$B:$B,AT258)/VLOOKUP(AT258,G287:K551,5,FALSE),\"no trades\")","v":"no trades"},null,null,null,null,null,null,null,null,null,null,null,229,0,25025.38,{"$error":"#N/A"}]
[null,null,null,null,null,227,"2020-11-12","Thursday",0,{"$error":"#N/A"},{"$f":"COUNTIFS(Journal!$S:$S,\"?\",Journal!$B:$B,$G259)","v":0},{"$f":"SUMIFS(Journal!$Q:$Q, Journal!$B:$B,$G259)","v":0},{"$f":"COUNTIF(Journal!$B:$B,$G259)","v":0},{"$f":"SUMIFS(Journal!$N:$N, Journal!$B:$B,$G259)","v":0},0,null,25023.63,null,236,{"$f":"IFERROR(VLOOKUP(S259,Journal!$R:$AQ,26,FALSE),\"\")","v":""},{"$error":"#VALUE!"},{"$error":"#N/A"},"",{"$f":"IFERROR(VLOOKUP(S259,Journal!$R:$AV,32,FALSE),\"\")","v":""},null,null,"2020-11-24","Tuesday",{"$f":"IFERROR(VLOOKUP(AA259, 'Daily Snapshot'!$B:$J,7,FALSE),\"\")","v":""},"","",null,null,256,{"$f":"IFERROR(VLOOKUP(AH259,Journal!$R:$S,2,FALSE),\"\")","v":""},0,0,null,null,null,null,null,null,null,256,"2020-12-24","Thursday",{"$f":"IFERROR(COUNTIFS(Journal!$S:$S,\"W\",Journal!$B:$B,AT259)/VLOOKUP(AT259,G288:K552,5,FALSE),\"no trades\")","v":"no trades"},null,null,null,null,null,null,null,null,null,null,null,230,0,25025.38,{"$error":"#N/A"}]
[null,null,null,null,null,228,"2020-11-13","Friday",0,{"$error":"#N/A"},{"$f":"COUNTIFS(Journal!$S:$S,\"?\",Journal!$B:$B,$G260)","v":0},{"$f":"SUMIFS(Journal!$Q:$Q, Journal!$B:$B,$G260)","v":0},{"$f":"COUNTIF(Journal!$B:$B,$G260)","v":0},{"$f":"SUMIFS(Journal!$N:$N, Journal!$B:$B,$G260)","v":0},0,null,25023.63,null,237,{"$f":"IFERROR(VLOOKUP(S260,Journal!$R:$AQ,26,FALSE),\"\")","v":""},{"$error":"#VALUE!"},{"$error":"#N/A"},"",{"$f":"IFERROR(VLOOKUP(S260,Journal!$R:$AV,32,FALSE),\"\")","v":""},null,null,"2020-11-25","Wednesday",{"$f":"IFERROR(VLOOKUP(AA260, 'Daily Snapshot'!$B:$J,7,FALSE),\"\")","v":""},"","",null,null,257,{"$f":"IFERROR(VLOOKUP(AH260,Journal!$R:$S,2,FALSE),\"\")","v":""},{"$f":"IF($AI260=\"W\", 1,0)","v":0},{"$f":"IF($AI260=\"L\", -1,0)","v":0},null,null,null,null,null,null,null,257,"2020-12-28","Monday",{"$f":"IFERROR(COUNTIFS(Journal!$S:$S,\"W\",Journal!$B:$B,AT260)/VLOOKUP(AT260,G289:K553,5,FALSE),\"no trades\")","v":"no trades"},null,null,null,null,null,null,null,null,null,null,null,231,0,25025.38,{"$error":"#N/A"}]
[null,null,null,null,null,229,"2020-11-16","Monday",0,{"$error":"#N/A"},{"$f":"COUNTIFS(Journal!$S:$S,\"?\",Journal!$B:$B,$G261)","v":0},{"$f":"SUMIFS(Journal!$Q:$Q, Journal!$B:$B,$G261)","v":0},{"$f":"COUNTIF(Journal!$B:$B,$G261)","v":0},{"$f":"SUMIFS(Journal!$N:$N, Journal!$B:$B,$G261)","v":0},0,null,25023.63,null,238,{"$f":"IFERROR(VLOOKUP(S261,Journal!$R:$AQ,26,FALSE),\"\")","v":""},{"$error":"#VALUE!"},{"$error":"#N/A"},"",{"$f":"IFERROR(VLOOKUP(S261,Journal!$R:$AV,32,FALSE),\"\")","v":""},null,null,"2020-11-27","Friday",{"$f":"IFERROR(VLOOKUP(AA261, 'Daily Snapshot'!$B:$J,7,FALSE),\"\")","v":""},"","",null,null,258,{"$f":"IFERROR(VLOOKUP(AH261,Journal!$R:$S,2,FALSE),\"\")","v":""},0,0,null,null,null,null,null,null,null,258,"2020-12-29","Tuesday",{"$f":"IFERROR(COUNTIFS(Journal!$S:$S,\"W\",Journal!$B:$B,AT261)/VLOOKUP(AT261,G290:K554,5,FALSE),\"no trades\")","v":"no trades"},null,null,null,null,null,null,null,null,null,null,null,232,0,25025.38,{"$error":"#N/A"}]
[null,null,null,null,null,230,"2020-11-17","Tuesday",0,{"$error":"#N/A"},{"$f":"COUNTIFS(Journal!$S:$S,\"?\",Journal!$B:$B,$G262)","v":0},{"$f":"SUMIFS(Journal!$Q:$Q, Journal!$B:$B,$G262)","v":0},{"$f":"COUNTIF(Journal!$B:$B,$G262)","v":0},{"$f":"SUMIFS(Journal!$N:$N, Journal!$B:$B,$G262)","v":0},0,null,25023.63,null,239,{"$f":"IFERROR(VLOOKUP(S262,Journal!$R:$AQ,26,FALSE),\"\")","v":""},{"$error":"#VALUE!"},{"$error":"#N/A"},"",{"$f":"IFERROR(VLOOKUP(S262,Journal!$R:$AV,32,FALSE),\"\")","v":""},null,null,"2020-11-30","Monday",{"$f":"IFERROR(VLOOKUP(AA262, 'Daily Snapshot'!$B:$J,7,FALSE),\"\")","v":""},"","",null,null,259,{"$f":"IFERROR(VLOOKUP(AH262,Journal!$R:$S,2,FALSE),\"\")","v":""},0,0,null,null,null,null,null,null,null,259,"2020-12-30","Wednesday",{"$f":"IFERROR(COUNTIFS(Journal!$S:$S,\"W\",Journal!$B:$B,AT262)/VLOOKUP(AT262,G291:K555,5,FALSE),\"no trades\")","v":"no trades"},null,null,null,null,null,null,null,null,null,null,null,233,0,25025.38,{"$error":"#N/A"}]
[null,null,null,null,null,231,"2020-11-18","Wednesday",0,{"$error":"#N/A"},{"$f":"COUNTIFS(Journal!$S:$S,\"?\",Journal!$B:$B,$G263)","v":0},{"$f":"SUMIFS(Journal!$Q:$Q, Journal!$B:$B,$G263)","v":0},{"$f":"COUNTIF(Journal!$B:$B,$G263)","v":0},{"$f":"SUMIFS(Journal!$N:$N, Journal!$B:$B,$G263)","v":0},0,null,25023.63,null,240,{"$f":"IFERROR(VLOOKUP(S263,Journal!$R:$AQ,26,FALSE),\"\")","v":""},{"$error":"#VALUE!"},{"$error":"#N/A"},"",{"$f":"IFERROR(VLOOKUP(S263,Journal!$R:$AV,32,FALSE),\"\")","v":""},null,null,"2020-12-01","Tuesday",{"$f":"IFERROR(VLOOKUP(AA263, 'Daily Snapshot'!$B:$J,7,FALSE),\"\")","v":""},"","",null,null,260,{"$f":"IFERROR(VLOOKUP(AH263,Journal!$R:$S,2,FALSE),\"\")","v":""},0,0,null,null,null,null,null,null,null,260,"2020-12-31","Thursday",{"$f":"IFERROR(COUNTIFS(Journal!$S:$S,\"W\",Journal!$B:$B,AT263)/VLOOKUP(AT263,G292:K556,5,FALSE),\"no trades\")","v":"no trades"},null,null,null,null,null,null,null,null,null,null,null,234,0,25025.38,{"$error":"#N/A"}]
[null,null,null,null,null,232,"2020-11-19","Thursday",0,{"$error":"#N/A"},{"$f":"COUNTIFS(Journal!$S:$S,\"?\",Journal!$B:$B,$G264)","v":0},{"$f":"SUMIFS(Journal!$Q:$Q, Journal!$B:$B,$G264)","v":0},{"$f":"COUNTIF(Journal!$B:$B,$G264)","v":0},{"$f":"SUMIFS(Journal!$N:$N, Journal!$B:$B,$G264)","v":0},0,null,25023.63,null,241,{"$f":"IFERROR(VLOOKUP(S264,Journal!$R:$AQ,26,FALSE),\"\")","v":""},{"$error":"#VALUE!"},{"$error":"#N/A"},"",{"$f":"IFERROR(VLOOKUP(S264,Journal!$R:$AV,32,FALSE),\"\")","v":""},null,null,"2020-12-02","Wednesday",{"$f":"IFERROR(VLOOKUP(AA264, 'Daily Snapshot'!$B:$J,7,FALSE),\"\")","v":""},"","",null,null,261,{"$f":"IFERROR(VLOOKUP(AH264,Journal!$R:$S,2,FALSE),\"\")","v":""},0,0,null,null,null,null,null,null,null,null,null,null,null,null,null,null,null,null,null,null,null,null,null,null,235,0,25025.38,{"$error":"#N/A"}]
[null,null,null,null,null,233,"2020-11-20","Friday",0,{"$error":"#N/A"},{"$f":"COUNTIFS(Journal!$S:$S,\"?\",Journal!$B:$B,$G265)","v":0},{"$f":"SUMIFS(Journal!$Q:$Q, Journal!$B:$B,$G265)","v":0},{"$f":"COUNTIF(Journal!$B:$B,$G265)","v":0},{"$f":"SUMIFS(Journal!$N:$N, Journal!$B:$B,$G265)","v":0},0,null,25023.63,null,242,{"$f":"IFERROR(VLOOKUP(S265,Journal!$R:$AQ,26,FALSE),\"\")","v":""},{"$error":"#VALUE!"},{"$error":"#N/A"},"",{"$f":"IFERROR(VLOOKUP(S265,Journal!$R:$AV,32,FALSE),\"\")","v":""},null,null,"2020-12-03","Thursday",{"$f":"IFERROR(VLOOKUP(AA265, 'Daily Snapshot'!$B:$J,7,FALSE),\"\")","v":""},"","",null,null,262,{"$f":"IFERROR(VLOOKUP(AH265,Journal!$R:$S,2,FALSE),\"\")","v":""},0,0,null,null,null,null,null,null,null,null,"Average win last 30 days",null,{"$f":"AVERAGE(AV4:AV263)","v":1},null,null,null,null,null,null,null,null,null,null,null,236,0,25025.38,{"$error":"#N/A"}]
[null,null,null,null,null,234,"2020-11-23","Monday",0,{"$error":"#N/A"},{"$f":"COUNTIFS(Journal!$S:$S,\"?\",Journal!$B:$B,$G266)","v":0},{"$f":"SUMIFS(Journal!$Q:$Q, Journal!$B:$B,$G266)","v":0},{"$f":"COUNTIF(Journal!$B:$B,$G266)","v":0},{"$f":"SUMIFS(Journal!$N:$N, Journal!$B:$B,$G266)","v":0},0,null,25023.63,null,243,{"$f":"IFERROR(VLOOKUP(S266,Journal!$R:$AQ,26,FALSE),\"\")","v":""},{"$error":"#VALUE!"},{"$error":"#N/A"},"",{"$f":"IFERROR(VLOOKUP(S266,Journal!$R:$AV,32,FALSE),\"\")","v":""},null,null,"2020-12-04","Friday",{"$f":"IFERROR(VLOOKUP(AA266, 'Daily Snapshot'!$B:$J,7,FALSE),\"\")","v":""},"","",null,null,263,{"$f":"IFERROR(VLOOKUP(AH266,Journal!$R:$S,2,FALSE),\"\")","v":""},0,0,null,null,null,null,null,null,null,null,null,null,null,null,null,null,null,null,null,null,null,null,null,null,237,0,25025.38,{"$error":"#N/A"}]
[null,null,null,null,null,235,"2020-11-24","Tuesday",0,{"$error":"#N/A"},{"$f":"COUNTIFS(Journal!$S:$S,\"?\",Journal!$B:$B,$G267)","v":0},{"$f":"SUMIFS(Journal!$Q:$Q, Journal!$B:$B,$G267)","v":0},{"$f":"COUNTIF(Journal!$B:$B,$G267)","v":0},{"$f":"SUMIFS(Journal!$N:$N, Journal!$B:$B,$G267)","v":0},0,null,25023.63,null,244,{"$f":"IFERROR(VLOOKUP(S267,Journal!$R:$AQ,26,FALSE),\"\")","v":""},{"$error":"#VALUE!"},{"$error":"#N/A"},"",{"$f":"IFERROR(VLOOKUP(S267,Journal!$R:$AV,32,FALSE),\"\")","v":""},null,null,"2020-12-07","Monday",{"$f":"IFERROR(VLOOKUP(AA267, 'Daily Snapshot'!$B:$J,7,FALSE),\"\")","v":""},"","",null,null,264,{"$f":"IFERROR(VLOOKUP(AH267,Journal!$R:$S,2,FALSE),\"\")","v":""},0,0,null,null,null,null,null,null,null,null,null,null,null,null,null,null,null,null,null,null,null,null,null,null,238,0,25025.38,{"$error":"#N/A"}]
[null,null,null,null,null,236,"2020-11-25","Wednesday",0,{"$error":"#N/A"},{"$f":"COUNTIFS(Journal!$S:$S,\"?\",Journal!$B:$B,$G268)","v":0},{"$f":"SUMIFS(Journal!$Q:$Q, Journal!$B:$B,$G268)","v":0},{"$f":"COUNTIF(Journal!$B:$B,$G268)","v":0},{"$f":"SUMIFS(Journal!$N:$N, Journal!$B:$B,$G268)","v":0},0,null,25023.63,null,245,{"$f":"IFERROR(VLOOKUP(S268,Journal!$R:$AQ,26,FALSE),\"\")","v":""},{"$error":"#VALUE!"},{"$error":"#N/A"},"",{"$f":"IFERROR(VLOOKUP(S268,Journal!$R:$AV,32,FALSE),\"\")","v":""},null,null,"2020-12-08","Tuesday",{"$f":"IFERROR(VLOOKUP(AA268, 'Daily Snapshot'!$B:$J,7,FALSE),\"\")","v":""},"","",null,null,265,{"$f":"IFERROR(VLOOKUP(AH268,Journal!$R:$S,2,FALSE),\"\")","v":""},0,0,null,null,null,null,null,null,null,null,null,null,null,null,null,null,null,null,null,null,null,null,null,null,239,0,25025.38,{"$error":"#N/A"}]
[null,null,null,null,null,237,"2020-11-27","Friday",0,{"$error":"#N/A"},{"$f":"COUNTIFS(Journal!$S:$S,\"?\",Journal!$B:$B,$G269)","v":0},{"$f":"SUMIFS(Journal!$Q:$Q, Journal!$B:$B,$G269)","v":0},{"$f":"COUNTIF(Journal!$B:$B,$G269)","v":0},{"$f":"SUMIFS(Journal!$N:$N, Journal!$B:$B,$G269)","v":0},0,null,25023.63,null,246,{"$f":"IFERROR(VLOOKUP(S269,Journal!$R:$AQ,26,FALSE),\"\")","v":""},{"$error":"#VALUE!"},{"$error":"#N/A"},"",{"$f":"IFERROR(VLOOKUP(S269,Journal!$R:$AV,32,FALSE),\"\")","v":""},null,null,"2020-12-09","Wednesday",{"$f":"IFERROR(VLOOKUP(AA269, 'Daily Snapshot'!$B:$J,7,FALSE),\"\")","v":""},"","",null,null,266,{"$f":"IFERROR(VLOOKUP(AH269,Journal!$R:$S,2,FALSE),\"\")","v":""},0,0,null,null,null,null,null,null,null,null,null,null,null,null,null,null,null,null,null,null,null,null,null,null,240,0,25025.38,{"$error":"#N/A"}]
[null,null,null,null,null,238,"2020-11-30","Monday",0,{"$error":"#N/A"},{"$f":"COUNTIFS(Journal!$S:$S,\"?\",Journal!$B:$B,$G270)","v":0},{"$f":"SUMIFS(Journal!$Q:$Q, Journal!$B:$B,$G270)","v":0},{"$f":"COUNTIF(Journal!$B:$B,$G270)","v":0},{"$f":"SUMIFS(Journal!$N:$N, Journal!$B:$B,$G270)","v":0},0,null,25023.63,null,247,{"$f":"IFERROR(VLOOKUP(S270,Journal!$R:$AQ,26,FALSE),\"\")","v":""},{"$error":"#VALUE!"},{"$error":"#N/A"},"",{"$f":"IFERROR(VLOOKUP(S270,Journal!$R:$AV,32,FALSE),\"\")","v":""},null,null,"2020-12-10","Thursday",{"$f":"IFERROR(VLOOKUP(AA270, 'Daily Snapshot'!$B:$J,7,FALSE),\"\")","v":""},"","",null,null,267,{"$f":"IFERROR(VLOOKUP(AH270,Journal!$R:$S,2,FALSE),\"\")","v":""},0,0,null,null,null,null,null,null,null,null,null,null,null,null,null,null,null,null,null,null,null,null,null,null,241,0,25025.38,{"$error":"#N/A"}]
[null,null,null,null,null,239,"2020-12-01","Tuesday",0,{"$error":"#N/A"},{"$f":"COUNTIFS(Journal!$S:$S,\"?\",Journal!$B:$B,$G271)","v":0},{"$f":"SUMIFS(Journal!$Q:$Q, Journal!$B:$B,$G271)","v":0},{"$f":"COUNTIF(Journal!$B:$B,$G271)","v":0},{"$f":"SUMIFS(Journal!$N:$N, Journal!$B:$B,$G271)","v":0},0,null,25023.63,null,248,{"$f":"IFERROR(VLOOKUP(S271,Journal!$R:$AQ,26,FALSE),\"\")","v":""},{"$error":"#VALUE!"},{"$error":"#N/A"},"",{"$f":"IFERROR(VLOOKUP(S271,Journal!$R:$AV,32,FALSE),\"\")","v":""},null,null,"2020-12-11","Friday",{"$f":"IFERROR(VLOOKUP(AA271, 'Daily Snapshot'!$B:$J,7,FALSE),\"\")","v":""},"","",null,null,268,{"$f":"IFERROR(VLOOKUP(AH271,Journal!$R:$S,2,FALSE),\"\")","v":""},0,0,null,null,null,null,null,null,null,null,null,null,null,null,null,null,null,null,null,null,null,null,null,null,242,0,25025.38,{"$error":"#N/A"}]
[null,null,null,null,null,240,"2020-12-02","Wednesday",0,{"$error":"#N/A"},{"$f":"COUNTIFS(Journal!$S:$S,\"?\",Journal!$B:$B,$G272)","v":0},{"$f":"SUMIFS(Journal!$Q:$Q, Journal!$B:$B,$G272)","v":0},{"$f":"COUNTIF(Journal!$B:$B,$G272)","v":0},{"$f":"SUMIFS(Journal!$N:$N, Journal!$B:$B,$G272)","v":0},0,null,25023.63,null,249,{"$f":"IFERROR(VLOOKUP(S272,Journal!$R:$AQ,26,FALSE),\"\")","v":""},{"$error":"#VALUE!"},{"$error":"#N/A"},"",{"$f":"IFERROR(VLOOKUP(S272,Journal!$R:$AV,32,FALSE),\"\")","v":""},null,null,"2020-12-14","Monday",{"$f":"IFERROR(VLOOKUP(AA272, 'Daily Snapshot'!$B:$J,7,FALSE),\"\")","v":""},"","",null,null,269,{"$f":"IFERROR(VLOOKUP(AH272,Journal!$R:$S,2,FALSE),\"\")","v":""},0,0,null,null,null,null,null,null,null,null,null,null,null,null,null,null,null,null,null,null,null,null,null,null,243,0,25025.38,{"$error":"#N/A"}]
[null,null,null,null,null,241,"2020-12-03","Thursday",0,{"$error":"#N/A"},{"$f":"COUNTIFS(Journal!$S:$S,\"?\",Journal!$B:$B,$G273)","v":0},{"$f":"SUMIFS(Journal!$Q:$Q, Journal!$B:$B,$G273)","v":0},{"$f":"COUNTIF(Journal!$B:$B,$G273)","v":0},{"$f":"SUMIFS(Journal!$N:$N, Journal!$B:$B,$G273)","v":0},0,null,25023.63,null,250,{"$f":"IFERROR(VLOOKUP(S273,Journal!$R:$AQ,26,FALSE),\"\")","v":""},{"$error":"#VALUE!"},{"$error":"#N/A"},"",{"$f":"IFERROR(VLOOKUP(S273,Journal!$R:$AV,32,FALSE),\"\")","v":""},null,null,"2020-12-15","Tuesday",{"$f":"IFERROR(VLOOKUP(AA273, 'Daily Snapshot'!$B:$J,7,FALSE),\"\")","v":""},"","",null,null,270,{"$f":"IFERROR(VLOOKUP(AH273,Journal!$R:$S,2,FALSE),\"\")","v":""},0,0,null,null,null,null,null,null,null,null,null,null,null,null,null,null,null,null,null,null,null,null,null,null,244,0,25025.38,{"$error":"#N/A"}]
[null,null,null,null,null,242,"2020-12-04","Friday",0,{"$error":"#N/A"},{"$f":"COUNTIFS(Journal!$S:$S,\"?\",Journal!$B:$B,$G274)","v":0},{"$f":"SUMIFS(Journal!$Q:$Q, Journal!$B:$B,$G274)","v":0},{"$f":"COUNTIF(Journal!$B:$B,$G274)","v":0},{"$f":"SUMIFS(Journal!$N:$N, Journal!$B:$B,$G274)","v":0},0,null,25023.63,null,251,{"$f":"IFERROR(VLOOKUP(S274,Journal!$R:$AQ,26,FALSE),\"\")","v":""},{"$error":"#VALUE!"},{"$error":"#N/A"},"",{"$f":"IFERROR(VLOOKUP(S274,Journal!$R:$AV,32,FALSE),\"\")","v":""},null,null,"2020-12-16","Wednesday",{"$f":"IFERROR(VLOOKUP(AA274, 'Daily Snapshot'!$B:$J,7,FALSE),\"\")","v":""},"","",null,null,271,{"$f":"IFERROR(VLOOKUP(AH274,Journal!$R:$S,2,FALSE),\"\")","v":""},0,0,null,null,null,null,null,null,null,null,null,null,null,null,null,null,null,null,null,null,null,null,null,null,245,0,25025.38,{"$error":"#N/A"}]
[null,null,null,null,null,243,"2020-12-07","Monday",0,{"$error":"#N/A"},{"$f":"COUNTIFS(Journal!$S:$S,\"?\",Journal!$B:$B,$G275)","v":0},{"$f":"SUMIFS(Journal!$Q:$Q, Journal!$B:$B,$G275)","v":0},{"$f":"COUNTIF(Journal!$B:$B,$G275)","v":0},{"$f":"SUMIFS(Journal!$N:$N, Journal!$B:$B,$G275)","v":0},0,null,25023.63,null,252,{"$f":"IFERROR(VLOOKUP(S275,Journal!$R:$AQ,26,FALSE),\"\")","v":""},{"$error":"#VALUE!"},{"$error":"#N/A"},"",{"$f":"IFERROR(VLOOKUP(S275,Journal!$R:$AV,32,FALSE),\"\")","v":""},null,null,"2020-12-17","Thursday",{"$f":"IFERROR(VLOOKUP(AA275, 'Daily Snapshot'!$B:$J,7,FALSE),\"\")","v":""},"","",null,null,272,{"$f":"IFERROR(VLOOKUP(AH275,Journal!$R:$S,2,FALSE),\"\")","v":""},0,0,null,null,null,null,null,null,null,null,null,null,null,null,null,null,null,null,null,null,null,null,null,null,246,0,25025.38,{"$error":"#N/A"}]
[null,null,null,null,null,244,"2020-12-08","Tuesday",0,{"$error":"#N/A"},{"$f":"COUNTIFS(Journal!$S:$S,\"?\",Journal!$B:$B,$G276)","v":0},{"$f":"SUMIFS(Journal!$Q:$Q, Journal!$B:$B,$G276)","v":0},{"$f":"COUNTIF(Journal!$B:$B,$G276)","v":0},{"$f":"SUMIFS(Journal!$N:$N, Journal!$B:$B,$G276)","v":0},0,null,25023.63,null,253,{"$f":"IFERROR(VLOOKUP(S276,Journal!$R:$AQ,26,FALSE),\"\")","v":""},{"$error":"#VALUE!"},{"$error":"#N/A"},"",{"$f":"IFERROR(VLOOKUP(S276,Journal!$R:$AV,32,FALSE),\"\")","v":""},null,null,"2020-12-18","Friday",{"$f":"IFERROR(VLOOKUP(AA276, 'Daily Snapshot'!$B:$J,7,FALSE),\"\")","v":""},"","",null,null,273,{"$f":"IFERROR(VLOOKUP(AH276,Journal!$R:$S,2,FALSE),\"\")","v":""},0,0,null,null,null,null,null,null,null,null,null,null,null,null,null,null,null,null,null,null,null,null,null,null,247,0,25025.38,{"$error":"#N/A"}]
[null,null,null,null,null,245,"2020-12-09","Wednesday",0,{"$error":"#N/A"},{"$f":"COUNTIFS(Journal!$S:$S,\"?\",Journal!$B:$B,$G277)","v":0},{"$f":"SUMIFS(Journal!$Q:$Q, Journal!$B:$B,$G277)","v":0},{"$f":"COUNTIF(Journal!$B:$B,$G277)","v":0},{"$f":"SUMIFS(Journal!$N:$N, Journal!$B:$B,$G277)","v":0},0,null,25023.63,null,254,{"$f":"IFERROR(VLOOKUP(S277,Journal!$R:$AQ,26,FALSE),\"\")","v":""},{"$error":"#VALUE!"},{"$error":"#N/A"},"",{"$f":"IFERROR(VLOOKUP(S277,Journal!$R:$AV,32,FALSE),\"\")","v":""},null,null,"2020-12-21","Monday",{"$f":"IFERROR(VLOOKUP(AA277, 'Daily Snapshot'!$B:$J,7,FALSE),\"\")","v":""},"","",null,null,274,{"$f":"IFERROR(VLOOKUP(AH277,Journal!$R:$S,2,FALSE),\"\")","v":""},0,0,null,null,null,null,null,null,null,null,null,null,null,null,null,null,null,null,null,null,null,null,null,null,248,0,25025.38,{"$error":"#N/A"}]
[null,null,null,null,null,246,"2020-12-10","Thursday",0,{"$error":"#N/A"},{"$f":"COUNTIFS(Journal!$S:$S,\"?\",Journal!$B:$B,$G278)","v":0},{"$f":"SUMIFS(Journal!$Q:$Q, Journal!$B:$B,$G278)","v":0},{"$f":"COUNTIF(Journal!$B:$B,$G278)","v":0},{"$f":"SUMIFS(Journal!$N:$N, Journal!$B:$B,$G278)","v":0},0,null,25023.63,null,255,{"$f":"IFERROR(VLOOKUP(S278,Journal!$R:$AQ,26,FALSE),\"\")","v":""},{"$error":"#VALUE!"},{"$error":"#N/A"},"",{"$f":"IFERROR(VLOOKUP(S278,Journal!$R:$AV,32,FALSE),\"\")","v":""},null,null,"2020-12-22","Tuesday",{"$f":"IFERROR(VLOOKUP(AA278, 'Daily Snapshot'!$B:$J,7,FALSE),\"\")","v":""},"","",null,null,275,{"$f":"IFERROR(VLOOKUP(AH278,Journal!$R:$S,2,FALSE),\"\")","v":""},0,0,null,null,null,null,null,null,null,null,null,null,null,null,null,null,null,null,null,null,null,null,null,null,249,0,25025.38,{"$error":"#N/A"}]
[null,null,null,null,null,247,"2020-12-11","Friday",0,{"$error":"#N/A"},{"$f":"COUNTIFS(Journal!$S:$S,\"?\",Journal!$B:$B,$G279)","v":0},{"$f":"SUMIFS(Journal!$Q:$Q, Journal!$B:$B,$G279)","v":0},{"$f":"COUNTIF(Journal!$B:$B,$G279)","v":0},{"$f":"SUMIFS(Journal!$N:$N, Journal!$B:$B,$G279)","v":0},0,null,25023.63,null,256,{"$f":"IFERROR(VLOOKUP(S279,Journal!$R:$AQ,26,FALSE),\"\")","v":""},{"$error":"#VALUE!"},{"$error":"#N/A"},"",{"$f":"IFERROR(VLOOKUP(S279,Journal!$R:$AV,32,FALSE),\"\")","v":""},null,null,"2020-12-23","Wednesday",{"$f":"IFERROR(VLOOKUP(AA279, 'Daily Snapshot'!$B:$J,7,FALSE),\"\")","v":""},"","",null,null,276,{"$f":"IFERROR(VLOOKUP(AH279,Journal!$R:$S,2,FALSE),\"\")","v":""},0,0,null,null,null,null,null,null,null,null,null,null,null,null,null,null,null,null,null,null,null,null,null,null,250,0,25025.38,{"$error":"#N/A"}]
[null,null,null,null,null,248,"2020-12-14","Monday",{"$f":"(N280-L280)","v":0},{"$f":"IF(OR(I280<$H$26,I280>$H$27,I280=0),NA(),I280)","v":{"$error":"#N/A"}},{"$f":"COUNTIFS(Journal!$S:$S,\"?\",Journal!$B:$B,$G280)","v":0},{"$f":"SUMIFS(Journal!$Q:$Q, Journal!$B:$B,$G280)","v":0},{"$f":"COUNTIF(Journal!$B:$B,$G280)","v":0},{"$f":"SUMIFS(Journal!$N:$N, Journal!$B:$B,$G280)","v":0},0,null,25023.63,null,257,{"$f":"IFERROR(VLOOKUP(S280,Journal!$R:$AQ,26,FALSE),\"\")","v":""},{"$error":"#VALUE!"},{"$error":"#N/A"},"",{"$f":"IFERROR(VLOOKUP(S280,Journal!$R:$AV,32,FALSE),\"\")","v":""},null,null,"2020-12-24","Thursday",{"$f":"IFERROR(VLOOKUP(AA280, 'Daily Snapshot'!$B:$J,7,FALSE),\"\")","v":""},"","",null,null,277,{"$f":"IFERROR(VLOOKUP(AH280,Journal!$R:$S,2,FALSE),\"\")","v":""},0,0,null,null,null,null,null,null,null,null,null,null,null,null,null,null,null,null,null,null,null,null,null,null,251,0,25025.38,{"$error":"#N/A"}]
[null,null,null,null,null,249,"2020-12-15","Tuesday",0,{"$error":"#N/A"},{"$f":"COUNTIFS(Journal!$S:$S,\"?\",Journal!$B:$B,$G281)","v":0},{"$f":"SUMIFS(Journal!$Q:$Q, Journal!$B:$B,$G281)","v":0},{"$f":"COUNTIF(Journal!$B:$B,$G281)","v":0},{"$f":"SUMIFS(Journal!$N:$N, Journal!$B:$B,$G281)","v":0},0,null,25023.63,null,258,{"$f":"IFERROR(VLOOKUP(S281,Journal!$R:$AQ,26,FALSE),\"\")","v":""},{"$f":"T281+U280","v":{"$error":"#VALUE!"}},{"$error":"#N/A"},{"$f":"IFERROR(T281/$H$25,\"\")","v":""},{"$f":"IFERROR(VLOOKUP(S281,Journal!$R:$AV,32,FALSE),\"\")","v":""},null,null,"2020-12-28",{"$f":"TEXT(AA281,\"dddd\")","v":"Monday"},{"$f":"IFERROR(VLOOKUP(AA281, 'Daily Snapshot'!$B:$J,7,FALSE),\"\")","v":""},"","",null,null,278,{"$f":"IFERROR(VLOOKUP(AH281,Journal!$R:$S,2,FALSE),\"\")","v":""},0,0,null,null,null,null,null,null,null,null,null,null,null,null,null,null,null,null,null,null,null,null,null,null,252,0,25025.38,{"$error":"#N/A"}]
[null,null,null,null,null,250,"2020-12-16","Wednesday",0,{"$error":"#N/A"},{"$f":"COUNTIFS(Journal!$S:$S,\"?\",Journal!$B:$B,$G282)","v":0},{"$f":"SUMIFS(Journal!$Q:$Q, Journal!$B:$B,$G282)","v":0},{"$f":"COUNTIF(Journal!$B:$B,$G282)","v":0},{"$f":"SUMIFS(Journal!$N:$N, Journal!$B:$B,$G282)","v":0},0,null,25023.63,null,259,{"$f":"IFERROR(VLOOKUP(S282,Journal!$R:$AQ,26,FALSE),\"\")","v":""},{"$error":"#VALUE!"},{"$error":"#N/A"},"",{"$f":"IFERROR(VLOOKUP(S282,Journal!$R:$AV,32,FALSE),\"\")","v":""},null,null,{"$f":"G290","v":"2020-12-29"},{"$f":"TEXT(AA282,\"dddd\")","v":"Tuesday"},{"$f":"IFERROR(VLOOKUP(AA282, 'Daily Snapshot'!$B:$J,7,FALSE),\"\")","v":""},"","",null,null,279,{"$f":"IFERROR(VLOOKUP(AH282,Journal!$R:$S,2,FALSE),\"\")","v":""},0,0,null,null,null,null,null,null,null,null,null,null,null,null,null,null,null,null,null,null,null,null,null,null,253,0,25025.38,{"$error":"#N/A"}]
[null,null,null,null,null,251,"2020-12-17","Thursday",0,{"$error":"#N/A"},{"$f":"COUNTIFS(Journal!$S:$S,\"?\",Journal!$B:$B,$G283)","v":0},{"$f":"SUMIFS(Journal!$Q:$Q, Journal!$B:$B,$G283)","v":0},{"$f":"COUNTIF(Journal!$B:$B,$G283)","v":0},{"$f":"SUMIFS(Journal!$N:$N, Journal!$B:$B,$G283)","v":0},0,null,25023.63,null,260,{"$f":"IFERROR(VLOOKUP(S283,Journal!$R:$AQ,26,FALSE),\"\")","v":""},{"$error":"#VALUE!"},{"$error":"#N/A"},"",{"$f":"IFERROR(VLOOKUP(S283,Journal!$R:$AV,32,FALSE),\"\")","v":""},null,null,{"$f":"G291","v":"2020-12-30"},{"$f":"TEXT(AA283,\"dddd\")","v":"Wednesday"},{"$f":"IFERROR(VLOOKUP(AA283, 'Daily Snapshot'!$B:$J,7,FALSE),\"\")","v":""},"","",null,null,280,{"$f":"IFERROR(VLOOKUP(AH283,Journal!$R:$S,2,FALSE),\"\")","v":""},0,0,null,null,null,null,null,null,null,null,null,null,null,null,null,null,null,null,null,null,null,null,null,null,254,0,25025.38,{"$error":"#N/A"}]
[null,null,null,null,null,252,"2020-12-18","Friday",0,{"$error":"#N/A"},{"$f":"COUNTIFS(Journal!$S:$S,\"?\",Journal!$B:$B,$G284)","v":0},{"$f":"SUMIFS(Journal!$Q:$Q, Journal!$B:$B,$G284)","v":0},{"$f":"COUNTIF(Journal!$B:$B,$G284)","v":0},{"$f":"SUMIFS(Journal!$N:$N, Journal!$B:$B,$G284)","v":0},0,null,25023.63,null,261,{"$f":"IFERROR(VLOOKUP(S284,Journal!$R:$AQ,26,FALSE),\"\")","v":""},{"$error":"#VALUE!"},{"$f":"IF(OR(T284=0,T284<$H$26,T284>$H$27),NA(),T284+U283)","v":{"$error":"#N/A"}},"",{"$f":"IFERROR(VLOOKUP(S284,Journal!$R:$AV,32,FALSE),\"\")","v":""},null,null,{"$f":"G292","v":"2020-12-31"},{"$f":"TEXT(AA284,\"dddd\")","v":"Thursday"},{"$f":"IFERROR(VLOOKUP(AA284, 'Daily Snapshot'!$B:$J,7,FALSE),\"\")","v":""},"","",null,null,281,{"$f":"IFERROR(VLOOKUP(AH284,Journal!$R:$S,2,FALSE),\"\")","v":""},0,0,null,null,null,null,null,null,null,null,null,null,null,null,null,null,null,null,null,null,null,null,null,null,255,0,25025.38,{"$error":"#N/A"}]
[null,null,null,null,null,253,"2020-12-21","Monday",0,{"$error":"#N/A"},{"$f":"COUNTIFS(Journal!$S:$S,\"?\",Journal!$B:$B,$G285)","v":0},{"$f":"SUMIFS(Journal!$Q:$Q, Journal!$B:$B,$G285)","v":0},{"$f":"COUNTIF(Journal!$B:$B,$G285)","v":0},{"$f":"SUMIFS(Journal!$N:$N, Journal!$B:$B,$G285)","v":0},0,null,25023.63,null,262,{"$f":"IFERROR(VLOOKUP(S285,Journal!$R:$AQ,26,FALSE),\"\")","v":""},{"$error":"#VALUE!"},{"$error":"#N/A"},"",{"$f":"IFERROR(VLOOKUP(S285,Journal!$R:$AV,32,FALSE),\"\")","v":""},null,null,{"$f":"G293","v":"2021-01-01"},{"$f":"TEXT(AA285,\"dddd\")","v":"Friday"},{"$f":"IFERROR(VLOOKUP(AA285, 'Daily Snapshot'!$B:$J,7,FALSE),\"\")","v":""},"","",null,null,282,{"$f":"IFERROR(VLOOKUP(AH285,Journal!$R:$S,2,FALSE),\"\")","v":""},0,0,null,null,null,null,null,null,null,null,null,null,null,null,null,null,null,null,null,null,null,null,null,null,256,0,25025.38,{"$error":"#N/A"}]
[null,null,null,null,null,254,"2020-12-22","Tuesday",0,{"$error":"#N/A"},{"$f":"COUNTIFS(Journal!$S:$S,\"?\",Journal!$B:$B,$G286)","v":0},{"$f":"SUMIFS(Journal!$Q:$Q, Journal!$B:$B,$G286)","v":0},{"$f":"COUNTIF(Journal!$B:$B,$G286)","v":0},{"$f":"SUMIFS(Journal!$N:$N, Journal!$B:$B,$G286)","v":0},0,null,25023.63,null,263,{"$f":"IFERROR(VLOOKUP(S286,Journal!$R:$AQ,26,FALSE),\"\")","v":""},{"$error":"#VALUE!"},{"$error":"#N/A"},"",{"$f":"IFERROR(VLOOKUP(S286,Journal!$R:$AV,32,FALSE),\"\")","v":""},null,null,null,"z","z","z","z","z","z",283,{"$f":"IFERROR(VLOOKUP(AH286,Journal!$R:$S,2,FALSE),\"\")","v":""},0,0,null,null,null,null,null,null,null,null,null,null,null,null,null,null,null,null,null,null,null,null,null,null,257,0,25025.38,{"$error":"#N/A"}]
[null,null,null,null,null,255,"2020-12-23","Wednesday",0,{"$error":"#N/A"},{"$f":"COUNTIFS(Journal!$S:$S,\"?\",Journal!$B:$B,$G287)","v":0},{"$f":"SUMIFS(Journal!$Q:$Q, Journal!$B:$B,$G287)","v":0},{"$f":"COUNTIF(Journal!$B:$B,$G287)","v":0},{"$f":"SUMIFS(Journal!$N:$N, Journal!$B:$B,$G287)","v":0},0,null,25023.63,null,264,{"$f":"IFERROR(VLOOKUP(S287,Journal!$R:$AQ,26,FALSE),\"\")","v":""},{"$error":"#VALUE!"},{"$error":"#N/A"},"",{"$f":"IFERROR(VLOOKUP(S287,Journal!$R:$AV,32,FALSE),\"\")","v":""},null,null,null,null,{"$f":"IFERROR(VLOOKUP(AA287, 'Daily Snapshot'!$B:$J,7,FALSE),\"\")","v":""},null,null,null,null,284,{"$f":"IFERROR(VLOOKUP(AH287,Journal!$R:$S,2,FALSE),\"\")","v":""},0,0,null,null,null,null,null,null,null,null,null,null,null,null,null,null,null,null,null,null,null,null,null,null,258,0,{"$f":"BI287+BJ286","v":25025.38},{"$error":"#N/A"}]
[null,null,null,null,null,256,"2020-12-24","Thursday",0,{"$error":"#N/A"},{"$f":"COUNTIFS(Journal!$S:$S,\"?\",Journal!$B:$B,$G288)","v":0},{"$f":"SUMIFS(Journal!$Q:$Q, Journal!$B:$B,$G288)","v":0},{"$f":"COUNTIF(Journal!$B:$B,$G288)","v":0},{"$f":"SUMIFS(Journal!$N:$N, Journal!$B:$B,$G288)","v":0},0,null,25023.63,null,265,{"$f":"IFERROR(VLOOKUP(S288,Journal!$R:$AQ,26,FALSE),\"\")","v":""},{"$error":"#VALUE!"},{"$error":"#N/A"},"",{"$f":"IFERROR(VLOOKUP(S288,Journal!$R:$AV,32,FALSE),\"\")","v":""},null,null,null,null,{"$f":"IFERROR(VLOOKUP(AA288, 'Daily Snapshot'!$B:$J,7,FALSE),\"\")","v":""},null,null,null,null,285,{"$f":"IFERROR(VLOOKUP(AH288,Journal!$R:$S,2,FALSE),\"\")","v":""},0,0,null,null,null,null,null,null,null,null,null,null,null,null,null,null,null,null,null,null,null,null,null,null,259,{"$f":"N291","v":0},25025.38,{"$error":"#N/A"}]
[null,null,null,null,null,257,"2020-12-28",{"$f":"TEXT(G289,\"dddd\")","v":"Monday"},0,{"$error":"#N/A"},{"$f":"COUNTIFS(Journal!$S:$S,\"?\",Journal!$B:$B,$G289)","v":0},{"$f":"SUMIFS(Journal!$Q:$Q, Journal!$B:$B,$G289)","v":0},{"$f":"COUNTIF(Journal!$B:$B,$G289)","v":0},{"$f":"SUMIFS(Journal!$N:$N, Journal!$B:$B,$G289)","v":0},0,null,25023.63,null,266,{"$f":"IFERROR(VLOOKUP(S289,Journal!$R:$AQ,26,FALSE),\"\")","v":""},{"$error":"#VALUE!"},{"$error":"#N/A"},"",{"$f":"IFERROR(VLOOKUP(S289,Journal!$R:$AV,32,FALSE),\"\")","v":""},null,null,null,null,{"$f":"IFERROR(VLOOKUP(AA289, 'Daily Snapshot'!$B:$J,7,FALSE),\"\")","v":""},null,null,null,null,286,{"$f":"IFERROR(VLOOKUP(AH289,Journal!$R:$S,2,FALSE),\"\")","v":""},0,0,null,null,null,null,null,null,null,null,null,null,null,null,null,null,null,null,null,null,null,null,null,null,260,0,25025.38,{"$error":"#N/A"}]
[null,null,null,null,null,258,"2020-12-29","Tuesday",0,{"$error":"#N/A"},{"$f":"COUNTIFS(Journal!$S:$S,\"?\",Journal!$B:$B,$G290)","v":0},{"$f":"SUMIFS(Journal!$Q:$Q, Journal!$B:$B,$G290)","v":0},{"$f":"COUNTIF(Journal!$B:$B,$G290)","v":0},{"$f":"SUMIFS(Journal!$N:$N, Journal!$B:$B,$G290)","v":0},0,null,25023.63,null,267,{"$f":"IFERROR(VLOOKUP(S290,Journal!$R:$AQ,26,FALSE),\"\")","v":""},{"$error":"#VALUE!"},{"$error":"#N/A"},"",{"$f":"IFERROR(VLOOKUP(S290,Journal!$R:$AV,32,FALSE),\"\")","v":""},null,null,null,null,{"$f":"IFERROR(VLOOKUP(AA290, 'Daily Snapshot'!$B:$J,7,FALSE),\"\")","v":""},null,null,null,null,287,{"$f":"IFERROR(VLOOKUP(AH290,Journal!$R:$S,2,FALSE),\"\")","v":""},0,0,null,null,null,null,null,null,null,null,null,null,null,null,null,null,null,null,null,null,null,null,null,null,261,0,25025.38,{"$f":"IF(OR(BI290=0,BI290<$H$26,BI290>$H$27),NA(),BI290+BJ289)","v":{"$error":"#N/A"}}]
[null,null,null,null,null,259,"2020-12-30","Wednesday",0,{"$error":"#N/A"},{"$f":"COUNTIFS(Journal!$S:$S,\"?\",Journal!$B:$B,$G291)","v":0},{"$f":"SUMIFS(Journal!$Q:$Q, Journal!$B:$B,$G291)","v":0},{"$f":"COUNTIF(Journal!$B:$B,$G291)","v":0},{"$f":"SUMIFS(Journal!$N:$N, Journal!$B:$B,$G291)","v":0},0,null,25023.63,null,268,{"$f":"IFERROR(VLOOKUP(S291,Journal!$R:$AQ,26,FALSE),\"\")","v":""},{"$error":"#VALUE!"},{"$error":"#N/A"},"",{"$f":"IFERROR(VLOOKUP(S291,Journal!$R:$AV,32,FALSE),\"\")","v":""},null,null,null,null,{"$f":"IFERROR(VLOOKUP(AA291, 'Daily Snapshot'!$B:$J,7,FALSE),\"\")","v":""},null,null,null,null,288,{"$f":"IFERROR(VLOOKUP(AH291,Journal!$R:$S,2,FALSE),\"\")","v":""},0,0,null,null,null,null,null,null,null,null,null,null,null,null,null,null,null,null,null,null,null,null,null,null,262,0,25025.38,{"$error":"#N/A"}]
[null,null,null,null,null,260,"2020-12-31","Thursday",0,{"$error":"#N/A"},{"$f":"COUNTIFS(Journal!$S:$S,\"?\",Journal!$B:$B,$G292)","v":0},{"$f":"SUMIFS(Journal!$Q:$Q, Journal!$B:$B,$G292)","v":0},{"$f":"COUNTIF(Journal!$B:$B,$G292)","v":0},{"$f":"SUMIFS(Journal!$N:$N, Journal!$B:$B,$G292)","v":0},0,null,25023.63,null,269,{"$f":"IFERROR(VLOOKUP(S292,Journal!$R:$AQ,26,FALSE),\"\")","v":""},{"$error":"#VALUE!"},{"$error":"#N/A"},"",{"$f":"IFERROR(VLOOKUP(S292,Journal!$R:$AV,32,FALSE),\"\")","v":""},null,null,null,null,{"$f":"IFERROR(VLOOKUP(AA292, 'Daily Snapshot'!$B:$J,7,FALSE),\"\")","v":""},null,null,null,null,289,{"$f":"IFERROR(VLOOKUP(AH292,Journal!$R:$S,2,FALSE),\"\")","v":""},0,0,null,null,null,null,null,null,null,null,null,null,null,null,null,null,null,null,null,null,null,null,null,null,263,0,25025.38,{"$error":"#N/A"}]
[null,null,null,null,null,261,"2021-01-01","Friday",0,{"$error":"#N/A"},{"$f":"COUNTIFS(Journal!$S:$S,\"?\",Journal!$B:$B,$G293)","v":0},{"$f":"SUMIFS(Journal!$Q:$Q, Journal!$B:$B,$G293)","v":0},{"$f":"COUNTIF(Journal!$B:$B,$G293)","v":0},{"$f":"SUMIFS(Journal!$N:$N, Journal!$B:$B,$G293)","v":0},0,null,25023.63,null,270,{"$f":"IFERROR(VLOOKUP(S293,Journal!$R:$AQ,26,FALSE),\"\")","v":""},{"$error":"#VALUE!"},{"$error":"#N/A"},"",{"$f":"IFERROR(VLOOKUP(S293,Journal!$R:$AV,32,FALSE),\"\")","v":""},null,null,null,null,{"$f":"IFERROR(VLOOKUP(AA293, 'Daily Snapshot'!$B:$J,7,FALSE),\"\")","v":""},null,null,null,null,290,{"$f":"IFERROR(VLOOKUP(AH293,Journal!$R:$S,2,FALSE),\"\")","v":""},0,0,null,null,null,null,null,null,null,null,null,null,null,null,null,null,null,null,null,null,null,null,null,null,264,0,25025.38,{"$error":"#N/A"}]
[null,null,null,null,null,262,"2021-01-04","Monday",0,{"$error":"#N/A"},{"$f":"COUNTIFS(Journal!$S:$S,\"?\",Journal!$B:$B,$G294)","v":0},{"$f":"SUMIFS(Journal!$Q:$Q, Journal!$B:$B,$G294)","v":0},{"$f":"COUNTIF(Journal!$B:$B,$G294)","v":0},{"$f":"SUMIFS(Journal!$N:$N, Journal!$B:$B,$G294)","v":0},0,null,{"$f":"Q293+I294","v":25023.63},null,271,{"$f":"IFERROR(VLOOKUP(S294,Journal!$R:$AQ,26,FALSE),\"\")","v":""},{"$error":"#VALUE!"},{"$error":"#N/A"},"",{"$f":"IFERROR(VLOOKUP(S294,Journal!$R:$AV,32,FALSE),\"\")","v":""},null,null,null,null,{"$f":"IFERROR(VLOOKUP(AA294, 'Daily Snapshot'!$B:$J,7,FALSE),\"\")","v":""},null,null,null,null,291,{"$f":"IFERROR(VLOOKUP(AH294,Journal!$R:$S,2,FALSE),\"\")","v":""},0,0,null,null,null,null,null,null,null,null,null,null,null,null,null,null,null,null,null,null,null,null,null,null,265,0,25025.38,{"$error":"#N/A"}]
[null,null,null,null,null,263,"2021-01-05","Tuesday",0,{"$error":"#N/A"},{"$f":"COUNTIFS(Journal!$S:$S,\"?\",Journal!$B:$B,$G295)","v":0},{"$f":"SUMIFS(Journal!$Q:$Q, Journal!$B:$B,$G295)","v":0},{"$f":"COUNTIF(Journal!$B:$B,$G295)","v":0},{"$f":"SUMIFS(Journal!$N:$N, Journal!$B:$B,$G295)","v":0},0,null,{"$f":"Q294+I295","v":25023.63},null,272,{"$f":"IFERROR(VLOOKUP(S295,Journal!$R:$AQ,26,FALSE),\"\")","v":""},{"$error":"#VALUE!"},{"$error":"#N/A"},"",{"$f":"IFERROR(VLOOKUP(S295,Journal!$R:$AV,32,FALSE),\"\")","v":""},null,null,null,null,{"$f":"IFERROR(VLOOKUP(AA295, 'Daily Snapshot'!$B:$J,7,FALSE),\"\")","v":""},null,null,null,null,292,{"$f":"IFERROR(VLOOKUP(AH295,Journal!$R:$S,2,FALSE),\"\")","v":""},0,0,null,null,null,null,null,null,null,null,null,null,null,null,null,null,null,null,null,null,null,null,null,null,266,0,25025.38,{"$error":"#N/A"}]
[null,null,null,null,null,264,"2021-01-06","Wednesday",0,{"$error":"#N/A"},{"$f":"COUNTIFS(Journal!$S:$S,\"?\",Journal!$B:$B,$G296)","v":0},{"$f":"SUMIFS(Journal!$Q:$Q, Journal!$B:$B,$G296)","v":0},{"$f":"COUNTIF(Journal!$B:$B,$G296)","v":0},{"$f":"SUMIFS(Journal!$N:$N, Journal!$B:$B,$G296)","v":0},0,null,{"$f":"Q295+I296","v":25023.63},null,273,{"$f":"IFERROR(VLOOKUP(S296,Journal!$R:$AQ,26,FALSE),\"\")","v":""},{"$error":"#VALUE!"},{"$error":"#N/A"},"",{"$f":"IFERROR(VLOOKUP(S296,Journal!$R:$AV,32,FALSE),\"\")","v":""},null,null,null,null,{"$f":"IFERROR(VLOOKUP(AA296, 'Daily Snapshot'!$B:$J,7,FALSE),\"\")","v":""},null,null,null,null,293,{"$f":"IFERROR(VLOOKUP(AH296,Journal!$R:$S,2,FALSE),\"\")","v":""},0,0,null,null,null,null,null,null,null,null,null,null,null,null,null,null,null,null,null,null,null,null,null,null,267,0,25025.38,{"$error":"#N/A"}]
[null,null,null,null,null,265,"2021-01-07","Thursday",0,{"$error":"#N/A"},{"$f":"COUNTIFS(Journal!$S:$S,\"?\",Journal!$B:$B,$G297)","v":0},{"$f":"SUMIFS(Journal!$Q:$Q, Journal!$B:$B,$G297)","v":0},{"$f":"COUNTIF(Journal!$B:$B,$G297)","v":0},{"$f":"SUMIFS(Journal!$N:$N, Journal!$B:$B,$G297)","v":0},0,null,{"$f":"Q296+I297","v":25023.63},null,274,{"$f":"IFERROR(VLOOKUP(S297,Journal!$R:$AQ,26,FALSE),\"\")","v":""},{"$error":"#VALUE!"},{"$error":"#N/A"},"",{"$f":"IFERROR(VLOOKUP(S297,Journal!$R:$AV,32,FALSE),\"\")","v":""},null,null,null,null,{"$f":"IFERROR(VLOOKUP(AA297, 'Daily Snapshot'!$B:$J,7,FALSE),\"\")","v":""},null,null,null,null,294,{"$f":"IFERROR(VLOOKUP(AH297,Journal!$R:$S,2,FALSE),\"\")","v":""},0,0,null,null,null,null,null,null,null,null,null,null,null,null,null,null,null,null,null,null,null,null,null,null,268,0,25025.38,{"$error":"#N/A"}]
[null,null,null,null,null,null,null,null,null,null,{"$f":"IFERROR(VLOOKUP(#REF!, 'Daily Snapshot'!$B:$J,9,FALSE),\"\")","v":""},null,null,null,null,null,null,null,275,{"$f":"IFERROR(VLOOKUP(S298,Journal!$R:$AQ,26,FALSE),\"\")","v":""},{"$error":"#VALUE!"},{"$error":"#N/A"},"",{"$f":"IFERROR(VLOOKUP(S298,Journal!$R:$AV,32,FALSE),\"\")","v":""},null,null,null,null,{"$f":"IFERROR(VLOOKUP(AA298, 'Daily Snapshot'!$B:$J,7,FALSE),\"\")","v":""},null,null,null,null,295,{"$f":"IFERROR(VLOOKUP(AH298,Journal!$R:$S,2,FALSE),\"\")","v":""},0,0,null,null,null,null,null,null,null,null,null,null,null,null,null,null,null,null,null,null,null,null,null,null,269,0,25025.38,{"$error":"#N/A"}]
[null,null,null,null,null,null,null,null,null,null,null,{"$f":"IFERROR(VLOOKUP(G178, 'Daily Snapshot'!$B:$J,9,FALSE),\"\")","v":""},null,null,null,null,null,null,276,{"$f":"IFERROR(VLOOKUP(S299,Journal!$R:$AQ,26,FALSE),\"\")","v":""},{"$error":"#VALUE!"},{"$error":"#N/A"},"",{"$f":"IFERROR(VLOOKUP(S299,Journal!$R:$AV,32,FALSE),\"\")","v":""},null,null,null,null,{"$f":"IFERROR(VLOOKUP(AA299, 'Daily Snapshot'!$B:$J,7,FALSE),\"\")","v":""},null,null,null,null,296,{"$f":"IFERROR(VLOOKUP(AH299,Journal!$R:$S,2,FALSE),\"\")","v":""},0,0,null,null,null,null,null,null,null,null,null,null,null,null,null,null,null,null,null,null,null,null,null,null,270,0,25025.38,{"$error":"#N/A"}]
[null,null,null,null,null,null,null,null,null,null,null,{"$f":"IFERROR(VLOOKUP(G179, 'Daily Snapshot'!$B:$J,9,FALSE),\"\")","v":""},null,null,null,null,null,null,277,{"$f":"IFERROR(VLOOKUP(S300,Journal!$R:$AQ,26,FALSE),\"\")","v":""},{"$error":"#VALUE!"},{"$error":"#N/A"},"",{"$f":"IFERROR(VLOOKUP(S300,Journal!$R:$AV,32,FALSE),\"\")","v":""},null,null,null,null,{"$f":"IFERROR(VLOOKUP(AA300, 'Daily Snapshot'!$B:$J,7,FALSE),\"\")","v":""},null,null,null,null,297,{"$f":"IFERROR(VLOOKUP(AH300,Journal!$R:$S,2,FALSE),\"\")","v":""},0,0,null,null,null,null,null,null,null,null,null,null,null,null,null,null,null,null,null,null,null,null,null,null,271,0,25025.38,{"$error":"#N/A"}]
[null,null,null,null,null,null,null,null,null,null,null,{"$f":"IFERROR(VLOOKUP(G180, 'Daily Snapshot'!$B:$J,9,FALSE),\"\")","v":""},null,null,null,null,null,null,278,{"$f":"IFERROR(VLOOKUP(S301,Journal!$R:$AQ,26,FALSE),\"\")","v":""},{"$error":"#VALUE!"},{"$error":"#N/A"},"",{"$f":"IFERROR(VLOOKUP(S301,Journal!$R:$AV,32,FALSE),\"\")","v":""},null,null,null,null,{"$f":"IFERROR(VLOOKUP(AA301, 'Daily Snapshot'!$B:$J,7,FALSE),\"\")","v":""},null,null,null,null,298,{"$f":"IFERROR(VLOOKUP(AH301,Journal!$R:$S,2,FALSE),\"\")","v":""},0,0,null,null,null,null,null,null,null,null,null,null,null,null,null,null,null,null,null,null,null,null,null,null,272,0,25025.38,{"$error":"#N/A"}]
[null,null,null,null,null,null,null,null,null,null,null,{"$f":"IFERROR(VLOOKUP(G181, 'Daily Snapshot'!$B:$J,9,FALSE),\"\")","v":""},null,null,null,null,null,null,279,{"$f":"IFERROR(VLOOKUP(S302,Journal!$R:$AQ,26,FALSE),\"\")","v":""},{"$error":"#VALUE!"},{"$error":"#N/A"},"",{"$f":"IFERROR(VLOOKUP(S302,Journal!$R:$AV,32,FALSE),\"\")","v":""},null,null,null,null,{"$f":"IFERROR(VLOOKUP(AA302, 'Daily Snapshot'!$B:$J,7,FALSE),\"\")","v":""},null,null,null,null,299,{"$f":"IFERROR(VLOOKUP(AH302,Journal!$R:$S,2,FALSE),\"\")","v":""},0,0,null,null,null,null,null,null,null,null,null,null,null,null,null,null,null,null,null,null,null,null,null,null,273,0,25025.38,{"$error":"#N/A"}]
[null,null,null,null,null,null,null,null,null,null,null,null,null,null,null,null,null,null,280,{"$f":"IFERROR(VLOOKUP(S303,Journal!$R:$AQ,26,FALSE),\"\")","v":""},{"$error":"#VALUE!"},{"$error":"#N/A"},"",{"$f":"IFERROR(VLOOKUP(S303,Journal!$R:$AV,32,FALSE),\"\")","v":""},null,null,null,null,{"$f":"IFERROR(VLOOKUP(AA303, 'Daily Snapshot'!$B:$J,7,FALSE),\"\")","v":""},null,null,null,null,300,{"$f":"IFERROR(VLOOKUP(AH303,Journal!$R:$S,2,FALSE),\"\")","v":""},0,0,null,null,null,null,null,null,null,null,null,null,null,null,null,null,null,null,null,null,null,null,null,null,274,0,25025.38,{"$error":"#N/A"}]
[null,null,null,null,null,null,null,null,null,null,null,null,null,null,null,null,null,null,281,{"$f":"IFERROR(VLOOKUP(S304,Journal!$R:$AQ,26,FALSE),\"\")","v":""},{"$error":"#VALUE!"},{"$error":"#N/A"},"",{"$f":"IFERROR(VLOOKUP(S304,Journal!$R:$AV,32,FALSE),\"\")","v":""},null,null,null,null,{"$f":"IFERROR(VLOOKUP(AA304, 'Daily Snapshot'!$B:$J,7,FALSE),\"\")","v":""},null,null,null,null,301,{"$f":"IFERROR(VLOOKUP(AH304,Journal!$R:$S,2,FALSE),\"\")","v":""},0,0,null,null,null,null,null,null,null,null,null,null,null,null,null,null,null,null,null,null,null,null,null,null,275,0,25025.38,{"$error":"#N/A"}]
[null,null,null,null,null,null,null,null,null,null,null,{"$f":"IFERROR(VLOOKUP(G182, 'Daily Snapshot'!$B:$J,9,FALSE),\"\")","v":""},null,null,null,null,null,null,282,{"$f":"IFERROR(VLOOKUP(S305,Journal!$R:$AQ,26,FALSE),\"\")","v":""},{"$error":"#VALUE!"},{"$error":"#N/A"},"",{"$f":"IFERROR(VLOOKUP(S305,Journal!$R:$AV,32,FALSE),\"\")","v":""},null,null,null,null,{"$f":"IFERROR(VLOOKUP(AA305, 'Daily Snapshot'!$B:$J,7,FALSE),\"\")","v":""},null,null,null,null,302,{"$f":"IFERROR(VLOOKUP(AH305,Journal!$R:$S,2,FALSE),\"\")","v":""},0,0,null,null,null,null,null,null,null,null,null,null,null,null,null,null,null,null,null,null,null,null,null,null,276,0,25025.38,{"$error":"#N/A"}]
[null,null,null,null,null,null,null,null,null,null,null,{"$f":"IFERROR(VLOOKUP(#REF!, 'Daily Snapshot'!$B:$J,9,FALSE),\"\")","v":""},null,null,null,null,null,null,283,{"$f":"IFERROR(VLOOKUP(S306,Journal!$R:$AQ,26,FALSE),\"\")","v":""},{"$error":"#VALUE!"},{"$error":"#N/A"},"",{"$f":"IFERROR(VLOOKUP(S306,Journal!$R:$AV,32,FALSE),\"\")","v":""},null,null,null,null,{"$f":"IFERROR(VLOOKUP(AA306, 'Daily Snapshot'!$B:$J,7,FALSE),\"\")","v":""},null,null,null,null,303,{"$f":"IFERROR(VLOOKUP(AH306,Journal!$R:$S,2,FALSE),\"\")","v":""},0,0,null,null,null,null,null,null,null,null,null,null,null,null,null,null,null,null,null,null,null,null,null,null,277,0,25025.38,{"$error":"#N/A"}]
[null,null,null,null,null,null,null,null,null,null,null,{"$f":"IFERROR(VLOOKUP(#REF!, 'Daily Snapshot'!$B:$J,9,FALSE),\"\")","v":""},null,null,null,null,null,null,284,{"$f":"IFERROR(VLOOKUP(S307,Journal!$R:$AQ,26,FALSE),\"\")","v":""},{"$error":"#VALUE!"},{"$error":"#N/A"},"",{"$f":"IFERROR(VLOOKUP(S307,Journal!$R:$AV,32,FALSE),\"\")","v":""},null,null,null,null,{"$f":"IFERROR(VLOOKUP(AA307, 'Daily Snapshot'!$B:$J,7,FALSE),\"\")","v":""},null,null,null,null,304,{"$f":"IFERROR(VLOOKUP(AH307,Journal!$R:$S,2,FALSE),\"\")","v":""},0,0,null,null,null,null,null,null,null,null,null,null,null,null,null,null,null,null,null,null,null,null,null,null,278,0,25025.38,{"$error":"#N/A"}]
[null,null,null,null,null,null,null,null,null,null,null,{"$f":"IFERROR(VLOOKUP(G183, 'Daily Snapshot'!$B:$J,9,FALSE),\"\")","v":""},null,null,null,null,null,null,285,{"$f":"IFERROR(VLOOKUP(S308,Journal!$R:$AQ,26,FALSE),\"\")","v":""},{"$error":"#VALUE!"},{"$error":"#N/A"},"",{"$f":"IFERROR(VLOOKUP(S308,Journal!$R:$AV,32,FALSE),\"\")","v":""},null,null,null,null,{"$f":"IFERROR(VLOOKUP(AA308, 'Daily Snapshot'!$B:$J,7,FALSE),\"\")","v":""},null,null,null,null,305,{"$f":"IFERROR(VLOOKUP(AH308,Journal!$R:$S,2,FALSE),\"\")","v":""},0,0,null,null,null,null,null,null,null,null,null,null,null,null,null,null,null,null,null,null,null,null,null,null,279,0,25025.38,{"$error":"#N/A"}]
[null,null,null,null,null,null,null,null,null,null,null,{"$f":"IFERROR(VLOOKUP(G184, 'Daily Snapshot'!$B:$J,9,FALSE),\"\")","v":""},null,null,null,null,null,null,286,{"$f":"IFERROR(VLOOKUP(S309,Journal!$R:$AQ,26,FALSE),\"\")","v":""},{"$error":"#VALUE!"},{"$error":"#N/A"},"",{"$f":"IFERROR(VLOOKUP(S309,Journal!$R:$AV,32,FALSE),\"\")","v":""},null,null,null,null,{"$f":"IFERROR(VLOOKUP(AA309, 'Daily Snapshot'!$B:$J,7,FALSE),\"\")","v":""},null,null,null,null,306,{"$f":"IFERROR(VLOOKUP(AH309,Journal!$R:$S,2,FALSE),\"\")","v":""},0,0,null,null,null,null,null,null,null,null,null,null,null,null,null,null,null,null,null,null,null,null,null,null,280,0,25025.38,{"$error":"#N/A"}]
[null,null,null,null,null,null,null,null,null,null,null,null,null,null,null,null,null,null,287,{"$f":"IFERROR(VLOOKUP(S310,Journal!$R:$AQ,26,FALSE),\"\")","v":""},{"$error":"#VALUE!"},{"$error":"#N/A"},"",{"$f":"IFERROR(VLOOKUP(S310,Journal!$R:$AV,32,FALSE),\"\")","v":""},null,null,null,null,{"$f":"IFERROR(VLOOKUP(AA310, 'Daily Snapshot'!$B:$J,7,FALSE),\"\")","v":""},null,null,null,null,307,{"$f":"IFERROR(VLOOKUP(AH310,Journal!$R:$S,2,FALSE),\"\")","v":""},0,0,null,null,null,null,null,null,null,null,null,null,null,null,null,null,null,null,null,null,null,null,null,null,281,0,25025.38,{"$error":"#N/A"}]
[null,null,null,null,null,null,null,null,null,null,null,null,null,null,null,null,null,null,288,{"$f":"IFERROR(VLOOKUP(S311,Journal!$R:$AQ,26,FALSE),\"\")","v":""},{"$error":"#VALUE!"},{"$error":"#N/A"},"",{"$f":"IFERROR(VLOOKUP(S311,Journal!$R:$AV,32,FALSE),\"\")","v":""},null,null,null,null,{"$f":"IFERROR(VLOOKUP(AA311, 'Daily Snapshot'!$B:$J,7,FALSE),\"\")","v":""},null,null,null,null,308,{"$f":"IFERROR(VLOOKUP(AH311,Journal!$R:$S,2,FALSE),\"\")","v":""},0,0,null,null,null,null,null,null,null,null,null,null,null,null,null,null,null,null,null,null,null,null,null,null,282,0,25025.38,{"$error":"#N/A"}]
[null,null,null,null,null,null,null,null,null,null,null,{"$f":"IFERROR(VLOOKUP(G185, 'Daily Snapshot'!$B:$J,9,FALSE),\"\")","v":""},null,null,null,null,null,null,289,{"$f":"IFERROR(VLOOKUP(S312,Journal!$R:$AQ,26,FALSE),\"\")","v":""},{"$error":"#VALUE!"},{"$error":"#N/A"},"",{"$f":"IFERROR(VLOOKUP(S312,Journal!$R:$AV,32,FALSE),\"\")","v":""},null,null,null,null,{"$f":"IFERROR(VLOOKUP(AA312, 'Daily Snapshot'!$B:$J,7,FALSE),\"\")","v":""},null,null,null,null,309,{"$f":"IFERROR(VLOOKUP(AH312,Journal!$R:$S,2,FALSE),\"\")","v":""},0,0,null,null,null,null,null,null,null,null,null,null,null,null,null,null,null,null,null,null,null,null,null,null,283,0,25025.38,{"$error":"#N/A"}]
[null,null,null,null,null,null,null,null,null,null,null,{"$f":"IFERROR(VLOOKUP(G186, 'Daily Snapshot'!$B:$J,9,FALSE),\"\")","v":""},null,null,null,null,null,null,290,{"$f":"IFERROR(VLOOKUP(S313,Journal!$R:$AQ,26,FALSE),\"\")","v":""},{"$error":"#VALUE!"},{"$error":"#N/A"},"",{"$f":"IFERROR(VLOOKUP(S313,Journal!$R:$AV,32,FALSE),\"\")","v":""},null,null,null,null,{"$f":"IFERROR(VLOOKUP(AA313, 'Daily Snapshot'!$B:$J,7,FALSE),\"\")","v":""},null,null,null,null,310,{"$f":"IFERROR(VLOOKUP(AH313,Journal!$R:$S,2,FALSE),\"\")","v":""},0,0,null,null,null,null,null,null,null,null,null,null,null,null,null,null,null,null,null,null,null,null,null,null,284,0,25025.38,{"$error":"#N/A"}]
[null,null,null,null,null,null,null,null,null,null,null,{"$f":"IFERROR(VLOOKUP(G187, 'Daily Snapshot'!$B:$J,9,FALSE),\"\")","v":""},null,null,null,null,null,null,291,{"$f":"IFERROR(VLOOKUP(S314,Journal!$R:$AQ,26,FALSE),\"\")","v":""},{"$error":"#VALUE!"},{"$error":"#N/A"},"",{"$f":"IFERROR(VLOOKUP(S314,Journal!$R:$AV,32,FALSE),\"\")","v":""},null,null,null,null,{"$f":"IFERROR(VLOOKUP(AA314, 'Daily Snapshot'!$B:$J,7,FALSE),\"\")","v":""},null,null,null,null,311,{"$f":"IFERROR(VLOOKUP(AH314,Journal!$R:$S,2,FALSE),\"\")","v":""},0,0,null,null,null,null,null,null,null,null,null,null,null,null,null,null,null,null,null,null,null,null,null,null,285,0,25025.38,{"$error":"#N/A"}]
[null,null,null,null,null,null,null,null,null,null,null,{"$f":"IFERROR(VLOOKUP(#REF!, 'Daily Snapshot'!$B:$J,9,FALSE),\"\")","v":""},null,null,null,null,null,null,292,{"$f":"IFERROR(VLOOKUP(S315,Journal!$R:$AQ,26,FALSE),\"\")","v":""},{"$error":"#VALUE!"},{"$error":"#N/A"},"",{"$f":"IFERROR(VLOOKUP(S315,Journal!$R:$AV,32,FALSE),\"\")","v":""},null,null,null,null,{"$f":"IFERROR(VLOOKUP(AA315, 'Daily Snapshot'!$B:$J,7,FALSE),\"\")","v":""},null,null,null,null,312,{"$f":"IFERROR(VLOOKUP(AH315,Journal!$R:$S,2,FALSE),\"\")","v":""},0,0,null,null,null,null,null,null,null,null,null,null,null,null,null,null,null,null,null,null,null,null,null,null,286,0,25025.38,{"$error":"#N/A"}]
[null,null,null,null,null,null,null,null,null,null,null,{"$f":"IFERROR(VLOOKUP(#REF!, 'Daily Snapshot'!$B:$J,9,FALSE),\"\")","v":""},null,null,null,null,null,null,293,{"$f":"IFERROR(VLOOKUP(S316,Journal!$R:$AQ,26,FALSE),\"\")","v":""},{"$error":"#VALUE!"},{"$error":"#N/A"},"",{"$f":"IFERROR(VLOOKUP(S316,Journal!$R:$AV,32,FALSE),\"\")","v":""},null,null,null,null,{"$f":"IFERROR(VLOOKUP(AA316, 'Daily Snapshot'!$B:$J,7,FALSE),\"\")","v":""},null,null,null,null,313,{"$f":"IFERROR(VLOOKUP(AH316,Journal!$R:$S,2,FALSE),\"\")","v":""},0,0,null,null,null,null,null,null,null,null,null,null,null,null,null,null,null,null,null,null,null,null,null,null,287,0,25025.38,{"$error":"#N/A"}]
[null,null,null,null,null,null,null,null,null,null,null,null,null,null,null,null,null,null,294,{"$f":"IFERROR(VLOOKUP(S317,Journal!$R:$AQ,26,FALSE),\"\")","v":""},{"$error":"#VALUE!"},{"$error":"#N/A"},"",{"$f":"IFERROR(VLOOKUP(S317,Journal!$R:$AV,32,FALSE),\"\")","v":""},null,null,null,null,{"$f":"IFERROR(VLOOKUP(AA317, 'Daily Snapshot'!$B:$J,7,FALSE),\"\")","v":""},null,null,null,null,314,{"$f":"IFERROR(VLOOKUP(AH317,Journal!$R:$S,2,FALSE),\"\")","v":""},0,0,null,null,null,null,null,null,null,null,null,null,null,null,null,null,null,null,null,null,null,null,null,null,288,0,25025.38,{"$error":"#N/A"}]
[null,null,null,null,null,null,null,null,null,null,null,null,null,null,null,null,null,null,295,{"$f":"IFERROR(VLOOKUP(S318,Journal!$R:$AQ,26,FALSE),\"\")","v":""},{"$error":"#VALUE!"},{"$error":"#N/A"},"",{"$f":"IFERROR(VLOOKUP(S318,Journal!$R:$AV,32,FALSE),\"\")","v":""},null,null,null,null,{"$f":"IFERROR(VLOOKUP(AA318, 'Daily Snapshot'!$B:$J,7,FALSE),\"\")","v":""},null,null,null,null,315,{"$f":"IFERROR(VLOOKUP(AH318,Journal!$R:$S,2,FALSE),\"\")","v":""},0,0,null,null,null,null,null,null,null,null,null,null,null,null,null,null,null,null,null,null,null,null,null,null,289,0,25025.38,{"$error":"#N/A"}]
[null,null,null,null,null,null,null,null,null,null,null,{"$f":"IFERROR(VLOOKUP(G188, 'Daily Snapshot'!$B:$J,9,FALSE),\"\")","v":""},null,null,null,null,null,null,296,{"$f":"IFERROR(VLOOKUP(S319,Journal!$R:$AQ,26,FALSE),\"\")","v":""},{"$error":"#VALUE!"},{"$error":"#N/A"},"",{"$f":"IFERROR(VLOOKUP(S319,Journal!$R:$AV,32,FALSE),\"\")","v":""},null,null,null,null,{"$f":"IFERROR(VLOOKUP(AA319, 'Daily Snapshot'!$B:$J,7,FALSE),\"\")","v":""},null,null,null,null,316,{"$f":"IFERROR(VLOOKUP(AH319,Journal!$R:$S,2,FALSE),\"\")","v":""},0,0,null,null,null,null,null,null,null,null,null,null,null,null,null,null,null,null,null,null,null,null,null,null,290,0,25025.38,{"$error":"#N/A"}]
[null,null,null,null,null,null,null,null,null,null,null,{"$f":"IFERROR(VLOOKUP(G189, 'Daily Snapshot'!$B:$J,9,FALSE),\"\")","v":""},null,null,null,null,null,null,297,{"$f":"IFERROR(VLOOKUP(S320,Journal!$R:$AQ,26,FALSE),\"\")","v":""},{"$error":"#VALUE!"},{"$error":"#N/A"},"",{"$f":"IFERROR(VLOOKUP(S320,Journal!$R:$AV,32,FALSE),\"\")","v":""},null,null,null,null,{"$f":"IFERROR(VLOOKUP(AA320, 'Daily Snapshot'!$B:$J,7,FALSE),\"\")","v":""},null,null,null,null,317,{"$f":"IFERROR(VLOOKUP(AH320,Journal!$R:$S,2,FALSE),\"\")","v":""},0,0,null,null,null,null,null,null,null,null,null,null,null,null,null,null,null,null,null,null,null,null,null,null,291,0,25025.38,{"$error":"#N/A"}]
[null,null,null,null,null,null,null,null,null,null,null,{"$f":"IFERROR(VLOOKUP(G190, 'Daily Snapshot'!$B:$J,9,FALSE),\"\")","v":""},null,null,null,null,null,null,298,{"$f":"IFERROR(VLOOKUP(S321,Journal!$R:$AQ,26,FALSE),\"\")","v":""},{"$error":"#VALUE!"},{"$error":"#N/A"},"",{"$f":"IFERROR(VLOOKUP(S321,Journal!$R:$AV,32,FALSE),\"\")","v":""},null,null,null,null,{"$f":"IFERROR(VLOOKUP(AA321, 'Daily Snapshot'!$B:$J,7,FALSE),\"\")","v":""},null,null,null,null,318,{"$f":"IFERROR(VLOOKUP(AH321,Journal!$R:$S,2,FALSE),\"\")","v":""},0,0,null,null,null,null,null,null,null,null,null,null,null,null,null,null,null,null,null,null,null,null,null,null,292,0,25025.38,{"$error":"#N/A"}]
[null,null,null,null,null,null,null,null,null,null,null,{"$f":"IFERROR(VLOOKUP(G191, 'Daily Snapshot'!$B:$J,9,FALSE),\"\")","v":""},null,null,null,null,null,null,299,{"$f":"IFERROR(VLOOKUP(S322,Journal!$R:$AQ,26,FALSE),\"\")","v":""},{"$error":"#VALUE!"},{"$error":"#N/A"},"",{"$f":"IFERROR(VLOOKUP(S322,Journal!$R:$AV,32,FALSE),\"\")","v":""},null,null,null,null,{"$f":"IFERROR(VLOOKUP(AA322, 'Daily Snapshot'!$B:$J,7,FALSE),\"\")","v":""},null,null,null,null,319,{"$f":"IFERROR(VLOOKUP(AH322,Journal!$R:$S,2,FALSE),\"\")","v":""},0,0,null,null,null,null,null,null,null,null,null,null,null,null,null,null,null,null,null,null,null,null,null,null,293,0,25025.38,{"$error":"#N/A"}]
[null,null,null,null,null,null,null,null,null,null,null,{"$f":"IFERROR(VLOOKUP(G192, 'Daily Snapshot'!$B:$J,9,FALSE),\"\")","v":""},null,null,null,null,null,null,300,{"$f":"IFERROR(VLOOKUP(S323,Journal!$R:$AQ,26,FALSE),\"\")","v":""},{"$error":"#VALUE!"},{"$error":"#N/A"},"",{"$f":"IFERROR(VLOOKUP(S323,Journal!$R:$AV,32,FALSE),\"\")","v":""},null,null,null,null,{"$f":"IFERROR(VLOOKUP(AA323, 'Daily Snapshot'!$B:$J,7,FALSE),\"\")","v":""},null,null,null,null,320,{"$f":"IFERROR(VLOOKUP(AH323,Journal!$R:$S,2,FALSE),\"\")","v":""},0,0,null,null,null,null,null,null,null,null,null,null,null,null,null,null,null,null,null,null,null,null,null,null,294,0,25025.38,{"$error":"#N/A"}]
[null,null,null,null,null,null,null,null,null,null,null,null,null,null,null,null,null,null,301,{"$f":"IFERROR(VLOOKUP(S324,Journal!$R:$AQ,26,FALSE),\"\")","v":""},{"$error":"#VALUE!"},{"$error":"#N/A"},"",{"$f":"IFERROR(VLOOKUP(S324,Journal!$R:$AV,32,FALSE),\"\")","v":""},null,null,null,null,{"$f":"IFERROR(VLOOKUP(AA324, 'Daily Snapshot'!$B:$J,7,FALSE),\"\")","v":""},null,null,null,null,321,{"$f":"IFERROR(VLOOKUP(AH324,Journal!$R:$S,2,FALSE),\"\")","v":""},{"$f":"IF($AI324=\"W\", 1,0)","v":0},{"$f":"IF($AI324=\"L\", -1,0)","v":0},null,null,null,null,null,null,null,null,null,null,null,null,null,null,null,null,null,null,null,null,null,null,295,0,25025.38,{"$error":"#N/A"}]
[null,null,null,null,null,null,null,null,null,null,null,null,null,null,null,null,null,null,302,{"$f":"IFERROR(VLOOKUP(S325,Journal!$R:$AQ,26,FALSE),\"\")","v":""},{"$error":"#VALUE!"},{"$error":"#N/A"},"",{"$f":"IFERROR(VLOOKUP(S325,Journal!$R:$AV,32,FALSE),\"\")","v":""},null,null,null,null,{"$f":"IFERROR(VLOOKUP(AA325, 'Daily Snapshot'!$B:$J,7,FALSE),\"\")","v":""},null,null,null,null,322,{"$f":"IFERROR(VLOOKUP(AH325,Journal!$R:$S,2,FALSE),\"\")","v":""},0,0,null,null,null,null,null,null,null,null,null,null,null,null,null,null,null,null,null,null,null,null,null,null,296,0,25025.38,{"$error":"#N/A"}]
[null,null,null,null,null,null,null,null,null,null,null,{"$f":"IFERROR(VLOOKUP(#REF!, 'Daily Snapshot'!$B:$J,9,FALSE),\"\")","v":""},null,null,null,null,null,null,303,{"$f":"IFERROR(VLOOKUP(S326,Journal!$R:$AQ,26,FALSE),\"\")","v":""},{"$error":"#VALUE!"},{"$error":"#N/A"},"",{"$f":"IFERROR(VLOOKUP(S326,Journal!$R:$AV,32,FALSE),\"\")","v":""},null,null,null,null,{"$f":"IFERROR(VLOOKUP(AA326, 'Daily Snapshot'!$B:$J,7,FALSE),\"\")","v":""},null,null,null,null,323,{"$f":"IFERROR(VLOOKUP(AH326,Journal!$R:$S,2,FALSE),\"\")","v":""},0,0,null,null,null,null,null,null,null,null,null,null,null,null,null,null,null,null,null,null,null,null,null,null,297,0,25025.38,{"$error":"#N/A"}]
[null,null,null,null,null,null,null,null,null,null,null,{"$f":"IFERROR(VLOOKUP(#REF!, 'Daily Snapshot'!$B:$J,9,FALSE),\"\")","v":""},null,null,null,null,null,null,304,{"$f":"IFERROR(VLOOKUP(S327,Journal!$R:$AQ,26,FALSE),\"\")","v":""},{"$error":"#VALUE!"},{"$error":"#N/A"},"",{"$f":"IFERROR(VLOOKUP(S327,Journal!$R:$AV,32,FALSE),\"\")","v":""},null,null,null,null,{"$f":"IFERROR(VLOOKUP(AA327, 'Daily Snapshot'!$B:$J,7,FALSE),\"\")","v":""},null,null,null,null,324,{"$f":"IFERROR(VLOOKUP(AH327,Journal!$R:$S,2,FALSE),\"\")","v":""},0,0,null,null,null,null,null,null,null,null,null,null,null,null,null,null,null,null,null,null,null,null,null,null,298,0,25025.38,{"$error":"#N/A"}]
[null,null,null,null,null,null,null,null,null,null,null,{"$f":"IFERROR(VLOOKUP(G193, 'Daily Snapshot'!$B:$J,9,FALSE),\"\")","v":""},null,null,null,null,null,null,305,{"$f":"IFERROR(VLOOKUP(S328,Journal!$R:$AQ,26,FALSE),\"\")","v":""},{"$error":"#VALUE!"},{"$error":"#N/A"},"",{"$f":"IFERROR(VLOOKUP(S328,Journal!$R:$AV,32,FALSE),\"\")","v":""},null,null,null,null,{"$f":"IFERROR(VLOOKUP(AA328, 'Daily Snapshot'!$B:$J,7,FALSE),\"\")","v":""},null,null,null,null,325,{"$f":"IFERROR(VLOOKUP(AH328,Journal!$R:$S,2,FALSE),\"\")","v":""},0,0,null,null,null,null,null,null,null,null,null,null,null,null,null,null,null,null,null,null,null,null,null,null,299,0,25025.38,{"$error":"#N/A"}]
[null,null,null,null,null,null,null,null,null,null,null,{"$f":"IFERROR(VLOOKUP(G194, 'Daily Snapshot'!$B:$J,9,FALSE),\"\")","v":""},null,null,null,null,null,null,306,{"$f":"IFERROR(VLOOKUP(S329,Journal!$R:$AQ,26,FALSE),\"\")","v":""},{"$error":"#VALUE!"},{"$error":"#N/A"},"",{"$f":"IFERROR(VLOOKUP(S329,Journal!$R:$AV,32,FALSE),\"\")","v":""},null,null,null,null,{"$f":"IFERROR(VLOOKUP(AA329, 'Daily Snapshot'!$B:$J,7,FALSE),\"\")","v":""},null,null,null,null,326,{"$f":"IFERROR(VLOOKUP(AH329,Journal!$R:$S,2,FALSE),\"\")","v":""},0,0,null,null,null,null,null,null,null,null,null,null,null,null,null,null,null,null,null,null,null,null,null,null,300,0,25025.38,{"$error":"#N/A"}]
[null,null,null,null,null,null,null,null,null,null,null,{"$f":"IFERROR(VLOOKUP(G195, 'Daily Snapshot'!$B:$J,9,FALSE),\"\")","v":""},null,null,null,null,null,null,307,{"$f":"IFERROR(VLOOKUP(S330,Journal!$R:$AQ,26,FALSE),\"\")","v":""},{"$error":"#VALUE!"},{"$error":"#N/A"},"",{"$f":"IFERROR(VLOOKUP(S330,Journal!$R:$AV,32,FALSE),\"\")","v":""},null,null,null,null,{"$f":"IFERROR(VLOOKUP(AA330, 'Daily Snapshot'!$B:$J,7,FALSE),\"\")","v":""},null,null,null,null,327,{"$f":"IFERROR(VLOOKUP(AH330,Journal!$R:$S,2,FALSE),\"\")","v":""},0,0,null,null,null,null,null,null,null,null,null,null,null,null,null,null,null,null,null,null,null,null,null,null,301,0,25025.38,{"$error":"#N/A"}]
[null,null,null,null,null,null,null,null,null,null,null,null,null,null,null,null,null,null,308,{"$f":"IFERROR(VLOOKUP(S331,Journal!$R:$AQ,26,FALSE),\"\")","v":""},{"$error":"#VALUE!"},{"$error":"#N/A"},"",{"$f":"IFERROR(VLOOKUP(S331,Journal!$R:$AV,32,FALSE),\"\")","v":""},null,null,null,null,{"$f":"IFERROR(VLOOKUP(AA331, 'Daily Snapshot'!$B:$J,7,FALSE),\"\")","v":""},null,null,null,null,328,{"$f":"IFERROR(VLOOKUP(AH331,Journal!$R:$S,2,FALSE),\"\")","v":""},0,0,null,null,null,null,null,null,null,null,null,null,null,null,null,null,null,null,null,null,null,null,null,null,302,0,25025.38,{"$error":"#N/A"}]
[null,null,null,null,null,null,null,null,null,null,null,null,null,null,null,null,null,null,309,{"$f":"IFERROR(VLOOKUP(S332,Journal!$R:$AQ,26,FALSE),\"\")","v":""},{"$error":"#VALUE!"},{"$error":"#N/A"},"",{"$f":"IFERROR(VLOOKUP(S332,Journal!$R:$AV,32,FALSE),\"\")","v":""},null,null,null,null,{"$f":"IFERROR(VLOOKUP(AA332, 'Daily Snapshot'!$B:$J,7,FALSE),\"\")","v":""},null,null,null,null,329,{"$f":"IFERROR(VLOOKUP(AH332,Journal!$R:$S,2,FALSE),\"\")","v":""},0,0,null,null,null,null,null,null,null,null,null,null,null,null,null,null,null,null,null,null,null,null,null,null,303,0,25025.38,{"$error":"#N/A"}]
[null,null,null,null,null,null,null,null,null,null,null,{"$f":"IFERROR(VLOOKUP(G196, 'Daily Snapshot'!$B:$J,9,FALSE),\"\")","v":""},null,null,null,null,null,null,310,{"$f":"IFERROR(VLOOKUP(S333,Journal!$R:$AQ,26,FALSE),\"\")","v":""},{"$error":"#VALUE!"},{"$error":"#N/A"},"",{"$f":"IFERROR(VLOOKUP(S333,Journal!$R:$AV,32,FALSE),\"\")","v":""},null,null,null,null,{"$f":"IFERROR(VLOOKUP(AA333, 'Daily Snapshot'!$B:$J,7,FALSE),\"\")","v":""},null,null,null,null,330,{"$f":"IFERROR(VLOOKUP(AH333,Journal!$R:$S,2,FALSE),\"\")","v":""},0,0,null,null,null,null,null,null,null,null,null,null,null,null,null,null,null,null,null,null,null,null,null,null,304,0,25025.38,{"$error":"#N/A"}]
[null,null,null,null,null,null,null,null,null,null,null,null,null,null,null,null,null,null,311,{"$f":"IFERROR(VLOOKUP(S334,Journal!$R:$AQ,26,FALSE),\"\")","v":""},{"$error":"#VALUE!"},{"$error":"#N/A"},"",{"$f":"IFERROR(VLOOKUP(S334,Journal!$R:$AV,32,FALSE),\"\")","v":""},null,null,null,null,{"$f":"IFERROR(VLOOKUP(AA334, 'Daily Snapshot'!$B:$J,7,FALSE),\"\")","v":""},null,null,null,null,331,{"$f":"IFERROR(VLOOKUP(AH334,Journal!$R:$S,2,FALSE),\"\")","v":""},0,0,null,null,null,null,null,null,null,null,null,null,null,null,null,null,null,null,null,null,null,null,null,null,305,0,25025.38,{"$error":"#N/A"}]
[null,null,null,null,null,null,null,null,null,null,null,null,null,null,null,null,null,null,312,{"$f":"IFERROR(VLOOKUP(S335,Journal!$R:$AQ,26,FALSE),\"\")","v":""},{"$error":"#VALUE!"},{"$error":"#N/A"},"",{"$f":"IFERROR(VLOOKUP(S335,Journal!$R:$AV,32,FALSE),\"\")","v":""},null,null,null,null,{"$f":"IFERROR(VLOOKUP(AA335, 'Daily Snapshot'!$B:$J,7,FALSE),\"\")","v":""},null,null,null,null,332,{"$f":"IFERROR(VLOOKUP(AH335,Journal!$R:$S,2,FALSE),\"\")","v":""},0,0,null,null,null,null,null,null,null,null,null,null,null,null,null,null,null,null,null,null,null,null,null,null,306,0,25025.38,{"$error":"#N/A"}]
[null,null,null,null,null,null,null,null,null,null,null,{"$f":"IFERROR(VLOOKUP(G197, 'Daily Snapshot'!$B:$J,9,FALSE),\"\")","v":""},null,null,null,null,null,null,313,{"$f":"IFERROR(VLOOKUP(S336,Journal!$R:$AQ,26,FALSE),\"\")","v":""},{"$error":"#VALUE!"},{"$error":"#N/A"},"",{"$f":"IFERROR(VLOOKUP(S336,Journal!$R:$AV,32,FALSE),\"\")","v":""},null,null,null,null,{"$f":"IFERROR(VLOOKUP(AA336, 'Daily Snapshot'!$B:$J,7,FALSE),\"\")","v":""},null,null,null,null,333,{"$f":"IFERROR(VLOOKUP(AH336,Journal!$R:$S,2,FALSE),\"\")","v":""},0,0,null,null,null,null,null,null,null,null,null,null,null,null,null,null,null,null,null,null,null,null,null,null,307,0,25025.38,{"$error":"#N/A"}]
[null,null,null,null,null,null,null,null,null,null,null,{"$f":"IFERROR(VLOOKUP(#REF!, 'Daily Snapshot'!$B:$J,9,FALSE),\"\")","v":""},null,null,null,null,null,null,314,{"$f":"IFERROR(VLOOKUP(S337,Journal!$R:$AQ,26,FALSE),\"\")","v":""},{"$error":"#VALUE!"},{"$error":"#N/A"},"",{"$f":"IFERROR(VLOOKUP(S337,Journal!$R:$AV,32,FALSE),\"\")","v":""},null,null,null,null,{"$f":"IFERROR(VLOOKUP(AA337, 'Daily Snapshot'!$B:$J,7,FALSE),\"\")","v":""},null,null,null,null,334,{"$f":"IFERROR(VLOOKUP(AH337,Journal!$R:$S,2,FALSE),\"\")","v":""},0,0,null,null,null,null,null,null,null,null,null,null,null,null,null,null,null,null,null,null,null,null,null,null,308,0,25025.38,{"$error":"#N/A"}]
[null,null,null,null,null,null,null,null,null,null,null,{"$f":"IFERROR(VLOOKUP(#REF!, 'Daily Snapshot'!$B:$J,9,FALSE),\"\")","v":""},null,null,null,null,null,null,315,{"$f":"IFERROR(VLOOKUP(S338,Journal!$R:$AQ,26,FALSE),\"\")","v":""},{"$error":"#VALUE!"},{"$error":"#N/A"},"",{"$f":"IFERROR(VLOOKUP(S338,Journal!$R:$AV,32,FALSE),\"\")","v":""},null,null,null,null,{"$f":"IFERROR(VLOOKUP(AA338, 'Daily Snapshot'!$B:$J,7,FALSE),\"\")","v":""},null,null,null,null,335,{"$f":"IFERROR(VLOOKUP(AH338,Journal!$R:$S,2,FALSE),\"\")","v":""},0,0,null,null,null,null,null,null,null,null,null,null,null,null,null,null,null,null,null,null,null,null,null,null,309,0,25025.38,{"$error":"#N/A"}]
[null,null,null,null,null,null,null,null,null,null,null,{"$f":"IFERROR(VLOOKUP(G198, 'Daily Snapshot'!$B:$J,9,FALSE),\"\")","v":""},null,null,null,null,null,null,316,{"$f":"IFERROR(VLOOKUP(S339,Journal!$R:$AQ,26,FALSE),\"\")","v":""},{"$error":"#VALUE!"},{"$error":"#N/A"},"",{"$f":"IFERROR(VLOOKUP(S339,Journal!$R:$AV,32,FALSE),\"\")","v":""},null,null,null,null,{"$f":"IFERROR(VLOOKUP(AA339, 'Daily Snapshot'!$B:$J,7,FALSE),\"\")","v":""},null,null,null,null,336,{"$f":"IFERROR(VLOOKUP(AH339,Journal!$R:$S,2,FALSE),\"\")","v":""},0,0,null,null,null,null,null,null,null,null,null,null,null,null,null,null,null,null,null,null,null,null,null,null,310,0,25025.38,{"$error":"#N/A"}]
[null,null,null,null,null,null,null,null,null,null,null,null,null,null,null,null,null,null,317,{"$f":"IFERROR(VLOOKUP(S340,Journal!$R:$AQ,26,FALSE),\"\")","v":""},{"$error":"#VALUE!"},{"$error":"#N/A"},"",{"$f":"IFERROR(VLOOKUP(S340,Journal!$R:$AV,32,FALSE),\"\")","v":""},null,null,null,null,{"$f":"IFERROR(VLOOKUP(AA340, 'Daily Snapshot'!$B:$J,7,FALSE),\"\")","v":""},null,null,null,null,337,{"$f":"IFERROR(VLOOKUP(AH340,Journal!$R:$S,2,FALSE),\"\")","v":""},0,0,null,null,null,null,null,null,null,null,null,null,null,null,null,null,null,null,null,null,null,null,null,null,311,0,25025.38,{"$error":"#N/A"}]
[null,null,null,null,null,null,null,null,null,null,null,null,null,null,null,null,null,null,318,{"$f":"IFERROR(VLOOKUP(S341,Journal!$R:$AQ,26,FALSE),\"\")","v":""},{"$error":"#VALUE!"},{"$error":"#N/A"},"",{"$f":"IFERROR(VLOOKUP(S341,Journal!$R:$AV,32,FALSE),\"\")","v":""},null,null,null,null,{"$f":"IFERROR(VLOOKUP(AA341, 'Daily Snapshot'!$B:$J,7,FALSE),\"\")","v":""},null,null,null,null,338,{"$f":"IFERROR(VLOOKUP(AH341,Journal!$R:$S,2,FALSE),\"\")","v":""},0,0,null,null,null,null,null,null,null,null,null,null,null,null,null,null,null,null,null,null,null,null,null,null,312,0,25025.38,{"$error":"#N/A"}]
[null,null,null,null,null,null,null,null,null,null,null,null,null,null,null,null,null,null,319,{"$f":"IFERROR(VLOOKUP(S342,Journal!$R:$AQ,26,FALSE),\"\")","v":""},{"$error":"#VALUE!"},{"$error":"#N/A"},"",{"$f":"IFERROR(VLOOKUP(S342,Journal!$R:$AV,32,FALSE),\"\")","v":""},null,null,null,null,{"$f":"IFERROR(VLOOKUP(AA342, 'Daily Snapshot'!$B:$J,7,FALSE),\"\")","v":""},null,null,null,null,339,{"$f":"IFERROR(VLOOKUP(AH342,Journal!$R:$S,2,FALSE),\"\")","v":""},0,0,null,null,null,null,null,null,null,null,null,null,null,null,null,null,null,null,null,null,null,null,null,null,313,0,25025.38,{"$error":"#N/A"}]
[null,null,null,null,null,null,null,null,null,null,null,null,null,null,null,null,null,null,320,{"$f":"IFERROR(VLOOKUP(S343,Journal!$R:$AQ,26,FALSE),\"\")","v":""},{"$error":"#VALUE!"},{"$error":"#N/A"},"",{"$f":"IFERROR(VLOOKUP(S343,Journal!$R:$AV,32,FALSE),\"\")","v":""},null,null,null,null,{"$f":"IFERROR(VLOOKUP(AA343, 'Daily Snapshot'!$B:$J,7,FALSE),\"\")","v":""},null,null,null,null,340,{"$f":"IFERROR(VLOOKUP(AH343,Journal!$R:$S,2,FALSE),\"\")","v":""},0,0,null,null,null,null,null,null,null,null,null,null,null,null,null,null,null,null,null,null,null,null,null,null,314,0,25025.38,{"$error":"#N/A"}]
[null,null,null,null,null,null,null,null,null,null,null,null,null,null,null,null,null,null,321,{"$f":"IFERROR(VLOOKUP(S344,Journal!$R:$AQ,26,FALSE),\"\")","v":""},{"$error":"#VALUE!"},{"$error":"#N/A"},"",{"$f":"IFERROR(VLOOKUP(S344,Journal!$R:$AV,32,FALSE),\"\")","v":""},null,null,null,null,{"$f":"IFERROR(VLOOKUP(AA344, 'Daily Snapshot'!$B:$J,7,FALSE),\"\")","v":""},null,null,null,null,341,{"$f":"IFERROR(VLOOKUP(AH344,Journal!$R:$S,2,FALSE),\"\")","v":""},0,0,null,null,null,null,null,null,null,null,null,null,null,null,null,null,null,null,null,null,null,null,null,null,315,0,25025.38,{"$error":"#N/A"}]
[null,null,null,null,null,null,null,null,null,null,null,null,null,null,null,null,null,null,322,{"$f":"IFERROR(VLOOKUP(S345,Journal!$R:$AQ,26,FALSE),\"\")","v":""},{"$f":"T345+U344","v":{"$error":"#VALUE!"}},{"$error":"#N/A"},{"$f":"IFERROR(T345/$H$25,\"\")","v":""},{"$f":"IFERROR(VLOOKUP(S345,Journal!$R:$AV,32,FALSE),\"\")","v":""},null,null,null,null,{"$f":"IFERROR(VLOOKUP(AA345, 'Daily Snapshot'!$B:$J,7,FALSE),\"\")","v":""},null,null,null,null,342,{"$f":"IFERROR(VLOOKUP(AH345,Journal!$R:$S,2,FALSE),\"\")","v":""},0,0,null,null,null,null,null,null,null,null,null,null,null,null,null,null,null,null,null,null,null,null,null,null,316,0,25025.38,{"$error":"#N/A"}]
[null,null,null,null,null,null,null,null,null,null,null,null,null,null,null,null,null,null,323,{"$f":"IFERROR(VLOOKUP(S346,Journal!$R:$AQ,26,FALSE),\"\")","v":""},{"$error":"#VALUE!"},{"$error":"#N/A"},"",{"$f":"IFERROR(VLOOKUP(S346,Journal!$R:$AV,32,FALSE),\"\")","v":""},null,null,null,null,{"$f":"IFERROR(VLOOKUP(AA346, 'Daily Snapshot'!$B:$J,7,FALSE),\"\")","v":""},null,null,null,null,343,{"$f":"IFERROR(VLOOKUP(AH346,Journal!$R:$S,2,FALSE),\"\")","v":""},0,0,null,null,null,null,null,null,null,null,null,null,null,null,null,null,null,null,null,null,null,null,null,null,317,0,25025.38,{"$error":"#N/A"}]
[null,null,null,null,null,null,null,null,null,null,null,null,null,null,null,null,null,null,324,{"$f":"IFERROR(VLOOKUP(S347,Journal!$R:$AQ,26,FALSE),\"\")","v":""},{"$error":"#VALUE!"},{"$error":"#N/A"},"",{"$f":"IFERROR(VLOOKUP(S347,Journal!$R:$AV,32,FALSE),\"\")","v":""},null,null,null,null,{"$f":"IFERROR(VLOOKUP(AA347, 'Daily Snapshot'!$B:$J,7,FALSE),\"\")","v":""},null,null,null,null,344,{"$f":"IFERROR(VLOOKUP(AH347,Journal!$R:$S,2,FALSE),\"\")","v":""},0,0,null,null,null,null,null,null,null,null,null,null,null,null,null,null,null,null,null,null,null,null,null,null,318,0,25025.38,{"$error":"#N/A"}]
[null,null,null,null,null,null,null,null,null,null,null,null,null,null,null,null,null,null,325,{"$f":"IFERROR(VLOOKUP(S348,Journal!$R:$AQ,26,FALSE),\"\")","v":""},{"$error":"#VALUE!"},{"$f":"IF(OR(T348=0,T348<$H$26,T348>$H$27),NA(),T348+U347)","v":{"$error":"#N/A"}},"",{"$f":"IFERROR(VLOOKUP(S348,Journal!$R:$AV,32,FALSE),\"\")","v":""},null,null,null,null,{"$f":"IFERROR(VLOOKUP(AA348, 'Daily Snapshot'!$B:$J,7,FALSE),\"\")","v":""},null,null,null,null,345,{"$f":"IFERROR(VLOOKUP(AH348,Journal!$R:$S,2,FALSE),\"\")","v":""},0,0,null,null,null,null,null,null,null,null,null,null,null,null,null,null,null,null,null,null,null,null,null,null,319,0,25025.38,{"$error":"#N/A"}]
[null,null,null,null,null,null,null,null,null,null,null,null,null,null,null,null,null,null,326,{"$f":"IFERROR(VLOOKUP(S349,Journal!$R:$AQ,26,FALSE),\"\")","v":""},{"$error":"#VALUE!"},{"$error":"#N/A"},"",{"$f":"IFERROR(VLOOKUP(S349,Journal!$R:$AV,32,FALSE),\"\")","v":""},null,null,null,null,{"$f":"IFERROR(VLOOKUP(AA349, 'Daily Snapshot'!$B:$J,7,FALSE),\"\")","v":""},null,null,null,null,346,{"$f":"IFERROR(VLOOKUP(AH349,Journal!$R:$S,2,FALSE),\"\")","v":""},0,0,null,null,null,null,null,null,null,null,null,null,null,null,null,null,null,null,null,null,null,null,null,null,320,0,25025.38,{"$error":"#N/A"}]
[null,null,null,null,null,null,null,null,null,null,null,null,null,null,null,null,null,null,327,{"$f":"IFERROR(VLOOKUP(S350,Journal!$R:$AQ,26,FALSE),\"\")","v":""},{"$error":"#VALUE!"},{"$error":"#N/A"},"",{"$f":"IFERROR(VLOOKUP(S350,Journal!$R:$AV,32,FALSE),\"\")","v":""},null,null,null,null,{"$f":"IFERROR(VLOOKUP(AA350, 'Daily Snapshot'!$B:$J,7,FALSE),\"\")","v":""},null,null,null,null,347,{"$f":"IFERROR(VLOOKUP(AH350,Journal!$R:$S,2,FALSE),\"\")","v":""},0,0,null,null,null,null,null,null,null,null,null,null,null,null,null,null,null,null,null,null,null,null,null,null,321,0,25025.38,{"$error":"#N/A"}]
[null,null,null,null,null,null,null,null,null,null,null,null,null,null,null,null,null,null,328,{"$f":"IFERROR(VLOOKUP(S351,Journal!$R:$AQ,26,FALSE),\"\")","v":""},{"$error":"#VALUE!"},{"$error":"#N/A"},"",{"$f":"IFERROR(VLOOKUP(S351,Journal!$R:$AV,32,FALSE),\"\")","v":""},null,null,null,null,{"$f":"IFERROR(VLOOKUP(AA351, 'Daily Snapshot'!$B:$J,7,FALSE),\"\")","v":""},null,null,null,null,348,{"$f":"IFERROR(VLOOKUP(AH351,Journal!$R:$S,2,FALSE),\"\")","v":""},0,0,null,null,null,null,null,null,null,null,null,null,null,null,null,null,null,null,null,null,null,null,null,null,322,0,{"$f":"BI351+BJ350","v":25025.38},{"$error":"#N/A"}]
[null,null,null,null,null,null,null,null,null,null,null,null,null,null,null,null,null,null,329,{"$f":"IFERROR(VLOOKUP(S352,Journal!$R:$AQ,26,FALSE),\"\")","v":""},{"$error":"#VALUE!"},{"$error":"#N/A"},"",{"$f":"IFERROR(VLOOKUP(S352,Journal!$R:$AV,32,FALSE),\"\")","v":""},null,null,null,null,{"$f":"IFERROR(VLOOKUP(AA352, 'Daily Snapshot'!$B:$J,7,FALSE),\"\")","v":""},null,null,null,null,349,{"$f":"IFERROR(VLOOKUP(AH352,Journal!$R:$S,2,FALSE),\"\")","v":""},0,0,null,null,null,null,null,null,null,null,null,null,null,null,null,null,null,null,null,null,null,null,null,null,323,{"$f":"N355","v":0},25025.38,{"$error":"#N/A"}]
[null,null,null,null,null,null,null,null,null,null,null,null,null,null,null,null,null,null,330,{"$f":"IFERROR(VLOOKUP(S353,Journal!$R:$AQ,26,FALSE),\"\")","v":""},{"$error":"#VALUE!"},{"$error":"#N/A"},"",{"$f":"IFERROR(VLOOKUP(S353,Journal!$R:$AV,32,FALSE),\"\")","v":""},null,null,null,null,{"$f":"IFERROR(VLOOKUP(AA353, 'Daily Snapshot'!$B:$J,7,FALSE),\"\")","v":""},null,null,null,null,350,{"$f":"IFERROR(VLOOKUP(AH353,Journal!$R:$S,2,FALSE),\"\")","v":""},0,0,null,null,null,null,null,null,null,null,null,null,null,null,null,null,null,null,null,null,null,null,null,null,324,0,25025.38,{"$error":"#N/A"}]
[null,null,null,null,null,null,null,null,null,null,null,null,null,null,null,null,null,null,331,{"$f":"IFERROR(VLOOKUP(S354,Journal!$R:$AQ,26,FALSE),\"\")","v":""},{"$error":"#VALUE!"},{"$error":"#N/A"},"",{"$f":"IFERROR(VLOOKUP(S354,Journal!$R:$AV,32,FALSE),\"\")","v":""},null,null,null,null,{"$f":"IFERROR(VLOOKUP(AA354, 'Daily Snapshot'!$B:$J,7,FALSE),\"\")","v":""},null,null,null,null,351,{"$f":"IFERROR(VLOOKUP(AH354,Journal!$R:$S,2,FALSE),\"\")","v":""},0,0,null,null,null,null,null,null,null,null,null,null,null,null,null,null,null,null,null,null,null,null,null,null,325,0,25025.38,{"$f":"IF(OR(BI354=0,BI354<$H$26,BI354>$H$27),NA(),BI354+BJ353)","v":{"$error":"#N/A"}}]
[null,null,null,null,null,null,null,null,null,null,null,null,null,null,null,null,null,null,332,{"$f":"IFERROR(VLOOKUP(S355,Journal!$R:$AQ,26,FALSE),\"\")","v":""},{"$error":"#VALUE!"},{"$error":"#N/A"},"",{"$f":"IFERROR(VLOOKUP(S355,Journal!$R:$AV,32,FALSE),\"\")","v":""},null,null,null,null,{"$f":"IFERROR(VLOOKUP(AA355, 'Daily Snapshot'!$B:$J,7,FALSE),\"\")","v":""},null,null,null,null,352,{"$f":"IFERROR(VLOOKUP(AH355,Journal!$R:$S,2,FALSE),\"\")","v":""},0,0,null,null,null,null,null,null,null,null,null,null,null,null,null,null,null,null,null,null,null,null,null,null,326,0,25025.38,{"$error":"#N/A"}]
[null,null,null,null,null,null,null,null,null,null,null,null,null,null,null,null,null,null,333,{"$f":"IFERROR(VLOOKUP(S356,Journal!$R:$AQ,26,FALSE),\"\")","v":""},{"$error":"#VALUE!"},{"$error":"#N/A"},"",{"$f":"IFERROR(VLOOKUP(S356,Journal!$R:$AV,32,FALSE),\"\")","v":""},null,null,null,null,{"$f":"IFERROR(VLOOKUP(AA356, 'Daily Snapshot'!$B:$J,7,FALSE),\"\")","v":""},null,null,null,null,353,{"$f":"IFERROR(VLOOKUP(AH356,Journal!$R:$S,2,FALSE),\"\")","v":""},0,0,null,null,null,null,null,null,null,null,null,null,null,null,null,null,null,null,null,null,null,null,null,null,327,0,25025.38,{"$error":"#N/A"}]
[null,null,null,null,null,null,null,null,null,null,null,null,null,null,null,null,null,null,334,{"$f":"IFERROR(VLOOKUP(S357,Journal!$R:$AQ,26,FALSE),\"\")","v":""},{"$error":"#VALUE!"},{"$error":"#N/A"},"",{"$f":"IFERROR(VLOOKUP(S357,Journal!$R:$AV,32,FALSE),\"\")","v":""},null,null,null,null,{"$f":"IFERROR(VLOOKUP(AA357, 'Daily Snapshot'!$B:$J,7,FALSE),\"\")","v":""},null,null,null,null,354,{"$f":"IFERROR(VLOOKUP(AH357,Journal!$R:$S,2,FALSE),\"\")","v":""},0,0,null,null,null,null,null,null,null,null,null,null,null,null,null,null,null,null,null,null,null,null,null,null,328,0,25025.38,{"$error":"#N/A"}]
[null,null,null,null,null,null,null,null,null,null,null,null,null,null,null,null,null,null,335,{"$f":"IFERROR(VLOOKUP(S358,Journal!$R:$AQ,26,FALSE),\"\")","v":""},{"$error":"#VALUE!"},{"$error":"#N/A"},"",{"$f":"IFERROR(VLOOKUP(S358,Journal!$R:$AV,32,FALSE),\"\")","v":""},null,null,null,null,{"$f":"IFERROR(VLOOKUP(AA358, 'Daily Snapshot'!$B:$J,7,FALSE),\"\")","v":""},null,null,null,null,355,{"$f":"IFERROR(VLOOKUP(AH358,Journal!$R:$S,2,FALSE),\"\")","v":""},0,0,null,null,null,null,null,null,null,null,null,null,null,null,null,null,null,null,null,null,null,null,null,null,329,0,25025.38,{"$error":"#N/A"}]
[null,null,null,null,null,null,null,null,null,null,null,null,null,null,null,null,null,null,336,{"$f":"IFERROR(VLOOKUP(S359,Journal!$R:$AQ,26,FALSE),\"\")","v":""},{"$error":"#VALUE!"},{"$error":"#N/A"},"",{"$f":"IFERROR(VLOOKUP(S359,Journal!$R:$AV,32,FALSE),\"\")","v":""},null,null,null,null,{"$f":"IFERROR(VLOOKUP(AA359, 'Daily Snapshot'!$B:$J,7,FALSE),\"\")","v":""},null,null,null,null,356,{"$f":"IFERROR(VLOOKUP(AH359,Journal!$R:$S,2,FALSE),\"\")","v":""},0,0,null,null,null,null,null,null,null,null,null,null,null,null,null,null,null,null,null,null,null,null,null,null,330,0,25025.38,{"$error":"#N/A"}]
[null,null,null,null,null,null,null,null,null,null,null,{"$f":"IFERROR(VLOOKUP(G199, 'Daily Snapshot'!$B:$J,9,FALSE),\"\")","v":""},null,null,null,null,null,null,337,{"$f":"IFERROR(VLOOKUP(S360,Journal!$R:$AQ,26,FALSE),\"\")","v":""},{"$error":"#VALUE!"},{"$error":"#N/A"},"",{"$f":"IFERROR(VLOOKUP(S360,Journal!$R:$AV,32,FALSE),\"\")","v":""},null,null,null,null,{"$f":"IFERROR(VLOOKUP(AA360, 'Daily Snapshot'!$B:$J,7,FALSE),\"\")","v":""},null,null,null,null,357,{"$f":"IFERROR(VLOOKUP(AH360,Journal!$R:$S,2,FALSE),\"\")","v":""},0,0,null,null,null,null,null,null,null,null,null,null,null,null,null,null,null,null,null,null,null,null,null,null,331,0,25025.38,{"$error":"#N/A"}]
[null,null,null,null,null,null,null,null,null,null,null,{"$f":"IFERROR(VLOOKUP(G200, 'Daily Snapshot'!$B:$J,9,FALSE),\"\")","v":""},null,null,null,null,null,null,338,{"$f":"IFERROR(VLOOKUP(S361,Journal!$R:$AQ,26,FALSE),\"\")","v":""},{"$error":"#VALUE!"},{"$error":"#N/A"},"",{"$f":"IFERROR(VLOOKUP(S361,Journal!$R:$AV,32,FALSE),\"\")","v":""},null,null,null,null,{"$f":"IFERROR(VLOOKUP(AA361, 'Daily Snapshot'!$B:$J,7,FALSE),\"\")","v":""},null,null,null,null,358,{"$f":"IFERROR(VLOOKUP(AH361,Journal!$R:$S,2,FALSE),\"\")","v":""},0,0,null,null,null,null,null,null,null,null,null,null,null,null,null,null,null,null,null,null,null,null,null,null,332,0,25025.38,{"$error":"#N/A"}]
[null,null,null,null,null,null,null,null,null,null,null,{"$f":"IFERROR(VLOOKUP(G201, 'Daily Snapshot'!$B:$J,9,FALSE),\"\")","v":""},null,null,null,null,null,null,339,{"$f":"IFERROR(VLOOKUP(S362,Journal!$R:$AQ,26,FALSE),\"\")","v":""},{"$error":"#VALUE!"},{"$error":"#N/A"},"",{"$f":"IFERROR(VLOOKUP(S362,Journal!$R:$AV,32,FALSE),\"\")","v":""},null,null,null,null,{"$f":"IFERROR(VLOOKUP(AA362, 'Daily Snapshot'!$B:$J,7,FALSE),\"\")","v":""},null,null,null,null,359,{"$f":"IFERROR(VLOOKUP(AH362,Journal!$R:$S,2,FALSE),\"\")","v":""},0,0,null,null,null,null,null,null,null,null,null,null,null,null,null,null,null,null,null,null,null,null,null,null,333,0,25025.38,{"$error":"#N/A"}]
[null,null,null,null,null,null,null,null,null,null,null,{"$f":"IFERROR(VLOOKUP(G202, 'Daily Snapshot'!$B:$J,9,FALSE),\"\")","v":""},null,null,null,null,null,null,340,{"$f":"IFERROR(VLOOKUP(S363,Journal!$R:$AQ,26,FALSE),\"\")","v":""},{"$error":"#VALUE!"},{"$error":"#N/A"},"",{"$f":"IFERROR(VLOOKUP(S363,Journal!$R:$AV,32,FALSE),\"\")","v":""},null,null,null,null,{"$f":"IFERROR(VLOOKUP(AA363, 'Daily Snapshot'!$B:$J,7,FALSE),\"\")","v":""},null,null,null,null,360,{"$f":"IFERROR(VLOOKUP(AH363,Journal!$R:$S,2,FALSE),\"\")","v":""},0,0,null,null,null,null,null,null,null,null,null,null,null,null,null,null,null,null,null,null,null,null,null,null,334,0,25025.38,{"$error":"#N/A"}]
[null,null,null,null,null,null,null,null,null,null,null,{"$f":"IFERROR(VLOOKUP(#REF!, 'Daily Snapshot'!$B:$J,9,FALSE),\"\")","v":""},null,null,null,null,null,null,341,{"$f":"IFERROR(VLOOKUP(S364,Journal!$R:$AQ,26,FALSE),\"\")","v":""},{"$error":"#VALUE!"},{"$error":"#N/A"},"",{"$f":"IFERROR(VLOOKUP(S364,Journal!$R:$AV,32,FALSE),\"\")","v":""},null,null,null,null,{"$f":"IFERROR(VLOOKUP(AA364, 'Daily Snapshot'!$B:$J,7,FALSE),\"\")","v":""},null,null,null,null,361,{"$f":"IFERROR(VLOOKUP(AH364,Journal!$R:$S,2,FALSE),\"\")","v":""},0,0,null,null,null,null,null,null,null,null,null,null,null,null,null,null,null,null,null,null,null,null,null,null,335,0,25025.38,{"$error":"#N/A"}]
[null,null,null,null,null,null,null,null,null,null,null,null,null,null,null,null,null,null,342,{"$f":"IFERROR(VLOOKUP(S365,Journal!$R:$AQ,26,FALSE),\"\")","v":""},{"$error":"#VALUE!"},{"$error":"#N/A"},"",{"$f":"IFERROR(VLOOKUP(S365,Journal!$R:$AV,32,FALSE),\"\")","v":""},null,null,null,null,{"$f":"IFERROR(VLOOKUP(AA365, 'Daily Snapshot'!$B:$J,7,FALSE),\"\")","v":""},null,null,null,null,362,{"$f":"IFERROR(VLOOKUP(AH365,Journal!$R:$S,2,FALSE),\"\")","v":""},0,0,null,null,null,null,null,null,null,null,null,null,null,null,null,null,null,null,null,null,null,null,null,null,336,0,25025.38,{"$error":"#N/A"}]
[null,null,null,null,null,null,null,null,null,null,null,null,null,null,null,null,null,null,343,{"$f":"IFERROR(VLOOKUP(S366,Journal!$R:$AQ,26,FALSE),\"\")","v":""},{"$error":"#VALUE!"},{"$error":"#N/A"},"",{"$f":"IFERROR(VLOOKUP(S366,Journal!$R:$AV,32,FALSE),\"\")","v":""},null,null,null,null,{"$f":"IFERROR(VLOOKUP(AA366, 'Daily Snapshot'!$B:$J,7,FALSE),\"\")","v":""},null,null,null,null,363,{"$f":"IFERROR(VLOOKUP(AH366,Journal!$R:$S,2,FALSE),\"\")","v":""},0,0,null,null,null,null,null,null,null,null,null,null,null,null,null,null,null,null,null,null,null,null,null,null,337,0,25025.38,{"$error":"#N/A"}]
[null,null,null,null,null,null,null,null,null,null,null,{"$f":"IFERROR(VLOOKUP(#REF!, 'Daily Snapshot'!$B:$J,9,FALSE),\"\")","v":""},null,null,null,null,null,null,344,{"$f":"IFERROR(VLOOKUP(S367,Journal!$R:$AQ,26,FALSE),\"\")","v":""},{"$error":"#VALUE!"},{"$error":"#N/A"},"",{"$f":"IFERROR(VLOOKUP(S367,Journal!$R:$AV,32,FALSE),\"\")","v":""},null,null,null,null,{"$f":"IFERROR(VLOOKUP(AA367, 'Daily Snapshot'!$B:$J,7,FALSE),\"\")","v":""},null,null,null,null,364,{"$f":"IFERROR(VLOOKUP(AH367,Journal!$R:$S,2,FALSE),\"\")","v":""},0,0,null,null,null,null,null,null,null,null,null,null,null,null,null,null,null,null,null,null,null,null,null,null,338,0,25025.38,{"$error":"#N/A"}]
[null,null,null,null,null,null,null,null,null,null,null,{"$f":"IFERROR(VLOOKUP(G203, 'Daily Snapshot'!$B:$J,9,FALSE),\"\")","v":""},null,null,null,null,null,null,345,{"$f":"IFERROR(VLOOKUP(S368,Journal!$R:$AQ,26,FALSE),\"\")","v":""},{"$error":"#VALUE!"},{"$error":"#N/A"},"",{"$f":"IFERROR(VLOOKUP(S368,Journal!$R:$AV,32,FALSE),\"\")","v":""},null,null,null,null,{"$f":"IFERROR(VLOOKUP(AA368, 'Daily Snapshot'!$B:$J,7,FALSE),\"\")","v":""},null,null,null,null,365,{"$f":"IFERROR(VLOOKUP(AH368,Journal!$R:$S,2,FALSE),\"\")","v":""},0,0,null,null,null,null,null,null,null,null,null,null,null,null,null,null,null,null,null,null,null,null,null,null,339,0,25025.38,{"$error":"#N/A"}]
[null,null,null,null,null,null,null,null,null,null,null,null,null,null,null,null,null,null,346,{"$f":"IFERROR(VLOOKUP(S369,Journal!$R:$AQ,26,FALSE),\"\")","v":""},{"$error":"#VALUE!"},{"$error":"#N/A"},"",{"$f":"IFERROR(VLOOKUP(S369,Journal!$R:$AV,32,FALSE),\"\")","v":""},null,null,null,null,{"$f":"IFERROR(VLOOKUP(AA369, 'Daily Snapshot'!$B:$J,7,FALSE),\"\")","v":""},null,null,null,null,366,{"$f":"IFERROR(VLOOKUP(AH369,Journal!$R:$S,2,FALSE),\"\")","v":""},0,0,null,null,null,null,null,null,null,null,null,null,null,null,null,null,null,null,null,null,null,null,null,null,340,0,25025.38,{"$error":"#N/A"}]
[null,null,null,null,null,null,null,null,null,null,null,null,null,null,null,null,null,null,347,{"$f":"IFERROR(VLOOKUP(S370,Journal!$R:$AQ,26,FALSE),\"\")","v":""},{"$error":"#VALUE!"},{"$error":"#N/A"},"",{"$f":"IFERROR(VLOOKUP(S370,Journal!$R:$AV,32,FALSE),\"\")","v":""},null,null,null,null,{"$f":"IFERROR(VLOOKUP(AA370, 'Daily Snapshot'!$B:$J,7,FALSE),\"\")","v":""},null,null,null,null,367,{"$f":"IFERROR(VLOOKUP(AH370,Journal!$R:$S,2,FALSE),\"\")","v":""},0,0,null,null,null,null,null,null,null,null,null,null,null,null,null,null,null,null,null,null,null,null,null,null,341,0,25025.38,{"$error":"#N/A"}]
[null,null,null,null,null,null,null,null,null,null,null,{"$f":"IFERROR(VLOOKUP(G204, 'Daily Snapshot'!$B:$J,9,FALSE),\"\")","v":""},null,null,null,null,null,null,348,{"$f":"IFERROR(VLOOKUP(S371,Journal!$R:$AQ,26,FALSE),\"\")","v":""},{"$error":"#VALUE!"},{"$error":"#N/A"},"",{"$f":"IFERROR(VLOOKUP(S371,Journal!$R:$AV,32,FALSE),\"\")","v":""},null,null,null,null,{"$f":"IFERROR(VLOOKUP(AA371, 'Daily Snapshot'!$B:$J,7,FALSE),\"\")","v":""},null,null,null,null,368,{"$f":"IFERROR(VLOOKUP(AH371,Journal!$R:$S,2,FALSE),\"\")","v":""},0,0,null,null,null,null,null,null,null,null,null,null,null,null,null,null,null,null,null,null,null,null,null,null,342,0,25025.38,{"$error":"#N/A"}]
[null,null,null,null,null,null,null,null,null,null,null,{"$f":"IFERROR(VLOOKUP(G205, 'Daily Snapshot'!$B:$J,9,FALSE),\"\")","v":""},null,null,null,null,null,null,349,{"$f":"IFERROR(VLOOKUP(S372,Journal!$R:$AQ,26,FALSE),\"\")","v":""},{"$error":"#VALUE!"},{"$error":"#N/A"},"",{"$f":"IFERROR(VLOOKUP(S372,Journal!$R:$AV,32,FALSE),\"\")","v":""},null,null,null,null,{"$f":"IFERROR(VLOOKUP(AA372, 'Daily Snapshot'!$B:$J,7,FALSE),\"\")","v":""},null,null,null,null,369,{"$f":"IFERROR(VLOOKUP(AH372,Journal!$R:$S,2,FALSE),\"\")","v":""},0,0,null,null,null,null,null,null,null,null,null,null,null,null,null,null,null,null,null,null,null,null,null,null,343,0,25025.38,{"$error":"#N/A"}]
[null,null,null,null,null,null,null,null,null,null,null,{"$f":"IFERROR(VLOOKUP(G206, 'Daily Snapshot'!$B:$J,9,FALSE),\"\")","v":""},null,null,null,null,null,null,350,{"$f":"IFERROR(VLOOKUP(S373,Journal!$R:$AQ,26,FALSE),\"\")","v":""},{"$error":"#VALUE!"},{"$error":"#N/A"},"",{"$f":"IFERROR(VLOOKUP(S373,Journal!$R:$AV,32,FALSE),\"\")","v":""},null,null,null,null,{"$f":"IFERROR(VLOOKUP(AA373, 'Daily Snapshot'!$B:$J,7,FALSE),\"\")","v":""},null,null,null,null,370,{"$f":"IFERROR(VLOOKUP(AH373,Journal!$R:$S,2,FALSE),\"\")","v":""},0,0,null,null,null,null,null,null,null,null,null,null,null,null,null,null,null,null,null,null,null,null,null,null,344,0,25025.38,{"$error":"#N/A"}]
[null,null,null,null,null,null,null,null,null,null,null,{"$f":"IFERROR(VLOOKUP(G207, 'Daily Snapshot'!$B:$J,9,FALSE),\"\")","v":""},null,null,null,null,null,null,351,{"$f":"IFERROR(VLOOKUP(S374,Journal!$R:$AQ,26,FALSE),\"\")","v":""},{"$error":"#VALUE!"},{"$error":"#N/A"},"",{"$f":"IFERROR(VLOOKUP(S374,Journal!$R:$AV,32,FALSE),\"\")","v":""},null,null,null,null,{"$f":"IFERROR(VLOOKUP(AA374, 'Daily Snapshot'!$B:$J,7,FALSE),\"\")","v":""},null,null,null,null,371,{"$f":"IFERROR(VLOOKUP(AH374,Journal!$R:$S,2,FALSE),\"\")","v":""},0,0,null,null,null,null,null,null,null,null,null,null,null,null,null,null,null,null,null,null,null,null,null,null,345,0,25025.38,{"$error":"#N/A"}]
[null,null,null,null,null,null,null,null,null,null,null,{"$f":"IFERROR(VLOOKUP(#REF!, 'Daily Snapshot'!$B:$J,9,FALSE),\"\")","v":""},null,null,null,null,null,null,352,{"$f":"IFERROR(VLOOKUP(S375,Journal!$R:$AQ,26,FALSE),\"\")","v":""},{"$error":"#VALUE!"},{"$error":"#N/A"},"",{"$f":"IFERROR(VLOOKUP(S375,Journal!$R:$AV,32,FALSE),\"\")","v":""},null,null,null,null,{"$f":"IFERROR(VLOOKUP(AA375, 'Daily Snapshot'!$B:$J,7,FALSE),\"\")","v":""},null,null,null,null,372,{"$f":"IFERROR(VLOOKUP(AH375,Journal!$R:$S,2,FALSE),\"\")","v":""},0,0,null,null,null,null,null,null,null,null,null,null,null,null,null,null,null,null,null,null,null,null,null,null,346,0,25025.38,{"$error":"#N/A"}]
[null,null,null,null,null,null,null,null,null,null,null,{"$f":"IFERROR(VLOOKUP(#REF!, 'Daily Snapshot'!$B:$J,9,FALSE),\"\")","v":""},null,null,null,null,null,null,353,{"$f":"IFERROR(VLOOKUP(S376,Journal!$R:$AQ,26,FALSE),\"\")","v":""},{"$error":"#VALUE!"},{"$error":"#N/A"},"",{"$f":"IFERROR(VLOOKUP(S376,Journal!$R:$AV,32,FALSE),\"\")","v":""},null,null,null,null,{"$f":"IFERROR(VLOOKUP(AA376, 'Daily Snapshot'!$B:$J,7,FALSE),\"\")","v":""},null,null,null,null,373,{"$f":"IFERROR(VLOOKUP(AH376,Journal!$R:$S,2,FALSE),\"\")","v":""},0,0,null,null,null,null,null,null,null,null,null,null,null,null,null,null,null,null,null,null,null,null,null,null,347,0,25025.38,{"$error":"#N/A"}]
[null,null,null,null,null,null,null,null,null,null,null,{"$f":"IFERROR(VLOOKUP(G208, 'Daily Snapshot'!$B:$J,9,FALSE),\"\")","v":""},null,null,null,null,null,null,354,{"$f":"IFERROR(VLOOKUP(S377,Journal!$R:$AQ,26,FALSE),\"\")","v":""},{"$error":"#VALUE!"},{"$error":"#N/A"},"",{"$f":"IFERROR(VLOOKUP(S377,Journal!$R:$AV,32,FALSE),\"\")","v":""},null,null,null,null,{"$f":"IFERROR(VLOOKUP(AA377, 'Daily Snapshot'!$B:$J,7,FALSE),\"\")","v":""},null,null,null,null,374,{"$f":"IFERROR(VLOOKUP(AH377,Journal!$R:$S,2,FALSE),\"\")","v":""},0,0,null,null,null,null,null,null,null,null,null,null,null,null,null,null,null,null,null,null,null,null,null,null,348,0,25025.38,{"$error":"#N/A"}]
[null,null,null,null,null,null,null,null,null,null,null,{"$f":"IFERROR(VLOOKUP(G209, 'Daily Snapshot'!$B:$J,9,FALSE),\"\")","v":""},null,null,null,null,null,null,355,{"$f":"IFERROR(VLOOKUP(S378,Journal!$R:$AQ,26,FALSE),\"\")","v":""},{"$error":"#VALUE!"},{"$error":"#N/A"},"",{"$f":"IFERROR(VLOOKUP(S378,Journal!$R:$AV,32,FALSE),\"\")","v":""},null,null,null,null,{"$f":"IFERROR(VLOOKUP(AA378, 'Daily Snapshot'!$B:$J,7,FALSE),\"\")","v":""},null,null,null,null,375,{"$f":"IFERROR(VLOOKUP(AH378,Journal!$R:$S,2,FALSE),\"\")","v":""},0,0,null,null,null,null,null,null,null,null,null,null,null,null,null,null,null,null,null,null,null,null,null,null,349,0,25025.38,{"$error":"#N/A"}]
[null,null,null,null,null,null,null,null,null,null,null,null,null,null,null,null,null,null,356,{"$f":"IFERROR(VLOOKUP(S379,Journal!$R:$AQ,26,FALSE),\"\")","v":""},{"$error":"#VALUE!"},{"$error":"#N/A"},"",{"$f":"IFERROR(VLOOKUP(S379,Journal!$R:$AV,32,FALSE),\"\")","v":""},null,null,null,null,{"$f":"IFERROR(VLOOKUP(AA379, 'Daily Snapshot'!$B:$J,7,FALSE),\"\")","v":""},null,null,null,null,376,{"$f":"IFERROR(VLOOKUP(AH379,Journal!$R:$S,2,FALSE),\"\")","v":""},0,0,null,null,null,null,null,null,null,null,null,null,null,null,null,null,null,null,null,null,null,null,null,null,350,0,25025.38,{"$error":"#N/A"}]
[null,null,null,null,null,null,null,null,null,null,null,null,null,null,null,null,null,null,357,{"$f":"IFERROR(VLOOKUP(S380,Journal!$R:$AQ,26,FALSE),\"\")","v":""},{"$error":"#VALUE!"},{"$error":"#N/A"},"",{"$f":"IFERROR(VLOOKUP(S380,Journal!$R:$AV,32,FALSE),\"\")","v":""},null,null,null,null,{"$f":"IFERROR(VLOOKUP(AA380, 'Daily Snapshot'!$B:$J,7,FALSE),\"\")","v":""},null,null,null,null,377,{"$f":"IFERROR(VLOOKUP(AH380,Journal!$R:$S,2,FALSE),\"\")","v":""},0,0,null,null,null,null,null,null,null,null,null,null,null,null,null,null,null,null,null,null,null,null,null,null,351,0,25025.38,{"$error":"#N/A"}]
[null,null,null,null,null,null,null,null,null,null,null,null,null,null,null,null,null,null,358,{"$f":"IFERROR(VLOOKUP(S381,Journal!$R:$AQ,26,FALSE),\"\")","v":""},{"$error":"#VALUE!"},{"$error":"#N/A"},"",{"$f":"IFERROR(VLOOKUP(S381,Journal!$R:$AV,32,FALSE),\"\")","v":""},null,null,null,null,{"$f":"IFERROR(VLOOKUP(AA381, 'Daily Snapshot'!$B:$J,7,FALSE),\"\")","v":""},null,null,null,null,378,{"$f":"IFERROR(VLOOKUP(AH381,Journal!$R:$S,2,FALSE),\"\")","v":""},0,0,null,null,null,null,null,null,null,null,null,null,null,null,null,null,null,null,null,null,null,null,null,null,352,0,25025.38,{"$error":"#N/A"}]
[null,null,null,null,null,null,null,null,null,null,null,null,null,null,null,null,null,null,359,{"$f":"IFERROR(VLOOKUP(S382,Journal!$R:$AQ,26,FALSE),\"\")","v":""},{"$error":"#VALUE!"},{"$error":"#N/A"},"",{"$f":"IFERROR(VLOOKUP(S382,Journal!$R:$AV,32,FALSE),\"\")","v":""},null,null,null,null,{"$f":"IFERROR(VLOOKUP(AA382, 'Daily Snapshot'!$B:$J,7,FALSE),\"\")","v":""},null,null,null,null,379,{"$f":"IFERROR(VLOOKUP(AH382,Journal!$R:$S,2,FALSE),\"\")","v":""},0,0,null,null,null,null,null,null,null,null,null,null,null,null,null,null,null,null,null,null,null,null,null,null,353,0,25025.38,{"$error":"#N/A"}]
[null,null,null,null,null,null,null,null,null,null,null,null,null,null,null,null,null,null,360,{"$f":"IFERROR(VLOOKUP(S383,Journal!$R:$AQ,26,FALSE),\"\")","v":""},{"$error":"#VALUE!"},{"$error":"#N/A"},"",{"$f":"IFERROR(VLOOKUP(S383,Journal!$R:$AV,32,FALSE),\"\")","v":""},null,null,null,null,{"$f":"IFERROR(VLOOKUP(AA383, 'Daily Snapshot'!$B:$J,7,FALSE),\"\")","v":""},null,null,null,null,380,{"$f":"IFERROR(VLOOKUP(AH383,Journal!$R:$S,2,FALSE),\"\")","v":""},0,0,null,null,null,null,null,null,null,null,null,null,null,null,null,null,null,null,null,null,null,null,null,null,354,0,25025.38,{"$error":"#N/A"}]
[null,null,null,null,null,null,null,null,null,null,null,null,null,null,null,null,null,null,361,{"$f":"IFERROR(VLOOKUP(S384,Journal!$R:$AQ,26,FALSE),\"\")","v":""},{"$error":"#VALUE!"},{"$error":"#N/A"},"",{"$f":"IFERROR(VLOOKUP(S384,Journal!$R:$AV,32,FALSE),\"\")","v":""},null,null,null,null,{"$f":"IFERROR(VLOOKUP(AA384, 'Daily Snapshot'!$B:$J,7,FALSE),\"\")","v":""},null,null,null,null,381,{"$f":"IFERROR(VLOOKUP(AH384,Journal!$R:$S,2,FALSE),\"\")","v":""},0,0,null,null,null,null,null,null,null,null,null,null,null,null,null,null,null,null,null,null,null,null,null,null,355,0,25025.38,{"$error":"#N/A"}]
[null,null,null,null,null,null,null,null,null,null,null,null,null,null,null,null,null,null,362,{"$f":"IFERROR(VLOOKUP(S385,Journal!$R:$AQ,26,FALSE),\"\")","v":""},{"$error":"#VALUE!"},{"$error":"#N/A"},"",{"$f":"IFERROR(VLOOKUP(S385,Journal!$R:$AV,32,FALSE),\"\")","v":""},null,null,null,null,{"$f":"IFERROR(VLOOKUP(AA385, 'Daily Snapshot'!$B:$J,7,FALSE),\"\")","v":""},null,null,null,null,382,{"$f":"IFERROR(VLOOKUP(AH385,Journal!$R:$S,2,FALSE),\"\")","v":""},0,0,null,null,null,null,null,null,null,null,null,null,null,null,null,null,null,null,null,null,null,null,null,null,356,0,25025.38,{"$error":"#N/A"}]
[null,null,null,null,null,null,null,null,null,null,null,null,null,null,null,null,null,null,363,{"$f":"IFERROR(VLOOKUP(S386,Journal!$R:$AQ,26,FALSE),\"\")","v":""},{"$error":"#VALUE!"},{"$error":"#N/A"},"",{"$f":"IFERROR(VLOOKUP(S386,Journal!$R:$AV,32,FALSE),\"\")","v":""},null,null,null,null,{"$f":"IFERROR(VLOOKUP(AA386, 'Daily Snapshot'!$B:$J,7,FALSE),\"\")","v":""},null,null,null,null,383,{"$f":"IFERROR(VLOOKUP(AH386,Journal!$R:$S,2,FALSE),\"\")","v":""},0,0,null,null,null,null,null,null,null,null,null,null,null,null,null,null,null,null,null,null,null,null,null,null,357,0,25025.38,{"$error":"#N/A"}]
[null,null,null,null,null,null,null,null,null,null,null,null,null,null,null,null,null,null,364,{"$f":"IFERROR(VLOOKUP(S387,Journal!$R:$AQ,26,FALSE),\"\")","v":""},{"$error":"#VALUE!"},{"$error":"#N/A"},"",{"$f":"IFERROR(VLOOKUP(S387,Journal!$R:$AV,32,FALSE),\"\")","v":""},null,null,null,null,{"$f":"IFERROR(VLOOKUP(AA387, 'Daily Snapshot'!$B:$J,7,FALSE),\"\")","v":""},null,null,null,null,384,{"$f":"IFERROR(VLOOKUP(AH387,Journal!$R:$S,2,FALSE),\"\")","v":""},0,0,null,null,null,null,null,null,null,null,null,null,null,null,null,null,null,null,null,null,null,null,null,null,358,0,25025.38,{"$error":"#N/A"}]
[null,null,null,null,null,null,null,null,null,null,null,null,null,null,null,null,null,null,365,{"$f":"IFERROR(VLOOKUP(S388,Journal!$R:$AQ,26,FALSE),\"\")","v":""},{"$error":"#VALUE!"},{"$error":"#N/A"},"",{"$f":"IFERROR(VLOOKUP(S388,Journal!$R:$AV,32,FALSE),\"\")","v":""},null,null,null,null,{"$f":"IFERROR(VLOOKUP(AA388, 'Daily Snapshot'!$B:$J,7,FALSE),\"\")","v":""},null,null,null,null,385,{"$f":"IFERROR(VLOOKUP(AH388,Journal!$R:$S,2,FALSE),\"\")","v":""},{"$f":"IF($AI388=\"W\", 1,0)","v":0},{"$f":"IF($AI388=\"L\", -1,0)","v":0},null,null,null,null,null,null,null,null,null,null,null,null,null,null,null,null,null,null,null,null,null,null,359,0,25025.38,{"$error":"#N/A"}]
[null,null,null,null,null,null,null,null,null,null,null,null,null,null,null,null,null,null,366,{"$f":"IFERROR(VLOOKUP(S389,Journal!$R:$AQ,26,FALSE),\"\")","v":""},{"$error":"#VALUE!"},{"$error":"#N/A"},"",{"$f":"IFERROR(VLOOKUP(S389,Journal!$R:$AV,32,FALSE),\"\")","v":""},null,null,null,null,{"$f":"IFERROR(VLOOKUP(AA389, 'Daily Snapshot'!$B:$J,7,FALSE),\"\")","v":""},null,null,null,null,386,{"$f":"IFERROR(VLOOKUP(AH389,Journal!$R:$S,2,FALSE),\"\")","v":""},0,0,null,null,null,null,null,null,null,null,null,null,null,null,null,null,null,null,null,null,null,null,null,null,360,0,25025.38,{"$error":"#N/A"}]
[null,null,null,null,null,null,null,null,null,null,null,null,null,null,null,null,null,null,367,{"$f":"IFERROR(VLOOKUP(S390,Journal!$R:$AQ,26,FALSE),\"\")","v":""},{"$error":"#VALUE!"},{"$error":"#N/A"},"",{"$f":"IFERROR(VLOOKUP(S390,Journal!$R:$AV,32,FALSE),\"\")","v":""},null,null,null,null,{"$f":"IFERROR(VLOOKUP(AA390, 'Daily Snapshot'!$B:$J,7,FALSE),\"\")","v":""},null,null,null,null,387,{"$f":"IFERROR(VLOOKUP(AH390,Journal!$R:$S,2,FALSE),\"\")","v":""},0,0,null,null,null,null,null,null,null,null,null,null,null,null,null,null,null,null,null,null,null,null,null,null,361,0,25025.38,{"$error":"#N/A"}]
[null,null,null,null,null,null,null,null,null,null,null,null,null,null,null,null,null,null,368,{"$f":"IFERROR(VLOOKUP(S391,Journal!$R:$AQ,26,FALSE),\"\")","v":""},{"$error":"#VALUE!"},{"$error":"#N/A"},"",{"$f":"IFERROR(VLOOKUP(S391,Journal!$R:$AV,32,FALSE),\"\")","v":""},null,null,null,null,{"$f":"IFERROR(VLOOKUP(AA391, 'Daily Snapshot'!$B:$J,7,FALSE),\"\")","v":""},null,null,null,null,388,{"$f":"IFERROR(VLOOKUP(AH391,Journal!$R:$S,2,FALSE),\"\")","v":""},0,0,null,null,null,null,null,null,null,null,null,null,null,null,null,null,null,null,null,null,null,null,null,null,362,0,25025.38,{"$error":"#N/A"}]
[null,null,null,null,null,null,null,null,null,null,null,null,null,null,null,null,null,null,369,{"$f":"IFERROR(VLOOKUP(S392,Journal!$R:$AQ,26,FALSE),\"\")","v":""},{"$error":"#VALUE!"},{"$error":"#N/A"},"",{"$f":"IFERROR(VLOOKUP(S392,Journal!$R:$AV,32,FALSE),\"\")","v":""},null,null,null,null,{"$f":"IFERROR(VLOOKUP(AA392, 'Daily Snapshot'!$B:$J,7,FALSE),\"\")","v":""},null,null,null,null,389,{"$f":"IFERROR(VLOOKUP(AH392,Journal!$R:$S,2,FALSE),\"\")","v":""},0,0,null,null,null,null,null,null,null,null,null,null,null,null,null,null,null,null,null,null,null,null,null,null,363,0,25025.38,{"$error":"#N/A"}]
[null,null,null,null,null,null,null,null,null,null,null,null,null,null,null,null,null,null,370,{"$f":"IFERROR(VLOOKUP(S393,Journal!$R:$AQ,26,FALSE),\"\")","v":""},{"$error":"#VALUE!"},{"$error":"#N/A"},"",{"$f":"IFERROR(VLOOKUP(S393,Journal!$R:$AV,32,FALSE),\"\")","v":""},null,null,null,null,{"$f":"IFERROR(VLOOKUP(AA393, 'Daily Snapshot'!$B:$J,7,FALSE),\"\")","v":""},null,null,null,null,390,{"$f":"IFERROR(VLOOKUP(AH393,Journal!$R:$S,2,FALSE),\"\")","v":""},0,0,null,null,null,null,null,null,null,null,null,null,null,null,null,null,null,null,null,null,null,null,null,null,364,0,25025.38,{"$error":"#N/A"}]
[null,null,null,null,null,null,null,null,null,null,null,null,null,null,null,null,null,null,371,{"$f":"IFERROR(VLOOKUP(S394,Journal!$R:$AQ,26,FALSE),\"\")","v":""},{"$error":"#VALUE!"},{"$error":"#N/A"},"",{"$f":"IFERROR(VLOOKUP(S394,Journal!$R:$AV,32,FALSE),\"\")","v":""},null,null,null,null,{"$f":"IFERROR(VLOOKUP(AA394, 'Daily Snapshot'!$B:$J,7,FALSE),\"\")","v":""},null,null,null,null,391,{"$f":"IFERROR(VLOOKUP(AH394,Journal!$R:$S,2,FALSE),\"\")","v":""},0,0,null,null,null,null,null,null,null,null,null,null,null,null,null,null,null,null,null,null,null,null,null,null,365,0,25025.38,{"$error":"#N/A"}]
[null,null,null,null,null,null,null,null,null,null,null,null,null,null,null,null,null,null,372,{"$f":"IFERROR(VLOOKUP(S395,Journal!$R:$AQ,26,FALSE),\"\")","v":""},{"$error":"#VALUE!"},{"$error":"#N/A"},"",{"$f":"IFERROR(VLOOKUP(S395,Journal!$R:$AV,32,FALSE),\"\")","v":""},null,null,null,null,{"$f":"IFERROR(VLOOKUP(AA395, 'Daily Snapshot'!$B:$J,7,FALSE),\"\")","v":""},null,null,null,null,392,{"$f":"IFERROR(VLOOKUP(AH395,Journal!$R:$S,2,FALSE),\"\")","v":""},0,0,null,null,null,null,null,null,null,null,null,null,null,null,null,null,null,null,null,null,null,null,null,null,366,0,25025.38,{"$error":"#N/A"}]
[null,null,null,null,null,null,null,null,null,null,null,null,null,null,null,null,null,null,373,{"$f":"IFERROR(VLOOKUP(S396,Journal!$R:$AQ,26,FALSE),\"\")","v":""},{"$error":"#VALUE!"},{"$error":"#N/A"},"",{"$f":"IFERROR(VLOOKUP(S396,Journal!$R:$AV,32,FALSE),\"\")","v":""},null,null,null,null,{"$f":"IFERROR(VLOOKUP(AA396, 'Daily Snapshot'!$B:$J,7,FALSE),\"\")","v":""},null,null,null,null,393,{"$f":"IFERROR(VLOOKUP(AH396,Journal!$R:$S,2,FALSE),\"\")","v":""},0,0,null,null,null,null,null,null,null,null,null,null,null,null,null,null,null,null,null,null,null,null,null,null,367,0,25025.38,{"$error":"#N/A"}]
[null,null,null,null,null,null,null,null,null,null,null,null,null,null,null,null,null,null,374,{"$f":"IFERROR(VLOOKUP(S397,Journal!$R:$AQ,26,FALSE),\"\")","v":""},{"$error":"#VALUE!"},{"$error":"#N/A"},"",{"$f":"IFERROR(VLOOKUP(S397,Journal!$R:$AV,32,FALSE),\"\")","v":""},null,null,null,null,{"$f":"IFERROR(VLOOKUP(AA397, 'Daily Snapshot'!$B:$J,7,FALSE),\"\")","v":""},null,null,null,null,394,{"$f":"IFERROR(VLOOKUP(AH397,Journal!$R:$S,2,FALSE),\"\")","v":""},0,0,null,null,null,null,null,null,null,null,null,null,null,null,null,null,null,null,null,null,null,null,null,null,368,0,25025.38,{"$error":"#N/A"}]
[null,null,null,null,null,null,null,null,null,null,null,null,null,null,null,null,null,null,375,{"$f":"IFERROR(VLOOKUP(S398,Journal!$R:$AQ,26,FALSE),\"\")","v":""},{"$error":"#VALUE!"},{"$error":"#N/A"},"",{"$f":"IFERROR(VLOOKUP(S398,Journal!$R:$AV,32,FALSE),\"\")","v":""},null,null,null,null,{"$f":"IFERROR(VLOOKUP(AA398, 'Daily Snapshot'!$B:$J,7,FALSE),\"\")","v":""},null,null,null,null,395,{"$f":"IFERROR(VLOOKUP(AH398,Journal!$R:$S,2,FALSE),\"\")","v":""},0,0,null,null,null,null,null,null,null,null,null,null,null,null,null,null,null,null,null,null,null,null,null,null,369,0,25025.38,{"$error":"#N/A"}]
[null,null,null,null,null,null,null,null,null,null,null,null,null,null,null,null,null,null,376,{"$f":"IFERROR(VLOOKUP(S399,Journal!$R:$AQ,26,FALSE),\"\")","v":""},{"$error":"#VALUE!"},{"$error":"#N/A"},"",{"$f":"IFERROR(VLOOKUP(S399,Journal!$R:$AV,32,FALSE),\"\")","v":""},null,null,null,null,{"$f":"IFERROR(VLOOKUP(AA399, 'Daily Snapshot'!$B:$J,7,FALSE),\"\")","v":""},null,null,null,null,396,{"$f":"IFERROR(VLOOKUP(AH399,Journal!$R:$S,2,FALSE),\"\")","v":""},0,0,null,null,null,null,null,null,null,null,null,null,null,null,null,null,null,null,null,null,null,null,null,null,370,0,25025.38,{"$error":"#N/A"}]
[null,null,null,null,null,null,null,null,null,null,null,null,null,null,null,null,null,null,377,{"$f":"IFERROR(VLOOKUP(S400,Journal!$R:$AQ,26,FALSE),\"\")","v":""},{"$error":"#VALUE!"},{"$error":"#N/A"},"",{"$f":"IFERROR(VLOOKUP(S400,Journal!$R:$AV,32,FALSE),\"\")","v":""},null,null,null,null,{"$f":"IFERROR(VLOOKUP(AA400, 'Daily Snapshot'!$B:$J,7,FALSE),\"\")","v":""},null,null,null,null,397,{"$f":"IFERROR(VLOOKUP(AH400,Journal!$R:$S,2,FALSE),\"\")","v":""},0,0,null,null,null,null,null,null,null,null,null,null,null,null,null,null,null,null,null,null,null,null,null,null,371,0,25025.38,{"$error":"#N/A"}]
[null,null,null,null,null,null,null,null,null,null,null,null,null,null,null,null,null,null,378,{"$f":"IFERROR(VLOOKUP(S401,Journal!$R:$AQ,26,FALSE),\"\")","v":""},{"$error":"#VALUE!"},{"$error":"#N/A"},"",{"$f":"IFERROR(VLOOKUP(S401,Journal!$R:$AV,32,FALSE),\"\")","v":""},null,null,null,null,{"$f":"IFERROR(VLOOKUP(AA401, 'Daily Snapshot'!$B:$J,7,FALSE),\"\")","v":""},null,null,null,null,398,{"$f":"IFERROR(VLOOKUP(AH401,Journal!$R:$S,2,FALSE),\"\")","v":""},0,0,null,null,null,null,null,null,null,null,null,null,null,null,null,null,null,null,null,null,null,null,null,null,372,0,25025.38,{"$error":"#N/A"}]
[null,null,null,null,null,null,null,null,null,null,null,null,null,null,null,null,null,null,379,{"$f":"IFERROR(VLOOKUP(S402,Journal!$R:$AQ,26,FALSE),\"\")","v":""},{"$error":"#VALUE!"},{"$error":"#N/A"},"",{"$f":"IFERROR(VLOOKUP(S402,Journal!$R:$AV,32,FALSE),\"\")","v":""},null,null,null,null,{"$f":"IFERROR(VLOOKUP(AA402, 'Daily Snapshot'!$B:$J,7,FALSE),\"\")","v":""},null,null,null,null,399,{"$f":"IFERROR(VLOOKUP(AH402,Journal!$R:$S,2,FALSE),\"\")","v":""},0,0,null,null,null,null,null,null,null,null,null,null,null,null,null,null,null,null,null,null,null,null,null,null,373,0,25025.38,{"$error":"#N/A"}]
[null,null,null,null,null,null,null,null,null,null,null,null,null,null,null,null,null,null,380,{"$f":"IFERROR(VLOOKUP(S403,Journal!$R:$AQ,26,FALSE),\"\")","v":""},{"$error":"#VALUE!"},{"$error":"#N/A"},"",{"$f":"IFERROR(VLOOKUP(S403,Journal!$R:$AV,32,FALSE),\"\")","v":""},null,null,null,null,{"$f":"IFERROR(VLOOKUP(AA403, 'Daily Snapshot'!$B:$J,7,FALSE),\"\")","v":""},null,null,null,null,400,{"$f":"IFERROR(VLOOKUP(AH403,Journal!$R:$S,2,FALSE),\"\")","v":""},0,0,null,null,null,null,null,null,null,null,null,null,null,null,null,null,null,null,null,null,null,null,null,null,374,0,25025.38,{"$error":"#N/A"}]
[null,null,null,null,null,null,null,null,null,null,null,null,null,null,null,null,null,null,381,{"$f":"IFERROR(VLOOKUP(S404,Journal!$R:$AQ,26,FALSE),\"\")","v":""},{"$error":"#VALUE!"},{"$error":"#N/A"},"",{"$f":"IFERROR(VLOOKUP(S404,Journal!$R:$AV,32,FALSE),\"\")","v":""},null,null,null,null,{"$f":"IFERROR(VLOOKUP(AA404, 'Daily Snapshot'!$B:$J,7,FALSE),\"\")","v":""},null,null,null,null,401,{"$f":"IFERROR(VLOOKUP(AH404,Journal!$R:$S,2,FALSE),\"\")","v":""},0,0,null,null,null,null,null,null,null,null,null,null,null,null,null,null,null,null,null,null,null,null,null,null,375,0,25025.38,{"$error":"#N/A"}]
[null,null,null,null,null,null,null,null,null,null,null,null,null,null,null,null,null,null,382,{"$f":"IFERROR(VLOOKUP(S405,Journal!$R:$AQ,26,FALSE),\"\")","v":""},{"$error":"#VALUE!"},{"$error":"#N/A"},"",{"$f":"IFERROR(VLOOKUP(S405,Journal!$R:$AV,32,FALSE),\"\")","v":""},null,null,null,null,{"$f":"IFERROR(VLOOKUP(AA405, 'Daily Snapshot'!$B:$J,7,FALSE),\"\")","v":""},null,null,null,null,402,{"$f":"IFERROR(VLOOKUP(AH405,Journal!$R:$S,2,FALSE),\"\")","v":""},0,0,null,null,null,null,null,null,null,null,null,null,null,null,null,null,null,null,null,null,null,null,null,null,376,0,25025.38,{"$error":"#N/A"}]
[null,null,null,null,null,null,null,null,null,null,null,null,null,null,null,null,null,null,383,{"$f":"IFERROR(VLOOKUP(S406,Journal!$R:$AQ,26,FALSE),\"\")","v":""},{"$error":"#VALUE!"},{"$error":"#N/A"},"",{"$f":"IFERROR(VLOOKUP(S406,Journal!$R:$AV,32,FALSE),\"\")","v":""},null,null,null,null,{"$f":"IFERROR(VLOOKUP(AA406, 'Daily Snapshot'!$B:$J,7,FALSE),\"\")","v":""},null,null,null,null,403,{"$f":"IFERROR(VLOOKUP(AH406,Journal!$R:$S,2,FALSE),\"\")","v":""},0,0,null,null,null,null,null,null,null,null,null,null,null,null,null,null,null,null,null,null,null,null,null,null,377,0,25025.38,{"$error":"#N/A"}]
[null,null,null,null,null,null,null,null,null,null,null,null,null,null,null,null,null,null,384,{"$f":"IFERROR(VLOOKUP(S407,Journal!$R:$AQ,26,FALSE),\"\")","v":""},{"$error":"#VALUE!"},{"$error":"#N/A"},"",{"$f":"IFERROR(VLOOKUP(S407,Journal!$R:$AV,32,FALSE),\"\")","v":""},null,null,null,null,{"$f":"IFERROR(VLOOKUP(AA407, 'Daily Snapshot'!$B:$J,7,FALSE),\"\")","v":""},null,null,null,null,404,{"$f":"IFERROR(VLOOKUP(AH407,Journal!$R:$S,2,FALSE),\"\")","v":""},0,0,null,null,null,null,null,null,null,null,null,null,null,null,null,null,null,null,null,null,null,null,null,null,378,0,25025.38,{"$error":"#N/A"}]
[null,null,null,null,null,null,null,null,null,null,null,null,null,null,null,null,null,null,385,{"$f":"IFERROR(VLOOKUP(S408,Journal!$R:$AQ,26,FALSE),\"\")","v":""},{"$error":"#VALUE!"},{"$error":"#N/A"},"",{"$f":"IFERROR(VLOOKUP(S408,Journal!$R:$AV,32,FALSE),\"\")","v":""},null,null,null,null,{"$f":"IFERROR(VLOOKUP(AA408, 'Daily Snapshot'!$B:$J,7,FALSE),\"\")","v":""},null,null,null,null,405,{"$f":"IFERROR(VLOOKUP(AH408,Journal!$R:$S,2,FALSE),\"\")","v":""},0,0,null,null,null,null,null,null,null,null,null,null,null,null,null,null,null,null,null,null,null,null,null,null,379,0,25025.38,{"$error":"#N/A"}]
[null,null,null,null,null,null,null,null,null,null,null,null,null,null,null,null,null,null,386,{"$f":"IFERROR(VLOOKUP(S409,Journal!$R:$AQ,26,FALSE),\"\")","v":""},{"$f":"T409+U408","v":{"$error":"#VALUE!"}},{"$error":"#N/A"},{"$f":"IFERROR(T409/$H$25,\"\")","v":""},{"$f":"IFERROR(VLOOKUP(S409,Journal!$R:$AV,32,FALSE),\"\")","v":""},null,null,null,null,{"$f":"IFERROR(VLOOKUP(AA409, 'Daily Snapshot'!$B:$J,7,FALSE),\"\")","v":""},null,null,null,null,406,{"$f":"IFERROR(VLOOKUP(AH409,Journal!$R:$S,2,FALSE),\"\")","v":""},0,0,null,null,null,null,null,null,null,null,null,null,null,null,null,null,null,null,null,null,null,null,null,null,380,0,25025.38,{"$error":"#N/A"}]
[null,null,null,null,null,null,null,null,null,null,null,null,null,null,null,null,null,null,387,{"$f":"IFERROR(VLOOKUP(S410,Journal!$R:$AQ,26,FALSE),\"\")","v":""},{"$error":"#VALUE!"},{"$error":"#N/A"},"",{"$f":"IFERROR(VLOOKUP(S410,Journal!$R:$AV,32,FALSE),\"\")","v":""},null,null,null,null,{"$f":"IFERROR(VLOOKUP(AA410, 'Daily Snapshot'!$B:$J,7,FALSE),\"\")","v":""},null,null,null,null,407,{"$f":"IFERROR(VLOOKUP(AH410,Journal!$R:$S,2,FALSE),\"\")","v":""},0,0,null,null,null,null,null,null,null,null,null,null,null,null,null,null,null,null,null,null,null,null,null,null,381,0,25025.38,{"$error":"#N/A"}]
[null,null,null,null,null,null,null,null,null,null,null,null,null,null,null,null,null,null,388,{"$f":"IFERROR(VLOOKUP(S411,Journal!$R:$AQ,26,FALSE),\"\")","v":""},{"$error":"#VALUE!"},{"$error":"#N/A"},"",{"$f":"IFERROR(VLOOKUP(S411,Journal!$R:$AV,32,FALSE),\"\")","v":""},null,null,null,null,{"$f":"IFERROR(VLOOKUP(AA411, 'Daily Snapshot'!$B:$J,7,FALSE),\"\")","v":""},null,null,null,null,408,{"$f":"IFERROR(VLOOKUP(AH411,Journal!$R:$S,2,FALSE),\"\")","v":""},0,0,null,null,null,null,null,null,null,null,null,null,null,null,null,null,null,null,null,null,null,null,null,null,382,0,25025.38,{"$error":"#N/A"}]
[null,null,null,null,null,null,null,null,null,null,null,null,null,null,null,null,null,null,389,{"$f":"IFERROR(VLOOKUP(S412,Journal!$R:$AQ,26,FALSE),\"\")","v":""},{"$error":"#VALUE!"},{"$f":"IF(OR(T412=0,T412<$H$26,T412>$H$27),NA(),T412+U411)","v":{"$error":"#N/A"}},"",{"$f":"IFERROR(VLOOKUP(S412,Journal!$R:$AV,32,FALSE),\"\")","v":""},null,null,null,null,{"$f":"IFERROR(VLOOKUP(AA412, 'Daily Snapshot'!$B:$J,7,FALSE),\"\")","v":""},null,null,null,null,409,{"$f":"IFERROR(VLOOKUP(AH412,Journal!$R:$S,2,FALSE),\"\")","v":""},0,0,null,null,null,null,null,null,null,null,null,null,null,null,null,null,null,null,null,null,null,null,null,null,383,0,25025.38,{"$error":"#N/A"}]
[null,null,null,null,null,null,null,null,null,null,null,null,null,null,null,null,null,null,390,{"$f":"IFERROR(VLOOKUP(S413,Journal!$R:$AQ,26,FALSE),\"\")","v":""},{"$error":"#VALUE!"},{"$error":"#N/A"},"",{"$f":"IFERROR(VLOOKUP(S413,Journal!$R:$AV,32,FALSE),\"\")","v":""},null,null,null,null,{"$f":"IFERROR(VLOOKUP(AA413, 'Daily Snapshot'!$B:$J,7,FALSE),\"\")","v":""},null,null,null,null,410,{"$f":"IFERROR(VLOOKUP(AH413,Journal!$R:$S,2,FALSE),\"\")","v":""},0,0,null,null,null,null,null,null,null,null,null,null,null,null,null,null,null,null,null,null,null,null,null,null,384,0,25025.38,{"$error":"#N/A"}]
[null,null,null,null,null,null,null,null,null,null,null,null,null,null,null,null,null,null,391,{"$f":"IFERROR(VLOOKUP(S414,Journal!$R:$AQ,26,FALSE),\"\")","v":""},{"$error":"#VALUE!"},{"$error":"#N/A"},"",{"$f":"IFERROR(VLOOKUP(S414,Journal!$R:$AV,32,FALSE),\"\")","v":""},null,null,null,null,{"$f":"IFERROR(VLOOKUP(AA414, 'Daily Snapshot'!$B:$J,7,FALSE),\"\")","v":""},null,null,null,null,411,{"$f":"IFERROR(VLOOKUP(AH414,Journal!$R:$S,2,FALSE),\"\")","v":""},0,0,null,null,null,null,null,null,null,null,null,null,null,null,null,null,null,null,null,null,null,null,null,null,385,0,25025.38,{"$error":"#N/A"}]
[null,null,null,null,null,null,null,null,null,null,null,null,null,null,null,null,null,null,392,{"$f":"IFERROR(VLOOKUP(S415,Journal!$R:$AQ,26,FALSE),\"\")","v":""},{"$error":"#VALUE!"},{"$error":"#N/A"},"",{"$f":"IFERROR(VLOOKUP(S415,Journal!$R:$AV,32,FALSE),\"\")","v":""},null,null,null,null,{"$f":"IFERROR(VLOOKUP(AA415, 'Daily Snapshot'!$B:$J,7,FALSE),\"\")","v":""},null,null,null,null,412,{"$f":"IFERROR(VLOOKUP(AH415,Journal!$R:$S,2,FALSE),\"\")","v":""},0,0,null,null,null,null,null,null,null,null,null,null,null,null,null,null,null,null,null,null,null,null,null,null,386,0,{"$f":"BI415+BJ414","v":25025.38},{"$error":"#N/A"}]
[null,null,null,null,null,null,null,null,null,null,null,null,null,null,null,null,null,null,393,{"$f":"IFERROR(VLOOKUP(S416,Journal!$R:$AQ,26,FALSE),\"\")","v":""},{"$error":"#VALUE!"},{"$error":"#N/A"},"",{"$f":"IFERROR(VLOOKUP(S416,Journal!$R:$AV,32,FALSE),\"\")","v":""},null,null,null,null,{"$f":"IFERROR(VLOOKUP(AA416, 'Daily Snapshot'!$B:$J,7,FALSE),\"\")","v":""},null,null,null,null,413,{"$f":"IFERROR(VLOOKUP(AH416,Journal!$R:$S,2,FALSE),\"\")","v":""},0,0,null,null,null,null,null,null,null,null,null,null,null,null,null,null,null,null,null,null,null,null,null,null,387,{"$f":"N419","v":0},25025.38,{"$error":"#N/A"}]
[null,null,null,null,null,null,null,null,null,null,null,null,null,null,null,null,null,null,394,{"$f":"IFERROR(VLOOKUP(S417,Journal!$R:$AQ,26,FALSE),\"\")","v":""},{"$error":"#VALUE!"},{"$error":"#N/A"},"",{"$f":"IFERROR(VLOOKUP(S417,Journal!$R:$AV,32,FALSE),\"\")","v":""},null,null,null,null,{"$f":"IFERROR(VLOOKUP(AA417, 'Daily Snapshot'!$B:$J,7,FALSE),\"\")","v":""},null,null,null,null,414,{"$f":"IFERROR(VLOOKUP(AH417,Journal!$R:$S,2,FALSE),\"\")","v":""},0,0,null,null,null,null,null,null,null,null,null,null,null,null,null,null,null,null,null,null,null,null,null,null,388,0,25025.38,{"$error":"#N/A"}]
[null,null,null,null,null,null,null,null,null,null,null,null,null,null,null,null,null,null,395,{"$f":"IFERROR(VLOOKUP(S418,Journal!$R:$AQ,26,FALSE),\"\")","v":""},{"$error":"#VALUE!"},{"$error":"#N/A"},"",{"$f":"IFERROR(VLOOKUP(S418,Journal!$R:$AV,32,FALSE),\"\")","v":""},null,null,null,null,{"$f":"IFERROR(VLOOKUP(AA418, 'Daily Snapshot'!$B:$J,7,FALSE),\"\")","v":""},null,null,null,null,415,{"$f":"IFERROR(VLOOKUP(AH418,Journal!$R:$S,2,FALSE),\"\")","v":""},0,0,null,null,null,null,null,null,null,null,null,null,null,null,null,null,null,null,null,null,null,null,null,null,389,0,25025.38,{"$f":"IF(OR(BI418=0,BI418<$H$26,BI418>$H$27),NA(),BI418+BJ417)","v":{"$error":"#N/A"}}]
[null,null,null,null,null,null,null,null,null,null,null,null,null,null,null,null,null,null,396,{"$f":"IFERROR(VLOOKUP(S419,Journal!$R:$AQ,26,FALSE),\"\")","v":""},{"$error":"#VALUE!"},{"$error":"#N/A"},"",{"$f":"IFERROR(VLOOKUP(S419,Journal!$R:$AV,32,FALSE),\"\")","v":""},null,null,null,null,{"$f":"IFERROR(VLOOKUP(AA419, 'Daily Snapshot'!$B:$J,7,FALSE),\"\")","v":""},null,null,null,null,416,{"$f":"IFERROR(VLOOKUP(AH419,Journal!$R:$S,2,FALSE),\"\")","v":""},0,0,null,null,null,null,null,null,null,null,null,null,null,null,null,null,null,null,null,null,null,null,null,null,390,0,25025.38,{"$error":"#N/A"}]
[null,null,null,null,null,null,null,null,null,null,null,null,null,null,null,null,null,null,397,{"$f":"IFERROR(VLOOKUP(S420,Journal!$R:$AQ,26,FALSE),\"\")","v":""},{"$error":"#VALUE!"},{"$error":"#N/A"},"",{"$f":"IFERROR(VLOOKUP(S420,Journal!$R:$AV,32,FALSE),\"\")","v":""},null,null,null,null,{"$f":"IFERROR(VLOOKUP(AA420, 'Daily Snapshot'!$B:$J,7,FALSE),\"\")","v":""},null,null,null,null,417,{"$f":"IFERROR(VLOOKUP(AH420,Journal!$R:$S,2,FALSE),\"\")","v":""},0,0,null,null,null,null,null,null,null,null,null,null,null,null,null,null,null,null,null,null,null,null,null,null,391,0,25025.38,{"$error":"#N/A"}]
[null,null,null,null,null,null,null,null,null,null,null,null,null,null,null,null,null,null,398,{"$f":"IFERROR(VLOOKUP(S421,Journal!$R:$AQ,26,FALSE),\"\")","v":""},{"$error":"#VALUE!"},{"$error":"#N/A"},"",{"$f":"IFERROR(VLOOKUP(S421,Journal!$R:$AV,32,FALSE),\"\")","v":""},null,null,null,null,{"$f":"IFERROR(VLOOKUP(AA421, 'Daily Snapshot'!$B:$J,7,FALSE),\"\")","v":""},null,null,null,null,418,{"$f":"IFERROR(VLOOKUP(AH421,Journal!$R:$S,2,FALSE),\"\")","v":""},0,0,null,null,null,null,null,null,null,null,null,null,null,null,null,null,null,null,null,null,null,null,null,null,392,0,25025.38,{"$error":"#N/A"}]
[null,null,null,null,null,null,null,null,null,null,null,null,null,null,null,null,null,null,399,{"$f":"IFERROR(VLOOKUP(S422,Journal!$R:$AQ,26,FALSE),\"\")","v":""},{"$error":"#VALUE!"},{"$error":"#N/A"},"",{"$f":"IFERROR(VLOOKUP(S422,Journal!$R:$AV,32,FALSE),\"\")","v":""},null,null,null,null,{"$f":"IFERROR(VLOOKUP(AA422, 'Daily Snapshot'!$B:$J,7,FALSE),\"\")","v":""},null,null,null,null,419,{"$f":"IFERROR(VLOOKUP(AH422,Journal!$R:$S,2,FALSE),\"\")","v":""},0,0,null,null,null,null,null,null,null,null,null,null,null,null,null,null,null,null,null,null,null,null,null,null,393,0,25025.38,{"$error":"#N/A"}]
[null,null,null,null,null,null,null,null,null,null,null,null,null,null,null,null,null,null,400,{"$f":"IFERROR(VLOOKUP(S423,Journal!$R:$AQ,26,FALSE),\"\")","v":""},{"$error":"#VALUE!"},{"$error":"#N/A"},"",{"$f":"IFERROR(VLOOKUP(S423,Journal!$R:$AV,32,FALSE),\"\")","v":""},null,null,null,null,{"$f":"IFERROR(VLOOKUP(AA423, 'Daily Snapshot'!$B:$J,7,FALSE),\"\")","v":""},null,null,null,null,420,{"$f":"IFERROR(VLOOKUP(AH423,Journal!$R:$S,2,FALSE),\"\")","v":""},0,0,null,null,null,null,null,null,null,null,null,null,null,null,null,null,null,null,null,null,null,null,null,null,394,0,25025.38,{"$error":"#N/A"}]
[null,null,null,null,null,null,null,null,null,null,null,null,null,null,null,null,null,null,401,{"$f":"IFERROR(VLOOKUP(S424,Journal!$R:$AQ,26,FALSE),\"\")","v":""},{"$error":"#VALUE!"},{"$error":"#N/A"},"",{"$f":"IFERROR(VLOOKUP(S424,Journal!$R:$AV,32,FALSE),\"\")","v":""},null,null,null,null,{"$f":"IFERROR(VLOOKUP(AA424, 'Daily Snapshot'!$B:$J,7,FALSE),\"\")","v":""},null,null,null,null,421,{"$f":"IFERROR(VLOOKUP(AH424,Journal!$R:$S,2,FALSE),\"\")","v":""},0,0,null,null,null,null,null,null,null,null,null,null,null,null,null,null,null,null,null,null,null,null,null,null,395,0,25025.38,{"$error":"#N/A"}]
[null,null,null,null,null,null,null,null,null,null,null,null,null,null,null,null,null,null,402,{"$f":"IFERROR(VLOOKUP(S425,Journal!$R:$AQ,26,FALSE),\"\")","v":""},{"$error":"#VALUE!"},{"$error":"#N/A"},"",{"$f":"IFERROR(VLOOKUP(S425,Journal!$R:$AV,32,FALSE),\"\")","v":""},null,null,null,null,{"$f":"IFERROR(VLOOKUP(AA425, 'Daily Snapshot'!$B:$J,7,FALSE),\"\")","v":""},null,null,null,null,422,{"$f":"IFERROR(VLOOKUP(AH425,Journal!$R:$S,2,FALSE),\"\")","v":""},0,0,null,null,null,null,null,null,null,null,null,null,null,null,null,null,null,null,null,null,null,null,null,null,396,0,25025.38,{"$error":"#N/A"}]
[null,null,null,null,null,null,null,null,null,null,null,null,null,null,null,null,null,null,403,{"$f":"IFERROR(VLOOKUP(S426,Journal!$R:$AQ,26,FALSE),\"\")","v":""},{"$error":"#VALUE!"},{"$error":"#N/A"},"",{"$f":"IFERROR(VLOOKUP(S426,Journal!$R:$AV,32,FALSE),\"\")","v":""},null,null,null,null,{"$f":"IFERROR(VLOOKUP(AA426, 'Daily Snapshot'!$B:$J,7,FALSE),\"\")","v":""},null,null,null,null,423,{"$f":"IFERROR(VLOOKUP(AH426,Journal!$R:$S,2,FALSE),\"\")","v":""},0,0,null,null,null,null,null,null,null,null,null,null,null,null,null,null,null,null,null,null,null,null,null,null,397,0,25025.38,{"$error":"#N/A"}]
[null,null,null,null,null,null,null,null,null,null,null,null,null,null,null,null,null,null,404,{"$f":"IFERROR(VLOOKUP(S427,Journal!$R:$AQ,26,FALSE),\"\")","v":""},{"$error":"#VALUE!"},{"$error":"#N/A"},"",{"$f":"IFERROR(VLOOKUP(S427,Journal!$R:$AV,32,FALSE),\"\")","v":""},null,null,null,null,{"$f":"IFERROR(VLOOKUP(AA427, 'Daily Snapshot'!$B:$J,7,FALSE),\"\")","v":""},null,null,null,null,424,{"$f":"IFERROR(VLOOKUP(AH427,Journal!$R:$S,2,FALSE),\"\")","v":""},0,0,null,null,null,null,null,null,null,null,null,null,null,null,null,null,null,null,null,null,null,null,null,null,398,0,25025.38,{"$error":"#N/A"}]
[null,null,null,null,null,null,null,null,null,null,null,null,null,null,null,null,null,null,405,{"$f":"IFERROR(VLOOKUP(S428,Journal!$R:$AQ,26,FALSE),\"\")","v":""},{"$error":"#VALUE!"},{"$error":"#N/A"},"",{"$f":"IFERROR(VLOOKUP(S428,Journal!$R:$AV,32,FALSE),\"\")","v":""},null,null,null,null,{"$f":"IFERROR(VLOOKUP(AA428, 'Daily Snapshot'!$B:$J,7,FALSE),\"\")","v":""},null,null,null,null,425,{"$f":"IFERROR(VLOOKUP(AH428,Journal!$R:$S,2,FALSE),\"\")","v":""},0,0,null,null,null,null,null,null,null,null,null,null,null,null,null,null,null,null,null,null,null,null,null,null,399,0,25025.38,{"$error":"#N/A"}]
[null,null,null,null,null,null,null,null,null,null,null,null,null,null,null,null,null,null,406,{"$f":"IFERROR(VLOOKUP(S429,Journal!$R:$AQ,26,FALSE),\"\")","v":""},{"$error":"#VALUE!"},{"$error":"#N/A"},"",{"$f":"IFERROR(VLOOKUP(S429,Journal!$R:$AV,32,FALSE),\"\")","v":""},null,null,null,null,{"$f":"IFERROR(VLOOKUP(AA429, 'Daily Snapshot'!$B:$J,7,FALSE),\"\")","v":""},null,null,null,null,426,{"$f":"IFERROR(VLOOKUP(AH429,Journal!$R:$S,2,FALSE),\"\")","v":""},0,0,null,null,null,null,null,null,null,null,null,null,null,null,null,null,null,null,null,null,null,null,null,null,400,0,25025.38,{"$error":"#N/A"}]
[null,null,null,null,null,null,null,null,null,null,null,null,null,null,null,null,null,null,407,{"$f":"IFERROR(VLOOKUP(S430,Journal!$R:$AQ,26,FALSE),\"\")","v":""},{"$error":"#VALUE!"},{"$error":"#N/A"},"",{"$f":"IFERROR(VLOOKUP(S430,Journal!$R:$AV,32,FALSE),\"\")","v":""},null,null,null,null,{"$f":"IFERROR(VLOOKUP(AA430, 'Daily Snapshot'!$B:$J,7,FALSE),\"\")","v":""},null,null,null,null,427,{"$f":"IFERROR(VLOOKUP(AH430,Journal!$R:$S,2,FALSE),\"\")","v":""},0,0,null,null,null,null,null,null,null,null,null,null,null,null,null,null,null,null,null,null,null,null,null,null,401,0,25025.38,{"$error":"#N/A"}]
[null,null,null,null,null,null,null,null,null,null,null,null,null,null,null,null,null,null,408,{"$f":"IFERROR(VLOOKUP(S431,Journal!$R:$AQ,26,FALSE),\"\")","v":""},{"$error":"#VALUE!"},{"$error":"#N/A"},"",{"$f":"IFERROR(VLOOKUP(S431,Journal!$R:$AV,32,FALSE),\"\")","v":""},null,null,null,null,{"$f":"IFERROR(VLOOKUP(AA431, 'Daily Snapshot'!$B:$J,7,FALSE),\"\")","v":""},null,null,null,null,428,{"$f":"IFERROR(VLOOKUP(AH431,Journal!$R:$S,2,FALSE),\"\")","v":""},0,0,null,null,null,null,null,null,null,null,null,null,null,null,null,null,null,null,null,null,null,null,null,null,402,0,25025.38,{"$error":"#N/A"}]
[null,null,null,null,null,null,null,null,null,null,null,null,null,null,null,null,null,null,409,{"$f":"IFERROR(VLOOKUP(S432,Journal!$R:$AQ,26,FALSE),\"\")","v":""},{"$error":"#VALUE!"},{"$error":"#N/A"},"",{"$f":"IFERROR(VLOOKUP(S432,Journal!$R:$AV,32,FALSE),\"\")","v":""},null,null,null,null,{"$f":"IFERROR(VLOOKUP(AA432, 'Daily Snapshot'!$B:$J,7,FALSE),\"\")","v":""},null,null,null,null,429,{"$f":"IFERROR(VLOOKUP(AH432,Journal!$R:$S,2,FALSE),\"\")","v":""},0,0,null,null,null,null,null,null,null,null,null,null,null,null,null,null,null,null,null,null,null,null,null,null,403,0,25025.38,{"$error":"#N/A"}]
[null,null,null,null,null,null,null,null,null,null,null,null,null,null,null,null,null,null,410,{"$f":"IFERROR(VLOOKUP(S433,Journal!$R:$AQ,26,FALSE),\"\")","v":""},{"$error":"#VALUE!"},{"$error":"#N/A"},"",{"$f":"IFERROR(VLOOKUP(S433,Journal!$R:$AV,32,FALSE),\"\")","v":""},null,null,null,null,{"$f":"IFERROR(VLOOKUP(AA433, 'Daily Snapshot'!$B:$J,7,FALSE),\"\")","v":""},null,null,null,null,430,{"$f":"IFERROR(VLOOKUP(AH433,Journal!$R:$S,2,FALSE),\"\")","v":""},0,0,null,null,null,null,null,null,null,null,null,null,null,null,null,null,null,null,null,null,null,null,null,null,404,0,25025.38,{"$error":"#N/A"}]
[null,null,null,null,null,null,null,null,null,null,null,null,null,null,null,null,null,null,411,{"$f":"IFERROR(VLOOKUP(S434,Journal!$R:$AQ,26,FALSE),\"\")","v":""},{"$error":"#VALUE!"},{"$error":"#N/A"},"",{"$f":"IFERROR(VLOOKUP(S434,Journal!$R:$AV,32,FALSE),\"\")","v":""},null,null,null,null,{"$f":"IFERROR(VLOOKUP(AA434, 'Daily Snapshot'!$B:$J,7,FALSE),\"\")","v":""},null,null,null,null,431,{"$f":"IFERROR(VLOOKUP(AH434,Journal!$R:$S,2,FALSE),\"\")","v":""},0,0,null,null,null,null,null,null,null,null,null,null,null,null,null,null,null,null,null,null,null,null,null,null,405,0,25025.38,{"$error":"#N/A"}]
[null,null,null,null,null,null,null,null,null,null,null,null,null,null,null,null,null,null,412,{"$f":"IFERROR(VLOOKUP(S435,Journal!$R:$AQ,26,FALSE),\"\")","v":""},{"$error":"#VALUE!"},{"$error":"#N/A"},"",{"$f":"IFERROR(VLOOKUP(S435,Journal!$R:$AV,32,FALSE),\"\")","v":""},null,null,null,null,{"$f":"IFERROR(VLOOKUP(AA435, 'Daily Snapshot'!$B:$J,7,FALSE),\"\")","v":""},null,null,null,null,432,{"$f":"IFERROR(VLOOKUP(AH435,Journal!$R:$S,2,FALSE),\"\")","v":""},0,0,null,null,null,null,null,null,null,null,null,null,null,null,null,null,null,null,null,null,null,null,null,null,406,0,25025.38,{"$error":"#N/A"}]
[null,null,null,null,null,null,null,null,null,null,null,null,null,null,null,null,null,null,413,{"$f":"IFERROR(VLOOKUP(S436,Journal!$R:$AQ,26,FALSE),\"\")","v":""},{"$error":"#VALUE!"},{"$error":"#N/A"},"",{"$f":"IFERROR(VLOOKUP(S436,Journal!$R:$AV,32,FALSE),\"\")","v":""},null,null,null,null,{"$f":"IFERROR(VLOOKUP(AA436, 'Daily Snapshot'!$B:$J,7,FALSE),\"\")","v":""},null,null,null,null,433,{"$f":"IFERROR(VLOOKUP(AH436,Journal!$R:$S,2,FALSE),\"\")","v":""},0,0,null,null,null,null,null,null,null,null,null,null,null,null,null,null,null,null,null,null,null,null,null,null,407,0,25025.38,{"$error":"#N/A"}]
[null,null,null,null,null,null,null,null,null,null,null,null,null,null,null,null,null,null,414,{"$f":"IFERROR(VLOOKUP(S437,Journal!$R:$AQ,26,FALSE),\"\")","v":""},{"$error":"#VALUE!"},{"$error":"#N/A"},"",{"$f":"IFERROR(VLOOKUP(S437,Journal!$R:$AV,32,FALSE),\"\")","v":""},null,null,null,null,{"$f":"IFERROR(VLOOKUP(AA437, 'Daily Snapshot'!$B:$J,7,FALSE),\"\")","v":""},null,null,null,null,434,{"$f":"IFERROR(VLOOKUP(AH437,Journal!$R:$S,2,FALSE),\"\")","v":""},0,0,null,null,null,null,null,null,null,null,null,null,null,null,null,null,null,null,null,null,null,null,null,null,408,0,25025.38,{"$error":"#N/A"}]
[null,null,null,null,null,null,null,null,null,null,null,null,null,null,null,null,null,null,415,{"$f":"IFERROR(VLOOKUP(S438,Journal!$R:$AQ,26,FALSE),\"\")","v":""},{"$error":"#VALUE!"},{"$error":"#N/A"},"",{"$f":"IFERROR(VLOOKUP(S438,Journal!$R:$AV,32,FALSE),\"\")","v":""},null,null,null,null,{"$f":"IFERROR(VLOOKUP(AA438, 'Daily Snapshot'!$B:$J,7,FALSE),\"\")","v":""},null,null,null,null,435,{"$f":"IFERROR(VLOOKUP(AH438,Journal!$R:$S,2,FALSE),\"\")","v":""},0,0,null,null,null,null,null,null,null,null,null,null,null,null,null,null,null,null,null,null,null,null,null,null,409,0,25025.38,{"$error":"#N/A"}]
[null,null,null,null,null,null,null,null,null,null,null,null,null,null,null,null,null,null,416,{"$f":"IFERROR(VLOOKUP(S439,Journal!$R:$AQ,26,FALSE),\"\")","v":""},{"$error":"#VALUE!"},{"$error":"#N/A"},"",{"$f":"IFERROR(VLOOKUP(S439,Journal!$R:$AV,32,FALSE),\"\")","v":""},null,null,null,null,{"$f":"IFERROR(VLOOKUP(AA439, 'Daily Snapshot'!$B:$J,7,FALSE),\"\")","v":""},null,null,null,null,436,{"$f":"IFERROR(VLOOKUP(AH439,Journal!$R:$S,2,FALSE),\"\")","v":""},0,0,null,null,null,null,null,null,null,null,null,null,null,null,null,null,null,null,null,null,null,null,null,null,410,0,25025.38,{"$error":"#N/A"}]
[null,null,null,null,null,null,null,null,null,null,null,null,null,null,null,null,null,null,417,{"$f":"IFERROR(VLOOKUP(S440,Journal!$R:$AQ,26,FALSE),\"\")","v":""},{"$error":"#VALUE!"},{"$error":"#N/A"},"",{"$f":"IFERROR(VLOOKUP(S440,Journal!$R:$AV,32,FALSE),\"\")","v":""},null,null,null,null,{"$f":"IFERROR(VLOOKUP(AA440, 'Daily Snapshot'!$B:$J,7,FALSE),\"\")","v":""},null,null,null,null,437,{"$f":"IFERROR(VLOOKUP(AH440,Journal!$R:$S,2,FALSE),\"\")","v":""},0,0,null,null,null,null,null,null,null,null,null,null,null,null,null,null,null,null,null,null,null,null,null,null,411,0,25025.38,{"$error":"#N/A"}]
[null,null,null,null,null,null,null,null,null,null,null,null,null,null,null,null,null,null,418,{"$f":"IFERROR(VLOOKUP(S441,Journal!$R:$AQ,26,FALSE),\"\")","v":""},{"$error":"#VALUE!"},{"$error":"#N/A"},"",{"$f":"IFERROR(VLOOKUP(S441,Journal!$R:$AV,32,FALSE),\"\")","v":""},null,null,null,null,{"$f":"IFERROR(VLOOKUP(AA441, 'Daily Snapshot'!$B:$J,7,FALSE),\"\")","v":""},null,null,null,null,438,{"$f":"IFERROR(VLOOKUP(AH441,Journal!$R:$S,2,FALSE),\"\")","v":""},0,0,null,null,null,null,null,null,null,null,null,null,null,null,null,null,null,null,null,null,null,null,null,null,412,0,25025.38,{"$error":"#N/A"}]
[null,null,null,null,null,null,null,null,null,null,null,null,null,null,null,null,null,null,419,{"$f":"IFERROR(VLOOKUP(S442,Journal!$R:$AQ,26,FALSE),\"\")","v":""},{"$error":"#VALUE!"},{"$error":"#N/A"},"",{"$f":"IFERROR(VLOOKUP(S442,Journal!$R:$AV,32,FALSE),\"\")","v":""},null,null,null,null,{"$f":"IFERROR(VLOOKUP(AA442, 'Daily Snapshot'!$B:$J,7,FALSE),\"\")","v":""},null,null,null,null,439,{"$f":"IFERROR(VLOOKUP(AH442,Journal!$R:$S,2,FALSE),\"\")","v":""},0,0,null,null,null,null,null,null,null,null,null,null,null,null,null,null,null,null,null,null,null,null,null,null,413,0,25025.38,{"$error":"#N/A"}]
[null,null,null,null,null,null,null,null,null,null,null,null,null,null,null,null,null,null,420,{"$f":"IFERROR(VLOOKUP(S443,Journal!$R:$AQ,26,FALSE),\"\")","v":""},{"$error":"#VALUE!"},{"$error":"#N/A"},"",{"$f":"IFERROR(VLOOKUP(S443,Journal!$R:$AV,32,FALSE),\"\")","v":""},null,null,null,null,{"$f":"IFERROR(VLOOKUP(AA443, 'Daily Snapshot'!$B:$J,7,FALSE),\"\")","v":""},null,null,null,null,440,{"$f":"IFERROR(VLOOKUP(AH443,Journal!$R:$S,2,FALSE),\"\")","v":""},0,0,null,null,null,null,null,null,null,null,null,null,null,null,null,null,null,null,null,null,null,null,null,null,414,0,25025.38,{"$error":"#N/A"}]
[null,null,null,null,null,null,null,null,null,null,null,null,null,null,null,null,null,null,421,{"$f":"IFERROR(VLOOKUP(S444,Journal!$R:$AQ,26,FALSE),\"\")","v":""},{"$error":"#VALUE!"},{"$error":"#N/A"},"",{"$f":"IFERROR(VLOOKUP(S444,Journal!$R:$AV,32,FALSE),\"\")","v":""},null,null,null,null,{"$f":"IFERROR(VLOOKUP(AA444, 'Daily Snapshot'!$B:$J,7,FALSE),\"\")","v":""},null,null,null,null,441,{"$f":"IFERROR(VLOOKUP(AH444,Journal!$R:$S,2,FALSE),\"\")","v":""},0,0,null,null,null,null,null,null,null,null,null,null,null,null,null,null,null,null,null,null,null,null,null,null,415,0,25025.38,{"$error":"#N/A"}]
[null,null,null,null,null,null,null,null,null,null,null,null,null,null,null,null,null,null,422,{"$f":"IFERROR(VLOOKUP(S445,Journal!$R:$AQ,26,FALSE),\"\")","v":""},{"$error":"#VALUE!"},{"$error":"#N/A"},"",{"$f":"IFERROR(VLOOKUP(S445,Journal!$R:$AV,32,FALSE),\"\")","v":""},null,null,null,null,{"$f":"IFERROR(VLOOKUP(AA445, 'Daily Snapshot'!$B:$J,7,FALSE),\"\")","v":""},null,null,null,null,442,{"$f":"IFERROR(VLOOKUP(AH445,Journal!$R:$S,2,FALSE),\"\")","v":""},0,0,null,null,null,null,null,null,null,null,null,null,null,null,null,null,null,null,null,null,null,null,null,null,416,0,25025.38,{"$error":"#N/A"}]
[null,null,null,null,null,null,null,null,null,null,null,null,null,null,null,null,null,null,423,{"$f":"IFERROR(VLOOKUP(S446,Journal!$R:$AQ,26,FALSE),\"\")","v":""},{"$error":"#VALUE!"},{"$error":"#N/A"},"",{"$f":"IFERROR(VLOOKUP(S446,Journal!$R:$AV,32,FALSE),\"\")","v":""},null,null,null,null,{"$f":"IFERROR(VLOOKUP(AA446, 'Daily Snapshot'!$B:$J,7,FALSE),\"\")","v":""},null,null,null,null,443,{"$f":"IFERROR(VLOOKUP(AH446,Journal!$R:$S,2,FALSE),\"\")","v":""},0,0,null,null,null,null,null,null,null,null,null,null,null,null,null,null,null,null,null,null,null,null,null,null,417,0,25025.38,{"$error":"#N/A"}]
[null,null,null,null,null,null,null,null,null,null,null,null,null,null,null,null,null,null,424,{"$f":"IFERROR(VLOOKUP(S447,Journal!$R:$AQ,26,FALSE),\"\")","v":""},{"$error":"#VALUE!"},{"$error":"#N/A"},"",{"$f":"IFERROR(VLOOKUP(S447,Journal!$R:$AV,32,FALSE),\"\")","v":""},null,null,null,null,{"$f":"IFERROR(VLOOKUP(AA447, 'Daily Snapshot'!$B:$J,7,FALSE),\"\")","v":""},null,null,null,null,444,{"$f":"IFERROR(VLOOKUP(AH447,Journal!$R:$S,2,FALSE),\"\")","v":""},0,0,null,null,null,null,null,null,null,null,null,null,null,null,null,null,null,null,null,null,null,null,null,null,418,0,25025.38,{"$error":"#N/A"}]
[null,null,null,null,null,null,null,null,null,null,null,null,null,null,null,null,null,null,425,{"$f":"IFERROR(VLOOKUP(S448,Journal!$R:$AQ,26,FALSE),\"\")","v":""},{"$error":"#VALUE!"},{"$error":"#N/A"},"",{"$f":"IFERROR(VLOOKUP(S448,Journal!$R:$AV,32,FALSE),\"\")","v":""},null,null,null,null,{"$f":"IFERROR(VLOOKUP(AA448, 'Daily Snapshot'!$B:$J,7,FALSE),\"\")","v":""},null,null,null,null,445,{"$f":"IFERROR(VLOOKUP(AH448,Journal!$R:$S,2,FALSE),\"\")","v":""},0,0,null,null,null,null,null,null,null,null,null,null,null,null,null,null,null,null,null,null,null,null,null,null,419,0,25025.38,{"$error":"#N/A"}]
[null,null,null,null,null,null,null,null,null,null,null,null,null,null,null,null,null,null,426,{"$f":"IFERROR(VLOOKUP(S449,Journal!$R:$AQ,26,FALSE),\"\")","v":""},{"$error":"#VALUE!"},{"$error":"#N/A"},"",{"$f":"IFERROR(VLOOKUP(S449,Journal!$R:$AV,32,FALSE),\"\")","v":""},null,null,null,null,{"$f":"IFERROR(VLOOKUP(AA449, 'Daily Snapshot'!$B:$J,7,FALSE),\"\")","v":""},null,null,null,null,446,{"$f":"IFERROR(VLOOKUP(AH449,Journal!$R:$S,2,FALSE),\"\")","v":""},0,0,null,null,null,null,null,null,null,null,null,null,null,null,null,null,null,null,null,null,null,null,null,null,420,0,25025.38,{"$error":"#N/A"}]
[null,null,null,null,null,null,null,null,null,null,null,null,null,null,null,null,null,null,427,{"$f":"IFERROR(VLOOKUP(S450,Journal!$R:$AQ,26,FALSE),\"\")","v":""},{"$error":"#VALUE!"},{"$error":"#N/A"},"",{"$f":"IFERROR(VLOOKUP(S450,Journal!$R:$AV,32,FALSE),\"\")","v":""},null,null,null,null,{"$f":"IFERROR(VLOOKUP(AA450, 'Daily Snapshot'!$B:$J,7,FALSE),\"\")","v":""},null,null,null,null,447,{"$f":"IFERROR(VLOOKUP(AH450,Journal!$R:$S,2,FALSE),\"\")","v":""},0,0,null,null,null,null,null,null,null,null,null,null,null,null,null,null,null,null,null,null,null,null,null,null,421,0,25025.38,{"$error":"#N/A"}]
[null,null,null,null,null,null,null,null,null,null,null,null,null,null,null,null,null,null,428,{"$f":"IFERROR(VLOOKUP(S451,Journal!$R:$AQ,26,FALSE),\"\")","v":""},{"$error":"#VALUE!"},{"$error":"#N/A"},"",{"$f":"IFERROR(VLOOKUP(S451,Journal!$R:$AV,32,FALSE),\"\")","v":""},null,null,null,null,{"$f":"IFERROR(VLOOKUP(AA451, 'Daily Snapshot'!$B:$J,7,FALSE),\"\")","v":""},null,null,null,null,448,{"$f":"IFERROR(VLOOKUP(AH451,Journal!$R:$S,2,FALSE),\"\")","v":""},0,0,null,null,null,null,null,null,null,null,null,null,null,null,null,null,null,null,null,null,null,null,null,null,422,0,25025.38,{"$error":"#N/A"}]
[null,null,null,null,null,null,null,null,null,null,null,null,null,null,null,null,null,null,429,{"$f":"IFERROR(VLOOKUP(S452,Journal!$R:$AQ,26,FALSE),\"\")","v":""},{"$error":"#VALUE!"},{"$error":"#N/A"},"",{"$f":"IFERROR(VLOOKUP(S452,Journal!$R:$AV,32,FALSE),\"\")","v":""},null,null,null,null,{"$f":"IFERROR(VLOOKUP(AA452, 'Daily Snapshot'!$B:$J,7,FALSE),\"\")","v":""},null,null,null,null,449,{"$f":"IFERROR(VLOOKUP(AH452,Journal!$R:$S,2,FALSE),\"\")","v":""},{"$f":"IF($AI452=\"W\", 1,0)","v":0},{"$f":"IF($AI452=\"L\", -1,0)","v":0},null,null,null,null,null,null,null,null,null,null,null,null,null,null,null,null,null,null,null,null,null,null,423,0,25025.38,{"$error":"#N/A"}]
[null,null,null,null,null,null,null,null,null,null,null,null,null,null,null,null,null,null,430,{"$f":"IFERROR(VLOOKUP(S453,Journal!$R:$AQ,26,FALSE),\"\")","v":""},{"$error":"#VALUE!"},{"$error":"#N/A"},"",{"$f":"IFERROR(VLOOKUP(S453,Journal!$R:$AV,32,FALSE),\"\")","v":""},null,null,null,null,{"$f":"IFERROR(VLOOKUP(AA453, 'Daily Snapshot'!$B:$J,7,FALSE),\"\")","v":""},null,null,null,null,450,{"$f":"IFERROR(VLOOKUP(AH453,Journal!$R:$S,2,FALSE),\"\")","v":""},0,0,null,null,null,null,null,null,null,null,null,null,null,null,null,null,null,null,null,null,null,null,null,null,424,0,25025.38,{"$error":"#N/A"}]
[null,null,null,null,null,null,null,null,null,null,null,null,null,null,null,null,null,null,431,{"$f":"IFERROR(VLOOKUP(S454,Journal!$R:$AQ,26,FALSE),\"\")","v":""},{"$error":"#VALUE!"},{"$error":"#N/A"},"",{"$f":"IFERROR(VLOOKUP(S454,Journal!$R:$AV,32,FALSE),\"\")","v":""},null,null,null,null,{"$f":"IFERROR(VLOOKUP(AA454, 'Daily Snapshot'!$B:$J,7,FALSE),\"\")","v":""},null,null,null,null,451,{"$f":"IFERROR(VLOOKUP(AH454,Journal!$R:$S,2,FALSE),\"\")","v":""},0,0,null,null,null,null,null,null,null,null,null,null,null,null,null,null,null,null,null,null,null,null,null,null,425,0,25025.38,{"$error":"#N/A"}]
[null,null,null,null,null,null,null,null,null,null,null,null,null,null,null,null,null,null,432,{"$f":"IFERROR(VLOOKUP(S455,Journal!$R:$AQ,26,FALSE),\"\")","v":""},{"$error":"#VALUE!"},{"$error":"#N/A"},"",{"$f":"IFERROR(VLOOKUP(S455,Journal!$R:$AV,32,FALSE),\"\")","v":""},null,null,null,null,{"$f":"IFERROR(VLOOKUP(AA455, 'Daily Snapshot'!$B:$J,7,FALSE),\"\")","v":""},null,null,null,null,452,{"$f":"IFERROR(VLOOKUP(AH455,Journal!$R:$S,2,FALSE),\"\")","v":""},0,0,null,null,null,null,null,null,null,null,null,null,null,null,null,null,null,null,null,null,null,null,null,null,426,0,25025.38,{"$error":"#N/A"}]
[null,null,null,null,null,null,null,null,null,null,null,null,null,null,null,null,null,null,433,{"$f":"IFERROR(VLOOKUP(S456,Journal!$R:$AQ,26,FALSE),\"\")","v":""},{"$error":"#VALUE!"},{"$error":"#N/A"},"",{"$f":"IFERROR(VLOOKUP(S456,Journal!$R:$AV,32,FALSE),\"\")","v":""},null,null,null,null,{"$f":"IFERROR(VLOOKUP(AA456, 'Daily Snapshot'!$B:$J,7,FALSE),\"\")","v":""},null,null,null,null,453,{"$f":"IFERROR(VLOOKUP(AH456,Journal!$R:$S,2,FALSE),\"\")","v":""},0,0,null,null,null,null,null,null,null,null,null,null,null,null,null,null,null,null,null,null,null,null,null,null,427,0,25025.38,{"$error":"#N/A"}]
[null,null,null,null,null,null,null,null,null,null,null,null,null,null,null,null,null,null,434,{"$f":"IFERROR(VLOOKUP(S457,Journal!$R:$AQ,26,FALSE),\"\")","v":""},{"$error":"#VALUE!"},{"$error":"#N/A"},"",{"$f":"IFERROR(VLOOKUP(S457,Journal!$R:$AV,32,FALSE),\"\")","v":""},null,null,null,null,{"$f":"IFERROR(VLOOKUP(AA457, 'Daily Snapshot'!$B:$J,7,FALSE),\"\")","v":""},null,null,null,null,454,{"$f":"IFERROR(VLOOKUP(AH457,Journal!$R:$S,2,FALSE),\"\")","v":""},0,0,null,null,null,null,null,null,null,null,null,null,null,null,null,null,null,null,null,null,null,null,null,null,428,0,25025.38,{"$error":"#N/A"}]
[null,null,null,null,null,null,null,null,null,null,null,null,null,null,null,null,null,null,435,{"$f":"IFERROR(VLOOKUP(S458,Journal!$R:$AQ,26,FALSE),\"\")","v":""},{"$error":"#VALUE!"},{"$error":"#N/A"},"",{"$f":"IFERROR(VLOOKUP(S458,Journal!$R:$AV,32,FALSE),\"\")","v":""},null,null,null,null,{"$f":"IFERROR(VLOOKUP(AA458, 'Daily Snapshot'!$B:$J,7,FALSE),\"\")","v":""},null,null,null,null,455,{"$f":"IFERROR(VLOOKUP(AH458,Journal!$R:$S,2,FALSE),\"\")","v":""},0,0,null,null,null,null,null,null,null,null,null,null,null,null,null,null,null,null,null,null,null,null,null,null,429,0,25025.38,{"$error":"#N/A"}]
[null,null,null,null,null,null,null,null,null,null,null,null,null,null,null,null,null,null,436,{"$f":"IFERROR(VLOOKUP(S459,Journal!$R:$AQ,26,FALSE),\"\")","v":""},{"$error":"#VALUE!"},{"$error":"#N/A"},"",{"$f":"IFERROR(VLOOKUP(S459,Journal!$R:$AV,32,FALSE),\"\")","v":""},null,null,null,null,{"$f":"IFERROR(VLOOKUP(AA459, 'Daily Snapshot'!$B:$J,7,FALSE),\"\")","v":""},null,null,null,null,456,{"$f":"IFERROR(VLOOKUP(AH459,Journal!$R:$S,2,FALSE),\"\")","v":""},0,0,null,null,null,null,null,null,null,null,null,null,null,null,null,null,null,null,null,null,null,null,null,null,430,0,25025.38,{"$error":"#N/A"}]
[null,null,null,null,null,null,null,null,null,null,null,null,null,null,null,null,null,null,437,{"$f":"IFERROR(VLOOKUP(S460,Journal!$R:$AQ,26,FALSE),\"\")","v":""},{"$error":"#VALUE!"},{"$error":"#N/A"},"",{"$f":"IFERROR(VLOOKUP(S460,Journal!$R:$AV,32,FALSE),\"\")","v":""},null,null,null,null,{"$f":"IFERROR(VLOOKUP(AA460, 'Daily Snapshot'!$B:$J,7,FALSE),\"\")","v":""},null,null,null,null,457,{"$f":"IFERROR(VLOOKUP(AH460,Journal!$R:$S,2,FALSE),\"\")","v":""},0,0,null,null,null,null,null,null,null,null,null,null,null,null,null,null,null,null,null,null,null,null,null,null,431,0,25025.38,{"$error":"#N/A"}]
[null,null,null,null,null,null,null,null,null,null,null,null,null,null,null,null,null,null,438,{"$f":"IFERROR(VLOOKUP(S461,Journal!$R:$AQ,26,FALSE),\"\")","v":""},{"$error":"#VALUE!"},{"$error":"#N/A"},"",{"$f":"IFERROR(VLOOKUP(S461,Journal!$R:$AV,32,FALSE),\"\")","v":""},null,null,null,null,{"$f":"IFERROR(VLOOKUP(AA461, 'Daily Snapshot'!$B:$J,7,FALSE),\"\")","v":""},null,null,null,null,458,{"$f":"IFERROR(VLOOKUP(AH461,Journal!$R:$S,2,FALSE),\"\")","v":""},0,0,null,null,null,null,null,null,null,null,null,null,null,null,null,null,null,null,null,null,null,null,null,null,432,0,25025.38,{"$error":"#N/A"}]
[null,null,null,null,null,null,null,null,null,null,null,null,null,null,null,null,null,null,439,{"$f":"IFERROR(VLOOKUP(S462,Journal!$R:$AQ,26,FALSE),\"\")","v":""},{"$error":"#VALUE!"},{"$error":"#N/A"},"",{"$f":"IFERROR(VLOOKUP(S462,Journal!$R:$AV,32,FALSE),\"\")","v":""},null,null,null,null,{"$f":"IFERROR(VLOOKUP(AA462, 'Daily Snapshot'!$B:$J,7,FALSE),\"\")","v":""},null,null,null,null,459,{"$f":"IFERROR(VLOOKUP(AH462,Journal!$R:$S,2,FALSE),\"\")","v":""},0,0,null,null,null,null,null,null,null,null,null,null,null,null,null,null,null,null,null,null,null,null,null,null,433,0,25025.38,{"$error":"#N/A"}]
[null,null,null,null,null,null,null,null,null,null,null,null,null,null,null,null,null,null,440,{"$f":"IFERROR(VLOOKUP(S463,Journal!$R:$AQ,26,FALSE),\"\")","v":""},{"$error":"#VALUE!"},{"$error":"#N/A"},"",{"$f":"IFERROR(VLOOKUP(S463,Journal!$R:$AV,32,FALSE),\"\")","v":""},null,null,null,null,{"$f":"IFERROR(VLOOKUP(AA463, 'Daily Snapshot'!$B:$J,7,FALSE),\"\")","v":""},null,null,null,null,460,{"$f":"IFERROR(VLOOKUP(AH463,Journal!$R:$S,2,FALSE),\"\")","v":""},0,0,null,null,null,null,null,null,null,null,null,null,null,null,null,null,null,null,null,null,null,null,null,null,434,0,25025.38,{"$error":"#N/A"}]
[null,null,null,null,null,null,null,null,null,null,null,null,null,null,null,null,null,null,441,{"$f":"IFERROR(VLOOKUP(S464,Journal!$R:$AQ,26,FALSE),\"\")","v":""},{"$error":"#VALUE!"},{"$error":"#N/A"},"",{"$f":"IFERROR(VLOOKUP(S464,Journal!$R:$AV,32,FALSE),\"\")","v":""},null,null,null,null,{"$f":"IFERROR(VLOOKUP(AA464, 'Daily Snapshot'!$B:$J,7,FALSE),\"\")","v":""},null,null,null,null,461,{"$f":"IFERROR(VLOOKUP(AH464,Journal!$R:$S,2,FALSE),\"\")","v":""},0,0,null,null,null,null,null,null,null,null,null,null,null,null,null,null,null,null,null,null,null,null,null,null,435,0,25025.38,{"$error":"#N/A"}]
[null,null,null,null,null,null,null,null,null,null,null,null,null,null,null,null,null,null,442,{"$f":"IFERROR(VLOOKUP(S465,Journal!$R:$AQ,26,FALSE),\"\")","v":""},{"$error":"#VALUE!"},{"$error":"#N/A"},"",{"$f":"IFERROR(VLOOKUP(S465,Journal!$R:$AV,32,FALSE),\"\")","v":""},null,null,null,null,{"$f":"IFERROR(VLOOKUP(AA465, 'Daily Snapshot'!$B:$J,7,FALSE),\"\")","v":""},null,null,null,null,462,{"$f":"IFERROR(VLOOKUP(AH465,Journal!$R:$S,2,FALSE),\"\")","v":""},0,0,null,null,null,null,null,null,null,null,null,null,null,null,null,null,null,null,null,null,null,null,null,null,436,0,25025.38,{"$error":"#N/A"}]
[null,null,null,null,null,null,null,null,null,null,null,null,null,null,null,null,null,null,443,{"$f":"IFERROR(VLOOKUP(S466,Journal!$R:$AQ,26,FALSE),\"\")","v":""},{"$error":"#VALUE!"},{"$error":"#N/A"},"",{"$f":"IFERROR(VLOOKUP(S466,Journal!$R:$AV,32,FALSE),\"\")","v":""},null,null,null,null,{"$f":"IFERROR(VLOOKUP(AA466, 'Daily Snapshot'!$B:$J,7,FALSE),\"\")","v":""},null,null,null,null,463,{"$f":"IFERROR(VLOOKUP(AH466,Journal!$R:$S,2,FALSE),\"\")","v":""},0,0,null,null,null,null,null,null,null,null,null,null,null,null,null,null,null,null,null,null,null,null,null,null,437,0,25025.38,{"$error":"#N/A"}]
[null,null,null,null,null,null,null,null,null,null,null,null,null,null,null,null,null,null,444,{"$f":"IFERROR(VLOOKUP(S467,Journal!$R:$AQ,26,FALSE),\"\")","v":""},{"$error":"#VALUE!"},{"$error":"#N/A"},"",{"$f":"IFERROR(VLOOKUP(S467,Journal!$R:$AV,32,FALSE),\"\")","v":""},null,null,null,null,{"$f":"IFERROR(VLOOKUP(AA467, 'Daily Snapshot'!$B:$J,7,FALSE),\"\")","v":""},null,null,null,null,464,{"$f":"IFERROR(VLOOKUP(AH467,Journal!$R:$S,2,FALSE),\"\")","v":""},0,0,null,null,null,null,null,null,null,null,null,null,null,null,null,null,null,null,null,null,null,null,null,null,438,0,25025.38,{"$error":"#N/A"}]
[null,null,null,null,null,null,null,null,null,null,null,null,null,null,null,null,null,null,445,{"$f":"IFERROR(VLOOKUP(S468,Journal!$R:$AQ,26,FALSE),\"\")","v":""},{"$error":"#VALUE!"},{"$error":"#N/A"},"",{"$f":"IFERROR(VLOOKUP(S468,Journal!$R:$AV,32,FALSE),\"\")","v":""},null,null,null,null,{"$f":"IFERROR(VLOOKUP(AA468, 'Daily Snapshot'!$B:$J,7,FALSE),\"\")","v":""},null,null,null,null,465,{"$f":"IFERROR(VLOOKUP(AH468,Journal!$R:$S,2,FALSE),\"\")","v":""},0,0,null,null,null,null,null,null,null,null,null,null,null,null,null,null,null,null,null,null,null,null,null,null,439,0,25025.38,{"$error":"#N/A"}]
[null,null,null,null,null,null,null,null,null,null,null,null,null,null,null,null,null,null,446,{"$f":"IFERROR(VLOOKUP(S469,Journal!$R:$AQ,26,FALSE),\"\")","v":""},{"$error":"#VALUE!"},{"$error":"#N/A"},"",{"$f":"IFERROR(VLOOKUP(S469,Journal!$R:$AV,32,FALSE),\"\")","v":""},null,null,null,null,{"$f":"IFERROR(VLOOKUP(AA469, 'Daily Snapshot'!$B:$J,7,FALSE),\"\")","v":""},null,null,null,null,466,{"$f":"IFERROR(VLOOKUP(AH469,Journal!$R:$S,2,FALSE),\"\")","v":""},0,0,null,null,null,null,null,null,null,null,null,null,null,null,null,null,null,null,null,null,null,null,null,null,440,0,25025.38,{"$error":"#N/A"}]
[null,null,null,null,null,null,null,null,null,null,null,null,null,null,null,null,null,null,447,{"$f":"IFERROR(VLOOKUP(S470,Journal!$R:$AQ,26,FALSE),\"\")","v":""},{"$error":"#VALUE!"},{"$error":"#N/A"},"",{"$f":"IFERROR(VLOOKUP(S470,Journal!$R:$AV,32,FALSE),\"\")","v":""},null,null,null,null,{"$f":"IFERROR(VLOOKUP(AA470, 'Daily Snapshot'!$B:$J,7,FALSE),\"\")","v":""},null,null,null,null,467,{"$f":"IFERROR(VLOOKUP(AH470,Journal!$R:$S,2,FALSE),\"\")","v":""},0,0,null,null,null,null,null,null,null,null,null,null,null,null,null,null,null,null,null,null,null,null,null,null,441,0,25025.38,{"$error":"#N/A"}]
[null,null,null,null,null,null,null,null,null,null,null,null,null,null,null,null,null,null,448,{"$f":"IFERROR(VLOOKUP(S471,Journal!$R:$AQ,26,FALSE),\"\")","v":""},{"$error":"#VALUE!"},{"$error":"#N/A"},"",{"$f":"IFERROR(VLOOKUP(S471,Journal!$R:$AV,32,FALSE),\"\")","v":""},null,null,null,null,{"$f":"IFERROR(VLOOKUP(AA471, 'Daily Snapshot'!$B:$J,7,FALSE),\"\")","v":""},null,null,null,null,468,{"$f":"IFERROR(VLOOKUP(AH471,Journal!$R:$S,2,FALSE),\"\")","v":""},0,0,null,null,null,null,null,null,null,null,null,null,null,null,null,null,null,null,null,null,null,null,null,null,442,0,25025.38,{"$error":"#N/A"}]
[null,null,null,null,null,null,null,null,null,null,null,null,null,null,null,null,null,null,449,{"$f":"IFERROR(VLOOKUP(S472,Journal!$R:$AQ,26,FALSE),\"\")","v":""},{"$error":"#VALUE!"},{"$error":"#N/A"},"",{"$f":"IFERROR(VLOOKUP(S472,Journal!$R:$AV,32,FALSE),\"\")","v":""},null,null,null,null,{"$f":"IFERROR(VLOOKUP(AA472, 'Daily Snapshot'!$B:$J,7,FALSE),\"\")","v":""},null,null,null,null,469,{"$f":"IFERROR(VLOOKUP(AH472,Journal!$R:$S,2,FALSE),\"\")","v":""},0,0,null,null,null,null,null,null,null,null,null,null,null,null,null,null,null,null,null,null,null,null,null,null,443,0,25025.38,{"$error":"#N/A"}]
[null,null,null,null,null,null,null,null,null,null,null,null,null,null,null,null,null,null,450,{"$f":"IFERROR(VLOOKUP(S473,Journal!$R:$AQ,26,FALSE),\"\")","v":""},{"$f":"T473+U472","v":{"$error":"#VALUE!"}},{"$error":"#N/A"},{"$f":"IFERROR(T473/$H$25,\"\")","v":""},{"$f":"IFERROR(VLOOKUP(S473,Journal!$R:$AV,32,FALSE),\"\")","v":""},null,null,null,null,{"$f":"IFERROR(VLOOKUP(AA473, 'Daily Snapshot'!$B:$J,7,FALSE),\"\")","v":""},null,null,null,null,470,{"$f":"IFERROR(VLOOKUP(AH473,Journal!$R:$S,2,FALSE),\"\")","v":""},0,0,null,null,null,null,null,null,null,null,null,null,null,null,null,null,null,null,null,null,null,null,null,null,444,0,25025.38,{"$error":"#N/A"}]
[null,null,null,null,null,null,null,null,null,null,null,null,null,null,null,null,null,null,451,{"$f":"IFERROR(VLOOKUP(S474,Journal!$R:$AQ,26,FALSE),\"\")","v":""},{"$error":"#VALUE!"},{"$error":"#N/A"},"",{"$f":"IFERROR(VLOOKUP(S474,Journal!$R:$AV,32,FALSE),\"\")","v":""},null,null,null,null,{"$f":"IFERROR(VLOOKUP(AA474, 'Daily Snapshot'!$B:$J,7,FALSE),\"\")","v":""},null,null,null,null,471,{"$f":"IFERROR(VLOOKUP(AH474,Journal!$R:$S,2,FALSE),\"\")","v":""},0,0,null,null,null,null,null,null,null,null,null,null,null,null,null,null,null,null,null,null,null,null,null,null,445,0,25025.38,{"$error":"#N/A"}]
[null,null,null,null,null,null,null,null,null,null,null,null,null,null,null,null,null,null,452,{"$f":"IFERROR(VLOOKUP(S475,Journal!$R:$AQ,26,FALSE),\"\")","v":""},{"$error":"#VALUE!"},{"$error":"#N/A"},"",{"$f":"IFERROR(VLOOKUP(S475,Journal!$R:$AV,32,FALSE),\"\")","v":""},null,null,null,null,{"$f":"IFERROR(VLOOKUP(AA475, 'Daily Snapshot'!$B:$J,7,FALSE),\"\")","v":""},null,null,null,null,472,{"$f":"IFERROR(VLOOKUP(AH475,Journal!$R:$S,2,FALSE),\"\")","v":""},0,0,null,null,null,null,null,null,null,null,null,null,null,null,null,null,null,null,null,null,null,null,null,null,446,0,25025.38,{"$error":"#N/A"}]
[null,null,null,null,null,null,null,null,null,null,null,null,null,null,null,null,null,null,453,{"$f":"IFERROR(VLOOKUP(S476,Journal!$R:$AQ,26,FALSE),\"\")","v":""},{"$error":"#VALUE!"},{"$f":"IF(OR(T476=0,T476<$H$26,T476>$H$27),NA(),T476+U475)","v":{"$error":"#N/A"}},"",{"$f":"IFERROR(VLOOKUP(S476,Journal!$R:$AV,32,FALSE),\"\")","v":""},null,null,null,null,{"$f":"IFERROR(VLOOKUP(AA476, 'Daily Snapshot'!$B:$J,7,FALSE),\"\")","v":""},null,null,null,null,473,{"$f":"IFERROR(VLOOKUP(AH476,Journal!$R:$S,2,FALSE),\"\")","v":""},0,0,null,null,null,null,null,null,null,null,null,null,null,null,null,null,null,null,null,null,null,null,null,null,447,0,25025.38,{"$error":"#N/A"}]
[null,null,null,null,null,null,null,null,null,null,null,null,null,null,null,null,null,null,454,{"$f":"IFERROR(VLOOKUP(S477,Journal!$R:$AQ,26,FALSE),\"\")","v":""},{"$error":"#VALUE!"},{"$error":"#N/A"},"",{"$f":"IFERROR(VLOOKUP(S477,Journal!$R:$AV,32,FALSE),\"\")","v":""},null,null,null,null,{"$f":"IFERROR(VLOOKUP(AA477, 'Daily Snapshot'!$B:$J,7,FALSE),\"\")","v":""},null,null,null,null,474,{"$f":"IFERROR(VLOOKUP(AH477,Journal!$R:$S,2,FALSE),\"\")","v":""},0,0,null,null,null,null,null,null,null,null,null,null,null,null,null,null,null,null,null,null,null,null,null,null,448,0,25025.38,{"$error":"#N/A"}]
[null,null,null,null,null,null,null,null,null,null,null,null,null,null,null,null,null,null,455,{"$f":"IFERROR(VLOOKUP(S478,Journal!$R:$AQ,26,FALSE),\"\")","v":""},{"$error":"#VALUE!"},{"$error":"#N/A"},"",{"$f":"IFERROR(VLOOKUP(S478,Journal!$R:$AV,32,FALSE),\"\")","v":""},null,null,null,null,{"$f":"IFERROR(VLOOKUP(AA478, 'Daily Snapshot'!$B:$J,7,FALSE),\"\")","v":""},null,null,null,null,475,{"$f":"IFERROR(VLOOKUP(AH478,Journal!$R:$S,2,FALSE),\"\")","v":""},0,0,null,null,null,null,null,null,null,null,null,null,null,null,null,null,null,null,null,null,null,null,null,null,449,0,25025.38,{"$error":"#N/A"}]
[null,null,null,null,null,null,null,null,null,null,null,null,null,null,null,null,null,null,456,{"$f":"IFERROR(VLOOKUP(S479,Journal!$R:$AQ,26,FALSE),\"\")","v":""},{"$error":"#VALUE!"},{"$error":"#N/A"},"",{"$f":"IFERROR(VLOOKUP(S479,Journal!$R:$AV,32,FALSE),\"\")","v":""},null,null,null,null,{"$f":"IFERROR(VLOOKUP(AA479, 'Daily Snapshot'!$B:$J,7,FALSE),\"\")","v":""},null,null,null,null,476,{"$f":"IFERROR(VLOOKUP(AH479,Journal!$R:$S,2,FALSE),\"\")","v":""},0,0,null,null,null,null,null,null,null,null,null,null,null,null,null,null,null,null,null,null,null,null,null,null,450,0,{"$f":"BI479+BJ478","v":25025.38},{"$error":"#N/A"}]
[null,null,null,null,null,null,null,null,null,null,null,null,null,null,null,null,null,null,457,{"$f":"IFERROR(VLOOKUP(S480,Journal!$R:$AQ,26,FALSE),\"\")","v":""},{"$error":"#VALUE!"},{"$error":"#N/A"},"",{"$f":"IFERROR(VLOOKUP(S480,Journal!$R:$AV,32,FALSE),\"\")","v":""},null,null,null,null,{"$f":"IFERROR(VLOOKUP(AA480, 'Daily Snapshot'!$B:$J,7,FALSE),\"\")","v":""},null,null,null,null,477,{"$f":"IFERROR(VLOOKUP(AH480,Journal!$R:$S,2,FALSE),\"\")","v":""},0,0,null,null,null,null,null,null,null,null,null,null,null,null,null,null,null,null,null,null,null,null,null,null,451,{"$f":"N483","v":0},25025.38,{"$error":"#N/A"}]
[null,null,null,null,null,null,null,null,null,null,null,null,null,null,null,null,null,null,458,{"$f":"IFERROR(VLOOKUP(S481,Journal!$R:$AQ,26,FALSE),\"\")","v":""},{"$error":"#VALUE!"},{"$error":"#N/A"},"",{"$f":"IFERROR(VLOOKUP(S481,Journal!$R:$AV,32,FALSE),\"\")","v":""},null,null,null,null,{"$f":"IFERROR(VLOOKUP(AA481, 'Daily Snapshot'!$B:$J,7,FALSE),\"\")","v":""},null,null,null,null,478,{"$f":"IFERROR(VLOOKUP(AH481,Journal!$R:$S,2,FALSE),\"\")","v":""},0,0,null,null,null,null,null,null,null,null,null,null,null,null,null,null,null,null,null,null,null,null,null,null,452,0,25025.38,{"$error":"#N/A"}]
[null,null,null,null,null,null,null,null,null,null,null,null,null,null,null,null,null,null,459,{"$f":"IFERROR(VLOOKUP(S482,Journal!$R:$AQ,26,FALSE),\"\")","v":""},{"$error":"#VALUE!"},{"$error":"#N/A"},"",{"$f":"IFERROR(VLOOKUP(S482,Journal!$R:$AV,32,FALSE),\"\")","v":""},null,null,null,null,{"$f":"IFERROR(VLOOKUP(AA482, 'Daily Snapshot'!$B:$J,7,FALSE),\"\")","v":""},null,null,null,null,479,{"$f":"IFERROR(VLOOKUP(AH482,Journal!$R:$S,2,FALSE),\"\")","v":""},0,0,null,null,null,null,null,null,null,null,null,null,null,null,null,null,null,null,null,null,null,null,null,null,453,0,25025.38,{"$f":"IF(OR(BI482=0,BI482<$H$26,BI482>$H$27),NA(),BI482+BJ481)","v":{"$error":"#N/A"}}]
[null,null,null,null,null,null,null,null,null,null,null,null,null,null,null,null,null,null,460,{"$f":"IFERROR(VLOOKUP(S483,Journal!$R:$AQ,26,FALSE),\"\")","v":""},{"$error":"#VALUE!"},{"$error":"#N/A"},"",{"$f":"IFERROR(VLOOKUP(S483,Journal!$R:$AV,32,FALSE),\"\")","v":""},null,null,null,null,{"$f":"IFERROR(VLOOKUP(AA483, 'Daily Snapshot'!$B:$J,7,FALSE),\"\")","v":""},null,null,null,null,480,{"$f":"IFERROR(VLOOKUP(AH483,Journal!$R:$S,2,FALSE),\"\")","v":""},0,0,null,null,null,null,null,null,null,null,null,null,null,null,null,null,null,null,null,null,null,null,null,null,454,0,25025.38,{"$error":"#N/A"}]
[null,null,null,null,null,null,null,null,null,null,null,null,null,null,null,null,null,null,461,{"$f":"IFERROR(VLOOKUP(S484,Journal!$R:$AQ,26,FALSE),\"\")","v":""},{"$error":"#VALUE!"},{"$error":"#N/A"},"",{"$f":"IFERROR(VLOOKUP(S484,Journal!$R:$AV,32,FALSE),\"\")","v":""},null,null,null,null,{"$f":"IFERROR(VLOOKUP(AA484, 'Daily Snapshot'!$B:$J,7,FALSE),\"\")","v":""},null,null,null,null,481,{"$f":"IFERROR(VLOOKUP(AH484,Journal!$R:$S,2,FALSE),\"\")","v":""},0,0,null,null,null,null,null,null,null,null,null,null,null,null,null,null,null,null,null,null,null,null,null,null,455,0,25025.38,{"$error":"#N/A"}]
[null,null,null,null,null,null,null,null,null,null,null,null,null,null,null,null,null,null,462,{"$f":"IFERROR(VLOOKUP(S485,Journal!$R:$AQ,26,FALSE),\"\")","v":""},{"$error":"#VALUE!"},{"$error":"#N/A"},"",{"$f":"IFERROR(VLOOKUP(S485,Journal!$R:$AV,32,FALSE),\"\")","v":""},null,null,null,null,{"$f":"IFERROR(VLOOKUP(AA485, 'Daily Snapshot'!$B:$J,7,FALSE),\"\")","v":""},null,null,null,null,482,{"$f":"IFERROR(VLOOKUP(AH485,Journal!$R:$S,2,FALSE),\"\")","v":""},0,0,null,null,null,null,null,null,null,null,null,null,null,null,null,null,null,null,null,null,null,null,null,null,456,0,25025.38,{"$error":"#N/A"}]
[null,null,null,null,null,null,null,null,null,null,null,null,null,null,null,null,null,null,463,{"$f":"IFERROR(VLOOKUP(S486,Journal!$R:$AQ,26,FALSE),\"\")","v":""},{"$error":"#VALUE!"},{"$error":"#N/A"},"",{"$f":"IFERROR(VLOOKUP(S486,Journal!$R:$AV,32,FALSE),\"\")","v":""},null,null,null,null,{"$f":"IFERROR(VLOOKUP(AA486, 'Daily Snapshot'!$B:$J,7,FALSE),\"\")","v":""},null,null,null,null,483,{"$f":"IFERROR(VLOOKUP(AH486,Journal!$R:$S,2,FALSE),\"\")","v":""},0,0,null,null,null,null,null,null,null,null,null,null,null,null,null,null,null,null,null,null,null,null,null,null,457,0,25025.38,{"$error":"#N/A"}]
[null,null,null,null,null,null,null,null,null,null,null,null,null,null,null,null,null,null,464,{"$f":"IFERROR(VLOOKUP(S487,Journal!$R:$AQ,26,FALSE),\"\")","v":""},{"$error":"#VALUE!"},{"$error":"#N/A"},"",{"$f":"IFERROR(VLOOKUP(S487,Journal!$R:$AV,32,FALSE),\"\")","v":""},null,null,null,null,{"$f":"IFERROR(VLOOKUP(AA487, 'Daily Snapshot'!$B:$J,7,FALSE),\"\")","v":""},null,null,null,null,484,{"$f":"IFERROR(VLOOKUP(AH487,Journal!$R:$S,2,FALSE),\"\")","v":""},0,0,null,null,null,null,null,null,null,null,null,null,null,null,null,null,null,null,null,null,null,null,null,null,458,0,25025.38,{"$error":"#N/A"}]
[null,null,null,null,null,null,null,null,null,null,null,null,null,null,null,null,null,null,465,{"$f":"IFERROR(VLOOKUP(S488,Journal!$R:$AQ,26,FALSE),\"\")","v":""},{"$error":"#VALUE!"},{"$error":"#N/A"},"",{"$f":"IFERROR(VLOOKUP(S488,Journal!$R:$AV,32,FALSE),\"\")","v":""},null,null,null,null,{"$f":"IFERROR(VLOOKUP(AA488, 'Daily Snapshot'!$B:$J,7,FALSE),\"\")","v":""},null,null,null,null,485,{"$f":"IFERROR(VLOOKUP(AH488,Journal!$R:$S,2,FALSE),\"\")","v":""},0,0,null,null,null,null,null,null,null,null,null,null,null,null,null,null,null,null,null,null,null,null,null,null,459,0,25025.38,{"$error":"#N/A"}]
[null,null,null,null,null,null,null,null,null,null,null,null,null,null,null,null,null,null,466,{"$f":"IFERROR(VLOOKUP(S489,Journal!$R:$AQ,26,FALSE),\"\")","v":""},{"$error":"#VALUE!"},{"$error":"#N/A"},"",{"$f":"IFERROR(VLOOKUP(S489,Journal!$R:$AV,32,FALSE),\"\")","v":""},null,null,null,null,{"$f":"IFERROR(VLOOKUP(AA489, 'Daily Snapshot'!$B:$J,7,FALSE),\"\")","v":""},null,null,null,null,486,{"$f":"IFERROR(VLOOKUP(AH489,Journal!$R:$S,2,FALSE),\"\")","v":""},0,0,null,null,null,null,null,null,null,null,null,null,null,null,null,null,null,null,null,null,null,null,null,null,460,0,25025.38,{"$error":"#N/A"}]
[null,null,null,null,null,null,null,null,null,null,null,null,null,null,null,null,null,null,467,{"$f":"IFERROR(VLOOKUP(S490,Journal!$R:$AQ,26,FALSE),\"\")","v":""},{"$error":"#VALUE!"},{"$error":"#N/A"},"",{"$f":"IFERROR(VLOOKUP(S490,Journal!$R:$AV,32,FALSE),\"\")","v":""},null,null,null,null,{"$f":"IFERROR(VLOOKUP(AA490, 'Daily Snapshot'!$B:$J,7,FALSE),\"\")","v":""},null,null,null,null,487,{"$f":"IFERROR(VLOOKUP(AH490,Journal!$R:$S,2,FALSE),\"\")","v":""},0,0,null,null,null,null,null,null,null,null,null,null,null,null,null,null,null,null,null,null,null,null,null,null,461,0,25025.38,{"$error":"#N/A"}]
[null,null,null,null,null,null,null,null,null,null,null,null,null,null,null,null,null,null,468,{"$f":"IFERROR(VLOOKUP(S491,Journal!$R:$AQ,26,FALSE),\"\")","v":""},{"$error":"#VALUE!"},{"$error":"#N/A"},"",{"$f":"IFERROR(VLOOKUP(S491,Journal!$R:$AV,32,FALSE),\"\")","v":""},null,null,null,null,{"$f":"IFERROR(VLOOKUP(AA491, 'Daily Snapshot'!$B:$J,7,FALSE),\"\")","v":""},null,null,null,null,488,{"$f":"IFERROR(VLOOKUP(AH491,Journal!$R:$S,2,FALSE),\"\")","v":""},0,0,null,null,null,null,null,null,null,null,null,null,null,null,null,null,null,null,null,null,null,null,null,null,462,0,25025.38,{"$error":"#N/A"}]
[null,null,null,null,null,null,null,null,null,null,null,null,null,null,null,null,null,null,469,{"$f":"IFERROR(VLOOKUP(S492,Journal!$R:$AQ,26,FALSE),\"\")","v":""},{"$error":"#VALUE!"},{"$error":"#N/A"},"",{"$f":"IFERROR(VLOOKUP(S492,Journal!$R:$AV,32,FALSE),\"\")","v":""},null,null,null,null,{"$f":"IFERROR(VLOOKUP(AA492, 'Daily Snapshot'!$B:$J,7,FALSE),\"\")","v":""},null,null,null,null,489,{"$f":"IFERROR(VLOOKUP(AH492,Journal!$R:$S,2,FALSE),\"\")","v":""},0,0,null,null,null,null,null,null,null,null,null,null,null,null,null,null,null,null,null,null,null,null,null,null,463,0,25025.38,{"$error":"#N/A"}]
[null,null,null,null,null,null,null,null,null,null,null,null,null,null,null,null,null,null,470,{"$f":"IFERROR(VLOOKUP(S493,Journal!$R:$AQ,26,FALSE),\"\")","v":""},{"$error":"#VALUE!"},{"$error":"#N/A"},"",{"$f":"IFERROR(VLOOKUP(S493,Journal!$R:$AV,32,FALSE),\"\")","v":""},null,null,null,null,{"$f":"IFERROR(VLOOKUP(AA493, 'Daily Snapshot'!$B:$J,7,FALSE),\"\")","v":""},null,null,null,null,490,{"$f":"IFERROR(VLOOKUP(AH493,Journal!$R:$S,2,FALSE),\"\")","v":""},0,0,null,null,null,null,null,null,null,null,null,null,null,null,null,null,null,null,null,null,null,null,null,null,464,0,25025.38,{"$error":"#N/A"}]
[null,null,null,null,null,null,null,null,null,null,null,null,null,null,null,null,null,null,471,{"$f":"IFERROR(VLOOKUP(S494,Journal!$R:$AQ,26,FALSE),\"\")","v":""},{"$error":"#VALUE!"},{"$error":"#N/A"},"",{"$f":"IFERROR(VLOOKUP(S494,Journal!$R:$AV,32,FALSE),\"\")","v":""},null,null,null,null,{"$f":"IFERROR(VLOOKUP(AA494, 'Daily Snapshot'!$B:$J,7,FALSE),\"\")","v":""},null,null,null,null,491,{"$f":"IFERROR(VLOOKUP(AH494,Journal!$R:$S,2,FALSE),\"\")","v":""},0,0,null,null,null,null,null,null,null,null,null,null,null,null,null,null,null,null,null,null,null,null,null,null,465,0,25025.38,{"$error":"#N/A"}]
[null,null,null,null,null,null,null,null,null,null,null,null,null,null,null,null,null,null,472,{"$f":"IFERROR(VLOOKUP(S495,Journal!$R:$AQ,26,FALSE),\"\")","v":""},{"$error":"#VALUE!"},{"$error":"#N/A"},"",{"$f":"IFERROR(VLOOKUP(S495,Journal!$R:$AV,32,FALSE),\"\")","v":""},null,null,null,null,{"$f":"IFERROR(VLOOKUP(AA495, 'Daily Snapshot'!$B:$J,7,FALSE),\"\")","v":""},null,null,null,null,492,{"$f":"IFERROR(VLOOKUP(AH495,Journal!$R:$S,2,FALSE),\"\")","v":""},0,0,null,null,null,null,null,null,null,null,null,null,null,null,null,null,null,null,null,null,null,null,null,null,466,0,25025.38,{"$error":"#N/A"}]
[null,null,null,null,null,null,null,null,null,null,null,null,null,null,null,null,null,null,473,{"$f":"IFERROR(VLOOKUP(S496,Journal!$R:$AQ,26,FALSE),\"\")","v":""},{"$error":"#VALUE!"},{"$error":"#N/A"},"",{"$f":"IFERROR(VLOOKUP(S496,Journal!$R:$AV,32,FALSE),\"\")","v":""},null,null,null,null,{"$f":"IFERROR(VLOOKUP(AA496, 'Daily Snapshot'!$B:$J,7,FALSE),\"\")","v":""},null,null,null,null,493,{"$f":"IFERROR(VLOOKUP(AH496,Journal!$R:$S,2,FALSE),\"\")","v":""},0,0,null,null,null,null,null,null,null,null,null,null,null,null,null,null,null,null,null,null,null,null,null,null,467,0,25025.38,{"$error":"#N/A"}]
[null,null,null,null,null,null,null,null,null,null,null,null,null,null,null,null,null,null,474,{"$f":"IFERROR(VLOOKUP(S497,Journal!$R:$AQ,26,FALSE),\"\")","v":""},{"$error":"#VALUE!"},{"$error":"#N/A"},"",{"$f":"IFERROR(VLOOKUP(S497,Journal!$R:$AV,32,FALSE),\"\")","v":""},null,null,null,null,{"$f":"IFERROR(VLOOKUP(AA497, 'Daily Snapshot'!$B:$J,7,FALSE),\"\")","v":""},null,null,null,null,494,{"$f":"IFERROR(VLOOKUP(AH497,Journal!$R:$S,2,FALSE),\"\")","v":""},0,0,null,null,null,null,null,null,null,null,null,null,null,null,null,null,null,null,null,null,null,null,null,null,468,0,25025.38,{"$error":"#N/A"}]
[null,null,null,null,null,null,null,null,null,null,null,null,null,null,null,null,null,null,475,{"$f":"IFERROR(VLOOKUP(S498,Journal!$R:$AQ,26,FALSE),\"\")","v":""},{"$error":"#VALUE!"},{"$error":"#N/A"},"",{"$f":"IFERROR(VLOOKUP(S498,Journal!$R:$AV,32,FALSE),\"\")","v":""},null,null,null,null,{"$f":"IFERROR(VLOOKUP(AA498, 'Daily Snapshot'!$B:$J,7,FALSE),\"\")","v":""},null,null,null,null,495,{"$f":"IFERROR(VLOOKUP(AH498,Journal!$R:$S,2,FALSE),\"\")","v":""},0,0,null,null,null,null,null,null,null,null,null,null,null,null,null,null,null,null,null,null,null,null,null,null,469,0,25025.38,{"$error":"#N/A"}]
[null,null,null,null,null,null,null,null,null,null,null,null,null,null,null,null,null,null,476,{"$f":"IFERROR(VLOOKUP(S499,Journal!$R:$AQ,26,FALSE),\"\")","v":""},{"$error":"#VALUE!"},{"$error":"#N/A"},"",{"$f":"IFERROR(VLOOKUP(S499,Journal!$R:$AV,32,FALSE),\"\")","v":""},null,null,null,null,{"$f":"IFERROR(VLOOKUP(AA499, 'Daily Snapshot'!$B:$J,7,FALSE),\"\")","v":""},null,null,null,null,496,{"$f":"IFERROR(VLOOKUP(AH499,Journal!$R:$S,2,FALSE),\"\")","v":""},0,0,null,null,null,null,null,null,null,null,null,null,null,null,null,null,null,null,null,null,null,null,null,null,470,0,25025.38,{"$error":"#N/A"}]
[null,null,null,null,null,null,null,null,null,null,null,null,null,null,null,null,null,null,477,{"$f":"IFERROR(VLOOKUP(S500,Journal!$R:$AQ,26,FALSE),\"\")","v":""},{"$error":"#VALUE!"},{"$error":"#N/A"},"",{"$f":"IFERROR(VLOOKUP(S500,Journal!$R:$AV,32,FALSE),\"\")","v":""},null,null,null,null,{"$f":"IFERROR(VLOOKUP(AA500, 'Daily Snapshot'!$B:$J,7,FALSE),\"\")","v":""},null,null,null,null,497,{"$f":"IFERROR(VLOOKUP(AH500,Journal!$R:$S,2,FALSE),\"\")","v":""},0,0,null,null,null,null,null,null,null,null,null,null,null,null,null,null,null,null,null,null,null,null,null,null,471,0,25025.38,{"$error":"#N/A"}]
[null,null,null,null,null,null,null,null,null,null,null,null,null,null,null,null,null,null,479,{"$f":"IFERROR(VLOOKUP(S502,Journal!$R:$AQ,26,FALSE),\"\")","v":""},{"$error":"#VALUE!"},{"$error":"#N/A"},"",{"$f":"IFERROR(VLOOKUP(S502,Journal!$R:$AV,32,FALSE),\"\")","v":""},null,null,null,null,{"$f":"IFERROR(VLOOKUP(AA502, 'Daily Snapshot'!$B:$J,7,FALSE),\"\")","v":""},null,null,null,null,499,{"$f":"IFERROR(VLOOKUP(AH502,Journal!$R:$S,2,FALSE),\"\")","v":""},0,0,null,null,null,null,null,null,null,null,null,null,null,null,null,null,null,null,null,null,null,null,null,null,473,0,25025.38,{"$error":"#N/A"}]
[null,null,null,null,null,null,null,null,null,null,null,null,null,null,null,null,null,null,490,{"$f":"IFERROR(VLOOKUP(S513,Journal!$R:$AQ,26,FALSE),\"\")","v":""},{"$error":"#VALUE!"},{"$error":"#N/A"},"",{"$f":"IFERROR(VLOOKUP(S513,Journal!$R:$AV,32,FALSE),\"\")","v":""},null,null,null,null,{"$f":"IFERROR(VLOOKUP(AA513, 'Daily Snapshot'!$B:$J,7,FALSE),\"\")","v":""},null,null,null,null,510,{"$f":"IFERROR(VLOOKUP(AH513,Journal!$R:$S,2,FALSE),\"\")","v":""},0,0,null,null,null,null,null,null,null,null,null,null,null,null,null,null,null,null,null,null,null,null,null,null,484,0,25025.38,{"$error":"#N/A"}]
[null,null,null,null,null,null,null,null,null,null,null,null,null,null,null,null,null,null,502,{"$f":"IFERROR(VLOOKUP(S525,Journal!$R:$AQ,26,FALSE),\"\")","v":""},{"$error":"#VALUE!"},{"$error":"#N/A"},"",{"$f":"IFERROR(VLOOKUP(S525,Journal!$R:$AV,32,FALSE),\"\")","v":""},null,null,null,null,{"$f":"IFERROR(VLOOKUP(AA525, 'Daily Snapshot'!$B:$J,7,FALSE),\"\")","v":""},null,null,null,null,522,{"$f":"IFERROR(VLOOKUP(AH525,Journal!$R:$S,2,FALSE),\"\")","v":""},0,0,null,null,null,null,null,null,null,null,null,null,null,null,null,null,null,null,null,null,null,null,null,null,496,0,25025.38,{"$error":"#N/A"}]
[null,null,null,null,null,null,null,null,null,null,null,null,null,null,null,null,null,null,509,{"$f":"IFERROR(VLOOKUP(S532,Journal!$R:$AQ,26,FALSE),\"\")","v":""},{"$error":"#VALUE!"},{"$error":"#N/A"},"",{"$f":"IFERROR(VLOOKUP(S532,Journal!$R:$AV,32,FALSE),\"\")","v":""},null,null,null,null,{"$f":"IFERROR(VLOOKUP(AA532, 'Daily Snapshot'!$B:$J,7,FALSE),\"\")","v":""},null,null,null,null,529,{"$f":"IFERROR(VLOOKUP(AH532,Journal!$R:$S,2,FALSE),\"\")","v":""},0,0,null,null,null,null,null,null,null,null,null,null,null,null,null,null,null,null,null,null,null,null,null,null,503,0,25025.38,{"$error":"#N/A"}]
[null,null,null,null,null,null,null,null,null,null,null,null,null,null,null,null,null,null,518,{"$f":"IFERROR(VLOOKUP(S541,Journal!$R:$AQ,26,FALSE),\"\")","v":""},{"$error":"#VALUE!"},{"$error":"#N/A"},"",{"$f":"IFERROR(VLOOKUP(S541,Journal!$R:$AV,32,FALSE),\"\")","v":""},null,null,null,null,{"$f":"IFERROR(VLOOKUP(AA541, 'Daily Snapshot'!$B:$J,7,FALSE),\"\")","v":""},null,null,null,null,538,{"$f":"IFERROR(VLOOKUP(AH541,Journal!$R:$S,2,FALSE),\"\")","v":""},0,0,null,null,null,null,null,null,null,null,null,null,null,null,null,null,null,null,null,null,null,null,null,null,512,0,25025.38,{"$error":"#N/A"}]
[null,null,null,null,null,null,null,null,null,null,null,null,null,null,null,null,null,null,523,{"$f":"IFERROR(VLOOKUP(S546,Journal!$R:$AQ,26,FALSE),\"\")","v":""},{"$error":"#VALUE!"},{"$error":"#N/A"},"",{"$f":"IFERROR(VLOOKUP(S546,Journal!$R:$AV,32,FALSE),\"\")","v":""},null,null,null,null,{"$f":"IFERROR(VLOOKUP(AA546, 'Daily Snapshot'!$B:$J,7,FALSE),\"\")","v":""},null,null,null,null,543,{"$f":"IFERROR(VLOOKUP(AH546,Journal!$R:$S,2,FALSE),\"\")","v":""},0,0,null,null,null,null,null,null,null,null,null,null,null,null,null,null,null,null,null,null,null,null,null,null,517,0,25025.38,{"$f":"IF(OR(BI546=0,BI546<$H$26,BI546>$H$27),NA(),BI546+BJ545)","v":{"$error":"#N/A"}}]
[null,null,null,null,null,null,null,null,null,null,null,null,null,null,null,null,null,null,530,{"$f":"IFERROR(VLOOKUP(S553,Journal!$R:$AQ,26,FALSE),\"\")","v":""},{"$error":"#VALUE!"},{"$error":"#N/A"},"",{"$f":"IFERROR(VLOOKUP(S553,Journal!$R:$AV,32,FALSE),\"\")","v":""},null,null,null,null,{"$f":"IFERROR(VLOOKUP(AA553, 'Daily Snapshot'!$B:$J,7,FALSE),\"\")","v":""},null,null,null,null,550,{"$f":"IFERROR(VLOOKUP(AH553,Journal!$R:$S,2,FALSE),\"\")","v":""},0,0,null,null,null,null,null,null,null,null,null,null,null,null,null,null,null,null,null,null,null,null,null,null,524,0,25025.38,{"$error":"#N/A"}]
[null,null,null,null,null,null,null,null,null,null,null,null,null,null,null,null,null,null,542,{"$f":"IFERROR(VLOOKUP(S565,Journal!$R:$AQ,26,FALSE),\"\")","v":""},{"$error":"#VALUE!"},{"$error":"#N/A"},"",{"$f":"IFERROR(VLOOKUP(S565,Journal!$R:$AV,32,FALSE),\"\")","v":""},null,null,null,null,{"$f":"IFERROR(VLOOKUP(AA565, 'Daily Snapshot'!$B:$J,7,FALSE),\"\")","v":""},null,null,null,null,562,{"$f":"IFERROR(VLOOKUP(AH565,Journal!$R:$S,2,FALSE),\"\")","v":""},0,0,null,null,null,null,null,null,null,null,null,null,null,null,null,null,null,null,null,null,null,null,null,null,536,0,25025.38,{"$error":"#N/A"}]
[null,null,null,null,null,null,null,null,null,null,null,null,null,null,null,null,null,null,549,{"$f":"IFERROR(VLOOKUP(S572,Journal!$R:$AQ,26,FALSE),\"\")","v":""},{"$error":"#VALUE!"},{"$error":"#N/A"},"",{"$f":"IFERROR(VLOOKUP(S572,Journal!$R:$AV,32,FALSE),\"\")","v":""},null,null,null,null,{"$f":"IFERROR(VLOOKUP(AA572, 'Daily Snapshot'!$B:$J,7,FALSE),\"\")","v":""},null,null,null,null,569,{"$f":"IFERROR(VLOOKUP(AH572,Journal!$R:$S,2,FALSE),\"\")","v":""},0,0,null,null,null,null,null,null,null,null,null,null,null,null,null,null,null,null,null,null,null,null,null,null,543,0,25025.38,{"$error":"#N/A"}]
[null,null,null,null,null,null,null,null,null,null,null,null,null,null,null,null,null,null,559,{"$f":"IFERROR(VLOOKUP(S582,Journal!$R:$AQ,26,FALSE),\"\")","v":""},{"$error":"#VALUE!"},{"$error":"#N/A"},"",{"$f":"IFERROR(VLOOKUP(S582,Journal!$R:$AV,32,FALSE),\"\")","v":""},null,null,null,null,{"$f":"IFERROR(VLOOKUP(AA582, 'Daily Snapshot'!$B:$J,7,FALSE),\"\")","v":""},null,null,null,null,579,{"$f":"IFERROR(VLOOKUP(AH582,Journal!$R:$S,2,FALSE),\"\")","v":""},0,0,null,null,null,null,null,null,null,null,null,null,null,null,null,null,null,null,null,null,null,null,null,null,553,0,25025.38,{"$error":"#N/A"}]
[null,null,null,null,null,null,null,null,null,null,null,null,null,null,null,null,null,null,572,{"$f":"IFERROR(VLOOKUP(S595,Journal!$R:$AQ,26,FALSE),\"\")","v":""},{"$error":"#VALUE!"},{"$error":"#N/A"},"",{"$f":"IFERROR(VLOOKUP(S595,Journal!$R:$AV,32,FALSE),\"\")","v":""},null,null,null,null,{"$f":"IFERROR(VLOOKUP(AA595, 'Daily Snapshot'!$B:$J,7,FALSE),\"\")","v":""},null,null,null,null,592,{"$f":"IFERROR(VLOOKUP(AH595,Journal!$R:$S,2,FALSE),\"\")","v":""},0,0,null,null,null,null,null,null,null,null,null,null,null,null,null,null,null,null,null,null,null,null,null,null,566,0,25025.38,{"$error":"#N/A"}]
[null,null,null,null,null,null,null,null,null,null,null,null,null,null,null,null,null,null,579,{"$f":"IFERROR(VLOOKUP(S602,Journal!$R:$AQ,26,FALSE),\"\")","v":""},{"$error":"#VALUE!"},{"$error":"#N/A"},"",{"$f":"IFERROR(VLOOKUP(S602,Journal!$R:$AV,32,FALSE),\"\")","v":""},null,null,null,null,{"$f":"IFERROR(VLOOKUP(AA602, 'Daily Snapshot'!$B:$J,7,FALSE),\"\")","v":""},null,null,null,null,599,{"$f":"IFERROR(VLOOKUP(AH602,Journal!$R:$S,2,FALSE),\"\")","v":""},0,0,null,null,null,null,null,null,null,null,null,null,null,null,null,null,null,null,null,null,null,null,null,null,573,0,25025.38,{"$error":"#N/A"}]
[null,null,null,null,null,null,null,null,null,null,null,null,null,null,null,null,null,null,591,{"$f":"IFERROR(VLOOKUP(S614,Journal!$R:$AQ,26,FALSE),\"\")","v":""},{"$error":"#VALUE!"},{"$error":"#N/A"},"",{"$f":"IFERROR(VLOOKUP(S614,Journal!$R:$AV,32,FALSE),\"\")","v":""},null,null,null,null,{"$f":"IFERROR(VLOOKUP(AA614, 'Daily Snapshot'!$B:$J,7,FALSE),\"\")","v":""},null,null,null,null,611,{"$f":"IFERROR(VLOOKUP(AH614,Journal!$R:$S,2,FALSE),\"\")","v":""},0,0,null,null,null,null,null,null,null,null,null,null,null,null,null,null,null,null,null,null,null,null,null,null,585,0,25025.38,{"$error":"#N/A"}]
[null,null,null,null,null,null,null,null,null,null,null,null,null,null,null,null,null,null,594,{"$f":"IFERROR(VLOOKUP(S617,Journal!$R:$AQ,26,FALSE),\"\")","v":""},{"$error":"#VALUE!"},{"$error":"#N/A"},"",{"$f":"IFERROR(VLOOKUP(S617,Journal!$R:$AV,32,FALSE),\"\")","v":""},null,null,null,null,{"$f":"IFERROR(VLOOKUP(AA617, 'Daily Snapshot'!$B:$J,7,FALSE),\"\")","v":""},null,null,null,null,614,{"$f":"IFERROR(VLOOKUP(AH617,Journal!$R:$S,2,FALSE),\"\")","v":""},0,0,null,null,null,null,null,null,null,null,null,null,null,null,null,null,null,null,null,null,null,null,null,null,588,0,25025.38,{"$error":"#N/A"}]
[null,null,null,null,null,null,null,null,null,null,null,null,null,null,null,null,null,null,608,{"$f":"IFERROR(VLOOKUP(S631,Journal!$R:$AQ,26,FALSE),\"\")","v":""},{"$error":"#VALUE!"},{"$error":"#N/A"},"",{"$f":"IFERROR(VLOOKUP(S631,Journal!$R:$AV,32,FALSE),\"\")","v":""},null,null,null,null,{"$f":"IFERROR(VLOOKUP(AA631, 'Daily Snapshot'!$B:$J,7,FALSE),\"\")","v":""},null,null,null,null,628,{"$f":"IFERROR(VLOOKUP(AH631,Journal!$R:$S,2,FALSE),\"\")","v":""},0,0,null,null,null,null,null,null,null,null,null,null,null,null,null,null,null,null,null,null,null,null,null,null,602,0,25025.38,{"$error":"#N/A"}]
[null,null,null,null,null,null,null,null,null,null,null,null,null,null,null,null,null,null,612,{"$f":"IFERROR(VLOOKUP(S635,Journal!$R:$AQ,26,FALSE),\"\")","v":""},{"$error":"#VALUE!"},{"$error":"#N/A"},"",{"$f":"IFERROR(VLOOKUP(S635,Journal!$R:$AV,32,FALSE),\"\")","v":""},null,null,null,null,{"$f":"IFERROR(VLOOKUP(AA635, 'Daily Snapshot'!$B:$J,7,FALSE),\"\")","v":""},null,null,null,null,632,{"$f":"IFERROR(VLOOKUP(AH635,Journal!$R:$S,2,FALSE),\"\")","v":""},0,0,null,null,null,null,null,null,null,null,null,null,null,null,null,null,null,null,null,null,null,null,null,null,606,0,25025.38,{"$error":"#N/A"}]
[null,null,null,null,null,null,null,null,null,null,null,null,null,null,null,null,null,null,619,{"$f":"IFERROR(VLOOKUP(S642,Journal!$R:$AQ,26,FALSE),\"\")","v":""},{"$error":"#VALUE!"},{"$error":"#N/A"},"",{"$f":"IFERROR(VLOOKUP(S642,Journal!$R:$AV,32,FALSE),\"\")","v":""},null,null,null,null,{"$f":"IFERROR(VLOOKUP(AA642, 'Daily Snapshot'!$B:$J,7,FALSE),\"\")","v":""},null,null,null,null,639,{"$f":"IFERROR(VLOOKUP(AH642,Journal!$R:$S,2,FALSE),\"\")","v":""},0,0,null,null,null,null,null,null,null,null,null,null,null,null,null,null,null,null,null,null,null,null,null,null,613,0,25025.38,{"$error":"#N/A"}]
[null,null,null,null,null,null,null,null,null,null,null,null,null,null,null,null,null,null,631,{"$f":"IFERROR(VLOOKUP(S654,Journal!$R:$AQ,26,FALSE),\"\")","v":""},{"$error":"#VALUE!"},{"$error":"#N/A"},"",{"$f":"IFERROR(VLOOKUP(S654,Journal!$R:$AV,32,FALSE),\"\")","v":""},null,null,null,null,{"$f":"IFERROR(VLOOKUP(AA654, 'Daily Snapshot'!$B:$J,7,FALSE),\"\")","v":""},null,null,null,null,651,{"$f":"IFERROR(VLOOKUP(AH654,Journal!$R:$S,2,FALSE),\"\")","v":""},0,0,null,null,null,null,null,null,null,null,null,null,null,null,null,null,null,null,null,null,null,null,null,null,625,0,25025.38,{"$error":"#N/A"}]
[null,null,null,null,null,null,null,null,null,null,null,null,null,null,null,null,null,null,643,{"$f":"IFERROR(VLOOKUP(S666,Journal!$R:$AQ,26,FALSE),\"\")","v":""},{"$error":"#VALUE!"},{"$error":"#N/A"},"",{"$f":"IFERROR(VLOOKUP(S666,Journal!$R:$AV,32,FALSE),\"\")","v":""},null,null,null,null,{"$f":"IFERROR(VLOOKUP(AA666, 'Daily Snapshot'!$B:$J,7,FALSE),\"\")","v":""},null,null,null,null,663,{"$f":"IFERROR(VLOOKUP(AH666,Journal!$R:$S,2,FALSE),\"\")","v":""},0,0,null,null,null,null,null,null,null,null,null,null,null,null,null,null,null,null,null,null,null,null,null,null,637,0,25025.38,{"$error":"#N/A"}]
[null,null,null,null,null,null,null,null,null,null,null,null,null,null,null,null,null,null,649,{"$f":"IFERROR(VLOOKUP(S672,Journal!$R:$AQ,26,FALSE),\"\")","v":""},{"$error":"#VALUE!"},{"$error":"#N/A"},"",{"$f":"IFERROR(VLOOKUP(S672,Journal!$R:$AV,32,FALSE),\"\")","v":""},null,null,null,null,{"$f":"IFERROR(VLOOKUP(AA672, 'Daily Snapshot'!$B:$J,7,FALSE),\"\")","v":""},null,null,null,null,669,{"$f":"IFERROR(VLOOKUP(AH672,Journal!$R:$S,2,FALSE),\"\")","v":""},0,0,null,null,null,null,null,null,null,null,null,null,null,null,null,null,null,null,null,null,null,null,null,null,643,{"$f":"N675","v":0},25025.38,{"$error":"#N/A"}]
[null,null,null,null,null,null,null,null,null,null,null,null,null,null,null,null,null,null,661,{"$f":"IFERROR(VLOOKUP(S684,Journal!$R:$AQ,26,FALSE),\"\")","v":""},{"$error":"#VALUE!"},{"$error":"#N/A"},"",{"$f":"IFERROR(VLOOKUP(S684,Journal!$R:$AV,32,FALSE),\"\")","v":""},null,null,null,null,{"$f":"IFERROR(VLOOKUP(AA684, 'Daily Snapshot'!$B:$J,7,FALSE),\"\")","v":""},null,null,null,null,681,{"$f":"IFERROR(VLOOKUP(AH684,Journal!$R:$S,2,FALSE),\"\")","v":""},0,0,null,null,null,null,null,null,null,null,null,null,null,null,null,null,null,null,null,null,null,null,null,null,655,0,25025.38,{"$error":"#N/A"}]
[null,null,null,null,null,null,null,null,null,null,null,null,null,null,null,null,null,null,668,{"$f":"IFERROR(VLOOKUP(S691,Journal!$R:$AQ,26,FALSE),\"\")","v":""},{"$error":"#VALUE!"},{"$error":"#N/A"},"",{"$f":"IFERROR(VLOOKUP(S691,Journal!$R:$AV,32,FALSE),\"\")","v":""},null,null,null,null,{"$f":"IFERROR(VLOOKUP(AA691, 'Daily Snapshot'!$B:$J,7,FALSE),\"\")","v":""},null,null,null,null,688,{"$f":"IFERROR(VLOOKUP(AH691,Journal!$R:$S,2,FALSE),\"\")","v":""},0,0,null,null,null,null,null,null,null,null,null,null,null,null,null,null,null,null,null,null,null,null,null,null,662,0,25025.38,{"$error":"#N/A"}]
[null,null,null,null,null,null,null,null,null,null,null,null,null,null,null,null,null,null,671,{"$f":"IFERROR(VLOOKUP(S694,Journal!$R:$AQ,26,FALSE),\"\")","v":""},{"$error":"#VALUE!"},{"$error":"#N/A"},"",{"$f":"IFERROR(VLOOKUP(S694,Journal!$R:$AV,32,FALSE),\"\")","v":""},null,null,null,null,{"$f":"IFERROR(VLOOKUP(AA694, 'Daily Snapshot'!$B:$J,7,FALSE),\"\")","v":""},null,null,null,null,691,{"$f":"IFERROR(VLOOKUP(AH694,Journal!$R:$S,2,FALSE),\"\")","v":""},0,0,null,null,null,null,null,null,null,null,null,null,null,null,null,null,null,null,null,null,null,null,null,null,665,0,25025.38,{"$error":"#N/A"}]
[null,null,null,null,null,null,null,null,null,null,null,null,null,null,null,null,null,null,683,{"$f":"IFERROR(VLOOKUP(S706,Journal!$R:$AQ,26,FALSE),\"\")","v":""},{"$error":"#VALUE!"},{"$error":"#N/A"},"",{"$f":"IFERROR(VLOOKUP(S706,Journal!$R:$AV,32,FALSE),\"\")","v":""},null,null,null,null,{"$f":"IFERROR(VLOOKUP(AA706, 'Daily Snapshot'!$B:$J,7,FALSE),\"\")","v":""},null,null,null,null,703,{"$f":"IFERROR(VLOOKUP(AH706,Journal!$R:$S,2,FALSE),\"\")","v":""},0,0,null,null,null,null,null,null,null,null,null,null,null,null,null,null,null,null,null,null,null,null,null,null,677,0,25025.38,{"$error":"#N/A"}]
[null,null,null,null,null,null,null,null,null,null,null,null,null,null,null,null,null,null,690,{"$f":"IFERROR(VLOOKUP(S713,Journal!$R:$AQ,26,FALSE),\"\")","v":""},{"$error":"#VALUE!"},{"$error":"#N/A"},"",{"$f":"IFERROR(VLOOKUP(S713,Journal!$R:$AV,32,FALSE),\"\")","v":""},null,null,null,null,{"$f":"IFERROR(VLOOKUP(AA713, 'Daily Snapshot'!$B:$J,7,FALSE),\"\")","v":""},null,null,null,null,710,{"$f":"IFERROR(VLOOKUP(AH713,Journal!$R:$S,2,FALSE),\"\")","v":""},0,0,null,null,null,null,null,null,null,null,null,null,null,null,null,null,null,null,null,null,null,null,null,null,684,0,25025.38,{"$error":"#N/A"}]
[null,null,null,null,null,null,null,null,null,null,null,null,null,null,null,null,null,null,701,{"$f":"IFERROR(VLOOKUP(S724,Journal!$R:$AQ,26,FALSE),\"\")","v":""},{"$error":"#VALUE!"},{"$error":"#N/A"},"",{"$f":"IFERROR(VLOOKUP(S724,Journal!$R:$AV,32,FALSE),\"\")","v":""},null,null,null,null,{"$f":"IFERROR(VLOOKUP(AA724, 'Daily Snapshot'!$B:$J,7,FALSE),\"\")","v":""},null,null,null,null,721,{"$f":"IFERROR(VLOOKUP(AH724,Journal!$R:$S,2,FALSE),\"\")","v":""},0,0,null,null,null,null,null,null,null,null,null,null,null,null,null,null,null,null,null,null,null,null,null,null,695,0,25025.38,{"$error":"#N/A"}]
[null,null,null,null,null,null,null,null,null,null,null,null,null,null,null,null,null,null,713,{"$f":"IFERROR(VLOOKUP(S736,Journal!$R:$AQ,26,FALSE),\"\")","v":""},{"$error":"#VALUE!"},{"$error":"#N/A"},"",{"$f":"IFERROR(VLOOKUP(S736,Journal!$R:$AV,32,FALSE),\"\")","v":""},null,null,null,null,{"$f":"IFERROR(VLOOKUP(AA736, 'Daily Snapshot'!$B:$J,7,FALSE),\"\")","v":""},null,null,null,null,733,{"$f":"IFERROR(VLOOKUP(AH736,Journal!$R:$S,2,FALSE),\"\")","v":""},0,0,null,null,null,null,null,null,null,null,null,null,null,null,null,null,null,null,null,null,null,null,null,null,707,{"$f":"N739","v":0},25025.38,{"$error":"#N/A"}]
[null,null,null,null,null,null,null,null,null,null,null,null,null,null,null,null,null,null,720,{"$f":"IFERROR(VLOOKUP(S743,Journal!$R:$AQ,26,FALSE),\"\")","v":""},{"$error":"#VALUE!"},{"$error":"#N/A"},"",{"$f":"IFERROR(VLOOKUP(S743,Journal!$R:$AV,32,FALSE),\"\")","v":""},null,null,null,null,{"$f":"IFERROR(VLOOKUP(AA743, 'Daily Snapshot'!$B:$J,7,FALSE),\"\")","v":""},null,null,null,null,740,{"$f":"IFERROR(VLOOKUP(AH743,Journal!$R:$S,2,FALSE),\"\")","v":""},0,0,null,null,null,null,null,null,null,null,null,null,null,null,null,null,null,null,null,null,null,null,null,null,714,0,25025.38,{"$error":"#N/A"}]
[null,null,null,null,null,null,null,null,null,null,null,null,null,null,null,null,null,null,732,{"$f":"IFERROR(VLOOKUP(S755,Journal!$R:$AQ,26,FALSE),\"\")","v":""},{"$error":"#VALUE!"},{"$error":"#N/A"},"",{"$f":"IFERROR(VLOOKUP(S755,Journal!$R:$AV,32,FALSE),\"\")","v":""},null,null,null,null,{"$f":"IFERROR(VLOOKUP(AA755, 'Daily Snapshot'!$B:$J,7,FALSE),\"\")","v":""},null,null,null,null,752,{"$f":"IFERROR(VLOOKUP(AH755,Journal!$R:$S,2,FALSE),\"\")","v":""},0,0,null,null,null,null,null,null,null,null,null,null,null,null,null,null,null,null,null,null,null,null,null,null,726,0,25025.38,{"$error":"#N/A"}]
[null,null,null,null,null,null,null,null,null,null,null,null,null,null,null,null,null,null,739,{"$f":"IFERROR(VLOOKUP(S762,Journal!$R:$AQ,26,FALSE),\"\")","v":""},{"$error":"#VALUE!"},{"$error":"#N/A"},"",{"$f":"IFERROR(VLOOKUP(S762,Journal!$R:$AV,32,FALSE),\"\")","v":""},null,null,null,null,{"$f":"IFERROR(VLOOKUP(AA762, 'Daily Snapshot'!$B:$J,7,FALSE),\"\")","v":""},null,null,null,null,759,{"$f":"IFERROR(VLOOKUP(AH762,Journal!$R:$S,2,FALSE),\"\")","v":""},0,0,null,null,null,null,null,null,null,null,null,null,null,null,null,null,null,null,null,null,null,null,null,null,733,0,25025.38,{"$error":"#N/A"}]
[null,null,null,null,null,null,null,null,null,null,null,null,null,null,null,null,null,null,741,{"$f":"IFERROR(VLOOKUP(S764,Journal!$R:$AQ,26,FALSE),\"\")","v":""},{"$error":"#VALUE!"},{"$error":"#N/A"},"",{"$f":"IFERROR(VLOOKUP(S764,Journal!$R:$AV,32,FALSE),\"\")","v":""},null,null,null,null,{"$f":"IFERROR(VLOOKUP(AA764, 'Daily Snapshot'!$B:$J,7,FALSE),\"\")","v":""},null,null,null,null,761,{"$f":"IFERROR(VLOOKUP(AH764,Journal!$R:$S,2,FALSE),\"\")","v":""},0,0,null,null,null,null,null,null,null,null,null,null,null,null,null,null,null,null,null,null,null,null,null,null,735,0,25025.38,{"$error":"#N/A"}]
[null,null,null,null,null,null,null,null,null,null,null,null,null,null,null,null,null,null,753,{"$f":"IFERROR(VLOOKUP(S776,Journal!$R:$AQ,26,FALSE),\"\")","v":""},{"$error":"#VALUE!"},{"$error":"#N/A"},"",{"$f":"IFERROR(VLOOKUP(S776,Journal!$R:$AV,32,FALSE),\"\")","v":""},null,null,null,null,{"$f":"IFERROR(VLOOKUP(AA776, 'Daily Snapshot'!$B:$J,7,FALSE),\"\")","v":""},null,null,null,null,773,{"$f":"IFERROR(VLOOKUP(AH776,Journal!$R:$S,2,FALSE),\"\")","v":""},0,0,null,null,null,null,null,null,null,null,null,null,null,null,null,null,null,null,null,null,null,null,null,null,747,0,25025.38,{"$error":"#N/A"}]
[null,null,null,null,null,null,null,null,null,null,null,null,null,null,null,null,null,null,760,{"$f":"IFERROR(VLOOKUP(S783,Journal!$R:$AQ,26,FALSE),\"\")","v":""},{"$error":"#VALUE!"},{"$error":"#N/A"},"",{"$f":"IFERROR(VLOOKUP(S783,Journal!$R:$AV,32,FALSE),\"\")","v":""},null,null,null,null,{"$f":"IFERROR(VLOOKUP(AA783, 'Daily Snapshot'!$B:$J,7,FALSE),\"\")","v":""},null,null,null,null,780,{"$f":"IFERROR(VLOOKUP(AH783,Journal!$R:$S,2,FALSE),\"\")","v":""},0,0,null,null,null,null,null,null,null,null,null,null,null,null,null,null,null,null,null,null,null,null,null,null,754,0,25025.38,{"$error":"#N/A"}]
[null,null,null,null,null,null,null,null,null,null,null,null,null,null,null,null,null,null,772,{"$f":"IFERROR(VLOOKUP(S795,Journal!$R:$AQ,26,FALSE),\"\")","v":""},{"$error":"#VALUE!"},{"$error":"#N/A"},"",{"$f":"IFERROR(VLOOKUP(S795,Journal!$R:$AV,32,FALSE),\"\")","v":""},null,null,null,null,{"$f":"IFERROR(VLOOKUP(AA795, 'Daily Snapshot'!$B:$J,7,FALSE),\"\")","v":""},null,null,null,null,792,{"$f":"IFERROR(VLOOKUP(AH795,Journal!$R:$S,2,FALSE),\"\")","v":""},0,0,null,null,null,null,null,null,null,null,null,null,null,null,null,null,null,null,null,null,null,null,null,null,766,0,25025.38,{"$error":"#N/A"}]
[null,null,null,null,null,null,null,null,null,null,null,null,null,null,null,null,null,null,780,{"$f":"IFERROR(VLOOKUP(S803,Journal!$R:$AQ,26,FALSE),\"\")","v":""},{"$error":"#VALUE!"},{"$error":"#N/A"},"",{"$f":"IFERROR(VLOOKUP(S803,Journal!$R:$AV,32,FALSE),\"\")","v":""},null,null,null,null,{"$f":"IFERROR(VLOOKUP(AA803, 'Daily Snapshot'!$B:$J,7,FALSE),\"\")","v":""},null,null,null,null,800,{"$f":"IFERROR(VLOOKUP(AH803,Journal!$R:$S,2,FALSE),\"\")","v":""},0,0,null,null,null,null,null,null,null,null,null,null,null,null,null,null,null,null,null,null,null,null,null,null,774,0,25025.38,{"$error":"#N/A"}]
[null,null,null,null,null,null,null,null,null,null,null,null,null,null,null,null,null,null,790,{"$f":"IFERROR(VLOOKUP(S813,Journal!$R:$AQ,26,FALSE),\"\")","v":""},{"$error":"#VALUE!"},{"$error":"#N/A"},"",{"$f":"IFERROR(VLOOKUP(S813,Journal!$R:$AV,32,FALSE),\"\")","v":""},null,null,null,null,{"$f":"IFERROR(VLOOKUP(AA813, 'Daily Snapshot'!$B:$J,7,FALSE),\"\")","v":""},null,null,null,null,810,{"$f":"IFERROR(VLOOKUP(AH813,Journal!$R:$S,2,FALSE),\"\")","v":""},0,0,null,null,null,null,null,null,null,null,null,null,null,null,null,null,null,null,null,null,null,null,null,null,784,0,25025.38,{"$error":"#N/A"}]
[null,null,null,null,null,null,null,null,null,null,null,null,null,null,null,null,null,null,802,{"$f":"IFERROR(VLOOKUP(S825,Journal!$R:$AQ,26,FALSE),\"\")","v":""},{"$error":"#VALUE!"},{"$error":"#N/A"},"",{"$f":"IFERROR(VLOOKUP(S825,Journal!$R:$AV,32,FALSE),\"\")","v":""},null,null,null,null,{"$f":"IFERROR(VLOOKUP(AA825, 'Daily Snapshot'!$B:$J,7,FALSE),\"\")","v":""},null,null,null,null,822,{"$f":"IFERROR(VLOOKUP(AH825,Journal!$R:$S,2,FALSE),\"\")","v":""},0,0,null,null,null,null,null,null,null,null,null,null,null,null,null,null,null,null,null,null,null,null,null,null,796,0,25025.38,{"$error":"#N/A"}]
[null,null,null,null,null,null,null,null,null,null,null,null,null,null,null,null,null,null,809,{"$f":"IFERROR(VLOOKUP(S832,Journal!$R:$AQ,26,FALSE),\"\")","v":""},{"$error":"#VALUE!"},{"$error":"#N/A"},"",{"$f":"IFERROR(VLOOKUP(S832,Journal!$R:$AV,32,FALSE),\"\")","v":""},null,null,null,null,{"$f":"IFERROR(VLOOKUP(AA832, 'Daily Snapshot'!$B:$J,7,FALSE),\"\")","v":""},null,null,null,null,829,{"$f":"IFERROR(VLOOKUP(AH832,Journal!$R:$S,2,FALSE),\"\")","v":""},0,0,null,null,null,null,null,null,null,null,null,null,null,null,null,null,null,null,null,null,null,null,null,null,803,0,25025.38,{"$error":"#N/A"}]
[null,null,null,null,null,null,null,null,null,null,null,null,null,null,null,null,null,null,812,{"$f":"IFERROR(VLOOKUP(S835,Journal!$R:$AQ,26,FALSE),\"\")","v":""},{"$error":"#VALUE!"},{"$error":"#N/A"},"",{"$f":"IFERROR(VLOOKUP(S835,Journal!$R:$AV,32,FALSE),\"\")","v":""},null,null,null,null,{"$f":"IFERROR(VLOOKUP(AA835, 'Daily Snapshot'!$B:$J,7,FALSE),\"\")","v":""},null,null,null,null,832,{"$f":"IFERROR(VLOOKUP(AH835,Journal!$R:$S,2,FALSE),\"\")","v":""},0,0,null,null,null,null,null,null,null,null,null,null,null,null,null,null,null,null,null,null,null,null,null,null,806,0,25025.38,{"$error":"#N/A"}]
[null,null,null,null,null,null,null,null,null,null,null,null,null,null,null,null,null,null,821,{"$f":"IFERROR(VLOOKUP(S844,Journal!$R:$AQ,26,FALSE),\"\")","v":""},{"$error":"#VALUE!"},{"$error":"#N/A"},"",{"$f":"IFERROR(VLOOKUP(S844,Journal!$R:$AV,32,FALSE),\"\")","v":""},null,null,null,null,{"$f":"IFERROR(VLOOKUP(AA844, 'Daily Snapshot'!$B:$J,7,FALSE),\"\")","v":""},null,null,null,null,841,{"$f":"IFERROR(VLOOKUP(AH844,Journal!$R:$S,2,FALSE),\"\")","v":""},0,0,null,null,null,null,null,null,null,null,null,null,null,null,null,null,null,null,null,null,null,null,null,null,815,0,25025.38,{"$error":"#N/A"}]
[null,null,null,null,null,null,null,null,null,null,null,null,null,null,null,null,null,null,830,{"$f":"IFERROR(VLOOKUP(S853,Journal!$R:$AQ,26,FALSE),\"\")","v":""},{"$error":"#VALUE!"},{"$error":"#N/A"},"",{"$f":"IFERROR(VLOOKUP(S853,Journal!$R:$AV,32,FALSE),\"\")","v":""},null,null,null,null,{"$f":"IFERROR(VLOOKUP(AA853, 'Daily Snapshot'!$B:$J,7,FALSE),\"\")","v":""},null,null,null,null,850,{"$f":"IFERROR(VLOOKUP(AH853,Journal!$R:$S,2,FALSE),\"\")","v":""},0,0,null,null,null,null,null,null,null,null,null,null,null,null,null,null,null,null,null,null,null,null,null,null,824,0,25025.38,{"$error":"#N/A"}]
[null,null,null,null,null,null,null,null,null,null,null,null,null,null,null,null,null,null,842,{"$f":"IFERROR(VLOOKUP(S865,Journal!$R:$AQ,26,FALSE),\"\")","v":""},{"$error":"#VALUE!"},{"$error":"#N/A"},"",{"$f":"IFERROR(VLOOKUP(S865,Journal!$R:$AV,32,FALSE),\"\")","v":""},null,null,null,null,{"$f":"IFERROR(VLOOKUP(AA865, 'Daily Snapshot'!$B:$J,7,FALSE),\"\")","v":""},null,null,null,null,862,{"$f":"IFERROR(VLOOKUP(AH865,Journal!$R:$S,2,FALSE),\"\")","v":""},0,0,null,null,null,null,null,null,null,null,null,null,null,null,null,null,null,null,null,null,null,null,null,null,836,0,25025.38,{"$error":"#N/A"}]
[null,null,null,null,null,null,null,null,null,null,null,null,null,null,null,null,null,null,849,{"$f":"IFERROR(VLOOKUP(S872,Journal!$R:$AQ,26,FALSE),\"\")","v":""},{"$error":"#VALUE!"},{"$error":"#N/A"},"",{"$f":"IFERROR(VLOOKUP(S872,Journal!$R:$AV,32,FALSE),\"\")","v":""},null,null,null,null,{"$f":"IFERROR(VLOOKUP(AA872, 'Daily Snapshot'!$B:$J,7,FALSE),\"\")","v":""},null,null,null,null,869,{"$f":"IFERROR(VLOOKUP(AH872,Journal!$R:$S,2,FALSE),\"\")","v":""},0,0,null,null,null,null,null,null,null,null,null,null,null,null,null,null,null,null,null,null,null,null,null,null,843,0,25025.38,{"$error":"#N/A"}]
[null,null,null,null,null,null,null,null,null,null,null,null,null,null,null,null,null,null,861,{"$f":"IFERROR(VLOOKUP(S884,Journal!$R:$AQ,26,FALSE),\"\")","v":""},{"$error":"#VALUE!"},{"$error":"#N/A"},"",{"$f":"IFERROR(VLOOKUP(S884,Journal!$R:$AV,32,FALSE),\"\")","v":""},null,null,null,null,{"$f":"IFERROR(VLOOKUP(AA884, 'Daily Snapshot'!$B:$J,7,FALSE),\"\")","v":""},null,null,null,null,881,{"$f":"IFERROR(VLOOKUP(AH884,Journal!$R:$S,2,FALSE),\"\")","v":""},0,0,null,null,null,null,null,null,null,null,null,null,null,null,null,null,null,null,null,null,null,null,null,null,855,0,25025.38,{"$error":"#N/A"}]
[null,null,null,null,null,null,null,null,null,null,null,null,null,null,null,null,null,null,870,{"$f":"IFERROR(VLOOKUP(S893,Journal!$R:$AQ,26,FALSE),\"\")","v":""},{"$error":"#VALUE!"},{"$error":"#N/A"},"",{"$f":"IFERROR(VLOOKUP(S893,Journal!$R:$AV,32,FALSE),\"\")","v":""},null,null,null,null,{"$f":"IFERROR(VLOOKUP(AA893, 'Daily Snapshot'!$B:$J,7,FALSE),\"\")","v":""},null,null,null,null,890,{"$f":"IFERROR(VLOOKUP(AH893,Journal!$R:$S,2,FALSE),\"\")","v":""},0,0,null,null,null,null,null,null,null,null,null,null,null,null,null,null,null,null,null,null,null,null,null,null,864,0,25025.38,{"$error":"#N/A"}]
[null,null,null,null,null,null,null,null,null,null,null,null,null,null,null,null,null,null,879,{"$f":"IFERROR(VLOOKUP(S902,Journal!$R:$AQ,26,FALSE),\"\")","v":""},{"$error":"#VALUE!"},{"$error":"#N/A"},"",{"$f":"IFERROR(VLOOKUP(S902,Journal!$R:$AV,32,FALSE),\"\")","v":""},null,null,null,null,{"$f":"IFERROR(VLOOKUP(AA902, 'Daily Snapshot'!$B:$J,7,FALSE),\"\")","v":""},null,null,null,null,899,{"$f":"IFERROR(VLOOKUP(AH902,Journal!$R:$S,2,FALSE),\"\")","v":""},0,0,null,null,null,null,null,null,null,null,null,null,null,null,null,null,null,null,null,null,null,null,null,null,873,0,25025.38,{"$error":"#N/A"}]
[null,null,null,null,null,null,null,null,null,null,null,null,null,null,null,null,null,null,882,{"$f":"IFERROR(VLOOKUP(S905,Journal!$R:$AQ,26,FALSE),\"\")","v":""},{"$error":"#VALUE!"},{"$error":"#N/A"},"",{"$f":"IFERROR(VLOOKUP(S905,Journal!$R:$AV,32,FALSE),\"\")","v":""},null,null,null,null,{"$f":"IFERROR(VLOOKUP(AA905, 'Daily Snapshot'!$B:$J,7,FALSE),\"\")","v":""},null,null,null,null,902,{"$f":"IFERROR(VLOOKUP(AH905,Journal!$R:$S,2,FALSE),\"\")","v":""},0,0,null,null,null,null,null,null,null,null,null,null,null,null,null,null,null,null,null,null,null,null,null,null,876,0,25025.38,{"$error":"#N/A"}]
[null,null,null,null,null,null,null,null,null,null,null,null,null,null,null,null,null,null,894,{"$f":"IFERROR(VLOOKUP(S917,Journal!$R:$AQ,26,FALSE),\"\")","v":""},{"$error":"#VALUE!"},{"$error":"#N/A"},"",{"$f":"IFERROR(VLOOKUP(S917,Journal!$R:$AV,32,FALSE),\"\")","v":""},null,null,null,null,{"$f":"IFERROR(VLOOKUP(AA917, 'Daily Snapshot'!$B:$J,7,FALSE),\"\")","v":""},null,null,null,null,914,{"$f":"IFERROR(VLOOKUP(AH917,Journal!$R:$S,2,FALSE),\"\")","v":""},0,0,null,null,null,null,null,null,null,null,null,null,null,null,null,null,null,null,null,null,null,null,null,null,888,0,25025.38,{"$error":"#N/A"}]
[null,null,null,null,null,null,null,null,null,null,null,null,null,null,null,null,null,null,901,{"$f":"IFERROR(VLOOKUP(S924,Journal!$R:$AQ,26,FALSE),\"\")","v":""},{"$error":"#VALUE!"},{"$f":"IF(OR(T924=0,T924<$H$26,T924>$H$27),NA(),T924+U923)","v":{"$error":"#N/A"}},"",{"$f":"IFERROR(VLOOKUP(S924,Journal!$R:$AV,32,FALSE),\"\")","v":""},null,null,null,null,{"$f":"IFERROR(VLOOKUP(AA924, 'Daily Snapshot'!$B:$J,7,FALSE),\"\")","v":""},null,null,null,null,921,{"$f":"IFERROR(VLOOKUP(AH924,Journal!$R:$S,2,FALSE),\"\")","v":""},0,0,null,null,null,null,null,null,null,null,null,null,null,null,null,null,null,null,null,null,null,null,null,null,895,0,25025.38,{"$error":"#N/A"}]
[null,null,null,null,null,null,null,null,null,null,null,null,null,null,null,null,null,null,911,{"$f":"IFERROR(VLOOKUP(S934,Journal!$R:$AQ,26,FALSE),\"\")","v":""},{"$error":"#VALUE!"},{"$error":"#N/A"},"",{"$f":"IFERROR(VLOOKUP(S934,Journal!$R:$AV,32,FALSE),\"\")","v":""},null,null,null,null,{"$f":"IFERROR(VLOOKUP(AA934, 'Daily Snapshot'!$B:$J,7,FALSE),\"\")","v":""},null,null,null,null,931,{"$f":"IFERROR(VLOOKUP(AH934,Journal!$R:$S,2,FALSE),\"\")","v":""},0,0,null,null,null,null,null,null,null,null,null,null,null,null,null,null,null,null,null,null,null,null,null,null,905,0,25025.38,{"$error":"#N/A"}]
[null,null,null,null,null,null,null,null,null,null,null,null,null,null,null,null,null,null,919,{"$f":"IFERROR(VLOOKUP(S942,Journal!$R:$AQ,26,FALSE),\"\")","v":""},{"$error":"#VALUE!"},{"$error":"#N/A"},"",{"$f":"IFERROR(VLOOKUP(S942,Journal!$R:$AV,32,FALSE),\"\")","v":""},null,null,null,null,{"$f":"IFERROR(VLOOKUP(AA942, 'Daily Snapshot'!$B:$J,7,FALSE),\"\")","v":""},null,null,null,null,939,{"$f":"IFERROR(VLOOKUP(AH942,Journal!$R:$S,2,FALSE),\"\")","v":""},0,0,null,null,null,null,null,null,null,null,null,null,null,null,null,null,null,null,null,null,null,null,null,null,913,0,25025.38,{"$error":"#N/A"}]
[null,null,null,null,null,null,null,null,null,null,null,null,null,null,null,null,null,null,931,{"$f":"IFERROR(VLOOKUP(S954,Journal!$R:$AQ,26,FALSE),\"\")","v":""},{"$error":"#VALUE!"},{"$error":"#N/A"},"",{"$f":"IFERROR(VLOOKUP(S954,Journal!$R:$AV,32,FALSE),\"\")","v":""},null,null,null,null,{"$f":"IFERROR(VLOOKUP(AA954, 'Daily Snapshot'!$B:$J,7,FALSE),\"\")","v":""},null,null,null,null,951,{"$f":"IFERROR(VLOOKUP(AH954,Journal!$R:$S,2,FALSE),\"\")","v":""},0,0,null,null,null,null,null,null,null,null,null,null,null,null,null,null,null,null,null,null,null,null,null,null,925,0,25025.38,{"$error":"#N/A"}]
[null,null,null,null,null,null,null,null,null,null,null,null,null,null,null,null,null,null,943,{"$f":"IFERROR(VLOOKUP(S966,Journal!$R:$AQ,26,FALSE),\"\")","v":""},{"$error":"#VALUE!"},{"$error":"#N/A"},"",{"$f":"IFERROR(VLOOKUP(S966,Journal!$R:$AV,32,FALSE),\"\")","v":""},null,null,null,null,{"$f":"IFERROR(VLOOKUP(AA966, 'Daily Snapshot'!$B:$J,7,FALSE),\"\")","v":""},null,null,null,null,963,{"$f":"IFERROR(VLOOKUP(AH966,Journal!$R:$S,2,FALSE),\"\")","v":""},0,0,null,null,null,null,null,null,null,null,null,null,null,null,null,null,null,null,null,null,null,null,null,null,937,0,25025.38,{"$error":"#N/A"}]
[null,null,null,null,null,null,null,null,null,null,null,null,null,null,null,null,null,null,950,{"$f":"IFERROR(VLOOKUP(S973,Journal!$R:$AQ,26,FALSE),\"\")","v":""},{"$error":"#VALUE!"},{"$error":"#N/A"},"",{"$f":"IFERROR(VLOOKUP(S973,Journal!$R:$AV,32,FALSE),\"\")","v":""},null,null,null,null,{"$f":"IFERROR(VLOOKUP(AA973, 'Daily Snapshot'!$B:$J,7,FALSE),\"\")","v":""},null,null,null,null,970,{"$f":"IFERROR(VLOOKUP(AH973,Journal!$R:$S,2,FALSE),\"\")","v":""},0,0,null,null,null,null,null,null,null,null,null,null,null,null,null,null,null,null,null,null,null,null,null,null,944,0,25025.38,{"$error":"#N/A"}]
[null,null,null,null,null,null,null,null,null,null,null,null,null,null,null,null,null,null,952,{"$f":"IFERROR(VLOOKUP(S975,Journal!$R:$AQ,26,FALSE),\"\")","v":""},{"$error":"#VALUE!"},{"$error":"#N/A"},"",{"$f":"IFERROR(VLOOKUP(S975,Journal!$R:$AV,32,FALSE),\"\")","v":""},null,null,null,null,{"$f":"IFERROR(VLOOKUP(AA975, 'Daily Snapshot'!$B:$J,7,FALSE),\"\")","v":""},null,null,null,null,972,{"$f":"IFERROR(VLOOKUP(AH975,Journal!$R:$S,2,FALSE),\"\")","v":""},0,0,null,null,null,null,null,null,null,null,null,null,null,null,null,null,null,null,null,null,null,null,null,null,946,0,25025.38,{"$error":"#N/A"}]
[null,null,null,null,null,null,null,null,null,null,null,null,null,null,null,null,null,null,968,{"$f":"IFERROR(VLOOKUP(S991,Journal!$R:$AQ,26,FALSE),\"\")","v":""},{"$error":"#VALUE!"},{"$error":"#N/A"},"",{"$f":"IFERROR(VLOOKUP(S991,Journal!$R:$AV,32,FALSE),\"\")","v":""},null,null,null,null,{"$f":"IFERROR(VLOOKUP(AA991, 'Daily Snapshot'!$B:$J,7,FALSE),\"\")","v":""},null,null,null,null,988,{"$f":"IFERROR(VLOOKUP(AH991,Journal!$R:$S,2,FALSE),\"\")","v":""},0,0,null,null,null,null,null,null,null,null,null,null,null,null,null,null,null,null,null,null,null,null,null,null,962,0,{"$f":"BI991+BJ990","v":25025.38},{"$error":"#N/A"}]
[null,null,null,null,null,null,null,null,null,null,null,null,null,null,null,null,null,null,971,{"$f":"IFERROR(VLOOKUP(S994,Journal!$R:$AQ,26,FALSE),\"\")","v":""},{"$error":"#VALUE!"},{"$error":"#N/A"},"",{"$f":"IFERROR(VLOOKUP(S994,Journal!$R:$AV,32,FALSE),\"\")","v":""},null,null,null,null,{"$f":"IFERROR(VLOOKUP(AA994, 'Daily Snapshot'!$B:$J,7,FALSE),\"\")","v":""},null,null,null,null,991,{"$f":"IFERROR(VLOOKUP(AH994,Journal!$R:$S,2,FALSE),\"\")","v":""},0,0,null,null,null,null,null,null,null,null,null,null,null,null,null,null,null,null,null,null,null,null,null,null,965,0,25025.38,{"$f":"IF(OR(BI994=0,BI994<$H$26,BI994>$H$27),NA(),BI994+BJ993)","v":{"$error":"#N/A"}}]
[null,null,null,null,null,null,null,null,null,null,null,null,null,null,null,null,null,null,983,{"$f":"IFERROR(VLOOKUP(S1006,Journal!$R:$AQ,26,FALSE),\"\")","v":""},{"$error":"#VALUE!"},{"$error":"#N/A"},"",{"$f":"IFERROR(VLOOKUP(S1006,Journal!$R:$AV,32,FALSE),\"\")","v":""},null,null,null,null,{"$f":"IFERROR(VLOOKUP(AA1006, 'Daily Snapshot'!$B:$J,7,FALSE),\"\")","v":""},null,null,null,null,1003,{"$f":"IFERROR(VLOOKUP(AH1006,Journal!$R:$S,2,FALSE),\"\")","v":""},0,0,null,null,null,null,null,null,null,null,null,null,null,null,null,null,null,null,null,null,null,null,null,null,977,0,25025.38,{"$error":"#N/A"}]
[null,null,null,null,null,null,null,null,null,null,null,null,null,null,null,null,null,null,991,{"$f":"IFERROR(VLOOKUP(S1014,Journal!$R:$AQ,26,FALSE),\"\")","v":""},{"$error":"#VALUE!"},{"$error":"#N/A"},"",{"$f":"IFERROR(VLOOKUP(S1014,Journal!$R:$AV,32,FALSE),\"\")","v":""},null,null,null,null,{"$f":"IFERROR(VLOOKUP(AA1014, 'Daily Snapshot'!$B:$J,7,FALSE),\"\")","v":""},null,null,null,null,1011,{"$f":"IFERROR(VLOOKUP(AH1014,Journal!$R:$S,2,FALSE),\"\")","v":""},0,0,null,null,null,null,null,null,null,null,null,null,null,null,null,null,null,null,null,null,null,null,null,null,985,0,25025.38,{"$error":"#N/A"}]
[null,null,null,null,null,null,null,null,null,null,null,null,null,null,null,null,null,null,1001,{"$f":"IFERROR(VLOOKUP(S1024,Journal!$R:$AQ,26,FALSE),\"\")","v":""},{"$error":"#VALUE!"},{"$error":"#N/A"},"",{"$f":"IFERROR(VLOOKUP(S1024,Journal!$R:$AV,32,FALSE),\"\")","v":""},null,null,null,null,{"$f":"IFERROR(VLOOKUP(AA1024, 'Daily Snapshot'!$B:$J,7,FALSE),\"\")","v":""},null,null,null,null,1021,{"$f":"IFERROR(VLOOKUP(AH1024,Journal!$R:$S,2,FALSE),\"\")","v":""},0,0,null,null,null,null,null,null,null,null,null,null,null,null,null,null,null,null,null,null,null,null,null,null,995,0,25025.38,{"$error":"#N/A"}]
[null,null,null,null,null,null,null,null,null,null,null,null,null,null,null,null,null,null,1013,{"$f":"IFERROR(VLOOKUP(S1036,Journal!$R:$AQ,26,FALSE),\"\")","v":""},{"$error":"#VALUE!"},{"$error":"#N/A"},"",{"$f":"IFERROR(VLOOKUP(S1036,Journal!$R:$AV,32,FALSE),\"\")","v":""},null,null,null,null,{"$f":"IFERROR(VLOOKUP(AA1036, 'Daily Snapshot'!$B:$J,7,FALSE),\"\")","v":""},null,null,null,null,1033,{"$f":"IFERROR(VLOOKUP(AH1036,Journal!$R:$S,2,FALSE),\"\")","v":""},0,0,null,null,null,null,null,null,null,null,null,null,null,null,null,null,null,null,null,null,null,null,null,null,1007,0,25025.38,{"$error":"#N/A"}]
[null,null,null,null,null,null,null,null,null,null,null,null,null,null,null,null,null,null,1020,{"$f":"IFERROR(VLOOKUP(S1043,Journal!$R:$AQ,26,FALSE),\"\")","v":""},{"$error":"#VALUE!"},{"$error":"#N/A"},"",{"$f":"IFERROR(VLOOKUP(S1043,Journal!$R:$AV,32,FALSE),\"\")","v":""},null,null,null,null,{"$f":"IFERROR(VLOOKUP(AA1043, 'Daily Snapshot'!$B:$J,7,FALSE),\"\")","v":""},null,null,null,null,1040,{"$f":"IFERROR(VLOOKUP(AH1043,Journal!$R:$S,2,FALSE),\"\")","v":""},0,0,null,null,null,null,null,null,null,null,null,null,null,null,null,null,null,null,null,null,null,null,null,null,1014,0,25025.38,{"$error":"#N/A"}]
[null,null,null,null,null,null,null,null,null,null,null,null,null,null,null,null,null,null,1023,{"$f":"IFERROR(VLOOKUP(S1046,Journal!$R:$AQ,26,FALSE),\"\")","v":""},{"$error":"#VALUE!"},{"$error":"#N/A"},"",{"$f":"IFERROR(VLOOKUP(S1046,Journal!$R:$AV,32,FALSE),\"\")","v":""},null,null,null,null,{"$f":"IFERROR(VLOOKUP(AA1046, 'Daily Snapshot'!$B:$J,7,FALSE),\"\")","v":""},null,null,null,null,1043,{"$f":"IFERROR(VLOOKUP(AH1046,Journal!$R:$S,2,FALSE),\"\")","v":""},0,0,null,null,null,null,null,null,null,null,null,null,null,null,null,null,null,null,null,null,null,null,null,null,1017,0,25025.38,{"$error":"#N/A"}]
[null,null,null,null,null,null,null,null,null,null,null,null,null,null,null,null,null,null,1032,{"$f":"IFERROR(VLOOKUP(S1055,Journal!$R:$AQ,26,FALSE),\"\")","v":""},{"$error":"#VALUE!"},{"$error":"#N/A"},"",{"$f":"IFERROR(VLOOKUP(S1055,Journal!$R:$AV,32,FALSE),\"\")","v":""},null,null,null,null,{"$f":"IFERROR(VLOOKUP(AA1055, 'Daily Snapshot'!$B:$J,7,FALSE),\"\")","v":""},null,null,null,null,1052,{"$f":"IFERROR(VLOOKUP(AH1055,Journal!$R:$S,2,FALSE),\"\")","v":""},0,0,null,null,null,null,null,null,null,null,null,null,null,null,null,null,null,null,null,null,null,null,null,null,1026,0,{"$f":"BI1055+BJ1054","v":25025.38},{"$error":"#N/A"}]
[null,null,null,null,null,null,null,null,null,null,null,null,null,null,null,null,null,null,1041,{"$f":"IFERROR(VLOOKUP(S1064,Journal!$R:$AQ,26,FALSE),\"\")","v":""},{"$error":"#VALUE!"},{"$error":"#N/A"},"",{"$f":"IFERROR(VLOOKUP(S1064,Journal!$R:$AV,32,FALSE),\"\")","v":""},null,null,null,null,{"$f":"IFERROR(VLOOKUP(AA1064, 'Daily Snapshot'!$B:$J,7,FALSE),\"\")","v":""},null,null,null,null,1061,{"$f":"IFERROR(VLOOKUP(AH1064,Journal!$R:$S,2,FALSE),\"\")","v":""},0,0,null,null,null,null,null,null,null,null,null,null,null,null,null,null,null,null,null,null,null,null,null,null,1035,0,25025.38,{"$error":"#N/A"}]
[null,null,null,null,null,null,null,null,null,null,null,null,null,null,null,null,null,null,1053,{"$f":"IFERROR(VLOOKUP(S1076,Journal!$R:$AQ,26,FALSE),\"\")","v":""},{"$error":"#VALUE!"},{"$error":"#N/A"},"",{"$f":"IFERROR(VLOOKUP(S1076,Journal!$R:$AV,32,FALSE),\"\")","v":""},null,null,null,null,{"$f":"IFERROR(VLOOKUP(AA1076, 'Daily Snapshot'!$B:$J,7,FALSE),\"\")","v":""},null,null,null,null,1073,{"$f":"IFERROR(VLOOKUP(AH1076,Journal!$R:$S,2,FALSE),\"\")","v":""},0,0,null,null,null,null,null,null,null,null,null,null,null,null,null,null,null,null,null,null,null,null,null,null,1047,0,25025.38,{"$error":"#N/A"}]
[null,null,null,null,null,null,null,null,null,null,null,null,null,null,null,null,null,null,1060,{"$f":"IFERROR(VLOOKUP(S1083,Journal!$R:$AQ,26,FALSE),\"\")","v":""},{"$error":"#VALUE!"},{"$error":"#N/A"},"",{"$f":"IFERROR(VLOOKUP(S1083,Journal!$R:$AV,32,FALSE),\"\")","v":""},null,null,null,null,{"$f":"IFERROR(VLOOKUP(AA1083, 'Daily Snapshot'!$B:$J,7,FALSE),\"\")","v":""},null,null,null,null,1080,{"$f":"IFERROR(VLOOKUP(AH1083,Journal!$R:$S,2,FALSE),\"\")","v":""},0,0,null,null,null,null,null,null,null,null,null,null,null,null,null,null,null,null,null,null,null,null,null,null,1054,0,25025.38,{"$error":"#N/A"}]
[null,null,null,null,null,null,null,null,null,null,null,null,null,null,null,null,null,null,1072,{"$f":"IFERROR(VLOOKUP(S1095,Journal!$R:$AQ,26,FALSE),\"\")","v":""},{"$error":"#VALUE!"},{"$error":"#N/A"},"",{"$f":"IFERROR(VLOOKUP(S1095,Journal!$R:$AV,32,FALSE),\"\")","v":""},null,null,null,null,{"$f":"IFERROR(VLOOKUP(AA1095, 'Daily Snapshot'!$B:$J,7,FALSE),\"\")","v":""},null,null,null,null,1092,{"$f":"IFERROR(VLOOKUP(AH1095,Journal!$R:$S,2,FALSE),\"\")","v":""},0,0,null,null,null,null,null,null,null,null,null,null,null,null,null,null,null,null,null,null,null,null,null,null,1066,0,25025.38,{"$error":"#N/A"}]
[null,null,null,null,null,null,null,null,null,null,null,null,null,null,null,null,null,null,1081,{"$f":"IFERROR(VLOOKUP(S1104,Journal!$R:$AQ,26,FALSE),\"\")","v":""},{"$error":"#VALUE!"},{"$error":"#N/A"},"",{"$f":"IFERROR(VLOOKUP(S1104,Journal!$R:$AV,32,FALSE),\"\")","v":""},null,null,null,null,{"$f":"IFERROR(VLOOKUP(AA1104, 'Daily Snapshot'!$B:$J,7,FALSE),\"\")","v":""},null,null,null,null,1101,{"$f":"IFERROR(VLOOKUP(AH1104,Journal!$R:$S,2,FALSE),\"\")","v":""},0,0,null,null,null,null,null,null,null,null,null,null,null,null,null,null,null,null,null,null,null,null,null,null,1075,0,25025.38,{"$error":"#N/A"}]
[null,null,null,null,null,null,null,null,null,null,null,null,null,null,null,null,null,null,1090,{"$f":"IFERROR(VLOOKUP(S1113,Journal!$R:$AQ,26,FALSE),\"\")","v":""},{"$f":"T1113+U1112","v":{"$error":"#VALUE!"}},{"$error":"#N/A"},{"$f":"IFERROR(T1113/$H$25,\"\")","v":""},{"$f":"IFERROR(VLOOKUP(S1113,Journal!$R:$AV,32,FALSE),\"\")","v":""},null,null,null,null,{"$f":"IFERROR(VLOOKUP(AA1113, 'Daily Snapshot'!$B:$J,7,FALSE),\"\")","v":""},null,null,null,null,1110,{"$f":"IFERROR(VLOOKUP(AH1113,Journal!$R:$S,2,FALSE),\"\")","v":""},0,0,null,null,null,null,null,null,null,null,null,null,null,null,null,null,null,null,null,null,null,null,null,null,1084,0,25025.38,{"$error":"#N/A"}]
[null,null,null,null,null,null,null,null,null,null,null,null,null,null,null,null,null,null,1093,{"$f":"IFERROR(VLOOKUP(S1116,Journal!$R:$AQ,26,FALSE),\"\")","v":""},{"$error":"#VALUE!"},{"$f":"IF(OR(T1116=0,T1116<$H$26,T1116>$H$27),NA(),T1116+U1115)","v":{"$error":"#N/A"}},"",{"$f":"IFERROR(VLOOKUP(S1116,Journal!$R:$AV,32,FALSE),\"\")","v":""},null,null,null,null,{"$f":"IFERROR(VLOOKUP(AA1116, 'Daily Snapshot'!$B:$J,7,FALSE),\"\")","v":""},null,null,null,null,1113,{"$f":"IFERROR(VLOOKUP(AH1116,Journal!$R:$S,2,FALSE),\"\")","v":""},0,0,null,null,null,null,null,null,null,null,null,null,null,null,null,null,null,null,null,null,null,null,null,null,1087,0,25025.38,{"$error":"#N/A"}]
[null,null,null,null,null,null,null,null,null,null,null,null,null,null,null,null,null,null,1109,{"$f":"IFERROR(VLOOKUP(S1132,Journal!$R:$AQ,26,FALSE),\"\")","v":""},{"$error":"#VALUE!"},{"$error":"#N/A"},"",{"$f":"IFERROR(VLOOKUP(S1132,Journal!$R:$AV,32,FALSE),\"\")","v":""},null,null,null,null,{"$f":"IFERROR(VLOOKUP(AA1132, 'Daily Snapshot'!$B:$J,7,FALSE),\"\")","v":""},null,null,null,null,1129,{"$f":"IFERROR(VLOOKUP(AH1132,Journal!$R:$S,2,FALSE),\"\")","v":""},0,0,null,null,null,null,null,null,null,null,null,null,null,null,null,null,null,null,null,null,null,null,null,null,1103,0,25025.38,{"$error":"#N/A"}]
[null,null,null,null,null,null,null,null,null,null,null,null,null,null,null,null,null,null,1112,{"$f":"IFERROR(VLOOKUP(S1135,Journal!$R:$AQ,26,FALSE),\"\")","v":""},{"$error":"#VALUE!"},{"$error":"#N/A"},"",{"$f":"IFERROR(VLOOKUP(S1135,Journal!$R:$AV,32,FALSE),\"\")","v":""},null,null,null,null,{"$f":"IFERROR(VLOOKUP(AA1135, 'Daily Snapshot'!$B:$J,7,FALSE),\"\")","v":""},null,null,null,null,1132,{"$f":"IFERROR(VLOOKUP(AH1135,Journal!$R:$S,2,FALSE),\"\")","v":""},0,0,null,null,null,null,null,null,null,null,null,null,null,null,null,null,null,null,null,null,null,null,null,null,1106,0,25025.38,{"$error":"#N/A"}]
[null,null,null,null,null,null,null,null,null,null,null,null,null,null,null,null,null,null,1122,{"$f":"IFERROR(VLOOKUP(S1145,Journal!$R:$AQ,26,FALSE),\"\")","v":""},{"$error":"#VALUE!"},{"$error":"#N/A"},"",{"$f":"IFERROR(VLOOKUP(S1145,Journal!$R:$AV,32,FALSE),\"\")","v":""},null,null,null,null,{"$f":"IFERROR(VLOOKUP(AA1145, 'Daily Snapshot'!$B:$J,7,FALSE),\"\")","v":""},null,null,null,null,1142,{"$f":"IFERROR(VLOOKUP(AH1145,Journal!$R:$S,2,FALSE),\"\")","v":""},0,0,null,null,null,null,null,null,null,null,null,null,null,null,null,null,null,null,null,null,null,null,null,null,1116,0,25025.38,{"$error":"#N/A"}]
[null,null,null,null,null,null,null,null,null,null,null,null,null,null,null,null,null,null,1130,{"$f":"IFERROR(VLOOKUP(S1153,Journal!$R:$AQ,26,FALSE),\"\")","v":""},{"$error":"#VALUE!"},{"$error":"#N/A"},"",{"$f":"IFERROR(VLOOKUP(S1153,Journal!$R:$AV,32,FALSE),\"\")","v":""},null,null,null,null,{"$f":"IFERROR(VLOOKUP(AA1153, 'Daily Snapshot'!$B:$J,7,FALSE),\"\")","v":""},null,null,null,null,1150,{"$f":"IFERROR(VLOOKUP(AH1153,Journal!$R:$S,2,FALSE),\"\")","v":""},0,0,null,null,null,null,null,null,null,null,null,null,null,null,null,null,null,null,null,null,null,null,null,null,1124,0,25025.38,{"$error":"#N/A"}]
[null,null,null,null,null,null,null,null,null,null,null,null,null,null,null,null,null,null,1142,{"$f":"IFERROR(VLOOKUP(S1165,Journal!$R:$AQ,26,FALSE),\"\")","v":""},{"$error":"#VALUE!"},{"$error":"#N/A"},"",{"$f":"IFERROR(VLOOKUP(S1165,Journal!$R:$AV,32,FALSE),\"\")","v":""},null,null,null,null,{"$f":"IFERROR(VLOOKUP(AA1165, 'Daily Snapshot'!$B:$J,7,FALSE),\"\")","v":""},null,null,null,null,1162,{"$f":"IFERROR(VLOOKUP(AH1165,Journal!$R:$S,2,FALSE),\"\")","v":""},0,0,null,null,null,null,null,null,null,null,null,null,null,null,null,null,null,null,null,null,null,null,null,null,1136,0,25025.38,{"$error":"#N/A"}]
[null,null,null,null,null,null,null,null,null,null,null,null,null,null,null,null,null,null,1149,{"$f":"IFERROR(VLOOKUP(S1172,Journal!$R:$AQ,26,FALSE),\"\")","v":""},{"$error":"#VALUE!"},{"$error":"#N/A"},"",{"$f":"IFERROR(VLOOKUP(S1172,Journal!$R:$AV,32,FALSE),\"\")","v":""},null,null,null,null,{"$f":"IFERROR(VLOOKUP(AA1172, 'Daily Snapshot'!$B:$J,7,FALSE),\"\")","v":""},null,null,null,null,1169,{"$f":"IFERROR(VLOOKUP(AH1172,Journal!$R:$S,2,FALSE),\"\")","v":""},0,0,null,null,null,null,null,null,null,null,null,null,null,null,null,null,null,null,null,null,null,null,null,null,1143,0,25025.38,{"$error":"#N/A"}]
[null,null,null,null,null,null,null,null,null,null,null,null,null,null,null,null,null,null,1161,{"$f":"IFERROR(VLOOKUP(S1184,Journal!$R:$AQ,26,FALSE),\"\")","v":""},{"$error":"#VALUE!"},{"$error":"#N/A"},"",{"$f":"IFERROR(VLOOKUP(S1184,Journal!$R:$AV,32,FALSE),\"\")","v":""},null,null,null,null,{"$f":"IFERROR(VLOOKUP(AA1184, 'Daily Snapshot'!$B:$J,7,FALSE),\"\")","v":""},null,null,null,null,1181,{"$f":"IFERROR(VLOOKUP(AH1184,Journal!$R:$S,2,FALSE),\"\")","v":""},0,0,null,null,null,null,null,null,null,null,null,null,null,null,null,null,null,null,null,null,null,null,null,null,1155,{"$f":"N1187","v":0},25025.38,{"$error":"#N/A"}]
[null,null,null,null,null,null,null,null,null,null,null,null,null,null,null,null,null,null,1171,{"$f":"IFERROR(VLOOKUP(S1194,Journal!$R:$AQ,26,FALSE),\"\")","v":""},{"$error":"#VALUE!"},{"$error":"#N/A"},"",{"$f":"IFERROR(VLOOKUP(S1194,Journal!$R:$AV,32,FALSE),\"\")","v":""},null,null,null,null,{"$f":"IFERROR(VLOOKUP(AA1194, 'Daily Snapshot'!$B:$J,7,FALSE),\"\")","v":""},null,null,null,null,1191,{"$f":"IFERROR(VLOOKUP(AH1194,Journal!$R:$S,2,FALSE),\"\")","v":""},0,0,null,null,null,null,null,null,null,null,null,null,null,null,null,null,null,null,null,null,null,null,null,null,1165,0,25025.38,{"$error":"#N/A"}]
[null,null,null,null,null,null,null,null,null,null,null,null,null,null,null,null,null,null,1179,{"$f":"IFERROR(VLOOKUP(S1202,Journal!$R:$AQ,26,FALSE),\"\")","v":""},{"$error":"#VALUE!"},{"$error":"#N/A"},"",{"$f":"IFERROR(VLOOKUP(S1202,Journal!$R:$AV,32,FALSE),\"\")","v":""},null,null,null,null,{"$f":"IFERROR(VLOOKUP(AA1202, 'Daily Snapshot'!$B:$J,7,FALSE),\"\")","v":""},null,null,null,null,1199,{"$f":"IFERROR(VLOOKUP(AH1202,Journal!$R:$S,2,FALSE),\"\")","v":""},0,0,null,null,null,null,null,null,null,null,null,null,null,null,null,null,null,null,null,null,null,null,null,null,1173,0,25025.38,{"$error":"#N/A"}]
[null,null,null,null,null,null,null,null,null,null,null,null,null,null,null,null,null,null,1182,{"$f":"IFERROR(VLOOKUP(S1205,Journal!$R:$AQ,26,FALSE),\"\")","v":""},{"$error":"#VALUE!"},{"$error":"#N/A"},"",{"$f":"IFERROR(VLOOKUP(S1205,Journal!$R:$AV,32,FALSE),\"\")","v":""},null,null,null,null,{"$f":"IFERROR(VLOOKUP(AA1205, 'Daily Snapshot'!$B:$J,7,FALSE),\"\")","v":""},null,null,null,null,1202,{"$f":"IFERROR(VLOOKUP(AH1205,Journal!$R:$S,2,FALSE),\"\")","v":""},0,0,null,null,null,null,null,null,null,null,null,null,null,null,null,null,null,null,null,null,null,null,null,null,1176,0,25025.38,{"$error":"#N/A"}]
[null,null,null,null,null,null,null,null,null,null,null,null,null,null,null,null,null,null,1194,{"$f":"IFERROR(VLOOKUP(S1217,Journal!$R:$AQ,26,FALSE),\"\")","v":""},{"$error":"#VALUE!"},{"$error":"#N/A"},"",{"$f":"IFERROR(VLOOKUP(S1217,Journal!$R:$AV,32,FALSE),\"\")","v":""},null,null,null,null,{"$f":"IFERROR(VLOOKUP(AA1217, 'Daily Snapshot'!$B:$J,7,FALSE),\"\")","v":""},null,null,null,null,1214,{"$f":"IFERROR(VLOOKUP(AH1217,Journal!$R:$S,2,FALSE),\"\")","v":""},0,0,null,null,null,null,null,null,null,null,null,null,null,null,null,null,null,null,null,null,null,null,null,null,1188,0,25025.38,{"$error":"#N/A"}]
[null,null,null,null,null,null,null,null,null,null,null,null,null,null,null,null,null,null,1201,{"$f":"IFERROR(VLOOKUP(S1224,Journal!$R:$AQ,26,FALSE),\"\")","v":""},{"$error":"#VALUE!"},{"$error":"#N/A"},"",{"$f":"IFERROR(VLOOKUP(S1224,Journal!$R:$AV,32,FALSE),\"\")","v":""},null,null,null,null,{"$f":"IFERROR(VLOOKUP(AA1224, 'Daily Snapshot'!$B:$J,7,FALSE),\"\")","v":""},null,null,null,null,1221,{"$f":"IFERROR(VLOOKUP(AH1224,Journal!$R:$S,2,FALSE),\"\")","v":""},0,0,null,null,null,null,null,null,null,null,null,null,null,null,null,null,null,null,null,null,null,null,null,null,1195,0,25025.38,{"$error":"#N/A"}]
[null,null,null,null,null,null,null,null,null,null,null,null,null,null,null,null,null,null,1212,{"$f":"IFERROR(VLOOKUP(S1235,Journal!$R:$AQ,26,FALSE),\"\")","v":""},{"$error":"#VALUE!"},{"$error":"#N/A"},"",{"$f":"IFERROR(VLOOKUP(S1235,Journal!$R:$AV,32,FALSE),\"\")","v":""},null,null,null,null,{"$f":"IFERROR(VLOOKUP(AA1235, 'Daily Snapshot'!$B:$J,7,FALSE),\"\")","v":""},null,null,null,null,1232,{"$f":"IFERROR(VLOOKUP(AH1235,Journal!$R:$S,2,FALSE),\"\")","v":""},0,0,null,null,null,null,null,null,null,null,null,null,null,null,null,null,null,null,null,null,null,null,null,null,1206,0,25025.38,{"$error":"#N/A"}]
[null,null,null,null,null,null,null,null,null,null,null,null,null,null,null,null,null,null,1219,{"$f":"IFERROR(VLOOKUP(S1242,Journal!$R:$AQ,26,FALSE),\"\")","v":""},{"$error":"#VALUE!"},{"$error":"#N/A"},"",{"$f":"IFERROR(VLOOKUP(S1242,Journal!$R:$AV,32,FALSE),\"\")","v":""},null,null,null,null,{"$f":"IFERROR(VLOOKUP(AA1242, 'Daily Snapshot'!$B:$J,7,FALSE),\"\")","v":""},null,null,null,null,1239,{"$f":"IFERROR(VLOOKUP(AH1242,Journal!$R:$S,2,FALSE),\"\")","v":""},0,0,null,null,null,null,null,null,null,null,null,null,null,null,null,null,null,null,null,null,null,null,null,null,1213,0,25025.38,{"$error":"#N/A"}]
[null,null,null,null,null,null,null,null,null,null,null,null,null,null,null,null,null,null,1231,{"$f":"IFERROR(VLOOKUP(S1254,Journal!$R:$AQ,26,FALSE),\"\")","v":""},{"$error":"#VALUE!"},{"$error":"#N/A"},"",{"$f":"IFERROR(VLOOKUP(S1254,Journal!$R:$AV,32,FALSE),\"\")","v":""},null,null,null,null,{"$f":"IFERROR(VLOOKUP(AA1254, 'Daily Snapshot'!$B:$J,7,FALSE),\"\")","v":""},null,null,null,null,1251,{"$f":"IFERROR(VLOOKUP(AH1254,Journal!$R:$S,2,FALSE),\"\")","v":""},0,0,null,null,null,null,null,null,null,null,null,null,null,null,null,null,null,null,null,null,null,null,null,null,1225,0,25025.38,{"$error":"#N/A"}]
[null,null,null,null,null,null,null,null,null,null,null,null,null,null,null,null,null,null,1234,{"$f":"IFERROR(VLOOKUP(S1257,Journal!$R:$AQ,26,FALSE),\"\")","v":""},{"$error":"#VALUE!"},{"$error":"#N/A"},"",{"$f":"IFERROR(VLOOKUP(S1257,Journal!$R:$AV,32,FALSE),\"\")","v":""},null,null,null,null,{"$f":"IFERROR(VLOOKUP(AA1257, 'Daily Snapshot'!$B:$J,7,FALSE),\"\")","v":""},null,null,null,null,1254,{"$f":"IFERROR(VLOOKUP(AH1257,Journal!$R:$S,2,FALSE),\"\")","v":""},0,0,null,null,null,null,null,null,null,null,null,null,null,null,null,null,null,null,null,null,null,null,null,null,1228,0,25025.38,{"$error":"#N/A"}]
[null,null,null,null,null,null,null,null,null,null,null,null,null,null,null,null,null,null,1250,{"$f":"IFERROR(VLOOKUP(S1273,Journal!$R:$AQ,26,FALSE),\"\")","v":""},{"$error":"#VALUE!"},{"$error":"#N/A"},"",{"$f":"IFERROR(VLOOKUP(S1273,Journal!$R:$AV,32,FALSE),\"\")","v":""},null,null,null,null,{"$f":"IFERROR(VLOOKUP(AA1273, 'Daily Snapshot'!$B:$J,7,FALSE),\"\")","v":""},null,null,null,null,1270,{"$f":"IFERROR(VLOOKUP(AH1273,Journal!$R:$S,2,FALSE),\"\")","v":""},0,0,null,null,null,null,null,null,null,null,null,null,null,null,null,null,null,null,null,null,null,null,null,null,1244,0,25025.38,{"$error":"#N/A"}]
[null,null,null,null,null,null,null,null,null,null,null,null,null,null,null,null,null,null,1253,{"$f":"IFERROR(VLOOKUP(S1276,Journal!$R:$AQ,26,FALSE),\"\")","v":""},{"$error":"#VALUE!"},{"$error":"#N/A"},"",{"$f":"IFERROR(VLOOKUP(S1276,Journal!$R:$AV,32,FALSE),\"\")","v":""},null,null,null,null,{"$f":"IFERROR(VLOOKUP(AA1276, 'Daily Snapshot'!$B:$J,7,FALSE),\"\")","v":""},null,null,null,null,1273,{"$f":"IFERROR(VLOOKUP(AH1276,Journal!$R:$S,2,FALSE),\"\")","v":""},0,0,null,null,null,null,null,null,null,null,null,null,null,null,null,null,null,null,null,null,null,null,null,null,1247,0,25025.38,{"$error":"#N/A"}]
[null,null,null,null,null,null,null,null,null,null,null,null,null,null,null,null,null,null,1264,{"$f":"IFERROR(VLOOKUP(S1287,Journal!$R:$AQ,26,FALSE),\"\")","v":""},{"$error":"#VALUE!"},{"$error":"#N/A"},"",{"$f":"IFERROR(VLOOKUP(S1287,Journal!$R:$AV,32,FALSE),\"\")","v":""},null,null,null,null,{"$f":"IFERROR(VLOOKUP(AA1287, 'Daily Snapshot'!$B:$J,7,FALSE),\"\")","v":""},null,null,null,null,1284,{"$f":"IFERROR(VLOOKUP(AH1287,Journal!$R:$S,2,FALSE),\"\")","v":""},0,0,null,null,null,null,null,null,null,null,null,null,null,null,null,null,null,null,null,null,null,null,null,null,1258,0,25025.38,{"$error":"#N/A"}]
[null,null,null,null,null,null,null,null,null,null,null,null,null,null,null,null,null,null,1271,{"$f":"IFERROR(VLOOKUP(S1294,Journal!$R:$AQ,26,FALSE),\"\")","v":""},{"$error":"#VALUE!"},{"$error":"#N/A"},"",{"$f":"IFERROR(VLOOKUP(S1294,Journal!$R:$AV,32,FALSE),\"\")","v":""},null,null,null,null,{"$f":"IFERROR(VLOOKUP(AA1294, 'Daily Snapshot'!$B:$J,7,FALSE),\"\")","v":""},null,null,null,null,1291,{"$f":"IFERROR(VLOOKUP(AH1294,Journal!$R:$S,2,FALSE),\"\")","v":""},0,0,null,null,null,null,null,null,null,null,null,null,null,null,null,null,null,null,null,null,null,null,null,null,1265,0,25025.38,{"$error":"#N/A"}]
[null,null,null,null,null,null,null,null,null,null,null,null,null,null,null,null,null,null,1283,{"$f":"IFERROR(VLOOKUP(S1306,Journal!$R:$AQ,26,FALSE),\"\")","v":""},{"$error":"#VALUE!"},{"$error":"#N/A"},"",{"$f":"IFERROR(VLOOKUP(S1306,Journal!$R:$AV,32,FALSE),\"\")","v":""},null,null,null,null,{"$f":"IFERROR(VLOOKUP(AA1306, 'Daily Snapshot'!$B:$J,7,FALSE),\"\")","v":""},null,null,null,null,1303,{"$f":"IFERROR(VLOOKUP(AH1306,Journal!$R:$S,2,FALSE),\"\")","v":""},0,0,null,null,null,null,null,null,null,null,null,null,null,null,null,null,null,null,null,null,null,null,null,null,1277,0,25025.38,{"$error":"#N/A"}]
[null,null,null,null,null,null,null,null,null,null,null,null,null,null,null,null,null,null,1290,{"$f":"IFERROR(VLOOKUP(S1313,Journal!$R:$AQ,26,FALSE),\"\")","v":""},{"$error":"#VALUE!"},{"$error":"#N/A"},"",{"$f":"IFERROR(VLOOKUP(S1313,Journal!$R:$AV,32,FALSE),\"\")","v":""},null,null,null,null,{"$f":"IFERROR(VLOOKUP(AA1313, 'Daily Snapshot'!$B:$J,7,FALSE),\"\")","v":""},null,null,null,null,1310,{"$f":"IFERROR(VLOOKUP(AH1313,Journal!$R:$S,2,FALSE),\"\")","v":""},0,0,null,null,null,null,null,null,null,null,null,null,null,null,null,null,null,null,null,null,null,null,null,null,1284,0,25025.38,{"$error":"#N/A"}]
[null,null,null,null,null,null,null,null,null,null,null,null,null,null,null,null,null,null,1302,{"$f":"IFERROR(VLOOKUP(S1325,Journal!$R:$AQ,26,FALSE),\"\")","v":""},{"$error":"#VALUE!"},{"$error":"#N/A"},"",{"$f":"IFERROR(VLOOKUP(S1325,Journal!$R:$AV,32,FALSE),\"\")","v":""},null,null,null,null,{"$f":"IFERROR(VLOOKUP(AA1325, 'Daily Snapshot'!$B:$J,7,FALSE),\"\")","v":""},null,null,null,null,1322,{"$f":"IFERROR(VLOOKUP(AH1325,Journal!$R:$S,2,FALSE),\"\")","v":""},0,0,null,null,null,null,null,null,null,null,null,null,null,null,null,null,null,null,null,null,null,null,null,null,1296,0,25025.38,{"$error":"#N/A"}]
[null,null,null,null,null,null,null,null,null,null,null,null,null,null,null,null,null,null,1304,{"$f":"IFERROR(VLOOKUP(S1327,Journal!$R:$AQ,26,FALSE),\"\")","v":""},{"$error":"#VALUE!"},{"$error":"#N/A"},"",{"$f":"IFERROR(VLOOKUP(S1327,Journal!$R:$AV,32,FALSE),\"\")","v":""},null,null,null,null,{"$f":"IFERROR(VLOOKUP(AA1327, 'Daily Snapshot'!$B:$J,7,FALSE),\"\")","v":""},null,null,null,null,1324,{"$f":"IFERROR(VLOOKUP(AH1327,Journal!$R:$S,2,FALSE),\"\")","v":""},0,0,null,null,null,null,null,null,null,null,null,null,null,null,null,null,null,null,null,null,null,null,null,null,1298,0,25025.38,{"$error":"#N/A"}]
[null,null,null,null,null,null,null,null,null,null,null,null,null,null,null,null,null,null,1320,{"$f":"IFERROR(VLOOKUP(S1343,Journal!$R:$AQ,26,FALSE),\"\")","v":""},{"$error":"#VALUE!"},{"$error":"#N/A"},"",{"$f":"IFERROR(VLOOKUP(S1343,Journal!$R:$AV,32,FALSE),\"\")","v":""},null,null,null,null,{"$f":"IFERROR(VLOOKUP(AA1343, 'Daily Snapshot'!$B:$J,7,FALSE),\"\")","v":""},null,null,null,null,1340,{"$f":"IFERROR(VLOOKUP(AH1343,Journal!$R:$S,2,FALSE),\"\")","v":""},0,0,null,null,null,null,null,null,null,null,null,null,null,null,null,null,null,null,null,null,null,null,null,null,1314,0,25025.38,{"$error":"#N/A"}]
[null,null,null,null,null,null,null,null,null,null,null,null,null,null,null,null,null,null,1323,{"$f":"IFERROR(VLOOKUP(S1346,Journal!$R:$AQ,26,FALSE),\"\")","v":""},{"$error":"#VALUE!"},{"$error":"#N/A"},"",{"$f":"IFERROR(VLOOKUP(S1346,Journal!$R:$AV,32,FALSE),\"\")","v":""},null,null,null,null,{"$f":"IFERROR(VLOOKUP(AA1346, 'Daily Snapshot'!$B:$J,7,FALSE),\"\")","v":""},null,null,null,null,1343,{"$f":"IFERROR(VLOOKUP(AH1346,Journal!$R:$S,2,FALSE),\"\")","v":""},0,0,null,null,null,null,null,null,null,null,null,null,null,null,null,null,null,null,null,null,null,null,null,null,1317,0,25025.38,{"$error":"#N/A"}]
[null,null,null,null,null,null,null,null,null,null,null,null,null,null,null,null,null,null,1339,{"$f":"IFERROR(VLOOKUP(S1362,Journal!$R:$AQ,26,FALSE),\"\")","v":""},{"$error":"#VALUE!"},{"$error":"#N/A"},"",{"$f":"IFERROR(VLOOKUP(S1362,Journal!$R:$AV,32,FALSE),\"\")","v":""},null,null,null,null,{"$f":"IFERROR(VLOOKUP(AA1362, 'Daily Snapshot'!$B:$J,7,FALSE),\"\")","v":""},null,null,null,null,1359,{"$f":"IFERROR(VLOOKUP(AH1362,Journal!$R:$S,2,FALSE),\"\")","v":""},0,0,null,null,null,null,null,null,null,null,null,null,null,null,null,null,null,null,null,null,null,null,null,null,1333,0,25025.38,{"$error":"#N/A"}]
[null,null,null,null,null,null,null,null,null,null,null,null,null,null,null,null,null,null,1343,{"$f":"IFERROR(VLOOKUP(S1366,Journal!$R:$AQ,26,FALSE),\"\")","v":""},{"$error":"#VALUE!"},{"$error":"#N/A"},"",{"$f":"IFERROR(VLOOKUP(S1366,Journal!$R:$AV,32,FALSE),\"\")","v":""},null,null,null,null,{"$f":"IFERROR(VLOOKUP(AA1366, 'Daily Snapshot'!$B:$J,7,FALSE),\"\")","v":""},null,null,null,null,1363,{"$f":"IFERROR(VLOOKUP(AH1366,Journal!$R:$S,2,FALSE),\"\")","v":""},0,0,null,null,null,null,null,null,null,null,null,null,null,null,null,null,null,null,null,null,null,null,null,null,1337,0,25025.38,{"$error":"#N/A"}]
[null,null,null,null,null,null,null,null,null,null,null,null,null,null,null,null,null,null,1353,{"$f":"IFERROR(VLOOKUP(S1376,Journal!$R:$AQ,26,FALSE),\"\")","v":""},{"$error":"#VALUE!"},{"$error":"#N/A"},"",{"$f":"IFERROR(VLOOKUP(S1376,Journal!$R:$AV,32,FALSE),\"\")","v":""},null,null,null,null,{"$f":"IFERROR(VLOOKUP(AA1376, 'Daily Snapshot'!$B:$J,7,FALSE),\"\")","v":""},null,null,null,null,1373,{"$f":"IFERROR(VLOOKUP(AH1376,Journal!$R:$S,2,FALSE),\"\")","v":""},0,0,null,null,null,null,null,null,null,null,null,null,null,null,null,null,null,null,null,null,null,null,null,null,1347,{"$f":"N1379","v":0},25025.38,{"$error":"#N/A"}]
[null,null,null,null,null,null,null,null,null,null,null,null,null,null,null,null,null,null,1360,{"$f":"IFERROR(VLOOKUP(S1383,Journal!$R:$AQ,26,FALSE),\"\")","v":""},{"$error":"#VALUE!"},{"$error":"#N/A"},"",{"$f":"IFERROR(VLOOKUP(S1383,Journal!$R:$AV,32,FALSE),\"\")","v":""},null,null,null,null,{"$f":"IFERROR(VLOOKUP(AA1383, 'Daily Snapshot'!$B:$J,7,FALSE),\"\")","v":""},null,null,null,null,1380,{"$f":"IFERROR(VLOOKUP(AH1383,Journal!$R:$S,2,FALSE),\"\")","v":""},0,0,null,null,null,null,null,null,null,null,null,null,null,null,null,null,null,null,null,null,null,null,null,null,1354,0,25025.38,{"$error":"#N/A"}]
[null,null,null,null,null,null,null,null,null,null,null,null,null,null,null,null,null,null,1372,{"$f":"IFERROR(VLOOKUP(S1395,Journal!$R:$AQ,26,FALSE),\"\")","v":""},{"$error":"#VALUE!"},{"$error":"#N/A"},"",{"$f":"IFERROR(VLOOKUP(S1395,Journal!$R:$AV,32,FALSE),\"\")","v":""},null,null,null,null,{"$f":"IFERROR(VLOOKUP(AA1395, 'Daily Snapshot'!$B:$J,7,FALSE),\"\")","v":""},null,null,null,null,1392,{"$f":"IFERROR(VLOOKUP(AH1395,Journal!$R:$S,2,FALSE),\"\")","v":""},0,0,null,null,null,null,null,null,null,null,null,null,null,null,null,null,null,null,null,null,null,null,null,null,1366,0,25025.38,{"$error":"#N/A"}]
[null,null,null,null,null,null,null,null,null,null,null,null,null,null,null,null,null,null,1382,{"$f":"IFERROR(VLOOKUP(S1405,Journal!$R:$AQ,26,FALSE),\"\")","v":""},{"$error":"#VALUE!"},{"$error":"#N/A"},"",{"$f":"IFERROR(VLOOKUP(S1405,Journal!$R:$AV,32,FALSE),\"\")","v":""},null,null,null,null,{"$f":"IFERROR(VLOOKUP(AA1405, 'Daily Snapshot'!$B:$J,7,FALSE),\"\")","v":""},null,null,null,null,1402,{"$f":"IFERROR(VLOOKUP(AH1405,Journal!$R:$S,2,FALSE),\"\")","v":""},0,0,null,null,null,null,null,null,null,null,null,null,null,null,null,null,null,null,null,null,null,null,null,null,1376,0,25025.38,{"$error":"#N/A"}]
[null,null,null,null,null,null,null,null,null,null,null,null,null,null,null,null,null,null,1390,{"$f":"IFERROR(VLOOKUP(S1413,Journal!$R:$AQ,26,FALSE),\"\")","v":""},{"$error":"#VALUE!"},{"$error":"#N/A"},"",{"$f":"IFERROR(VLOOKUP(S1413,Journal!$R:$AV,32,FALSE),\"\")","v":""},null,null,null,null,{"$f":"IFERROR(VLOOKUP(AA1413, 'Daily Snapshot'!$B:$J,7,FALSE),\"\")","v":""},null,null,null,null,1410,{"$f":"IFERROR(VLOOKUP(AH1413,Journal!$R:$S,2,FALSE),\"\")","v":""},0,0,null,null,null,null,null,null,null,null,null,null,null,null,null,null,null,null,null,null,null,null,null,null,1384,0,25025.38,{"$error":"#N/A"}]
[null,null,null,null,null,null,null,null,null,null,null,null,null,null,null,null,null,null,1393,{"$f":"IFERROR(VLOOKUP(S1416,Journal!$R:$AQ,26,FALSE),\"\")","v":""},{"$error":"#VALUE!"},{"$error":"#N/A"},"",{"$f":"IFERROR(VLOOKUP(S1416,Journal!$R:$AV,32,FALSE),\"\")","v":""},null,null,null,null,{"$f":"IFERROR(VLOOKUP(AA1416, 'Daily Snapshot'!$B:$J,7,FALSE),\"\")","v":""},null,null,null,null,1413,{"$f":"IFERROR(VLOOKUP(AH1416,Journal!$R:$S,2,FALSE),\"\")","v":""},0,0,null,null,null,null,null,null,null,null,null,null,null,null,null,null,null,null,null,null,null,null,null,null,1387,0,25025.38,{"$error":"#N/A"}]
[null,null,null,null,null,null,null,null,null,null,null,null,null,null,null,null,null,null,1409,{"$f":"IFERROR(VLOOKUP(S1432,Journal!$R:$AQ,26,FALSE),\"\")","v":""},{"$error":"#VALUE!"},{"$error":"#N/A"},"",{"$f":"IFERROR(VLOOKUP(S1432,Journal!$R:$AV,32,FALSE),\"\")","v":""},null,null,null,null,{"$f":"IFERROR(VLOOKUP(AA1432, 'Daily Snapshot'!$B:$J,7,FALSE),\"\")","v":""},null,null,null,null,1429,{"$f":"IFERROR(VLOOKUP(AH1432,Journal!$R:$S,2,FALSE),\"\")","v":""},0,0,null,null,null,null,null,null,null,null,null,null,null,null,null,null,null,null,null,null,null,null,null,null,1403,0,25025.38,{"$error":"#N/A"}]
[null,null,null,null,null,null,null,null,null,null,null,null,null,null,null,null,null,null,1412,{"$f":"IFERROR(VLOOKUP(S1435,Journal!$R:$AQ,26,FALSE),\"\")","v":""},{"$error":"#VALUE!"},{"$error":"#N/A"},"",{"$f":"IFERROR(VLOOKUP(S1435,Journal!$R:$AV,32,FALSE),\"\")","v":""},null,null,null,null,{"$f":"IFERROR(VLOOKUP(AA1435, 'Daily Snapshot'!$B:$J,7,FALSE),\"\")","v":""},null,null,null,null,1432,{"$f":"IFERROR(VLOOKUP(AH1435,Journal!$R:$S,2,FALSE),\"\")","v":""},0,0,null,null,null,null,null,null,null,null,null,null,null,null,null,null,null,null,null,null,null,null,null,null,1406,0,25025.38,{"$error":"#N/A"}]
[null,null,null,null,null,null,null,null,null,null,null,null,null,null,null,null,null,null,1423,{"$f":"IFERROR(VLOOKUP(S1446,Journal!$R:$AQ,26,FALSE),\"\")","v":""},{"$error":"#VALUE!"},{"$error":"#N/A"},"",{"$f":"IFERROR(VLOOKUP(S1446,Journal!$R:$AV,32,FALSE),\"\")","v":""},null,null,null,null,{"$f":"IFERROR(VLOOKUP(AA1446, 'Daily Snapshot'!$B:$J,7,FALSE),\"\")","v":""},null,null,null,null,1443,{"$f":"IFERROR(VLOOKUP(AH1446,Journal!$R:$S,2,FALSE),\"\")","v":""},0,0,null,null,null,null,null,null,null,null,null,null,null,null,null,null,null,null,null,null,null,null,null,null,1417,0,25025.38,{"$error":"#N/A"}]
[null,null,null,null,null,null,null,null,null,null,null,null,null,null,null,null,null,null,1430,{"$f":"IFERROR(VLOOKUP(S1453,Journal!$R:$AQ,26,FALSE),\"\")","v":""},{"$error":"#VALUE!"},{"$error":"#N/A"},"",{"$f":"IFERROR(VLOOKUP(S1453,Journal!$R:$AV,32,FALSE),\"\")","v":""},null,null,null,null,{"$f":"IFERROR(VLOOKUP(AA1453, 'Daily Snapshot'!$B:$J,7,FALSE),\"\")","v":""},null,null,null,null,1450,{"$f":"IFERROR(VLOOKUP(AH1453,Journal!$R:$S,2,FALSE),\"\")","v":""},0,0,null,null,null,null,null,null,null,null,null,null,null,null,null,null,null,null,null,null,null,null,null,null,1424,0,25025.38,{"$error":"#N/A"}]
[null,null,null,null,null,null,null,null,null,null,null,null,null,null,null,null,null,null,1442,{"$f":"IFERROR(VLOOKUP(S1465,Journal!$R:$AQ,26,FALSE),\"\")","v":""},{"$error":"#VALUE!"},{"$error":"#N/A"},"",{"$f":"IFERROR(VLOOKUP(S1465,Journal!$R:$AV,32,FALSE),\"\")","v":""},null,null,null,null,{"$f":"IFERROR(VLOOKUP(AA1465, 'Daily Snapshot'!$B:$J,7,FALSE),\"\")","v":""},null,null,null,null,1462,{"$f":"IFERROR(VLOOKUP(AH1465,Journal!$R:$S,2,FALSE),\"\")","v":""},0,0,null,null,null,null,null,null,null,null,null,null,null,null,null,null,null,null,null,null,null,null,null,null,1436,0,25025.38,{"$error":"#N/A"}]
[null,null,null,null,null,null,null,null,null,null,null,null,null,null,null,null,null,null,1449,{"$f":"IFERROR(VLOOKUP(S1472,Journal!$R:$AQ,26,FALSE),\"\")","v":""},{"$error":"#VALUE!"},{"$error":"#N/A"},"",{"$f":"IFERROR(VLOOKUP(S1472,Journal!$R:$AV,32,FALSE),\"\")","v":""},null,null,null,null,{"$f":"IFERROR(VLOOKUP(AA1472, 'Daily Snapshot'!$B:$J,7,FALSE),\"\")","v":""},null,null,null,null,1469,{"$f":"IFERROR(VLOOKUP(AH1472,Journal!$R:$S,2,FALSE),\"\")","v":""},0,0,null,null,null,null,null,null,null,null,null,null,null,null,null,null,null,null,null,null,null,null,null,null,1443,0,25025.38,{"$error":"#N/A"}]
[null,null,null,null,null,null,null,null,null,null,null,null,null,null,null,null,null,null,1461,{"$f":"IFERROR(VLOOKUP(S1484,Journal!$R:$AQ,26,FALSE),\"\")","v":""},{"$error":"#VALUE!"},{"$error":"#N/A"},"",{"$f":"IFERROR(VLOOKUP(S1484,Journal!$R:$AV,32,FALSE),\"\")","v":""},null,null,null,null,{"$f":"IFERROR(VLOOKUP(AA1484, 'Daily Snapshot'!$B:$J,7,FALSE),\"\")","v":""},null,null,null,null,1481,{"$f":"IFERROR(VLOOKUP(AH1484,Journal!$R:$S,2,FALSE),\"\")","v":""},0,0,null,null,null,null,null,null,null,null,null,null,null,null,null,null,null,null,null,null,null,null,null,null,1455,0,25025.38,{"$error":"#N/A"}]
[null,null,null,null,null,null,null,null,null,null,null,null,null,null,null,null,null,null,1464,{"$f":"IFERROR(VLOOKUP(S1487,Journal!$R:$AQ,26,FALSE),\"\")","v":""},{"$error":"#VALUE!"},{"$error":"#N/A"},"",{"$f":"IFERROR(VLOOKUP(S1487,Journal!$R:$AV,32,FALSE),\"\")","v":""},null,null,null,null,{"$f":"IFERROR(VLOOKUP(AA1487, 'Daily Snapshot'!$B:$J,7,FALSE),\"\")","v":""},null,null,null,null,1484,{"$f":"IFERROR(VLOOKUP(AH1487,Journal!$R:$S,2,FALSE),\"\")","v":""},0,0,null,null,null,null,null,null,null,null,null,null,null,null,null,null,null,null,null,null,null,null,null,null,1458,0,25025.38,{"$error":"#N/A"}]
[null,null,null,null,null,null,null,null,null,null,null,null,null,null,null,null,null,null,1479,{"$f":"IFERROR(VLOOKUP(S1502,Journal!$R:$AQ,26,FALSE),\"\")","v":""},{"$error":"#VALUE!"},{"$error":"#N/A"},"",{"$f":"IFERROR(VLOOKUP(S1502,Journal!$R:$AV,32,FALSE),\"\")","v":""},null,null,null,null,{"$f":"IFERROR(VLOOKUP(AA1502, 'Daily Snapshot'!$B:$J,7,FALSE),\"\")","v":""},null,null,null,null,1499,{"$f":"IFERROR(VLOOKUP(AH1502,Journal!$R:$S,2,FALSE),\"\")","v":""},0,0,null,null,null,null,null,null,null,null,null,null,null,null,null,null,null,null,null,null,null,null,null,null,1473,0,25025.38,{"$error":"#N/A"}]
[null,null,null,null,null,null,null,null,null,null,null,null,null,null,null,null,null,null,1482,{"$f":"IFERROR(VLOOKUP(S1505,Journal!$R:$AQ,26,FALSE),\"\")","v":""},{"$error":"#VALUE!"},{"$error":"#N/A"},"",{"$f":"IFERROR(VLOOKUP(S1505,Journal!$R:$AV,32,FALSE),\"\")","v":""},null,null,null,null,{"$f":"IFERROR(VLOOKUP(AA1505, 'Daily Snapshot'!$B:$J,7,FALSE),\"\")","v":""},null,null,null,null,1502,{"$f":"IFERROR(VLOOKUP(AH1505,Journal!$R:$S,2,FALSE),\"\")","v":""},0,0,null,null,null,null,null,null,null,null,null,null,null,null,null,null,null,null,null,null,null,null,null,null,1476,0,25025.38,{"$error":"#N/A"}]
[null,null,null,null,null,null,null,null,null,null,null,null,null,null,null,null,null,null,1494,{"$f":"IFERROR(VLOOKUP(S1517,Journal!$R:$AQ,26,FALSE),\"\")","v":""},{"$error":"#VALUE!"},{"$error":"#N/A"},"",{"$f":"IFERROR(VLOOKUP(S1517,Journal!$R:$AV,32,FALSE),\"\")","v":""},null,null,null,null,{"$f":"IFERROR(VLOOKUP(AA1517, 'Daily Snapshot'!$B:$J,7,FALSE),\"\")","v":""},null,null,null,null,1514,{"$f":"IFERROR(VLOOKUP(AH1517,Journal!$R:$S,2,FALSE),\"\")","v":""},0,0,null,null,null,null,null,null,null,null,null,null,null,null,null,null,null,null,null,null,null,null,null,null,1488,0,25025.38,{"$error":"#N/A"}]
[null,null,null,null,null,null,null,null,null,null,null,null,null,null,null,null,null,null,1501,{"$f":"IFERROR(VLOOKUP(S1524,Journal!$R:$AQ,26,FALSE),\"\")","v":""},{"$error":"#VALUE!"},{"$error":"#N/A"},"",{"$f":"IFERROR(VLOOKUP(S1524,Journal!$R:$AV,32,FALSE),\"\")","v":""},null,null,null,null,{"$f":"IFERROR(VLOOKUP(AA1524, 'Daily Snapshot'!$B:$J,7,FALSE),\"\")","v":""},null,null,null,null,1521,{"$f":"IFERROR(VLOOKUP(AH1524,Journal!$R:$S,2,FALSE),\"\")","v":""},0,0,null,null,null,null,null,null,null,null,null,null,null,null,null,null,null,null,null,null,null,null,null,null,1495,0,25025.38,{"$error":"#N/A"}]
[null,null,null,null,null,null,null,null,null,null,null,null,null,null,null,null,null,null,1513,{"$f":"IFERROR(VLOOKUP(S1536,Journal!$R:$AQ,26,FALSE),\"\")","v":""},{"$error":"#VALUE!"},{"$error":"#N/A"},"",{"$f":"IFERROR(VLOOKUP(S1536,Journal!$R:$AV,32,FALSE),\"\")","v":""},null,null,null,null,{"$f":"IFERROR(VLOOKUP(AA1536, 'Daily Snapshot'!$B:$J,7,FALSE),\"\")","v":""},null,null,null,null,1533,{"$f":"IFERROR(VLOOKUP(AH1536,Journal!$R:$S,2,FALSE),\"\")","v":""},0,0,null,null,null,null,null,null,null,null,null,null,null,null,null,null,null,null,null,null,null,null,null,null,1507,0,25025.38,{"$error":"#N/A"}]
[null,null,null,null,null,null,null,null,null,null,null,null,null,null,null,null,null,null,1519,{"$f":"IFERROR(VLOOKUP(S1542,Journal!$R:$AQ,26,FALSE),\"\")","v":""},{"$error":"#VALUE!"},{"$error":"#N/A"},"",{"$f":"IFERROR(VLOOKUP(S1542,Journal!$R:$AV,32,FALSE),\"\")","v":""},null,null,null,null,{"$f":"IFERROR(VLOOKUP(AA1542, 'Daily Snapshot'!$B:$J,7,FALSE),\"\")","v":""},null,null,null,null,1539,{"$f":"IFERROR(VLOOKUP(AH1542,Journal!$R:$S,2,FALSE),\"\")","v":""},0,0,null,null,null,null,null,null,null,null,null,null,null,null,null,null,null,null,null,null,null,null,null,null,1513,0,25025.38,{"$error":"#N/A"}]
[null,null,null,null,null,null,null,null,null,null,null,null,null,null,null,null,null,null,1531,{"$f":"IFERROR(VLOOKUP(S1554,Journal!$R:$AQ,26,FALSE),\"\")","v":""},{"$error":"#VALUE!"},{"$error":"#N/A"},"",{"$f":"IFERROR(VLOOKUP(S1554,Journal!$R:$AV,32,FALSE),\"\")","v":""},null,null,null,null,{"$f":"IFERROR(VLOOKUP(AA1554, 'Daily Snapshot'!$B:$J,7,FALSE),\"\")","v":""},null,null,null,null,1551,{"$f":"IFERROR(VLOOKUP(AH1554,Journal!$R:$S,2,FALSE),\"\")","v":""},0,0,null,null,null,null,null,null,null,null,null,null,null,null,null,null,null,null,null,null,null,null,null,null,1525,0,25025.38,{"$error":"#N/A"}]
[null,null,null,null,null,null,null,null,null,null,null,null,null,null,null,null,null,null,1534,{"$f":"IFERROR(VLOOKUP(S1557,Journal!$R:$AQ,26,FALSE),\"\")","v":""},{"$error":"#VALUE!"},{"$error":"#N/A"},"",{"$f":"IFERROR(VLOOKUP(S1557,Journal!$R:$AV,32,FALSE),\"\")","v":""},null,null,null,null,{"$f":"IFERROR(VLOOKUP(AA1557, 'Daily Snapshot'!$B:$J,7,FALSE),\"\")","v":""},null,null,null,null,1554,{"$f":"IFERROR(VLOOKUP(AH1557,Journal!$R:$S,2,FALSE),\"\")","v":""},0,0,null,null,null,null,null,null,null,null,null,null,null,null,null,null,null,null,null,null,null,null,null,null,1528,0,25025.38,{"$error":"#N/A"}]
[null,null,null,null,null,null,null,null,null,null,null,null,null,null,null,null,null,null,1550,{"$f":"IFERROR(VLOOKUP(S1573,Journal!$R:$AQ,26,FALSE),\"\")","v":""},{"$error":"#VALUE!"},{"$error":"#N/A"},"",{"$f":"IFERROR(VLOOKUP(S1573,Journal!$R:$AV,32,FALSE),\"\")","v":""},null,null,null,null,{"$f":"IFERROR(VLOOKUP(AA1573, 'Daily Snapshot'!$B:$J,7,FALSE),\"\")","v":""},null,null,null,null,1570,{"$f":"IFERROR(VLOOKUP(AH1573,Journal!$R:$S,2,FALSE),\"\")","v":""},0,0,null,null,null,null,null,null,null,null,null,null,null,null,null,null,null,null,null,null,null,null,null,null,1544,0,25025.38,{"$error":"#N/A"}]
[null,null,null,null,null,null,null,null,null,null,null,null,null,null,null,null,null,null,1554,{"$f":"IFERROR(VLOOKUP(S1577,Journal!$R:$AQ,26,FALSE),\"\")","v":""},{"$error":"#VALUE!"},{"$error":"#N/A"},"",{"$f":"IFERROR(VLOOKUP(S1577,Journal!$R:$AV,32,FALSE),\"\")","v":""},null,null,null,null,{"$f":"IFERROR(VLOOKUP(AA1577, 'Daily Snapshot'!$B:$J,7,FALSE),\"\")","v":""},null,null,null,null,1574,{"$f":"IFERROR(VLOOKUP(AH1577,Journal!$R:$S,2,FALSE),\"\")","v":""},0,0,null,null,null,null,null,null,null,null,null,null,null,null,null,null,null,null,null,null,null,null,null,null,1548,0,25025.38,{"$error":"#N/A"}]
[null,null,null,null,null,null,null,null,null,null,null,null,null,null,null,null,null,null,1564,{"$f":"IFERROR(VLOOKUP(S1587,Journal!$R:$AQ,26,FALSE),\"\")","v":""},{"$error":"#VALUE!"},{"$error":"#N/A"},"",{"$f":"IFERROR(VLOOKUP(S1587,Journal!$R:$AV,32,FALSE),\"\")","v":""},null,null,null,null,{"$f":"IFERROR(VLOOKUP(AA1587, 'Daily Snapshot'!$B:$J,7,FALSE),\"\")","v":""},null,null,null,null,1584,{"$f":"IFERROR(VLOOKUP(AH1587,Journal!$R:$S,2,FALSE),\"\")","v":""},0,0,null,null,null,null,null,null,null,null,null,null,null,null,null,null,null,null,null,null,null,null,null,null,1558,0,25025.38,{"$error":"#N/A"}]
[null,null,null,null,null,null,null,null,null,null,null,null,null,null,null,null,null,null,1571,{"$f":"IFERROR(VLOOKUP(S1594,Journal!$R:$AQ,26,FALSE),\"\")","v":""},{"$error":"#VALUE!"},{"$error":"#N/A"},"",{"$f":"IFERROR(VLOOKUP(S1594,Journal!$R:$AV,32,FALSE),\"\")","v":""},null,null,null,null,{"$f":"IFERROR(VLOOKUP(AA1594, 'Daily Snapshot'!$B:$J,7,FALSE),\"\")","v":""},null,null,null,null,1591,{"$f":"IFERROR(VLOOKUP(AH1594,Journal!$R:$S,2,FALSE),\"\")","v":""},0,0,null,null,null,null,null,null,null,null,null,null,null,null,null,null,null,null,null,null,null,null,null,null,1565,0,25025.38,{"$error":"#N/A"}]
[null,null,null,null,null,null,null,null,null,null,null,null,null,null,null,null,null,null,1583,{"$f":"IFERROR(VLOOKUP(S1606,Journal!$R:$AQ,26,FALSE),\"\")","v":""},{"$error":"#VALUE!"},{"$error":"#N/A"},"",{"$f":"IFERROR(VLOOKUP(S1606,Journal!$R:$AV,32,FALSE),\"\")","v":""},null,null,null,null,{"$f":"IFERROR(VLOOKUP(AA1606, 'Daily Snapshot'!$B:$J,7,FALSE),\"\")","v":""},null,null,null,null,1603,{"$f":"IFERROR(VLOOKUP(AH1606,Journal!$R:$S,2,FALSE),\"\")","v":""},0,0,null,null,null,null,null,null,null,null,null,null,null,null,null,null,null,null,null,null,null,null,null,null,1577,0,25025.38,{"$error":"#N/A"}]
[null,null,null,null,null,null,null,null,null,null,null,null,null,null,null,null,null,null,1590,{"$f":"IFERROR(VLOOKUP(S1613,Journal!$R:$AQ,26,FALSE),\"\")","v":""},{"$error":"#VALUE!"},{"$error":"#N/A"},"",{"$f":"IFERROR(VLOOKUP(S1613,Journal!$R:$AV,32,FALSE),\"\")","v":""},null,null,null,null,{"$f":"IFERROR(VLOOKUP(AA1613, 'Daily Snapshot'!$B:$J,7,FALSE),\"\")","v":""},null,null,null,null,1610,{"$f":"IFERROR(VLOOKUP(AH1613,Journal!$R:$S,2,FALSE),\"\")","v":""},0,0,null,null,null,null,null,null,null,null,null,null,null,null,null,null,null,null,null,null,null,null,null,null,1584,0,25025.38,{"$error":"#N/A"}]
[null,null,null,null,null,null,null,null,null,null,null,null,null,null,null,null,null,null,1595,{"$f":"IFERROR(VLOOKUP(S1618,Journal!$R:$AQ,26,FALSE),\"\")","v":""},{"$error":"#VALUE!"},{"$error":"#N/A"},"",{"$f":"IFERROR(VLOOKUP(S1618,Journal!$R:$AV,32,FALSE),\"\")","v":""},null,null,null,null,{"$f":"IFERROR(VLOOKUP(AA1618, 'Daily Snapshot'!$B:$J,7,FALSE),\"\")","v":""},null,null,null,null,1615,{"$f":"IFERROR(VLOOKUP(AH1618,Journal!$R:$S,2,FALSE),\"\")","v":""},0,0,null,null,null,null,null,null,null,null,null,null,null,null,null,null,null,null,null,null,null,null,null,null,1589,0,25025.38,{"$error":"#N/A"}]
[null,null,null,null,null,null,null,null,null,null,null,null,null,null,null,null,null,null,1604,{"$f":"IFERROR(VLOOKUP(S1627,Journal!$R:$AQ,26,FALSE),\"\")","v":""},{"$error":"#VALUE!"},{"$error":"#N/A"},"",{"$f":"IFERROR(VLOOKUP(S1627,Journal!$R:$AV,32,FALSE),\"\")","v":""},null,null,null,null,{"$f":"IFERROR(VLOOKUP(AA1627, 'Daily Snapshot'!$B:$J,7,FALSE),\"\")","v":""},null,null,null,null,1624,{"$f":"IFERROR(VLOOKUP(AH1627,Journal!$R:$S,2,FALSE),\"\")","v":""},0,0,null,null,null,null,null,null,null,null,null,null,null,null,null,null,null,null,null,null,null,null,null,null,1598,0,25025.38,{"$error":"#N/A"}]
[null,null,null,null,null,null,null,null,null,null,null,null,null,null,null,null,null,null,1620,{"$f":"IFERROR(VLOOKUP(S1643,Journal!$R:$AQ,26,FALSE),\"\")","v":""},{"$error":"#VALUE!"},{"$error":"#N/A"},"",{"$f":"IFERROR(VLOOKUP(S1643,Journal!$R:$AV,32,FALSE),\"\")","v":""},null,null,null,null,{"$f":"IFERROR(VLOOKUP(AA1643, 'Daily Snapshot'!$B:$J,7,FALSE),\"\")","v":""},null,null,null,null,1640,{"$f":"IFERROR(VLOOKUP(AH1643,Journal!$R:$S,2,FALSE),\"\")","v":""},0,0,null,null,null,null,null,null,null,null,null,null,null,null,null,null,null,null,null,null,null,null,null,null,1614,0,25025.38,{"$error":"#N/A"}]
[null,null,null,null,null,null,null,null,null,null,null,null,null,null,null,null,null,null,1623,{"$f":"IFERROR(VLOOKUP(S1646,Journal!$R:$AQ,26,FALSE),\"\")","v":""},{"$error":"#VALUE!"},{"$error":"#N/A"},"",{"$f":"IFERROR(VLOOKUP(S1646,Journal!$R:$AV,32,FALSE),\"\")","v":""},null,null,null,null,{"$f":"IFERROR(VLOOKUP(AA1646, 'Daily Snapshot'!$B:$J,7,FALSE),\"\")","v":""},null,null,null,null,1643,{"$f":"IFERROR(VLOOKUP(AH1646,Journal!$R:$S,2,FALSE),\"\")","v":""},0,0,null,null,null,null,null,null,null,null,null,null,null,null,null,null,null,null,null,null,null,null,null,null,1617,0,25025.38,{"$error":"#N/A"}]
[null,null,null,null,null,null,null,null,null,null,null,null,null,null,null,null,null,null,1630,{"$f":"IFERROR(VLOOKUP(S1653,Journal!$R:$AQ,26,FALSE),\"\")","v":""},{"$error":"#VALUE!"},{"$error":"#N/A"},"",{"$f":"IFERROR(VLOOKUP(S1653,Journal!$R:$AV,32,FALSE),\"\")","v":""},null,null,null,null,{"$f":"IFERROR(VLOOKUP(AA1653, 'Daily Snapshot'!$B:$J,7,FALSE),\"\")","v":""},null,null,null,null,1650,{"$f":"IFERROR(VLOOKUP(AH1653,Journal!$R:$S,2,FALSE),\"\")","v":""},0,0,null,null,null,null,null,null,null,null,null,null,null,null,null,null,null,null,null,null,null,null,null,null,1624,0,25025.38,{"$error":"#N/A"}]
[null,null,null,null,null,null,null,null,null,null,null,null,null,null,null,null,null,null,1644,{"$f":"IFERROR(VLOOKUP(S1667,Journal!$R:$AQ,26,FALSE),\"\")","v":""},{"$error":"#VALUE!"},{"$error":"#N/A"},"",{"$f":"IFERROR(VLOOKUP(S1667,Journal!$R:$AV,32,FALSE),\"\")","v":""},null,null,null,null,{"$f":"IFERROR(VLOOKUP(AA1667, 'Daily Snapshot'!$B:$J,7,FALSE),\"\")","v":""},null,null,null,null,1664,{"$f":"IFERROR(VLOOKUP(AH1667,Journal!$R:$S,2,FALSE),\"\")","v":""},0,0,null,null,null,null,null,null,null,null,null,null,null,null,null,null,null,null,null,null,null,null,null,null,1638,0,25025.38,{"$error":"#N/A"}]
[null,null,null,null,null,null,null,null,null,null,null,null,null,null,null,null,null,null,1653,{"$f":"IFERROR(VLOOKUP(S1676,Journal!$R:$AQ,26,FALSE),\"\")","v":""},{"$error":"#VALUE!"},{"$error":"#N/A"},"",{"$f":"IFERROR(VLOOKUP(S1676,Journal!$R:$AV,32,FALSE),\"\")","v":""},null,null,null,null,{"$f":"IFERROR(VLOOKUP(AA1676, 'Daily Snapshot'!$B:$J,7,FALSE),\"\")","v":""},null,null,null,null,1673,{"$f":"IFERROR(VLOOKUP(AH1676,Journal!$R:$S,2,FALSE),\"\")","v":""},0,0,null,null,null,null,null,null,null,null,null,null,null,null,null,null,null,null,null,null,null,null,null,null,1647,0,25025.38,{"$error":"#N/A"}]
[null,null,null,null,null,null,null,null,null,null,null,null,null,null,null,null,null,null,1660,{"$f":"IFERROR(VLOOKUP(S1683,Journal!$R:$AQ,26,FALSE),\"\")","v":""},{"$error":"#VALUE!"},{"$error":"#N/A"},"",{"$f":"IFERROR(VLOOKUP(S1683,Journal!$R:$AV,32,FALSE),\"\")","v":""},null,null,null,null,{"$f":"IFERROR(VLOOKUP(AA1683, 'Daily Snapshot'!$B:$J,7,FALSE),\"\")","v":""},null,null,null,null,1680,{"$f":"IFERROR(VLOOKUP(AH1683,Journal!$R:$S,2,FALSE),\"\")","v":""},0,0,null,null,null,null,null,null,null,null,null,null,null,null,null,null,null,null,null,null,null,null,null,null,1654,0,25025.38,{"$error":"#N/A"}]
[null,null,null,null,null,null,null,null,null,null,null,null,null,null,null,null,null,null,1672,{"$f":"IFERROR(VLOOKUP(S1695,Journal!$R:$AQ,26,FALSE),\"\")","v":""},{"$error":"#VALUE!"},{"$error":"#N/A"},"",{"$f":"IFERROR(VLOOKUP(S1695,Journal!$R:$AV,32,FALSE),\"\")","v":""},null,null,null,null,{"$f":"IFERROR(VLOOKUP(AA1695, 'Daily Snapshot'!$B:$J,7,FALSE),\"\")","v":""},null,null,null,null,1692,{"$f":"IFERROR(VLOOKUP(AH1695,Journal!$R:$S,2,FALSE),\"\")","v":""},0,0,null,null,null,null,null,null,null,null,null,null,null,null,null,null,null,null,null,null,null,null,null,null,1666,0,{"$f":"BI1695+BJ1694","v":25025.38},{"$error":"#N/A"}]
[null,null,null,null,null,null,null,null,null,null,null,null,null,null,null,null,null,null,1675,{"$f":"IFERROR(VLOOKUP(S1698,Journal!$R:$AQ,26,FALSE),\"\")","v":""},{"$error":"#VALUE!"},{"$error":"#N/A"},"",{"$f":"IFERROR(VLOOKUP(S1698,Journal!$R:$AV,32,FALSE),\"\")","v":""},null,null,null,null,{"$f":"IFERROR(VLOOKUP(AA1698, 'Daily Snapshot'!$B:$J,7,FALSE),\"\")","v":""},null,null,null,null,1695,{"$f":"IFERROR(VLOOKUP(AH1698,Journal!$R:$S,2,FALSE),\"\")","v":""},0,0,null,null,null,null,null,null,null,null,null,null,null,null,null,null,null,null,null,null,null,null,null,null,1669,0,25025.38,{"$f":"IF(OR(BI1698=0,BI1698<$H$26,BI1698>$H$27),NA(),BI1698+BJ1697)","v":{"$error":"#N/A"}}]
[null,null,null,null,null,null,null,null,null,null,null,null,null,null,null,null,null,null,1685,{"$f":"IFERROR(VLOOKUP(S1708,Journal!$R:$AQ,26,FALSE),\"\")","v":""},{"$error":"#VALUE!"},{"$error":"#N/A"},"",{"$f":"IFERROR(VLOOKUP(S1708,Journal!$R:$AV,32,FALSE),\"\")","v":""},null,null,null,null,{"$f":"IFERROR(VLOOKUP(AA1708, 'Daily Snapshot'!$B:$J,7,FALSE),\"\")","v":""},null,null,null,null,1705,{"$f":"IFERROR(VLOOKUP(AH1708,Journal!$R:$S,2,FALSE),\"\")","v":""},0,0,null,null,null,null,null,null,null,null,null,null,null,null,null,null,null,null,null,null,null,null,null,null,1679,0,25025.38,{"$error":"#N/A"}]
[null,null,null,null,null,null,null,null,null,null,null,null,null,null,null,null,null,null,1693,{"$f":"IFERROR(VLOOKUP(S1716,Journal!$R:$AQ,26,FALSE),\"\")","v":""},{"$error":"#VALUE!"},{"$error":"#N/A"},"",{"$f":"IFERROR(VLOOKUP(S1716,Journal!$R:$AV,32,FALSE),\"\")","v":""},null,null,null,null,{"$f":"IFERROR(VLOOKUP(AA1716, 'Daily Snapshot'!$B:$J,7,FALSE),\"\")","v":""},null,null,null,null,1713,{"$f":"IFERROR(VLOOKUP(AH1716,Journal!$R:$S,2,FALSE),\"\")","v":""},0,0,null,null,null,null,null,null,null,null,null,null,null,null,null,null,null,null,null,null,null,null,null,null,1687,0,25025.38,{"$error":"#N/A"}]
[null,null,null,null,null,null,null,null,null,null,null,null,null,null,null,null,null,null,1700,{"$f":"IFERROR(VLOOKUP(S1723,Journal!$R:$AQ,26,FALSE),\"\")","v":""},{"$error":"#VALUE!"},{"$error":"#N/A"},"",{"$f":"IFERROR(VLOOKUP(S1723,Journal!$R:$AV,32,FALSE),\"\")","v":""},null,null,null,null,{"$f":"IFERROR(VLOOKUP(AA1723, 'Daily Snapshot'!$B:$J,7,FALSE),\"\")","v":""},null,null,null,null,1720,{"$f":"IFERROR(VLOOKUP(AH1723,Journal!$R:$S,2,FALSE),\"\")","v":""},0,0,null,null,null,null,null,null,null,null,null,null,null,null,null,null,null,null,null,null,null,null,null,null,1694,0,25025.38,{"$error":"#N/A"}]
[null,null,null,null,null,null,null,null,null,null,null,null,null,null,null,null,null,null,1712,{"$f":"IFERROR(VLOOKUP(S1735,Journal!$R:$AQ,26,FALSE),\"\")","v":""},{"$error":"#VALUE!"},{"$error":"#N/A"},"",{"$f":"IFERROR(VLOOKUP(S1735,Journal!$R:$AV,32,FALSE),\"\")","v":""},null,null,null,null,{"$f":"IFERROR(VLOOKUP(AA1735, 'Daily Snapshot'!$B:$J,7,FALSE),\"\")","v":""},null,null,null,null,1732,{"$f":"IFERROR(VLOOKUP(AH1735,Journal!$R:$S,2,FALSE),\"\")","v":""},0,0,null,null,null,null,null,null,null,null,null,null,null,null,null,null,null,null,null,null,null,null,null,null,1706,0,25025.38,{"$error":"#N/A"}]
[null,null,null,null,null,null,null,null,null,null,null,null,null,null,null,null,null,null,1724,{"$f":"IFERROR(VLOOKUP(S1747,Journal!$R:$AQ,26,FALSE),\"\")","v":""},{"$error":"#VALUE!"},{"$error":"#N/A"},"",{"$f":"IFERROR(VLOOKUP(S1747,Journal!$R:$AV,32,FALSE),\"\")","v":""},null,null,null,null,{"$f":"IFERROR(VLOOKUP(AA1747, 'Daily Snapshot'!$B:$J,7,FALSE),\"\")","v":""},null,null,null,null,1744,{"$f":"IFERROR(VLOOKUP(AH1747,Journal!$R:$S,2,FALSE),\"\")","v":""},0,0,null,null,null,null,null,null,null,null,null,null,null,null,null,null,null,null,null,null,null,null,null,null,1718,0,25025.38,{"$error":"#N/A"}]
[null,null,null,null,null,null,null,null,null,null,null,null,null,null,null,null,null,null,1734,{"$f":"IFERROR(VLOOKUP(S1757,Journal!$R:$AQ,26,FALSE),\"\")","v":""},{"$error":"#VALUE!"},{"$error":"#N/A"},"",{"$f":"IFERROR(VLOOKUP(S1757,Journal!$R:$AV,32,FALSE),\"\")","v":""},null,null,null,null,{"$f":"IFERROR(VLOOKUP(AA1757, 'Daily Snapshot'!$B:$J,7,FALSE),\"\")","v":""},null,null,null,null,1754,{"$f":"IFERROR(VLOOKUP(AH1757,Journal!$R:$S,2,FALSE),\"\")","v":""},0,0,null,null,null,null,null,null,null,null,null,null,null,null,null,null,null,null,null,null,null,null,null,null,1728,0,25025.38,{"$error":"#N/A"}]
[null,null,null,null,null,null,null,null,null,null,null,null,null,null,null,null,null,null,1742,{"$f":"IFERROR(VLOOKUP(S1765,Journal!$R:$AQ,26,FALSE),\"\")","v":""},{"$error":"#VALUE!"},{"$error":"#N/A"},"",{"$f":"IFERROR(VLOOKUP(S1765,Journal!$R:$AV,32,FALSE),\"\")","v":""},null,null,null,null,{"$f":"IFERROR(VLOOKUP(AA1765, 'Daily Snapshot'!$B:$J,7,FALSE),\"\")","v":""},null,null,null,null,1762,{"$f":"IFERROR(VLOOKUP(AH1765,Journal!$R:$S,2,FALSE),\"\")","v":""},0,0,null,null,null,null,null,null,null,null,null,null,null,null,null,null,null,null,null,null,null,null,null,null,1736,0,25025.38,{"$error":"#N/A"}]
[null,null,null,null,null,null,null,null,null,null,null,null,null,null,null,null,null,null,1749,{"$f":"IFERROR(VLOOKUP(S1772,Journal!$R:$AQ,26,FALSE),\"\")","v":""},{"$error":"#VALUE!"},{"$error":"#N/A"},"",{"$f":"IFERROR(VLOOKUP(S1772,Journal!$R:$AV,32,FALSE),\"\")","v":""},null,null,null,null,{"$f":"IFERROR(VLOOKUP(AA1772, 'Daily Snapshot'!$B:$J,7,FALSE),\"\")","v":""},null,null,null,null,1769,{"$f":"IFERROR(VLOOKUP(AH1772,Journal!$R:$S,2,FALSE),\"\")","v":""},0,0,null,null,null,null,null,null,null,null,null,null,null,null,null,null,null,null,null,null,null,null,null,null,1743,0,25025.38,{"$error":"#N/A"}]
[null,null,null,null,null,null,null,null,null,null,null,null,null,null,null,null,null,null,1761,{"$f":"IFERROR(VLOOKUP(S1784,Journal!$R:$AQ,26,FALSE),\"\")","v":""},{"$error":"#VALUE!"},{"$error":"#N/A"},"",{"$f":"IFERROR(VLOOKUP(S1784,Journal!$R:$AV,32,FALSE),\"\")","v":""},null,null,null,null,{"$f":"IFERROR(VLOOKUP(AA1784, 'Daily Snapshot'!$B:$J,7,FALSE),\"\")","v":""},null,null,null,null,1781,{"$f":"IFERROR(VLOOKUP(AH1784,Journal!$R:$S,2,FALSE),\"\")","v":""},0,0,null,null,null,null,null,null,null,null,null,null,null,null,null,null,null,null,null,null,null,null,null,null,1755,0,25025.38,{"$error":"#N/A"}]
[null,null,null,null,null,null,null,null,null,null,null,null,null,null,null,null,null,null,1764,{"$f":"IFERROR(VLOOKUP(S1787,Journal!$R:$AQ,26,FALSE),\"\")","v":""},{"$error":"#VALUE!"},{"$error":"#N/A"},"",{"$f":"IFERROR(VLOOKUP(S1787,Journal!$R:$AV,32,FALSE),\"\")","v":""},null,null,null,null,{"$f":"IFERROR(VLOOKUP(AA1787, 'Daily Snapshot'!$B:$J,7,FALSE),\"\")","v":""},null,null,null,null,1784,{"$f":"IFERROR(VLOOKUP(AH1787,Journal!$R:$S,2,FALSE),\"\")","v":""},0,0,null,null,null,null,null,null,null,null,null,null,null,null,null,null,null,null,null,null,null,null,null,null,1758,0,25025.38,{"$error":"#N/A"}]
[null,null,null,null,null,null,null,null,null,null,null,null,null,null,null,null,null,null,1775,{"$f":"IFERROR(VLOOKUP(S1798,Journal!$R:$AQ,26,FALSE),\"\")","v":""},{"$error":"#VALUE!"},{"$error":"#N/A"},"",{"$f":"IFERROR(VLOOKUP(S1798,Journal!$R:$AV,32,FALSE),\"\")","v":""},null,null,null,null,{"$f":"IFERROR(VLOOKUP(AA1798, 'Daily Snapshot'!$B:$J,7,FALSE),\"\")","v":""},null,null,null,null,1795,{"$f":"IFERROR(VLOOKUP(AH1798,Journal!$R:$S,2,FALSE),\"\")","v":""},0,0,null,null,null,null,null,null,null,null,null,null,null,null,null,null,null,null,null,null,null,null,null,null,1769,0,25025.38,{"$error":"#N/A"}]
[null,null,null,null,null,null,null,null,null,null,null,null,null,null,null,null,null,null,1782,{"$f":"IFERROR(VLOOKUP(S1805,Journal!$R:$AQ,26,FALSE),\"\")","v":""},{"$error":"#VALUE!"},{"$error":"#N/A"},"",{"$f":"IFERROR(VLOOKUP(S1805,Journal!$R:$AV,32,FALSE),\"\")","v":""},null,null,null,null,{"$f":"IFERROR(VLOOKUP(AA1805, 'Daily Snapshot'!$B:$J,7,FALSE),\"\")","v":""},null,null,null,null,1802,{"$f":"IFERROR(VLOOKUP(AH1805,Journal!$R:$S,2,FALSE),\"\")","v":""},0,0,null,null,null,null,null,null,null,null,null,null,null,null,null,null,null,null,null,null,null,null,null,null,1776,0,25025.38,{"$error":"#N/A"}]
[null,null,null,null,null,null,null,null,null,null,null,null,null,null,null,null,null,null,1794,{"$f":"IFERROR(VLOOKUP(S1817,Journal!$R:$AQ,26,FALSE),\"\")","v":""},{"$f":"T1817+U1816","v":{"$error":"#VALUE!"}},{"$error":"#N/A"},{"$f":"IFERROR(T1817/$H$25,\"\")","v":""},{"$f":"IFERROR(VLOOKUP(S1817,Journal!$R:$AV,32,FALSE),\"\")","v":""},null,null,null,null,{"$f":"IFERROR(VLOOKUP(AA1817, 'Daily Snapshot'!$B:$J,7,FALSE),\"\")","v":""},null,null,null,null,1814,{"$f":"IFERROR(VLOOKUP(AH1817,Journal!$R:$S,2,FALSE),\"\")","v":""},0,0,null,null,null,null,null,null,null,null,null,null,null,null,null,null,null,null,null,null,null,null,null,null,1788,0,25025.38,{"$error":"#N/A"}]
[null,null,null,null,null,null,null,null,null,null,null,null,null,null,null,null,null,null,1801,{"$f":"IFERROR(VLOOKUP(S1824,Journal!$R:$AQ,26,FALSE),\"\")","v":""},{"$error":"#VALUE!"},{"$error":"#N/A"},"",{"$f":"IFERROR(VLOOKUP(S1824,Journal!$R:$AV,32,FALSE),\"\")","v":""},null,null,null,null,{"$f":"IFERROR(VLOOKUP(AA1824, 'Daily Snapshot'!$B:$J,7,FALSE),\"\")","v":""},null,null,null,null,1821,{"$f":"IFERROR(VLOOKUP(AH1824,Journal!$R:$S,2,FALSE),\"\")","v":""},0,0,null,null,null,null,null,null,null,null,null,null,null,null,null,null,null,null,null,null,null,null,null,null,1795,{"$f":"N1827","v":0},25025.38,{"$error":"#N/A"}]
[null,null,null,null,null,null,null,null,null,null,null,null,null,null,null,null,null,null,1806,{"$f":"IFERROR(VLOOKUP(S1829,Journal!$R:$AQ,26,FALSE),\"\")","v":""},{"$error":"#VALUE!"},{"$error":"#N/A"},"",{"$f":"IFERROR(VLOOKUP(S1829,Journal!$R:$AV,32,FALSE),\"\")","v":""},null,null,null,null,{"$f":"IFERROR(VLOOKUP(AA1829, 'Daily Snapshot'!$B:$J,7,FALSE),\"\")","v":""},null,null,null,null,1826,{"$f":"IFERROR(VLOOKUP(AH1829,Journal!$R:$S,2,FALSE),\"\")","v":""},0,0,null,null,null,null,null,null,null,null,null,null,null,null,null,null,null,null,null,null,null,null,null,null,1800,0,25025.38,{"$error":"#N/A"}]
[null,null,null,null,null,null,null,null,null,null,null,null,null,null,null,null,null,null,1819,{"$f":"IFERROR(VLOOKUP(S1842,Journal!$R:$AQ,26,FALSE),\"\")","v":""},{"$error":"#VALUE!"},{"$error":"#N/A"},"",{"$f":"IFERROR(VLOOKUP(S1842,Journal!$R:$AV,32,FALSE),\"\")","v":""},null,null,null,null,{"$f":"IFERROR(VLOOKUP(AA1842, 'Daily Snapshot'!$B:$J,7,FALSE),\"\")","v":""},null,null,null,null,1839,{"$f":"IFERROR(VLOOKUP(AH1842,Journal!$R:$S,2,FALSE),\"\")","v":""},0,0,null,null,null,null,null,null,null,null,null,null,null,null,null,null,null,null,null,null,null,null,null,null,1813,0,25025.38,{"$error":"#N/A"}]
[null,null,null,null,null,null,null,null,null,null,null,null,null,null,null,null,null,null,1831,{"$f":"IFERROR(VLOOKUP(S1854,Journal!$R:$AQ,26,FALSE),\"\")","v":""},{"$error":"#VALUE!"},{"$error":"#N/A"},"",{"$f":"IFERROR(VLOOKUP(S1854,Journal!$R:$AV,32,FALSE),\"\")","v":""},null,null,null,null,{"$f":"IFERROR(VLOOKUP(AA1854, 'Daily Snapshot'!$B:$J,7,FALSE),\"\")","v":""},null,null,null,null,1851,{"$f":"IFERROR(VLOOKUP(AH1854,Journal!$R:$S,2,FALSE),\"\")","v":""},0,0,null,null,null,null,null,null,null,null,null,null,null,null,null,null,null,null,null,null,null,null,null,null,1825,0,25025.38,{"$error":"#N/A"}]
[null,null,null,null,null,null,null,null,null,null,null,null,null,null,null,null,null,null,1834,{"$f":"IFERROR(VLOOKUP(S1857,Journal!$R:$AQ,26,FALSE),\"\")","v":""},{"$error":"#VALUE!"},{"$error":"#N/A"},"",{"$f":"IFERROR(VLOOKUP(S1857,Journal!$R:$AV,32,FALSE),\"\")","v":""},null,null,null,null,{"$f":"IFERROR(VLOOKUP(AA1857, 'Daily Snapshot'!$B:$J,7,FALSE),\"\")","v":""},null,null,null,null,1854,{"$f":"IFERROR(VLOOKUP(AH1857,Journal!$R:$S,2,FALSE),\"\")","v":""},0,0,null,null,null,null,null,null,null,null,null,null,null,null,null,null,null,null,null,null,null,null,null,null,1828,0,25025.38,{"$error":"#N/A"}]
[null,null,null,null,null,null,null,null,null,null,null,null,null,null,null,null,null,null,1841,{"$f":"IFERROR(VLOOKUP(S1864,Journal!$R:$AQ,26,FALSE),\"\")","v":""},{"$error":"#VALUE!"},{"$error":"#N/A"},"",{"$f":"IFERROR(VLOOKUP(S1864,Journal!$R:$AV,32,FALSE),\"\")","v":""},null,null,null,null,{"$f":"IFERROR(VLOOKUP(AA1864, 'Daily Snapshot'!$B:$J,7,FALSE),\"\")","v":""},null,null,null,null,1861,{"$f":"IFERROR(VLOOKUP(AH1864,Journal!$R:$S,2,FALSE),\"\")","v":""},0,0,null,null,null,null,null,null,null,null,null,null,null,null,null,null,null,null,null,null,null,null,null,null,1835,0,25025.38,{"$error":"#N/A"}]
[null,null,null,null,null,null,null,null,null,null,null,null,null,null,null,null,null,null,1855,{"$f":"IFERROR(VLOOKUP(S1878,Journal!$R:$AQ,26,FALSE),\"\")","v":""},{"$error":"#VALUE!"},{"$error":"#N/A"},"",{"$f":"IFERROR(VLOOKUP(S1878,Journal!$R:$AV,32,FALSE),\"\")","v":""},null,null,null,null,{"$f":"IFERROR(VLOOKUP(AA1878, 'Daily Snapshot'!$B:$J,7,FALSE),\"\")","v":""},null,null,null,null,1875,{"$f":"IFERROR(VLOOKUP(AH1878,Journal!$R:$S,2,FALSE),\"\")","v":""},0,0,null,null,null,null,null,null,null,null,null,null,null,null,null,null,null,null,null,null,null,null,null,null,1849,0,25025.38,{"$error":"#N/A"}]
[null,null,null,null,null,null,null,null,null,null,null,null,null,null,null,null,null,null,1864,{"$f":"IFERROR(VLOOKUP(S1887,Journal!$R:$AQ,26,FALSE),\"\")","v":""},{"$error":"#VALUE!"},{"$error":"#N/A"},"",{"$f":"IFERROR(VLOOKUP(S1887,Journal!$R:$AV,32,FALSE),\"\")","v":""},null,null,null,null,{"$f":"IFERROR(VLOOKUP(AA1887, 'Daily Snapshot'!$B:$J,7,FALSE),\"\")","v":""},null,null,null,null,1884,{"$f":"IFERROR(VLOOKUP(AH1887,Journal!$R:$S,2,FALSE),\"\")","v":""},0,0,null,null,null,null,null,null,null,null,null,null,null,null,null,null,null,null,null,null,null,null,null,null,1858,0,{"$f":"BI1887+BJ1886","v":25025.38},{"$error":"#N/A"}]
[null,null,null,null,null,null,null,null,null,null,null,null,null,null,null,null,null,null,1871,{"$f":"IFERROR(VLOOKUP(S1894,Journal!$R:$AQ,26,FALSE),\"\")","v":""},{"$error":"#VALUE!"},{"$error":"#N/A"},"",{"$f":"IFERROR(VLOOKUP(S1894,Journal!$R:$AV,32,FALSE),\"\")","v":""},null,null,null,null,{"$f":"IFERROR(VLOOKUP(AA1894, 'Daily Snapshot'!$B:$J,7,FALSE),\"\")","v":""},null,null,null,null,1891,{"$f":"IFERROR(VLOOKUP(AH1894,Journal!$R:$S,2,FALSE),\"\")","v":""},0,0,null,null,null,null,null,null,null,null,null,null,null,null,null,null,null,null,null,null,null,null,null,null,1865,0,25025.38,{"$error":"#N/A"}]
[null,null,null,null,null,null,null,null,null,null,null,null,null,null,null,null,null,null,1883,{"$f":"IFERROR(VLOOKUP(S1906,Journal!$R:$AQ,26,FALSE),\"\")","v":""},{"$error":"#VALUE!"},{"$error":"#N/A"},"",{"$f":"IFERROR(VLOOKUP(S1906,Journal!$R:$AV,32,FALSE),\"\")","v":""},null,null,null,null,{"$f":"IFERROR(VLOOKUP(AA1906, 'Daily Snapshot'!$B:$J,7,FALSE),\"\")","v":""},null,null,null,null,1903,{"$f":"IFERROR(VLOOKUP(AH1906,Journal!$R:$S,2,FALSE),\"\")","v":""},0,0,null,null,null,null,null,null,null,null,null,null,null,null,null,null,null,null,null,null,null,null,null,null,1877,0,25025.38,{"$error":"#N/A"}]
[null,null,null,null,null,null,null,null,null,null,null,null,null,null,null,null,null,null,1890,{"$f":"IFERROR(VLOOKUP(S1913,Journal!$R:$AQ,26,FALSE),\"\")","v":""},{"$error":"#VALUE!"},{"$error":"#N/A"},"",{"$f":"IFERROR(VLOOKUP(S1913,Journal!$R:$AV,32,FALSE),\"\")","v":""},null,null,null,null,{"$f":"IFERROR(VLOOKUP(AA1913, 'Daily Snapshot'!$B:$J,7,FALSE),\"\")","v":""},null,null,null,null,1910,{"$f":"IFERROR(VLOOKUP(AH1913,Journal!$R:$S,2,FALSE),\"\")","v":""},0,0,null,null,null,null,null,null,null,null,null,null,null,null,null,null,null,null,null,null,null,null,null,null,1884,0,25025.38,{"$error":"#N/A"}]
[null,null,null,null,null,null,null,null,null,null,null,null,null,null,null,null,null,null,1896,{"$f":"IFERROR(VLOOKUP(S1919,Journal!$R:$AQ,26,FALSE),\"\")","v":""},{"$error":"#VALUE!"},{"$error":"#N/A"},"",{"$f":"IFERROR(VLOOKUP(S1919,Journal!$R:$AV,32,FALSE),\"\")","v":""},null,null,null,null,{"$f":"IFERROR(VLOOKUP(AA1919, 'Daily Snapshot'!$B:$J,7,FALSE),\"\")","v":""},null,null,null,null,1916,{"$f":"IFERROR(VLOOKUP(AH1919,Journal!$R:$S,2,FALSE),\"\")","v":""},0,0,null,null,null,null,null,null,null,null,null,null,null,null,null,null,null,null,null,null,null,null,null,null,1890,0,25025.38,{"$error":"#N/A"}]
[null,null,null,null,null,null,null,null,null,null,null,null,null,null,null,null,null,null,1904,{"$f":"IFERROR(VLOOKUP(S1927,Journal!$R:$AQ,26,FALSE),\"\")","v":""},{"$error":"#VALUE!"},{"$error":"#N/A"},"",{"$f":"IFERROR(VLOOKUP(S1927,Journal!$R:$AV,32,FALSE),\"\")","v":""},null,null,null,null,{"$f":"IFERROR(VLOOKUP(AA1927, 'Daily Snapshot'!$B:$J,7,FALSE),\"\")","v":""},null,null,null,null,1924,{"$f":"IFERROR(VLOOKUP(AH1927,Journal!$R:$S,2,FALSE),\"\")","v":""},0,0,null,null,null,null,null,null,null,null,null,null,null,null,null,null,null,null,null,null,null,null,null,null,1898,0,25025.38,{"$error":"#N/A"}]
[null,null,null,null,null,null,null,null,null,null,null,null,null,null,null,null,null,null,1911,{"$f":"IFERROR(VLOOKUP(S1934,Journal!$R:$AQ,26,FALSE),\"\")","v":""},{"$error":"#VALUE!"},{"$error":"#N/A"},"",{"$f":"IFERROR(VLOOKUP(S1934,Journal!$R:$AV,32,FALSE),\"\")","v":""},null,null,null,null,{"$f":"IFERROR(VLOOKUP(AA1934, 'Daily Snapshot'!$B:$J,7,FALSE),\"\")","v":""},null,null,null,null,1931,{"$f":"IFERROR(VLOOKUP(AH1934,Journal!$R:$S,2,FALSE),\"\")","v":""},0,0,null,null,null,null,null,null,null,null,null,null,null,null,null,null,null,null,null,null,null,null,null,null,1905,0,25025.38,{"$error":"#N/A"}]
[null,null,null,null,null,null,null,null,null,null,null,null,null,null,null,null,null,null,1923,{"$f":"IFERROR(VLOOKUP(S1946,Journal!$R:$AQ,26,FALSE),\"\")","v":""},{"$error":"#VALUE!"},{"$error":"#N/A"},"",{"$f":"IFERROR(VLOOKUP(S1946,Journal!$R:$AV,32,FALSE),\"\")","v":""},null,null,null,null,{"$f":"IFERROR(VLOOKUP(AA1946, 'Daily Snapshot'!$B:$J,7,FALSE),\"\")","v":""},null,null,null,null,1943,{"$f":"IFERROR(VLOOKUP(AH1946,Journal!$R:$S,2,FALSE),\"\")","v":""},0,0,null,null,null,null,null,null,null,null,null,null,null,null,null,null,null,null,null,null,null,null,null,null,1917,0,25025.38,{"$error":"#N/A"}]
[null,null,null,null,null,null,null,null,null,null,null,null,null,null,null,null,null,null,1930,{"$f":"IFERROR(VLOOKUP(S1953,Journal!$R:$AQ,26,FALSE),\"\")","v":""},{"$error":"#VALUE!"},{"$error":"#N/A"},"",{"$f":"IFERROR(VLOOKUP(S1953,Journal!$R:$AV,32,FALSE),\"\")","v":""},null,null,null,null,{"$f":"IFERROR(VLOOKUP(AA1953, 'Daily Snapshot'!$B:$J,7,FALSE),\"\")","v":""},null,null,null,null,1950,{"$f":"IFERROR(VLOOKUP(AH1953,Journal!$R:$S,2,FALSE),\"\")","v":""},0,0,null,null,null,null,null,null,null,null,null,null,null,null,null,null,null,null,null,null,null,null,null,null,1924,0,25025.38,{"$error":"#N/A"}]
[null,null,null,null,null,null,null,null,null,null,null,null,null,null,null,null,null,null,1945,{"$f":"IFERROR(VLOOKUP(S1968,Journal!$R:$AQ,26,FALSE),\"\")","v":""},{"$error":"#VALUE!"},{"$error":"#N/A"},"",{"$f":"IFERROR(VLOOKUP(S1968,Journal!$R:$AV,32,FALSE),\"\")","v":""},null,null,null,null,{"$f":"IFERROR(VLOOKUP(AA1968, 'Daily Snapshot'!$B:$J,7,FALSE),\"\")","v":""},null,null,null,null,1965,{"$f":"IFERROR(VLOOKUP(AH1968,Journal!$R:$S,2,FALSE),\"\")","v":""},0,0,null,null,null,null,null,null,null,null,null,null,null,null,null,null,null,null,null,null,null,null,null,null,1939,0,25025.38,{"$error":"#N/A"}]
[null,null,null,null,null,null,null,null,null,null,null,null,null,null,null,null,null,null,1953,{"$f":"IFERROR(VLOOKUP(S1976,Journal!$R:$AQ,26,FALSE),\"\")","v":""},{"$error":"#VALUE!"},{"$error":"#N/A"},"",{"$f":"IFERROR(VLOOKUP(S1976,Journal!$R:$AV,32,FALSE),\"\")","v":""},null,null,null,null,{"$f":"IFERROR(VLOOKUP(AA1976, 'Daily Snapshot'!$B:$J,7,FALSE),\"\")","v":""},null,null,null,null,1973,{"$f":"IFERROR(VLOOKUP(AH1976,Journal!$R:$S,2,FALSE),\"\")","v":""},0,0,null,null,null,null,null,null,null,null,null,null,null,null,null,null,null,null,null,null,null,null,null,null,1947,0,25025.38,{"$error":"#N/A"}]
[null,null,null,null,null,null,null,null,null,null,null,null,null,null,null,null,null,null,1960,{"$f":"IFERROR(VLOOKUP(S1983,Journal!$R:$AQ,26,FALSE),\"\")","v":""},{"$error":"#VALUE!"},{"$error":"#N/A"},"",{"$f":"IFERROR(VLOOKUP(S1983,Journal!$R:$AV,32,FALSE),\"\")","v":""},null,null,null,null,{"$f":"IFERROR(VLOOKUP(AA1983, 'Daily Snapshot'!$B:$J,7,FALSE),\"\")","v":""},null,null,null,null,1980,{"$f":"IFERROR(VLOOKUP(AH1983,Journal!$R:$S,2,FALSE),\"\")","v":""},0,0,null,null,null,null,null,null,null,null,null,null,null,null,null,null,null,null,null,null,null,null,null,null,1954,0,25025.38,{"$error":"#N/A"}]
[null,null,null,null,null,null,null,null,null,null,null,null,null,null,null,null,null,null,1972,{"$f":"IFERROR(VLOOKUP(S1995,Journal!$R:$AQ,26,FALSE),\"\")","v":""},{"$error":"#VALUE!"},{"$error":"#N/A"},"",{"$f":"IFERROR(VLOOKUP(S1995,Journal!$R:$AV,32,FALSE),\"\")","v":""},null,null,null,null,{"$f":"IFERROR(VLOOKUP(AA1995, 'Daily Snapshot'!$B:$J,7,FALSE),\"\")","v":""},null,null,null,null,1992,{"$f":"IFERROR(VLOOKUP(AH1995,Journal!$R:$S,2,FALSE),\"\")","v":""},0,0,null,null,null,null,null,null,null,null,null,null,null,null,null,null,null,null,null,null,null,null,null,null,1966,0,25025.38,{"$error":"#N/A"}]
[null,null,null,null,null,null,null,null,null,null,null,null,null,null,null,null,null,null,1975,{"$f":"IFERROR(VLOOKUP(S1998,Journal!$R:$AQ,26,FALSE),\"\")","v":""},{"$error":"#VALUE!"},{"$error":"#N/A"},"",{"$f":"IFERROR(VLOOKUP(S1998,Journal!$R:$AV,32,FALSE),\"\")","v":""},null,null,null,null,{"$f":"IFERROR(VLOOKUP(AA1998, 'Daily Snapshot'!$B:$J,7,FALSE),\"\")","v":""},null,null,null,null,1995,{"$f":"IFERROR(VLOOKUP(AH1998,Journal!$R:$S,2,FALSE),\"\")","v":""},0,0,null,null,null,null,null,null,null,null,null,null,null,null,null,null,null,null,null,null,null,null,null,null,1969,0,25025.38,{"$error":"#N/A"}]
[null,null,null,null,null,null,null,null,null,null,null,null,null,null,null,null,null,null,1986,{"$f":"IFERROR(VLOOKUP(S2009,Journal!$R:$AQ,26,FALSE),\"\")","v":""},{"$f":"T2009+U2008","v":{"$error":"#VALUE!"}},{"$error":"#N/A"},{"$f":"IFERROR(T2009/$H$25,\"\")","v":""},{"$f":"IFERROR(VLOOKUP(S2009,Journal!$R:$AV,32,FALSE),\"\")","v":""},null,null,null,null,{"$f":"IFERROR(VLOOKUP(AA2009, 'Daily Snapshot'!$B:$J,7,FALSE),\"\")","v":""},null,null,null,null,2006,{"$f":"IFERROR(VLOOKUP(AH2009,Journal!$R:$S,2,FALSE),\"\")","v":""},0,0,null,null,null,null,null,null,null,null,null,null,null,null,null,null,null,null,null,null,null,null,null,null,1980,0,25025.38,{"$error":"#N/A"}]
[null,null,null,null,null,null,null,null,null,null,null,null,null,null,null,null,null,null,1993,{"$f":"IFERROR(VLOOKUP(S2016,Journal!$R:$AQ,26,FALSE),\"\")","v":""},{"$error":"#VALUE!"},{"$error":"#N/A"},"",{"$f":"IFERROR(VLOOKUP(S2016,Journal!$R:$AV,32,FALSE),\"\")","v":""},null,null,null,null,{"$f":"IFERROR(VLOOKUP(AA2016, 'Daily Snapshot'!$B:$J,7,FALSE),\"\")","v":""},null,null,null,null,2013,{"$f":"IFERROR(VLOOKUP(AH2016,Journal!$R:$S,2,FALSE),\"\")","v":""},0,0,null,null,null,null,null,null,null,null,null,null,null,null,null,null,null,null,null,null,null,null,null,null,1987,{"$f":"N2019","v":0},25025.38,{"$error":"#N/A"}]
[null,null,null,null,null,null,null,null,null,null,null,null,null,null,null,null,null,null,2000,{"$f":"IFERROR(VLOOKUP(S2023,Journal!$R:$AQ,26,FALSE),\"\")","v":""},{"$error":"#VALUE!"},{"$error":"#N/A"},"",{"$f":"IFERROR(VLOOKUP(S2023,Journal!$R:$AV,32,FALSE),\"\")","v":""},null,null,null,null,{"$f":"IFERROR(VLOOKUP(AA2023, 'Daily Snapshot'!$B:$J,7,FALSE),\"\")","v":""},null,null,null,null,2020,{"$f":"IFERROR(VLOOKUP(AH2023,Journal!$R:$S,2,FALSE),\"\")","v":""},0,0,null,null,null,null,null,null,null,null,null,null,null,null,null,null,null,null,null,null,null,null,null,null,1994,0,25025.38,{"$error":"#N/A"}]
[null,null,null,null,null,null,null,null,null,null,null,null,null,null,null,null,null,null,2012,{"$f":"IFERROR(VLOOKUP(S2035,Journal!$R:$AQ,26,FALSE),\"\")","v":""},{"$error":"#VALUE!"},{"$error":"#N/A"},"",{"$f":"IFERROR(VLOOKUP(S2035,Journal!$R:$AV,32,FALSE),\"\")","v":""},null,null,null,null,{"$f":"IFERROR(VLOOKUP(AA2035, 'Daily Snapshot'!$B:$J,7,FALSE),\"\")","v":""},null,null,null,null,2032,{"$f":"IFERROR(VLOOKUP(AH2035,Journal!$R:$S,2,FALSE),\"\")","v":""},0,0,null,null,null,null,null,null,null,null,null,null,null,null,null,null,null,null,null,null,null,null,null,null,2006,0,25025.38,{"$error":"#N/A"}]
[null,null,null,null,null,null,null,null,null,null,null,null,null,null,null,null,null,null,2024,{"$f":"IFERROR(VLOOKUP(S2047,Journal!$R:$AQ,26,FALSE),\"\")","v":""},{"$error":"#VALUE!"},{"$error":"#N/A"},"",{"$f":"IFERROR(VLOOKUP(S2047,Journal!$R:$AV,32,FALSE),\"\")","v":""},null,null,null,null,{"$f":"IFERROR(VLOOKUP(AA2047, 'Daily Snapshot'!$B:$J,7,FALSE),\"\")","v":""},null,null,null,null,2044,{"$f":"IFERROR(VLOOKUP(AH2047,Journal!$R:$S,2,FALSE),\"\")","v":""},0,0,null,null,null,null,null,null,null,null,null,null,null,null,null,null,null,null,null,null,null,null,null,null,2018,0,25025.38,{"$error":"#N/A"}]
[null,null,null,null,null,null,null,null,null,null,null,null,null,null,null,null,null,null,2027,{"$f":"IFERROR(VLOOKUP(S2050,Journal!$R:$AQ,26,FALSE),\"\")","v":""},{"$error":"#VALUE!"},{"$error":"#N/A"},"",{"$f":"IFERROR(VLOOKUP(S2050,Journal!$R:$AV,32,FALSE),\"\")","v":""},null,null,null,null,{"$f":"IFERROR(VLOOKUP(AA2050, 'Daily Snapshot'!$B:$J,7,FALSE),\"\")","v":""},null,null,null,null,2047,{"$f":"IFERROR(VLOOKUP(AH2050,Journal!$R:$S,2,FALSE),\"\")","v":""},0,0,null,null,null,null,null,null,null,null,null,null,null,null,null,null,null,null,null,null,null,null,null,null,2021,0,25025.38,{"$error":"#N/A"}]
[null,null,null,null,null,null,null,null,null,null,null,null,null,null,null,null,null,null,2042,{"$f":"IFERROR(VLOOKUP(S2065,Journal!$R:$AQ,26,FALSE),\"\")","v":""},{"$error":"#VALUE!"},{"$error":"#N/A"},"",{"$f":"IFERROR(VLOOKUP(S2065,Journal!$R:$AV,32,FALSE),\"\")","v":""},null,null,null,null,{"$f":"IFERROR(VLOOKUP(AA2065, 'Daily Snapshot'!$B:$J,7,FALSE),\"\")","v":""},null,null,null,null,2062,{"$f":"IFERROR(VLOOKUP(AH2065,Journal!$R:$S,2,FALSE),\"\")","v":""},0,0,null,null,null,null,null,null,null,null,null,null,null,null,null,null,null,null,null,null,null,null,null,null,2036,0,25025.38,{"$error":"#N/A"}]
[null,null,null,null,null,null,null,null,null,null,null,null,null,null,null,null,null,null,2045,{"$f":"IFERROR(VLOOKUP(S2068,Journal!$R:$AQ,26,FALSE),\"\")","v":""},{"$error":"#VALUE!"},{"$error":"#N/A"},"",{"$f":"IFERROR(VLOOKUP(S2068,Journal!$R:$AV,32,FALSE),\"\")","v":""},null,null,null,null,{"$f":"IFERROR(VLOOKUP(AA2068, 'Daily Snapshot'!$B:$J,7,FALSE),\"\")","v":""},null,null,null,null,2065,{"$f":"IFERROR(VLOOKUP(AH2068,Journal!$R:$S,2,FALSE),\"\")","v":""},0,0,null,null,null,null,null,null,null,null,null,null,null,null,null,null,null,null,null,null,null,null,null,null,2039,0,25025.38,{"$error":"#N/A"}]
[null,null,null,null,null,null,null,null,null,null,null,null,null,null,null,null,null,null,2052,{"$f":"IFERROR(VLOOKUP(S2075,Journal!$R:$AQ,26,FALSE),\"\")","v":""},{"$error":"#VALUE!"},{"$error":"#N/A"},"",{"$f":"IFERROR(VLOOKUP(S2075,Journal!$R:$AV,32,FALSE),\"\")","v":""},null,null,null,null,{"$f":"IFERROR(VLOOKUP(AA2075, 'Daily Snapshot'!$B:$J,7,FALSE),\"\")","v":""},null,null,null,null,2072,{"$f":"IFERROR(VLOOKUP(AH2075,Journal!$R:$S,2,FALSE),\"\")","v":""},0,0,null,null,null,null,null,null,null,null,null,null,null,null,null,null,null,null,null,null,null,null,null,null,2046,0,25025.38,{"$error":"#N/A"}]
[null,null,null,null,null,null,null,null,null,null,null,null,null,null,null,null,null,null,2064,{"$f":"IFERROR(VLOOKUP(S2087,Journal!$R:$AQ,26,FALSE),\"\")","v":""},{"$error":"#VALUE!"},{"$error":"#N/A"},"",{"$f":"IFERROR(VLOOKUP(S2087,Journal!$R:$AV,32,FALSE),\"\")","v":""},null,null,null,null,{"$f":"IFERROR(VLOOKUP(AA2087, 'Daily Snapshot'!$B:$J,7,FALSE),\"\")","v":""},null,null,null,null,2084,{"$f":"IFERROR(VLOOKUP(AH2087,Journal!$R:$S,2,FALSE),\"\")","v":""},0,0,null,null,null,null,null,null,null,null,null,null,null,null,null,null,null,null,null,null,null,null,null,null,2058,0,25025.38,{"$error":"#N/A"}]
[null,null,null,null,null,null,null,null,null,null,null,null,null,null,null,null,null,null,2076,{"$f":"IFERROR(VLOOKUP(S2099,Journal!$R:$AQ,26,FALSE),\"\")","v":""},{"$error":"#VALUE!"},{"$error":"#N/A"},"",{"$f":"IFERROR(VLOOKUP(S2099,Journal!$R:$AV,32,FALSE),\"\")","v":""},null,null,null,null,{"$f":"IFERROR(VLOOKUP(AA2099, 'Daily Snapshot'!$B:$J,7,FALSE),\"\")","v":""},null,null,null,null,2096,{"$f":"IFERROR(VLOOKUP(AH2099,Journal!$R:$S,2,FALSE),\"\")","v":""},0,0,null,null,null,null,null,null,null,null,null,null,null,null,null,null,null,null,null,null,null,null,null,null,2070,0,25025.38,{"$error":"#N/A"}]
[null,null,null,null,null,null,null,null,null,null,null,null,null,null,null,null,null,null,2082,{"$f":"IFERROR(VLOOKUP(S2105,Journal!$R:$AQ,26,FALSE),\"\")","v":""},{"$error":"#VALUE!"},{"$error":"#N/A"},"",{"$f":"IFERROR(VLOOKUP(S2105,Journal!$R:$AV,32,FALSE),\"\")","v":""},null,null,null,null,{"$f":"IFERROR(VLOOKUP(AA2105, 'Daily Snapshot'!$B:$J,7,FALSE),\"\")","v":""},null,null,null,null,2102,{"$f":"IFERROR(VLOOKUP(AH2105,Journal!$R:$S,2,FALSE),\"\")","v":""},0,0,null,null,null,null,null,null,null,null,null,null,null,null,null,null,null,null,null,null,null,null,null,null,2076,0,25025.38,{"$error":"#N/A"}]
[null,null,null,null,null,null,null,null,null,null,null,null,null,null,null,null,null,null,2094,{"$f":"IFERROR(VLOOKUP(S2117,Journal!$R:$AQ,26,FALSE),\"\")","v":""},{"$error":"#VALUE!"},{"$error":"#N/A"},"",{"$f":"IFERROR(VLOOKUP(S2117,Journal!$R:$AV,32,FALSE),\"\")","v":""},null,null,null,null,{"$f":"IFERROR(VLOOKUP(AA2117, 'Daily Snapshot'!$B:$J,7,FALSE),\"\")","v":""},null,null,null,null,2114,{"$f":"IFERROR(VLOOKUP(AH2117,Journal!$R:$S,2,FALSE),\"\")","v":""},0,0,null,null,null,null,null,null,null,null,null,null,null,null,null,null,null,null,null,null,null,null,null,null,2088,0,25025.38,{"$error":"#N/A"}]
[null,null,null,null,null,null,null,null,null,null,null,null,null,null,null,null,null,null,2101,{"$f":"IFERROR(VLOOKUP(S2124,Journal!$R:$AQ,26,FALSE),\"\")","v":""},{"$error":"#VALUE!"},{"$error":"#N/A"},"",{"$f":"IFERROR(VLOOKUP(S2124,Journal!$R:$AV,32,FALSE),\"\")","v":""},null,null,null,null,{"$f":"IFERROR(VLOOKUP(AA2124, 'Daily Snapshot'!$B:$J,7,FALSE),\"\")","v":""},null,null,null,null,2121,{"$f":"IFERROR(VLOOKUP(AH2124,Journal!$R:$S,2,FALSE),\"\")","v":""},0,0,null,null,null,null,null,null,null,null,null,null,null,null,null,null,null,null,null,null,null,null,null,null,2095,0,25025.38,{"$error":"#N/A"}]
[null,null,null,null,null,null,null,null,null,null,null,null,null,null,null,null,null,null,2113,{"$f":"IFERROR(VLOOKUP(S2136,Journal!$R:$AQ,26,FALSE),\"\")","v":""},{"$error":"#VALUE!"},{"$error":"#N/A"},"",{"$f":"IFERROR(VLOOKUP(S2136,Journal!$R:$AV,32,FALSE),\"\")","v":""},null,null,null,null,{"$f":"IFERROR(VLOOKUP(AA2136, 'Daily Snapshot'!$B:$J,7,FALSE),\"\")","v":""},null,null,null,null,2133,{"$f":"IFERROR(VLOOKUP(AH2136,Journal!$R:$S,2,FALSE),\"\")","v":""},0,0,null,null,null,null,null,null,null,null,null,null,null,null,null,null,null,null,null,null,null,null,null,null,2107,0,25025.38,{"$error":"#N/A"}]
[null,null,null,null,null,null,null,null,null,null,null,null,null,null,null,null,null,null,2117,{"$f":"IFERROR(VLOOKUP(S2140,Journal!$R:$AQ,26,FALSE),\"\")","v":""},{"$error":"#VALUE!"},{"$f":"IF(OR(T2140=0,T2140<$H$26,T2140>$H$27),NA(),T2140+U2139)","v":{"$error":"#N/A"}},"",{"$f":"IFERROR(VLOOKUP(S2140,Journal!$R:$AV,32,FALSE),\"\")","v":""},null,null,null,null,{"$f":"IFERROR(VLOOKUP(AA2140, 'Daily Snapshot'!$B:$J,7,FALSE),\"\")","v":""},null,null,null,null,2137,{"$f":"IFERROR(VLOOKUP(AH2140,Journal!$R:$S,2,FALSE),\"\")","v":""},0,0,null,null,null,null,null,null,null,null,null,null,null,null,null,null,null,null,null,null,null,null,null,null,2111,0,25025.38,{"$error":"#N/A"}]
[null,null,null,null,null,null,null,null,null,null,null,null,null,null,null,null,null,null,2122,{"$f":"IFERROR(VLOOKUP(S2145,Journal!$R:$AQ,26,FALSE),\"\")","v":""},{"$error":"#VALUE!"},{"$error":"#N/A"},"",{"$f":"IFERROR(VLOOKUP(S2145,Journal!$R:$AV,32,FALSE),\"\")","v":""},null,null,null,null,{"$f":"IFERROR(VLOOKUP(AA2145, 'Daily Snapshot'!$B:$J,7,FALSE),\"\")","v":""},null,null,null,null,2142,{"$f":"IFERROR(VLOOKUP(AH2145,Journal!$R:$S,2,FALSE),\"\")","v":""},0,0,null,null,null,null,null,null,null,null,null,null,null,null,null,null,null,null,null,null,null,null,null,null,2116,0,25025.38,{"$error":"#N/A"}]
[null,null,null,null,null,null,null,null,null,null,null,null,null,null,null,null,null,null,2134,{"$f":"IFERROR(VLOOKUP(S2157,Journal!$R:$AQ,26,FALSE),\"\")","v":""},{"$error":"#VALUE!"},{"$error":"#N/A"},"",{"$f":"IFERROR(VLOOKUP(S2157,Journal!$R:$AV,32,FALSE),\"\")","v":""},null,null,null,null,{"$f":"IFERROR(VLOOKUP(AA2157, 'Daily Snapshot'!$B:$J,7,FALSE),\"\")","v":""},null,null,null,null,2154,{"$f":"IFERROR(VLOOKUP(AH2157,Journal!$R:$S,2,FALSE),\"\")","v":""},0,0,null,null,null,null,null,null,null,null,null,null,null,null,null,null,null,null,null,null,null,null,null,null,2128,0,25025.38,{"$error":"#N/A"}]
[null,null,null,null,null,null,null,null,null,null,null,null,null,null,null,null,null,null,2141,{"$f":"IFERROR(VLOOKUP(S2164,Journal!$R:$AQ,26,FALSE),\"\")","v":""},{"$error":"#VALUE!"},{"$error":"#N/A"},"",{"$f":"IFERROR(VLOOKUP(S2164,Journal!$R:$AV,32,FALSE),\"\")","v":""},null,null,null,null,{"$f":"IFERROR(VLOOKUP(AA2164, 'Daily Snapshot'!$B:$J,7,FALSE),\"\")","v":""},null,null,null,null,2161,{"$f":"IFERROR(VLOOKUP(AH2164,Journal!$R:$S,2,FALSE),\"\")","v":""},0,0,null,null,null,null,null,null,null,null,null,null,null,null,null,null,null,null,null,null,null,null,null,null,2135,0,25025.38,{"$error":"#N/A"}]
[null,null,null,null,null,null,null,null,null,null,null,null,null,null,null,null,null,null,2153,{"$f":"IFERROR(VLOOKUP(S2176,Journal!$R:$AQ,26,FALSE),\"\")","v":""},{"$error":"#VALUE!"},{"$error":"#N/A"},"",{"$f":"IFERROR(VLOOKUP(S2176,Journal!$R:$AV,32,FALSE),\"\")","v":""},null,null,null,null,{"$f":"IFERROR(VLOOKUP(AA2176, 'Daily Snapshot'!$B:$J,7,FALSE),\"\")","v":""},null,null,null,null,2173,{"$f":"IFERROR(VLOOKUP(AH2176,Journal!$R:$S,2,FALSE),\"\")","v":""},0,0,null,null,null,null,null,null,null,null,null,null,null,null,null,null,null,null,null,null,null,null,null,null,2147,0,25025.38,{"$error":"#N/A"}]
[null,null,null,null,null,null,null,null,null,null,null,null,null,null,null,null,null,null,2158,{"$f":"IFERROR(VLOOKUP(S2181,Journal!$R:$AQ,26,FALSE),\"\")","v":""},{"$error":"#VALUE!"},{"$error":"#N/A"},"",{"$f":"IFERROR(VLOOKUP(S2181,Journal!$R:$AV,32,FALSE),\"\")","v":""},null,null,null,null,{"$f":"IFERROR(VLOOKUP(AA2181, 'Daily Snapshot'!$B:$J,7,FALSE),\"\")","v":""},null,null,null,null,2178,{"$f":"IFERROR(VLOOKUP(AH2181,Journal!$R:$S,2,FALSE),\"\")","v":""},0,0,null,null,null,null,null,null,null,null,null,null,null,null,null,null,null,null,null,null,null,null,null,null,2152,0,25025.38,{"$error":"#N/A"}]
[null,null,null,null,null,null,null,null,null,null,null,null,null,null,null,null,null,null,2171,{"$f":"IFERROR(VLOOKUP(S2194,Journal!$R:$AQ,26,FALSE),\"\")","v":""},{"$error":"#VALUE!"},{"$error":"#N/A"},"",{"$f":"IFERROR(VLOOKUP(S2194,Journal!$R:$AV,32,FALSE),\"\")","v":""},null,null,null,null,{"$f":"IFERROR(VLOOKUP(AA2194, 'Daily Snapshot'!$B:$J,7,FALSE),\"\")","v":""},null,null,null,null,2191,{"$f":"IFERROR(VLOOKUP(AH2194,Journal!$R:$S,2,FALSE),\"\")","v":""},0,0,null,null,null,null,null,null,null,null,null,null,null,null,null,null,null,null,null,null,null,null,null,null,2165,0,25025.38,{"$error":"#N/A"}]
[null,null,null,null,null,null,null,null,null,null,null,null,null,null,null,null,null,null,2183,{"$f":"IFERROR(VLOOKUP(S2206,Journal!$R:$AQ,26,FALSE),\"\")","v":""},{"$error":"#VALUE!"},{"$error":"#N/A"},"",{"$f":"IFERROR(VLOOKUP(S2206,Journal!$R:$AV,32,FALSE),\"\")","v":""},null,null,null,null,{"$f":"IFERROR(VLOOKUP(AA2206, 'Daily Snapshot'!$B:$J,7,FALSE),\"\")","v":""},null,null,null,null,2203,{"$f":"IFERROR(VLOOKUP(AH2206,Journal!$R:$S,2,FALSE),\"\")","v":""},0,0,null,null,null,null,null,null,null,null,null,null,null,null,null,null,null,null,null,null,null,null,null,null,2177,0,25025.38,{"$error":"#N/A"}]
[null,null,null,null,null,null,null,null,null,null,null,null,null,null,null,null,null,null,2190,{"$f":"IFERROR(VLOOKUP(S2213,Journal!$R:$AQ,26,FALSE),\"\")","v":""},{"$error":"#VALUE!"},{"$error":"#N/A"},"",{"$f":"IFERROR(VLOOKUP(S2213,Journal!$R:$AV,32,FALSE),\"\")","v":""},null,null,null,null,{"$f":"IFERROR(VLOOKUP(AA2213, 'Daily Snapshot'!$B:$J,7,FALSE),\"\")","v":""},null,null,null,null,2210,{"$f":"IFERROR(VLOOKUP(AH2213,Journal!$R:$S,2,FALSE),\"\")","v":""},0,0,null,null,null,null,null,null,null,null,null,null,null,null,null,null,null,null,null,null,null,null,null,null,2184,0,25025.38,{"$error":"#N/A"}]
[null,null,null,null,null,null,null,null,null,null,null,null,null,null,null,null,null,null,2193,{"$f":"IFERROR(VLOOKUP(S2216,Journal!$R:$AQ,26,FALSE),\"\")","v":""},{"$error":"#VALUE!"},{"$error":"#N/A"},"",{"$f":"IFERROR(VLOOKUP(S2216,Journal!$R:$AV,32,FALSE),\"\")","v":""},null,null,null,null,{"$f":"IFERROR(VLOOKUP(AA2216, 'Daily Snapshot'!$B:$J,7,FALSE),\"\")","v":""},null,null,null,null,2213,{"$f":"IFERROR(VLOOKUP(AH2216,Journal!$R:$S,2,FALSE),\"\")","v":""},0,0,null,null,null,null,null,null,null,null,null,null,null,null,null,null,null,null,null,null,null,null,null,null,2187,0,25025.38,{"$error":"#N/A"}]
[null,null,null,null,null,null,null,null,null,null,null,null,null,null,null,null,null,null,2207,{"$f":"IFERROR(VLOOKUP(S2230,Journal!$R:$AQ,26,FALSE),\"\")","v":""},{"$error":"#VALUE!"},{"$error":"#N/A"},"",{"$f":"IFERROR(VLOOKUP(S2230,Journal!$R:$AV,32,FALSE),\"\")","v":""},null,null,null,null,{"$f":"IFERROR(VLOOKUP(AA2230, 'Daily Snapshot'!$B:$J,7,FALSE),\"\")","v":""},null,null,null,null,2227,{"$f":"IFERROR(VLOOKUP(AH2230,Journal!$R:$S,2,FALSE),\"\")","v":""},0,0,null,null,null,null,null,null,null,null,null,null,null,null,null,null,null,null,null,null,null,null,null,null,2201,0,25025.38,{"$error":"#N/A"}]
[null,null,null,null,null,null,null,null,null,null,null,null,null,null,null,null,null,null,2211,{"$f":"IFERROR(VLOOKUP(S2234,Journal!$R:$AQ,26,FALSE),\"\")","v":""},{"$error":"#VALUE!"},{"$error":"#N/A"},"",{"$f":"IFERROR(VLOOKUP(S2234,Journal!$R:$AV,32,FALSE),\"\")","v":""},null,null,null,null,{"$f":"IFERROR(VLOOKUP(AA2234, 'Daily Snapshot'!$B:$J,7,FALSE),\"\")","v":""},null,null,null,null,2231,{"$f":"IFERROR(VLOOKUP(AH2234,Journal!$R:$S,2,FALSE),\"\")","v":""},0,0,null,null,null,null,null,null,null,null,null,null,null,null,null,null,null,null,null,null,null,null,null,null,2205,0,25025.38,{"$error":"#N/A"}]
[null,null,null,null,null,null,null,null,null,null,null,null,null,null,null,null,null,null,2223,{"$f":"IFERROR(VLOOKUP(S2246,Journal!$R:$AQ,26,FALSE),\"\")","v":""},{"$error":"#VALUE!"},{"$error":"#N/A"},"",{"$f":"IFERROR(VLOOKUP(S2246,Journal!$R:$AV,32,FALSE),\"\")","v":""},null,null,null,null,{"$f":"IFERROR(VLOOKUP(AA2246, 'Daily Snapshot'!$B:$J,7,FALSE),\"\")","v":""},null,null,null,null,2243,{"$f":"IFERROR(VLOOKUP(AH2246,Journal!$R:$S,2,FALSE),\"\")","v":""},0,0,null,null,null,null,null,null,null,null,null,null,null,null,null,null,null,null,null,null,null,null,null,null,2217,0,25025.38,{"$error":"#N/A"}]
[null,null,null,null,null,null,null,null,null,null,null,null,null,null,null,null,null,null,2230,{"$f":"IFERROR(VLOOKUP(S2253,Journal!$R:$AQ,26,FALSE),\"\")","v":""},{"$error":"#VALUE!"},{"$error":"#N/A"},"",{"$f":"IFERROR(VLOOKUP(S2253,Journal!$R:$AV,32,FALSE),\"\")","v":""},null,null,null,null,{"$f":"IFERROR(VLOOKUP(AA2253, 'Daily Snapshot'!$B:$J,7,FALSE),\"\")","v":""},null,null,null,null,2250,{"$f":"IFERROR(VLOOKUP(AH2253,Journal!$R:$S,2,FALSE),\"\")","v":""},0,0,null,null,null,null,null,null,null,null,null,null,null,null,null,null,null,null,null,null,null,null,null,null,2224,0,25025.38,{"$error":"#N/A"}]
[null,null,null,null,null,null,null,null,null,null,null,null,null,null,null,null,null,null,2238,{"$f":"IFERROR(VLOOKUP(S2261,Journal!$R:$AQ,26,FALSE),\"\")","v":""},{"$error":"#VALUE!"},{"$error":"#N/A"},"",{"$f":"IFERROR(VLOOKUP(S2261,Journal!$R:$AV,32,FALSE),\"\")","v":""},null,null,null,null,{"$f":"IFERROR(VLOOKUP(AA2261, 'Daily Snapshot'!$B:$J,7,FALSE),\"\")","v":""},null,null,null,null,2258,{"$f":"IFERROR(VLOOKUP(AH2261,Journal!$R:$S,2,FALSE),\"\")","v":""},0,0,null,null,null,null,null,null,null,null,null,null,null,null,null,null,null,null,null,null,null,null,null,null,2232,0,25025.38,{"$error":"#N/A"}]
[null,null,null,null,null,null,null,null,null,null,null,null,null,null,null,null,null,null,2253,{"$f":"IFERROR(VLOOKUP(S2276,Journal!$R:$AQ,26,FALSE),\"\")","v":""},{"$error":"#VALUE!"},{"$error":"#N/A"},"",{"$f":"IFERROR(VLOOKUP(S2276,Journal!$R:$AV,32,FALSE),\"\")","v":""},null,null,null,null,{"$f":"IFERROR(VLOOKUP(AA2276, 'Daily Snapshot'!$B:$J,7,FALSE),\"\")","v":""},null,null,null,null,2273,{"$f":"IFERROR(VLOOKUP(AH2276,Journal!$R:$S,2,FALSE),\"\")","v":""},0,0,null,null,null,null,null,null,null,null,null,null,null,null,null,null,null,null,null,null,null,null,null,null,2247,0,25025.38,{"$error":"#N/A"}]
[null,null,null,null,null,null,null,null,null,null,null,null,null,null,null,null,null,null,2260,{"$f":"IFERROR(VLOOKUP(S2283,Journal!$R:$AQ,26,FALSE),\"\")","v":""},{"$error":"#VALUE!"},{"$error":"#N/A"},"",{"$f":"IFERROR(VLOOKUP(S2283,Journal!$R:$AV,32,FALSE),\"\")","v":""},null,null,null,null,{"$f":"IFERROR(VLOOKUP(AA2283, 'Daily Snapshot'!$B:$J,7,FALSE),\"\")","v":""},null,null,null,null,2280,{"$f":"IFERROR(VLOOKUP(AH2283,Journal!$R:$S,2,FALSE),\"\")","v":""},0,0,null,null,null,null,null,null,null,null,null,null,null,null,null,null,null,null,null,null,null,null,null,null,2254,0,25025.38,{"$error":"#N/A"}]
[null,null,null,null,null,null,null,null,null,null,null,null,null,null,null,null,null,null,2263,{"$f":"IFERROR(VLOOKUP(S2286,Journal!$R:$AQ,26,FALSE),\"\")","v":""},{"$error":"#VALUE!"},{"$error":"#N/A"},"",{"$f":"IFERROR(VLOOKUP(S2286,Journal!$R:$AV,32,FALSE),\"\")","v":""},null,null,null,null,{"$f":"IFERROR(VLOOKUP(AA2286, 'Daily Snapshot'!$B:$J,7,FALSE),\"\")","v":""},null,null,null,null,2283,{"$f":"IFERROR(VLOOKUP(AH2286,Journal!$R:$S,2,FALSE),\"\")","v":""},0,0,null,null,null,null,null,null,null,null,null,null,null,null,null,null,null,null,null,null,null,null,null,null,2257,0,25025.38,{"$error":"#N/A"}]
[null,null,null,null,null,null,null,null,null,null,null,null,null,null,null,null,null,null,2275,{"$f":"IFERROR(VLOOKUP(S2298,Journal!$R:$AQ,26,FALSE),\"\")","v":""},{"$error":"#VALUE!"},{"$error":"#N/A"},"",{"$f":"IFERROR(VLOOKUP(S2298,Journal!$R:$AV,32,FALSE),\"\")","v":""},null,null,null,null,{"$f":"IFERROR(VLOOKUP(AA2298, 'Daily Snapshot'!$B:$J,7,FALSE),\"\")","v":""},null,null,null,null,2295,{"$f":"IFERROR(VLOOKUP(AH2298,Journal!$R:$S,2,FALSE),\"\")","v":""},0,0,null,null,null,null,null,null,null,null,null,null,null,null,null,null,null,null,null,null,null,null,null,null,2269,0,25025.38,{"$error":"#N/A"}]
[null,null,null,null,null,null,null,null,null,null,null,null,null,null,null,null,null,null,2287,{"$f":"IFERROR(VLOOKUP(S2310,Journal!$R:$AQ,26,FALSE),\"\")","v":""},{"$error":"#VALUE!"},{"$error":"#N/A"},"",{"$f":"IFERROR(VLOOKUP(S2310,Journal!$R:$AV,32,FALSE),\"\")","v":""},null,null,null,null,{"$f":"IFERROR(VLOOKUP(AA2310, 'Daily Snapshot'!$B:$J,7,FALSE),\"\")","v":""},null,null,null,null,2307,{"$f":"IFERROR(VLOOKUP(AH2310,Journal!$R:$S,2,FALSE),\"\")","v":""},0,0,null,null,null,null,null,null,null,null,null,null,null,null,null,null,null,null,null,null,null,null,null,null,2281,0,25025.38,{"$error":"#N/A"}]
[null,null,null,null,null,null,null,null,null,null,null,null,null,null,null,null,null,null,2293,{"$f":"IFERROR(VLOOKUP(S2316,Journal!$R:$AQ,26,FALSE),\"\")","v":""},{"$error":"#VALUE!"},{"$error":"#N/A"},"",{"$f":"IFERROR(VLOOKUP(S2316,Journal!$R:$AV,32,FALSE),\"\")","v":""},null,null,null,null,{"$f":"IFERROR(VLOOKUP(AA2316, 'Daily Snapshot'!$B:$J,7,FALSE),\"\")","v":""},null,null,null,null,2313,{"$f":"IFERROR(VLOOKUP(AH2316,Journal!$R:$S,2,FALSE),\"\")","v":""},0,0,null,null,null,null,null,null,null,null,null,null,null,null,null,null,null,null,null,null,null,null,null,null,2287,0,25025.38,{"$error":"#N/A"}]
[null,null,null,null,null,null,null,null,null,null,null,null,null,null,null,null,null,null,2300,{"$f":"IFERROR(VLOOKUP(S2323,Journal!$R:$AQ,26,FALSE),\"\")","v":""},{"$error":"#VALUE!"},{"$error":"#N/A"},"",{"$f":"IFERROR(VLOOKUP(S2323,Journal!$R:$AV,32,FALSE),\"\")","v":""},null,null,null,null,{"$f":"IFERROR(VLOOKUP(AA2323, 'Daily Snapshot'!$B:$J,7,FALSE),\"\")","v":""},null,null,null,null,2320,{"$f":"IFERROR(VLOOKUP(AH2323,Journal!$R:$S,2,FALSE),\"\")","v":""},0,0,null,null,null,null,null,null,null,null,null,null,null,null,null,null,null,null,null,null,null,null,null,null,2294,0,25025.38,{"$error":"#N/A"}]
[null,null,null,null,null,null,null,null,null,null,null,null,null,null,null,null,null,null,2312,{"$f":"IFERROR(VLOOKUP(S2335,Journal!$R:$AQ,26,FALSE),\"\")","v":""},{"$error":"#VALUE!"},{"$error":"#N/A"},"",{"$f":"IFERROR(VLOOKUP(S2335,Journal!$R:$AV,32,FALSE),\"\")","v":""},null,null,null,null,{"$f":"IFERROR(VLOOKUP(AA2335, 'Daily Snapshot'!$B:$J,7,FALSE),\"\")","v":""},null,null,null,null,2332,{"$f":"IFERROR(VLOOKUP(AH2335,Journal!$R:$S,2,FALSE),\"\")","v":""},0,0,null,null,null,null,null,null,null,null,null,null,null,null,null,null,null,null,null,null,null,null,null,null,2306,0,{"$f":"BI2335+BJ2334","v":25025.38},{"$error":"#N/A"}]
[null,null,null,null,null,null,null,null,null,null,null,null,null,null,null,null,null,null,2324,{"$f":"IFERROR(VLOOKUP(S2347,Journal!$R:$AQ,26,FALSE),\"\")","v":""},{"$error":"#VALUE!"},{"$error":"#N/A"},"",{"$f":"IFERROR(VLOOKUP(S2347,Journal!$R:$AV,32,FALSE),\"\")","v":""},null,null,null,null,{"$f":"IFERROR(VLOOKUP(AA2347, 'Daily Snapshot'!$B:$J,7,FALSE),\"\")","v":""},null,null,null,null,2344,{"$f":"IFERROR(VLOOKUP(AH2347,Journal!$R:$S,2,FALSE),\"\")","v":""},0,0,null,null,null,null,null,null,null,null,null,null,null,null,null,null,null,null,null,null,null,null,null,null,2318,0,25025.38,{"$error":"#N/A"}]
[null,null,null,null,null,null,null,null,null,null,null,null,null,null,null,null,null,null,2328,{"$f":"IFERROR(VLOOKUP(S2351,Journal!$R:$AQ,26,FALSE),\"\")","v":""},{"$error":"#VALUE!"},{"$error":"#N/A"},"",{"$f":"IFERROR(VLOOKUP(S2351,Journal!$R:$AV,32,FALSE),\"\")","v":""},null,null,null,null,{"$f":"IFERROR(VLOOKUP(AA2351, 'Daily Snapshot'!$B:$J,7,FALSE),\"\")","v":""},null,null,null,null,2348,{"$f":"IFERROR(VLOOKUP(AH2351,Journal!$R:$S,2,FALSE),\"\")","v":""},0,0,null,null,null,null,null,null,null,null,null,null,null,null,null,null,null,null,null,null,null,null,null,null,2322,0,25025.38,{"$error":"#N/A"}]
[null,null,null,null,null,null,null,null,null,null,null,null,null,null,null,null,null,null,2333,{"$f":"IFERROR(VLOOKUP(S2356,Journal!$R:$AQ,26,FALSE),\"\")","v":""},{"$error":"#VALUE!"},{"$error":"#N/A"},"",{"$f":"IFERROR(VLOOKUP(S2356,Journal!$R:$AV,32,FALSE),\"\")","v":""},null,null,null,null,{"$f":"IFERROR(VLOOKUP(AA2356, 'Daily Snapshot'!$B:$J,7,FALSE),\"\")","v":""},null,null,null,null,2353,{"$f":"IFERROR(VLOOKUP(AH2356,Journal!$R:$S,2,FALSE),\"\")","v":""},0,0,null,null,null,null,null,null,null,null,null,null,null,null,null,null,null,null,null,null,null,null,null,null,2327,0,25025.38,{"$error":"#N/A"}]
[null,null,null,null,null,null,null,null,null,null,null,null,null,null,null,null,null,null,2345,{"$f":"IFERROR(VLOOKUP(S2368,Journal!$R:$AQ,26,FALSE),\"\")","v":""},{"$error":"#VALUE!"},{"$error":"#N/A"},"",{"$f":"IFERROR(VLOOKUP(S2368,Journal!$R:$AV,32,FALSE),\"\")","v":""},null,null,null,null,{"$f":"IFERROR(VLOOKUP(AA2368, 'Daily Snapshot'!$B:$J,7,FALSE),\"\")","v":""},null,null,null,null,2365,{"$f":"IFERROR(VLOOKUP(AH2368,Journal!$R:$S,2,FALSE),\"\")","v":""},0,0,null,null,null,null,null,null,null,null,null,null,null,null,null,null,null,null,null,null,null,null,null,null,2339,0,25025.38,{"$error":"#N/A"}]
[null,null,null,null,null,null,null,null,null,null,null,null,null,null,null,null,null,null,2352,{"$f":"IFERROR(VLOOKUP(S2375,Journal!$R:$AQ,26,FALSE),\"\")","v":""},{"$error":"#VALUE!"},{"$error":"#N/A"},"",{"$f":"IFERROR(VLOOKUP(S2375,Journal!$R:$AV,32,FALSE),\"\")","v":""},null,null,null,null,{"$f":"IFERROR(VLOOKUP(AA2375, 'Daily Snapshot'!$B:$J,7,FALSE),\"\")","v":""},null,null,null,null,2372,{"$f":"IFERROR(VLOOKUP(AH2375,Journal!$R:$S,2,FALSE),\"\")","v":""},0,0,null,null,null,null,null,null,null,null,null,null,null,null,null,null,null,null,null,null,null,null,null,null,2346,0,25025.38,{"$error":"#N/A"}]
[null,null,null,null,null,null,null,null,null,null,null,null,null,null,null,null,null,null,2364,{"$f":"IFERROR(VLOOKUP(S2387,Journal!$R:$AQ,26,FALSE),\"\")","v":""},{"$error":"#VALUE!"},{"$error":"#N/A"},"",{"$f":"IFERROR(VLOOKUP(S2387,Journal!$R:$AV,32,FALSE),\"\")","v":""},null,null,null,null,{"$f":"IFERROR(VLOOKUP(AA2387, 'Daily Snapshot'!$B:$J,7,FALSE),\"\")","v":""},null,null,null,null,2384,{"$f":"IFERROR(VLOOKUP(AH2387,Journal!$R:$S,2,FALSE),\"\")","v":""},0,0,null,null,null,null,null,null,null,null,null,null,null,null,null,null,null,null,null,null,null,null,null,null,2358,0,25025.38,{"$error":"#N/A"}]
[null,null,null,null,null,null,null,null,null,null,null,null,null,null,null,null,null,null,2369,{"$f":"IFERROR(VLOOKUP(S2392,Journal!$R:$AQ,26,FALSE),\"\")","v":""},{"$error":"#VALUE!"},{"$error":"#N/A"},"",{"$f":"IFERROR(VLOOKUP(S2392,Journal!$R:$AV,32,FALSE),\"\")","v":""},null,null,null,null,{"$f":"IFERROR(VLOOKUP(AA2392, 'Daily Snapshot'!$B:$J,7,FALSE),\"\")","v":""},null,null,null,null,2389,{"$f":"IFERROR(VLOOKUP(AH2392,Journal!$R:$S,2,FALSE),\"\")","v":""},0,0,null,null,null,null,null,null,null,null,null,null,null,null,null,null,null,null,null,null,null,null,null,null,2363,0,25025.38,{"$error":"#N/A"}]
[null,null,null,null,null,null,null,null,null,null,null,null,null,null,null,null,null,null,2382,{"$f":"IFERROR(VLOOKUP(S2405,Journal!$R:$AQ,26,FALSE),\"\")","v":""},{"$error":"#VALUE!"},{"$error":"#N/A"},"",{"$f":"IFERROR(VLOOKUP(S2405,Journal!$R:$AV,32,FALSE),\"\")","v":""},null,null,null,null,{"$f":"IFERROR(VLOOKUP(AA2405, 'Daily Snapshot'!$B:$J,7,FALSE),\"\")","v":""},null,null,null,null,2402,{"$f":"IFERROR(VLOOKUP(AH2405,Journal!$R:$S,2,FALSE),\"\")","v":""},0,0,null,null,null,null,null,null,null,null,null,null,null,null,null,null,null,null,null,null,null,null,null,null,2376,0,25025.38,{"$error":"#N/A"}]
[null,null,null,null,null,null,null,null,null,null,null,null,null,null,null,null,null,null,2394,{"$f":"IFERROR(VLOOKUP(S2417,Journal!$R:$AQ,26,FALSE),\"\")","v":""},{"$error":"#VALUE!"},{"$error":"#N/A"},"",{"$f":"IFERROR(VLOOKUP(S2417,Journal!$R:$AV,32,FALSE),\"\")","v":""},null,null,null,null,{"$f":"IFERROR(VLOOKUP(AA2417, 'Daily Snapshot'!$B:$J,7,FALSE),\"\")","v":""},null,null,null,null,2414,{"$f":"IFERROR(VLOOKUP(AH2417,Journal!$R:$S,2,FALSE),\"\")","v":""},0,0,null,null,null,null,null,null,null,null,null,null,null,null,null,null,null,null,null,null,null,null,null,null,2388,0,25025.38,{"$error":"#N/A"}]
[null,null,null,null,null,null,null,null,null,null,null,null,null,null,null,null,null,null,2401,{"$f":"IFERROR(VLOOKUP(S2424,Journal!$R:$AQ,26,FALSE),\"\")","v":""},{"$error":"#VALUE!"},{"$error":"#N/A"},"",{"$f":"IFERROR(VLOOKUP(S2424,Journal!$R:$AV,32,FALSE),\"\")","v":""},null,null,null,null,{"$f":"IFERROR(VLOOKUP(AA2424, 'Daily Snapshot'!$B:$J,7,FALSE),\"\")","v":""},null,null,null,null,2421,{"$f":"IFERROR(VLOOKUP(AH2424,Journal!$R:$S,2,FALSE),\"\")","v":""},0,0,null,null,null,null,null,null,null,null,null,null,null,null,null,null,null,null,null,null,null,null,null,null,2395,0,25025.38,{"$error":"#N/A"}]
[null,null,null,null,null,null,null,null,null,null,null,null,null,null,null,null,null,null,2404,{"$f":"IFERROR(VLOOKUP(S2427,Journal!$R:$AQ,26,FALSE),\"\")","v":""},{"$error":"#VALUE!"},{"$error":"#N/A"},"",{"$f":"IFERROR(VLOOKUP(S2427,Journal!$R:$AV,32,FALSE),\"\")","v":""},null,null,null,null,{"$f":"IFERROR(VLOOKUP(AA2427, 'Daily Snapshot'!$B:$J,7,FALSE),\"\")","v":""},null,null,null,null,2424,{"$f":"IFERROR(VLOOKUP(AH2427,Journal!$R:$S,2,FALSE),\"\")","v":""},0,0,null,null,null,null,null,null,null,null,null,null,null,null,null,null,null,null,null,null,null,null,null,null,2398,0,25025.38,{"$error":"#N/A"}]
[null,null,null,null,null,null,null,null,null,null,null,null,null,null,null,null,null,null,2418,{"$f":"IFERROR(VLOOKUP(S2441,Journal!$R:$AQ,26,FALSE),\"\")","v":""},{"$error":"#VALUE!"},{"$error":"#N/A"},"",{"$f":"IFERROR(VLOOKUP(S2441,Journal!$R:$AV,32,FALSE),\"\")","v":""},null,null,null,null,{"$f":"IFERROR(VLOOKUP(AA2441, 'Daily Snapshot'!$B:$J,7,FALSE),\"\")","v":""},null,null,null,null,2438,{"$f":"IFERROR(VLOOKUP(AH2441,Journal!$R:$S,2,FALSE),\"\")","v":""},0,0,null,null,null,null,null,null,null,null,null,null,null,null,null,null,null,null,null,null,null,null,null,null,2412,0,25025.38,{"$error":"#N/A"}]
[null,null,null,null,null,null,null,null,null,null,null,null,null,null,null,null,null,null,2422,{"$f":"IFERROR(VLOOKUP(S2445,Journal!$R:$AQ,26,FALSE),\"\")","v":""},{"$error":"#VALUE!"},{"$error":"#N/A"},"",{"$f":"IFERROR(VLOOKUP(S2445,Journal!$R:$AV,32,FALSE),\"\")","v":""},null,null,null,null,{"$f":"IFERROR(VLOOKUP(AA2445, 'Daily Snapshot'!$B:$J,7,FALSE),\"\")","v":""},null,null,null,null,2442,{"$f":"IFERROR(VLOOKUP(AH2445,Journal!$R:$S,2,FALSE),\"\")","v":""},0,0,null,null,null,null,null,null,null,null,null,null,null,null,null,null,null,null,null,null,null,null,null,null,2416,0,25025.38,{"$error":"#N/A"}]
[null,null,null,null,null,null,null,null,null,null,null,null,null,null,null,null,null,null,2434,{"$f":"IFERROR(VLOOKUP(S2457,Journal!$R:$AQ,26,FALSE),\"\")","v":""},{"$f":"T2457+U2456","v":{"$error":"#VALUE!"}},{"$error":"#N/A"},{"$f":"IFERROR(T2457/$H$25,\"\")","v":""},{"$f":"IFERROR(VLOOKUP(S2457,Journal!$R:$AV,32,FALSE),\"\")","v":""},null,null,null,null,{"$f":"IFERROR(VLOOKUP(AA2457, 'Daily Snapshot'!$B:$J,7,FALSE),\"\")","v":""},null,null,null,null,2454,{"$f":"IFERROR(VLOOKUP(AH2457,Journal!$R:$S,2,FALSE),\"\")","v":""},0,0,null,null,null,null,null,null,null,null,null,null,null,null,null,null,null,null,null,null,null,null,null,null,2428,0,25025.38,{"$error":"#N/A"}]
[null,null,null,null,null,null,null,null,null,null,null,null,null,null,null,null,null,null,2441,{"$f":"IFERROR(VLOOKUP(S2464,Journal!$R:$AQ,26,FALSE),\"\")","v":""},{"$error":"#VALUE!"},{"$error":"#N/A"},"",{"$f":"IFERROR(VLOOKUP(S2464,Journal!$R:$AV,32,FALSE),\"\")","v":""},null,null,null,null,{"$f":"IFERROR(VLOOKUP(AA2464, 'Daily Snapshot'!$B:$J,7,FALSE),\"\")","v":""},null,null,null,null,2461,{"$f":"IFERROR(VLOOKUP(AH2464,Journal!$R:$S,2,FALSE),\"\")","v":""},0,0,null,null,null,null,null,null,null,null,null,null,null,null,null,null,null,null,null,null,null,null,null,null,2435,{"$f":"N2467","v":0},25025.38,{"$error":"#N/A"}]
[null,null,null,null,null,null,null,null,null,null,null,null,null,null,null,null,null,null,2453,{"$f":"IFERROR(VLOOKUP(S2476,Journal!$R:$AQ,26,FALSE),\"\")","v":""},{"$error":"#VALUE!"},{"$error":"#N/A"},"",{"$f":"IFERROR(VLOOKUP(S2476,Journal!$R:$AV,32,FALSE),\"\")","v":""},null,null,null,null,{"$f":"IFERROR(VLOOKUP(AA2476, 'Daily Snapshot'!$B:$J,7,FALSE),\"\")","v":""},null,null,null,null,2473,{"$f":"IFERROR(VLOOKUP(AH2476,Journal!$R:$S,2,FALSE),\"\")","v":""},0,0,null,null,null,null,null,null,null,null,null,null,null,null,null,null,null,null,null,null,null,null,null,null,2447,0,25025.38,{"$error":"#N/A"}]
[null,null,null,null,null,null,null,null,null,null,null,null,null,null,null,null,null,null,2459,{"$f":"IFERROR(VLOOKUP(S2482,Journal!$R:$AQ,26,FALSE),\"\")","v":""},{"$error":"#VALUE!"},{"$error":"#N/A"},"",{"$f":"IFERROR(VLOOKUP(S2482,Journal!$R:$AV,32,FALSE),\"\")","v":""},null,null,null,null,{"$f":"IFERROR(VLOOKUP(AA2482, 'Daily Snapshot'!$B:$J,7,FALSE),\"\")","v":""},null,null,null,null,2479,{"$f":"IFERROR(VLOOKUP(AH2482,Journal!$R:$S,2,FALSE),\"\")","v":""},0,0,null,null,null,null,null,null,null,null,null,null,null,null,null,null,null,null,null,null,null,null,null,null,2453,0,25025.38,{"$error":"#N/A"}]
[null,null,null,null,null,null,null,null,null,null,null,null,null,null,null,null,null,null,2471,{"$f":"IFERROR(VLOOKUP(S2494,Journal!$R:$AQ,26,FALSE),\"\")","v":""},{"$error":"#VALUE!"},{"$error":"#N/A"},"",{"$f":"IFERROR(VLOOKUP(S2494,Journal!$R:$AV,32,FALSE),\"\")","v":""},null,null,null,null,{"$f":"IFERROR(VLOOKUP(AA2494, 'Daily Snapshot'!$B:$J,7,FALSE),\"\")","v":""},null,null,null,null,2491,{"$f":"IFERROR(VLOOKUP(AH2494,Journal!$R:$S,2,FALSE),\"\")","v":""},0,0,null,null,null,null,null,null,null,null,null,null,null,null,null,null,null,null,null,null,null,null,null,null,2465,0,25025.38,{"$error":"#N/A"}]
[null,null,null,null,null,null,null,null,null,null,null,null,null,null,null,null,null,null,2474,{"$f":"IFERROR(VLOOKUP(S2497,Journal!$R:$AQ,26,FALSE),\"\")","v":""},{"$error":"#VALUE!"},{"$error":"#N/A"},"",{"$f":"IFERROR(VLOOKUP(S2497,Journal!$R:$AV,32,FALSE),\"\")","v":""},null,null,null,null,{"$f":"IFERROR(VLOOKUP(AA2497, 'Daily Snapshot'!$B:$J,7,FALSE),\"\")","v":""},null,null,null,null,2494,{"$f":"IFERROR(VLOOKUP(AH2497,Journal!$R:$S,2,FALSE),\"\")","v":""},0,0,null,null,null,null,null,null,null,null,null,null,null,null,null,null,null,null,null,null,null,null,null,null,2468,0,25025.38,{"$error":"#N/A"}]
[null,null,null,null,null,null,null,null,null,null,null,null,null,null,null,null,null,null,2490,{"$f":"IFERROR(VLOOKUP(S2513,Journal!$R:$AQ,26,FALSE),\"\")","v":""},{"$error":"#VALUE!"},{"$error":"#N/A"},"",{"$f":"IFERROR(VLOOKUP(S2513,Journal!$R:$AV,32,FALSE),\"\")","v":""},null,null,null,null,{"$f":"IFERROR(VLOOKUP(AA2513, 'Daily Snapshot'!$B:$J,7,FALSE),\"\")","v":""},null,null,null,null,2510,{"$f":"IFERROR(VLOOKUP(AH2513,Journal!$R:$S,2,FALSE),\"\")","v":""},0,0,null,null,null,null,null,null,null,null,null,null,null,null,null,null,null,null,null,null,null,null,null,null,2484,0,25025.38,{"$error":"#N/A"}]
[null,null,null,null,null,null,null,null,null,null,null,null,null,null,null,null,null,null,2493,{"$f":"IFERROR(VLOOKUP(S2516,Journal!$R:$AQ,26,FALSE),\"\")","v":""},{"$error":"#VALUE!"},{"$error":"#N/A"},"",{"$f":"IFERROR(VLOOKUP(S2516,Journal!$R:$AV,32,FALSE),\"\")","v":""},null,null,null,null,{"$f":"IFERROR(VLOOKUP(AA2516, 'Daily Snapshot'!$B:$J,7,FALSE),\"\")","v":""},null,null,null,null,2513,{"$f":"IFERROR(VLOOKUP(AH2516,Journal!$R:$S,2,FALSE),\"\")","v":""},0,0,null,null,null,null,null,null,null,null,null,null,null,null,null,null,null,null,null,null,null,null,null,null,2487,0,25025.38,{"$error":"#N/A"}]
[null,null,null,null,null,null,null,null,null,null,null,null,null,null,null,null,null,null,2508,{"$f":"IFERROR(VLOOKUP(S2531,Journal!$R:$AQ,26,FALSE),\"\")","v":""},{"$error":"#VALUE!"},{"$error":"#N/A"},"",{"$f":"IFERROR(VLOOKUP(S2531,Journal!$R:$AV,32,FALSE),\"\")","v":""},null,null,null,null,{"$f":"IFERROR(VLOOKUP(AA2531, 'Daily Snapshot'!$B:$J,7,FALSE),\"\")","v":""},null,null,null,null,2528,{"$f":"IFERROR(VLOOKUP(AH2531,Journal!$R:$S,2,FALSE),\"\")","v":""},0,0,null,null,null,null,null,null,null,null,null,null,null,null,null,null,null,null,null,null,null,null,null,null,2502,0,25025.38,{"$error":"#N/A"}]
[null,null,null,null,null,null,null,null,null,null,null,null,null,null,null,null,null,null,2511,{"$f":"IFERROR(VLOOKUP(S2534,Journal!$R:$AQ,26,FALSE),\"\")","v":""},{"$error":"#VALUE!"},{"$error":"#N/A"},"",{"$f":"IFERROR(VLOOKUP(S2534,Journal!$R:$AV,32,FALSE),\"\")","v":""},null,null,null,null,{"$f":"IFERROR(VLOOKUP(AA2534, 'Daily Snapshot'!$B:$J,7,FALSE),\"\")","v":""},null,null,null,null,2531,{"$f":"IFERROR(VLOOKUP(AH2534,Journal!$R:$S,2,FALSE),\"\")","v":""},0,0,null,null,null,null,null,null,null,null,null,null,null,null,null,null,null,null,null,null,null,null,null,null,2505,0,25025.38,{"$error":"#N/A"}]
[null,null,null,null,null,null,null,null,null,null,null,null,null,null,null,null,null,null,2523,{"$f":"IFERROR(VLOOKUP(S2546,Journal!$R:$AQ,26,FALSE),\"\")","v":""},{"$error":"#VALUE!"},{"$error":"#N/A"},"",{"$f":"IFERROR(VLOOKUP(S2546,Journal!$R:$AV,32,FALSE),\"\")","v":""},null,null,null,null,{"$f":"IFERROR(VLOOKUP(AA2546, 'Daily Snapshot'!$B:$J,7,FALSE),\"\")","v":""},null,null,null,null,2543,{"$f":"IFERROR(VLOOKUP(AH2546,Journal!$R:$S,2,FALSE),\"\")","v":""},0,0,null,null,null,null,null,null,null,null,null,null,null,null,null,null,null,null,null,null,null,null,null,null,2517,0,25025.38,{"$error":"#N/A"}]
[null,null,null,null,null,null,null,null,null,null,null,null,null,null,null,null,null,null,2535,{"$f":"IFERROR(VLOOKUP(S2558,Journal!$R:$AQ,26,FALSE),\"\")","v":""},{"$error":"#VALUE!"},{"$error":"#N/A"},"",{"$f":"IFERROR(VLOOKUP(S2558,Journal!$R:$AV,32,FALSE),\"\")","v":""},null,null,null,null,{"$f":"IFERROR(VLOOKUP(AA2558, 'Daily Snapshot'!$B:$J,7,FALSE),\"\")","v":""},null,null,null,null,2555,{"$f":"IFERROR(VLOOKUP(AH2558,Journal!$R:$S,2,FALSE),\"\")","v":""},0,0,null,null,null,null,null,null,null,null,null,null,null,null,null,null,null,null,null,null,null,null,null,null,2529,0,25025.38,{"$error":"#N/A"}]
[null,null,null,null,null,null,null,null,null,null,null,null,null,null,null,null,null,null,2542,{"$f":"IFERROR(VLOOKUP(S2565,Journal!$R:$AQ,26,FALSE),\"\")","v":""},{"$error":"#VALUE!"},{"$error":"#N/A"},"",{"$f":"IFERROR(VLOOKUP(S2565,Journal!$R:$AV,32,FALSE),\"\")","v":""},null,null,null,null,{"$f":"IFERROR(VLOOKUP(AA2565, 'Daily Snapshot'!$B:$J,7,FALSE),\"\")","v":""},null,null,null,null,2562,{"$f":"IFERROR(VLOOKUP(AH2565,Journal!$R:$S,2,FALSE),\"\")","v":""},0,0,null,null,null,null,null,null,null,null,null,null,null,null,null,null,null,null,null,null,null,null,null,null,2536,0,25025.38,{"$error":"#N/A"}]
[null,null,null,null,null,null,null,null,null,null,null,null,null,null,null,null,null,null,2549,{"$f":"IFERROR(VLOOKUP(S2572,Journal!$R:$AQ,26,FALSE),\"\")","v":""},{"$error":"#VALUE!"},{"$error":"#N/A"},"",{"$f":"IFERROR(VLOOKUP(S2572,Journal!$R:$AV,32,FALSE),\"\")","v":""},null,null,null,null,{"$f":"IFERROR(VLOOKUP(AA2572, 'Daily Snapshot'!$B:$J,7,FALSE),\"\")","v":""},null,null,null,null,2569,{"$f":"IFERROR(VLOOKUP(AH2572,Journal!$R:$S,2,FALSE),\"\")","v":""},0,0,null,null,null,null,null,null,null,null,null,null,null,null,null,null,null,null,null,null,null,null,null,null,2543,0,25025.38,{"$error":"#N/A"}]
[null,null,null,null,null,null,null,null,null,null,null,null,null,null,null,null,null,null,2560,{"$f":"IFERROR(VLOOKUP(S2583,Journal!$R:$AQ,26,FALSE),\"\")","v":""},{"$error":"#VALUE!"},{"$error":"#N/A"},"",{"$f":"IFERROR(VLOOKUP(S2583,Journal!$R:$AV,32,FALSE),\"\")","v":""},null,null,null,null,{"$f":"IFERROR(VLOOKUP(AA2583, 'Daily Snapshot'!$B:$J,7,FALSE),\"\")","v":""},null,null,null,null,2580,{"$f":"IFERROR(VLOOKUP(AH2583,Journal!$R:$S,2,FALSE),\"\")","v":""},0,0,null,null,null,null,null,null,null,null,null,null,null,null,null,null,null,null,null,null,null,null,null,null,2554,0,25025.38,{"$error":"#N/A"}]
[null,null,null,null,null,null,null,null,null,null,null,null,null,null,null,null,null,null,2563,{"$f":"IFERROR(VLOOKUP(S2586,Journal!$R:$AQ,26,FALSE),\"\")","v":""},{"$error":"#VALUE!"},{"$error":"#N/A"},"",{"$f":"IFERROR(VLOOKUP(S2586,Journal!$R:$AV,32,FALSE),\"\")","v":""},null,null,null,null,{"$f":"IFERROR(VLOOKUP(AA2586, 'Daily Snapshot'!$B:$J,7,FALSE),\"\")","v":""},null,null,null,null,2583,{"$f":"IFERROR(VLOOKUP(AH2586,Journal!$R:$S,2,FALSE),\"\")","v":""},0,0,null,null,null,null,null,null,null,null,null,null,null,null,null,null,null,null,null,null,null,null,null,null,2557,0,25025.38,{"$error":"#N/A"}]
[null,null,null,null,null,null,null,null,null,null,null,null,null,null,null,null,null,null,2575,{"$f":"IFERROR(VLOOKUP(S2598,Journal!$R:$AQ,26,FALSE),\"\")","v":""},{"$error":"#VALUE!"},{"$error":"#N/A"},"",{"$f":"IFERROR(VLOOKUP(S2598,Journal!$R:$AV,32,FALSE),\"\")","v":""},null,null,null,null,{"$f":"IFERROR(VLOOKUP(AA2598, 'Daily Snapshot'!$B:$J,7,FALSE),\"\")","v":""},null,null,null,null,2595,{"$f":"IFERROR(VLOOKUP(AH2598,Journal!$R:$S,2,FALSE),\"\")","v":""},0,0,null,null,null,null,null,null,null,null,null,null,null,null,null,null,null,null,null,null,null,null,null,null,2569,0,25025.38,{"$error":"#N/A"}]
[null,null,null,null,null,null,null,null,null,null,null,null,null,null,null,null,null,null,2582,{"$f":"IFERROR(VLOOKUP(S2605,Journal!$R:$AQ,26,FALSE),\"\")","v":""},{"$error":"#VALUE!"},{"$error":"#N/A"},"",{"$f":"IFERROR(VLOOKUP(S2605,Journal!$R:$AV,32,FALSE),\"\")","v":""},null,null,null,null,{"$f":"IFERROR(VLOOKUP(AA2605, 'Daily Snapshot'!$B:$J,7,FALSE),\"\")","v":""},null,null,null,null,2602,{"$f":"IFERROR(VLOOKUP(AH2605,Journal!$R:$S,2,FALSE),\"\")","v":""},0,0,null,null,null,null,null,null,null,null,null,null,null,null,null,null,null,null,null,null,null,null,null,null,2576,0,25025.38,{"$error":"#N/A"}]
[null,null,null,null,null,null,null,null,null,null,null,null,null,null,null,null,null,null,2590,{"$f":"IFERROR(VLOOKUP(S2613,Journal!$R:$AQ,26,FALSE),\"\")","v":""},{"$error":"#VALUE!"},{"$error":"#N/A"},"",{"$f":"IFERROR(VLOOKUP(S2613,Journal!$R:$AV,32,FALSE),\"\")","v":""},null,null,null,null,{"$f":"IFERROR(VLOOKUP(AA2613, 'Daily Snapshot'!$B:$J,7,FALSE),\"\")","v":""},null,null,null,null,2610,{"$f":"IFERROR(VLOOKUP(AH2613,Journal!$R:$S,2,FALSE),\"\")","v":""},0,0,null,null,null,null,null,null,null,null,null,null,null,null,null,null,null,null,null,null,null,null,null,null,2584,0,25025.38,{"$error":"#N/A"}]
[null,null,null,null,null,null,null,null,null,null,null,null,null,null,null,null,null,null,2600,{"$f":"IFERROR(VLOOKUP(S2623,Journal!$R:$AQ,26,FALSE),\"\")","v":""},{"$error":"#VALUE!"},{"$error":"#N/A"},"",{"$f":"IFERROR(VLOOKUP(S2623,Journal!$R:$AV,32,FALSE),\"\")","v":""},null,null,null,null,{"$f":"IFERROR(VLOOKUP(AA2623, 'Daily Snapshot'!$B:$J,7,FALSE),\"\")","v":""},null,null,null,null,2620,{"$f":"IFERROR(VLOOKUP(AH2623,Journal!$R:$S,2,FALSE),\"\")","v":""},0,0,null,null,null,null,null,null,null,null,null,null,null,null,null,null,null,null,null,null,null,null,null,null,2594,0,25025.38,{"$error":"#N/A"}]
[null,null,null,null,null,null,null,null,null,null,null,null,null,null,null,null,null,null,2612,{"$f":"IFERROR(VLOOKUP(S2635,Journal!$R:$AQ,26,FALSE),\"\")","v":""},{"$error":"#VALUE!"},{"$error":"#N/A"},"",{"$f":"IFERROR(VLOOKUP(S2635,Journal!$R:$AV,32,FALSE),\"\")","v":""},null,null,null,null,{"$f":"IFERROR(VLOOKUP(AA2635, 'Daily Snapshot'!$B:$J,7,FALSE),\"\")","v":""},null,null,null,null,2632,{"$f":"IFERROR(VLOOKUP(AH2635,Journal!$R:$S,2,FALSE),\"\")","v":""},0,0,null,null,null,null,null,null,null,null,null,null,null,null,null,null,null,null,null,null,null,null,null,null,2606,0,25025.38,{"$error":"#N/A"}]
[null,null,null,null,null,null,null,null,null,null,null,null,null,null,null,null,null,null,2615,{"$f":"IFERROR(VLOOKUP(S2638,Journal!$R:$AQ,26,FALSE),\"\")","v":""},{"$error":"#VALUE!"},{"$error":"#N/A"},"",{"$f":"IFERROR(VLOOKUP(S2638,Journal!$R:$AV,32,FALSE),\"\")","v":""},null,null,null,null,{"$f":"IFERROR(VLOOKUP(AA2638, 'Daily Snapshot'!$B:$J,7,FALSE),\"\")","v":""},null,null,null,null,2635,{"$f":"IFERROR(VLOOKUP(AH2638,Journal!$R:$S,2,FALSE),\"\")","v":""},0,0,null,null,null,null,null,null,null,null,null,null,null,null,null,null,null,null,null,null,null,null,null,null,2609,0,25025.38,{"$error":"#N/A"}]
[null,null,null,null,null,null,null,null,null,null,null,null,null,null,null,null,null,null,2631,{"$f":"IFERROR(VLOOKUP(S2654,Journal!$R:$AQ,26,FALSE),\"\")","v":""},{"$error":"#VALUE!"},{"$error":"#N/A"},"",{"$f":"IFERROR(VLOOKUP(S2654,Journal!$R:$AV,32,FALSE),\"\")","v":""},null,null,null,null,{"$f":"IFERROR(VLOOKUP(AA2654, 'Daily Snapshot'!$B:$J,7,FALSE),\"\")","v":""},null,null,null,null,2651,{"$f":"IFERROR(VLOOKUP(AH2654,Journal!$R:$S,2,FALSE),\"\")","v":""},0,0,null,null,null,null,null,null,null,null,null,null,null,null,null,null,null,null,null,null,null,null,null,null,2625,0,25025.38,{"$error":"#N/A"}]
[null,null,null,null,null,null,null,null,null,null,null,null,null,null,null,null,null,null,2639,{"$f":"IFERROR(VLOOKUP(S2662,Journal!$R:$AQ,26,FALSE),\"\")","v":""},{"$error":"#VALUE!"},{"$error":"#N/A"},"",{"$f":"IFERROR(VLOOKUP(S2662,Journal!$R:$AV,32,FALSE),\"\")","v":""},null,null,null,null,{"$f":"IFERROR(VLOOKUP(AA2662, 'Daily Snapshot'!$B:$J,7,FALSE),\"\")","v":""},null,null,null,null,2659,{"$f":"IFERROR(VLOOKUP(AH2662,Journal!$R:$S,2,FALSE),\"\")","v":""},0,0,null,null,null,null,null,null,null,null,null,null,null,null,null,null,null,null,null,null,null,null,null,null,2633,0,25025.38,{"$error":"#N/A"}]
[null,null,null,null,null,null,null,null,null,null,null,null,null,null,null,null,null,null,2645,{"$f":"IFERROR(VLOOKUP(S2668,Journal!$R:$AQ,26,FALSE),\"\")","v":""},{"$error":"#VALUE!"},{"$error":"#N/A"},"",{"$f":"IFERROR(VLOOKUP(S2668,Journal!$R:$AV,32,FALSE),\"\")","v":""},null,null,null,null,{"$f":"IFERROR(VLOOKUP(AA2668, 'Daily Snapshot'!$B:$J,7,FALSE),\"\")","v":""},null,null,null,null,2665,{"$f":"IFERROR(VLOOKUP(AH2668,Journal!$R:$S,2,FALSE),\"\")","v":""},0,0,null,null,null,null,null,null,null,null,null,null,null,null,null,null,null,null,null,null,null,null,null,null,2639,0,25025.38,{"$error":"#N/A"}]
[null,null,null,null,null,null,null,null,null,null,null,null,null,null,null,null,null,null,2652,{"$f":"IFERROR(VLOOKUP(S2675,Journal!$R:$AQ,26,FALSE),\"\")","v":""},{"$error":"#VALUE!"},{"$error":"#N/A"},"",{"$f":"IFERROR(VLOOKUP(S2675,Journal!$R:$AV,32,FALSE),\"\")","v":""},null,null,null,null,{"$f":"IFERROR(VLOOKUP(AA2675, 'Daily Snapshot'!$B:$J,7,FALSE),\"\")","v":""},null,null,null,null,2672,{"$f":"IFERROR(VLOOKUP(AH2675,Journal!$R:$S,2,FALSE),\"\")","v":""},0,0,null,null,null,null,null,null,null,null,null,null,null,null,null,null,null,null,null,null,null,null,null,null,2646,0,25025.38,{"$error":"#N/A"}]
[null,null,null,null,null,null,null,null,null,null,null,null,null,null,null,null,null,null,2664,{"$f":"IFERROR(VLOOKUP(S2687,Journal!$R:$AQ,26,FALSE),\"\")","v":""},{"$error":"#VALUE!"},{"$error":"#N/A"},"",{"$f":"IFERROR(VLOOKUP(S2687,Journal!$R:$AV,32,FALSE),\"\")","v":""},null,null,null,null,{"$f":"IFERROR(VLOOKUP(AA2687, 'Daily Snapshot'!$B:$J,7,FALSE),\"\")","v":""},null,null,null,null,2684,{"$f":"IFERROR(VLOOKUP(AH2687,Journal!$R:$S,2,FALSE),\"\")","v":""},0,0,null,null,null,null,null,null,null,null,null,null,null,null,null,null,null,null,null,null,null,null,null,null,2658,0,25025.38,{"$error":"#N/A"}]
[null,null,null,null,null,null,null,null,null,null,null,null,null,null,null,null,null,null,2671,{"$f":"IFERROR(VLOOKUP(S2694,Journal!$R:$AQ,26,FALSE),\"\")","v":""},{"$error":"#VALUE!"},{"$error":"#N/A"},"",{"$f":"IFERROR(VLOOKUP(S2694,Journal!$R:$AV,32,FALSE),\"\")","v":""},null,null,null,null,{"$f":"IFERROR(VLOOKUP(AA2694, 'Daily Snapshot'!$B:$J,7,FALSE),\"\")","v":""},null,null,null,null,2691,{"$f":"IFERROR(VLOOKUP(AH2694,Journal!$R:$S,2,FALSE),\"\")","v":""},0,0,null,null,null,null,null,null,null,null,null,null,null,null,null,null,null,null,null,null,null,null,null,null,2665,0,25025.38,{"$error":"#N/A"}]
[null,null,null,null,null,null,null,null,null,null,null,null,null,null,null,null,null,null,2680,{"$f":"IFERROR(VLOOKUP(S2703,Journal!$R:$AQ,26,FALSE),\"\")","v":""},{"$error":"#VALUE!"},{"$error":"#N/A"},"",{"$f":"IFERROR(VLOOKUP(S2703,Journal!$R:$AV,32,FALSE),\"\")","v":""},null,null,null,null,{"$f":"IFERROR(VLOOKUP(AA2703, 'Daily Snapshot'!$B:$J,7,FALSE),\"\")","v":""},null,null,null,null,2700,{"$f":"IFERROR(VLOOKUP(AH2703,Journal!$R:$S,2,FALSE),\"\")","v":""},0,0,null,null,null,null,null,null,null,null,null,null,null,null,null,null,null,null,null,null,null,null,null,null,2674,0,25025.38,{"$error":"#N/A"}]
[null,null,null,null,null,null,null,null,null,null,null,null,null,null,null,null,null,null,2685,{"$f":"IFERROR(VLOOKUP(S2708,Journal!$R:$AQ,26,FALSE),\"\")","v":""},{"$error":"#VALUE!"},{"$error":"#N/A"},"",{"$f":"IFERROR(VLOOKUP(S2708,Journal!$R:$AV,32,FALSE),\"\")","v":""},null,null,null,null,{"$f":"IFERROR(VLOOKUP(AA2708, 'Daily Snapshot'!$B:$J,7,FALSE),\"\")","v":""},null,null,null,null,2705,{"$f":"IFERROR(VLOOKUP(AH2708,Journal!$R:$S,2,FALSE),\"\")","v":""},0,0,null,null,null,null,null,null,null,null,null,null,null,null,null,null,null,null,null,null,null,null,null,null,2679,0,25025.38,{"$error":"#N/A"}]
[null,null,null,null,null,null,null,null,null,null,null,null,null,null,null,null,null,null,2701,{"$f":"IFERROR(VLOOKUP(S2724,Journal!$R:$AQ,26,FALSE),\"\")","v":""},{"$error":"#VALUE!"},{"$error":"#N/A"},"",{"$f":"IFERROR(VLOOKUP(S2724,Journal!$R:$AV,32,FALSE),\"\")","v":""},null,null,null,null,{"$f":"IFERROR(VLOOKUP(AA2724, 'Daily Snapshot'!$B:$J,7,FALSE),\"\")","v":""},null,null,null,null,2721,{"$f":"IFERROR(VLOOKUP(AH2724,Journal!$R:$S,2,FALSE),\"\")","v":""},0,0,null,null,null,null,null,null,null,null,null,null,null,null,null,null,null,null,null,null,null,null,null,null,2695,0,25025.38,{"$error":"#N/A"}]
[null,null,null,null,null,null,null,null,null,null,null,null,null,null,null,null,null,null,2704,{"$f":"IFERROR(VLOOKUP(S2727,Journal!$R:$AQ,26,FALSE),\"\")","v":""},{"$error":"#VALUE!"},{"$error":"#N/A"},"",{"$f":"IFERROR(VLOOKUP(S2727,Journal!$R:$AV,32,FALSE),\"\")","v":""},null,null,null,null,{"$f":"IFERROR(VLOOKUP(AA2727, 'Daily Snapshot'!$B:$J,7,FALSE),\"\")","v":""},null,null,null,null,2724,{"$f":"IFERROR(VLOOKUP(AH2727,Journal!$R:$S,2,FALSE),\"\")","v":""},0,0,null,null,null,null,null,null,null,null,null,null,null,null,null,null,null,null,null,null,null,null,null,null,2698,0,25025.38,{"$error":"#N/A"}]
[null,null,null,null,null,null,null,null,null,null,null,null,null,null,null,null,null,null,2719,{"$f":"IFERROR(VLOOKUP(S2742,Journal!$R:$AQ,26,FALSE),\"\")","v":""},{"$error":"#VALUE!"},{"$error":"#N/A"},"",{"$f":"IFERROR(VLOOKUP(S2742,Journal!$R:$AV,32,FALSE),\"\")","v":""},null,null,null,null,{"$f":"IFERROR(VLOOKUP(AA2742, 'Daily Snapshot'!$B:$J,7,FALSE),\"\")","v":""},null,null,null,null,2739,{"$f":"IFERROR(VLOOKUP(AH2742,Journal!$R:$S,2,FALSE),\"\")","v":""},0,0,null,null,null,null,null,null,null,null,null,null,null,null,null,null,null,null,null,null,null,null,null,null,2713,0,25025.38,{"$error":"#N/A"}]
[null,null,null,null,null,null,null,null,null,null,null,null,null,null,null,null,null,null,2722,{"$f":"IFERROR(VLOOKUP(S2745,Journal!$R:$AQ,26,FALSE),\"\")","v":""},{"$error":"#VALUE!"},{"$error":"#N/A"},"",{"$f":"IFERROR(VLOOKUP(S2745,Journal!$R:$AV,32,FALSE),\"\")","v":""},null,null,null,null,{"$f":"IFERROR(VLOOKUP(AA2745, 'Daily Snapshot'!$B:$J,7,FALSE),\"\")","v":""},null,null,null,null,2742,{"$f":"IFERROR(VLOOKUP(AH2745,Journal!$R:$S,2,FALSE),\"\")","v":""},0,0,null,null,null,null,null,null,null,null,null,null,null,null,null,null,null,null,null,null,null,null,null,null,2716,0,25025.38,{"$error":"#N/A"}]
[null,null,null,null,null,null,null,null,null,null,null,null,null,null,null,null,null,null,2734,{"$f":"IFERROR(VLOOKUP(S2757,Journal!$R:$AQ,26,FALSE),\"\")","v":""},{"$error":"#VALUE!"},{"$error":"#N/A"},"",{"$f":"IFERROR(VLOOKUP(S2757,Journal!$R:$AV,32,FALSE),\"\")","v":""},null,null,null,null,{"$f":"IFERROR(VLOOKUP(AA2757, 'Daily Snapshot'!$B:$J,7,FALSE),\"\")","v":""},null,null,null,null,2754,{"$f":"IFERROR(VLOOKUP(AH2757,Journal!$R:$S,2,FALSE),\"\")","v":""},0,0,null,null,null,null,null,null,null,null,null,null,null,null,null,null,null,null,null,null,null,null,null,null,2728,0,25025.38,{"$error":"#N/A"}]
[null,null,null,null,null,null,null,null,null,null,null,null,null,null,null,null,null,null,2741,{"$f":"IFERROR(VLOOKUP(S2764,Journal!$R:$AQ,26,FALSE),\"\")","v":""},{"$error":"#VALUE!"},{"$error":"#N/A"},"",{"$f":"IFERROR(VLOOKUP(S2764,Journal!$R:$AV,32,FALSE),\"\")","v":""},null,null,null,null,{"$f":"IFERROR(VLOOKUP(AA2764, 'Daily Snapshot'!$B:$J,7,FALSE),\"\")","v":""},null,null,null,null,2761,{"$f":"IFERROR(VLOOKUP(AH2764,Journal!$R:$S,2,FALSE),\"\")","v":""},0,0,null,null,null,null,null,null,null,null,null,null,null,null,null,null,null,null,null,null,null,null,null,null,2735,0,25025.38,{"$error":"#N/A"}]
[null,null,null,null,null,null,null,null,null,null,null,null,null,null,null,null,null,null,2753,{"$f":"IFERROR(VLOOKUP(S2776,Journal!$R:$AQ,26,FALSE),\"\")","v":""},{"$error":"#VALUE!"},{"$error":"#N/A"},"",{"$f":"IFERROR(VLOOKUP(S2776,Journal!$R:$AV,32,FALSE),\"\")","v":""},null,null,null,null,{"$f":"IFERROR(VLOOKUP(AA2776, 'Daily Snapshot'!$B:$J,7,FALSE),\"\")","v":""},null,null,null,null,2773,{"$f":"IFERROR(VLOOKUP(AH2776,Journal!$R:$S,2,FALSE),\"\")","v":""},0,0,null,null,null,null,null,null,null,null,null,null,null,null,null,null,null,null,null,null,null,null,null,null,2747,0,25025.38,{"$error":"#N/A"}]
[null,null,null,null,null,null,null,null,null,null,null,null,null,null,null,null,null,null,2760,{"$f":"IFERROR(VLOOKUP(S2783,Journal!$R:$AQ,26,FALSE),\"\")","v":""},{"$error":"#VALUE!"},{"$error":"#N/A"},"",{"$f":"IFERROR(VLOOKUP(S2783,Journal!$R:$AV,32,FALSE),\"\")","v":""},null,null,null,null,{"$f":"IFERROR(VLOOKUP(AA2783, 'Daily Snapshot'!$B:$J,7,FALSE),\"\")","v":""},null,null,null,null,2780,{"$f":"IFERROR(VLOOKUP(AH2783,Journal!$R:$S,2,FALSE),\"\")","v":""},0,0,null,null,null,null,null,null,null,null,null,null,null,null,null,null,null,null,null,null,null,null,null,null,2754,0,{"$f":"BI2783+BJ2782","v":25025.38},{"$error":"#N/A"}]
[null,null,null,null,null,null,null,null,null,null,null,null,null,null,null,null,null,null,2771,{"$f":"IFERROR(VLOOKUP(S2794,Journal!$R:$AQ,26,FALSE),\"\")","v":""},{"$error":"#VALUE!"},{"$error":"#N/A"},"",{"$f":"IFERROR(VLOOKUP(S2794,Journal!$R:$AV,32,FALSE),\"\")","v":""},null,null,null,null,{"$f":"IFERROR(VLOOKUP(AA2794, 'Daily Snapshot'!$B:$J,7,FALSE),\"\")","v":""},null,null,null,null,2791,{"$f":"IFERROR(VLOOKUP(AH2794,Journal!$R:$S,2,FALSE),\"\")","v":""},0,0,null,null,null,null,null,null,null,null,null,null,null,null,null,null,null,null,null,null,null,null,null,null,2765,0,25025.38,{"$error":"#N/A"}]
[null,null,null,null,null,null,null,null,null,null,null,null,null,null,null,null,null,null,2774,{"$f":"IFERROR(VLOOKUP(S2797,Journal!$R:$AQ,26,FALSE),\"\")","v":""},{"$error":"#VALUE!"},{"$error":"#N/A"},"",{"$f":"IFERROR(VLOOKUP(S2797,Journal!$R:$AV,32,FALSE),\"\")","v":""},null,null,null,null,{"$f":"IFERROR(VLOOKUP(AA2797, 'Daily Snapshot'!$B:$J,7,FALSE),\"\")","v":""},null,null,null,null,2794,{"$f":"IFERROR(VLOOKUP(AH2797,Journal!$R:$S,2,FALSE),\"\")","v":""},0,0,null,null,null,null,null,null,null,null,null,null,null,null,null,null,null,null,null,null,null,null,null,null,2768,0,25025.38,{"$error":"#N/A"}]
[null,null,null,null,null,null,null,null,null,null,null,null,null,null,null,null,null,null,2790,{"$f":"IFERROR(VLOOKUP(S2813,Journal!$R:$AQ,26,FALSE),\"\")","v":""},{"$error":"#VALUE!"},{"$error":"#N/A"},"",{"$f":"IFERROR(VLOOKUP(S2813,Journal!$R:$AV,32,FALSE),\"\")","v":""},null,null,null,null,{"$f":"IFERROR(VLOOKUP(AA2813, 'Daily Snapshot'!$B:$J,7,FALSE),\"\")","v":""},null,null,null,null,2810,{"$f":"IFERROR(VLOOKUP(AH2813,Journal!$R:$S,2,FALSE),\"\")","v":""},0,0,null,null,null,null,null,null,null,null,null,null,null,null,null,null,null,null,null,null,null,null,null,null,2784,0,25025.38,{"$error":"#N/A"}]
[null,null,null,null,null,null,null,null,null,null,null,null,null,null,null,null,null,null,2793,{"$f":"IFERROR(VLOOKUP(S2816,Journal!$R:$AQ,26,FALSE),\"\")","v":""},{"$error":"#VALUE!"},{"$error":"#N/A"},"",{"$f":"IFERROR(VLOOKUP(S2816,Journal!$R:$AV,32,FALSE),\"\")","v":""},null,null,null,null,{"$f":"IFERROR(VLOOKUP(AA2816, 'Daily Snapshot'!$B:$J,7,FALSE),\"\")","v":""},null,null,null,null,2813,{"$f":"IFERROR(VLOOKUP(AH2816,Journal!$R:$S,2,FALSE),\"\")","v":""},0,0,null,null,null,null,null,null,null,null,null,null,null,null,null,null,null,null,null,null,null,null,null,null,2787,0,25025.38,{"$error":"#N/A"}]
[null,null,null,null,null,null,null,null,null,null,null,null,null,null,null,null,null,null,2801,{"$f":"IFERROR(VLOOKUP(S2824,Journal!$R:$AQ,26,FALSE),\"\")","v":""},{"$error":"#VALUE!"},{"$error":"#N/A"},"",{"$f":"IFERROR(VLOOKUP(S2824,Journal!$R:$AV,32,FALSE),\"\")","v":""},null,null,null,null,{"$f":"IFERROR(VLOOKUP(AA2824, 'Daily Snapshot'!$B:$J,7,FALSE),\"\")","v":""},null,null,null,null,2821,{"$f":"IFERROR(VLOOKUP(AH2824,Journal!$R:$S,2,FALSE),\"\")","v":""},0,0,null,null,null,null,null,null,null,null,null,null,null,null,null,null,null,null,null,null,null,null,null,null,2795,0,25025.38,{"$error":"#N/A"}]
[null,null,null,null,null,null,null,null,null,null,null,null,null,null,null,null,null,null,2811,{"$f":"IFERROR(VLOOKUP(S2834,Journal!$R:$AQ,26,FALSE),\"\")","v":""},{"$error":"#VALUE!"},{"$error":"#N/A"},"",{"$f":"IFERROR(VLOOKUP(S2834,Journal!$R:$AV,32,FALSE),\"\")","v":""},null,null,null,null,{"$f":"IFERROR(VLOOKUP(AA2834, 'Daily Snapshot'!$B:$J,7,FALSE),\"\")","v":""},null,null,null,null,2831,{"$f":"IFERROR(VLOOKUP(AH2834,Journal!$R:$S,2,FALSE),\"\")","v":""},0,0,null,null,null,null,null,null,null,null,null,null,null,null,null,null,null,null,null,null,null,null,null,null,2805,0,25025.38,{"$error":"#N/A"}]
[null,null,null,null,null,null,null,null,null,null,null,null,null,null,null,null,null,null,2823,{"$f":"IFERROR(VLOOKUP(S2846,Journal!$R:$AQ,26,FALSE),\"\")","v":""},{"$error":"#VALUE!"},{"$error":"#N/A"},"",{"$f":"IFERROR(VLOOKUP(S2846,Journal!$R:$AV,32,FALSE),\"\")","v":""},null,null,null,null,{"$f":"IFERROR(VLOOKUP(AA2846, 'Daily Snapshot'!$B:$J,7,FALSE),\"\")","v":""},null,null,null,null,2843,{"$f":"IFERROR(VLOOKUP(AH2846,Journal!$R:$S,2,FALSE),\"\")","v":""},0,0,null,null,null,null,null,null,null,null,null,null,null,null,null,null,null,null,null,null,null,null,null,null,2817,0,25025.38,{"$error":"#N/A"}]
[null,null,null,null,null,null,null,null,null,null,null,null,null,null,null,null,null,null,2826,{"$f":"IFERROR(VLOOKUP(S2849,Journal!$R:$AQ,26,FALSE),\"\")","v":""},{"$error":"#VALUE!"},{"$error":"#N/A"},"",{"$f":"IFERROR(VLOOKUP(S2849,Journal!$R:$AV,32,FALSE),\"\")","v":""},null,null,null,null,{"$f":"IFERROR(VLOOKUP(AA2849, 'Daily Snapshot'!$B:$J,7,FALSE),\"\")","v":""},null,null,null,null,2846,{"$f":"IFERROR(VLOOKUP(AH2849,Journal!$R:$S,2,FALSE),\"\")","v":""},0,0,null,null,null,null,null,null,null,null,null,null,null,null,null,null,null,null,null,null,null,null,null,null,2820,0,25025.38,{"$error":"#N/A"}]
[null,null,null,null,null,null,null,null,null,null,null,null,null,null,null,null,null,null,2842,{"$f":"IFERROR(VLOOKUP(S2865,Journal!$R:$AQ,26,FALSE),\"\")","v":""},{"$error":"#VALUE!"},{"$error":"#N/A"},"",{"$f":"IFERROR(VLOOKUP(S2865,Journal!$R:$AV,32,FALSE),\"\")","v":""},null,null,null,null,{"$f":"IFERROR(VLOOKUP(AA2865, 'Daily Snapshot'!$B:$J,7,FALSE),\"\")","v":""},null,null,null,null,2862,{"$f":"IFERROR(VLOOKUP(AH2865,Journal!$R:$S,2,FALSE),\"\")","v":""},0,0,null,null,null,null,null,null,null,null,null,null,null,null,null,null,null,null,null,null,null,null,null,null,2836,0,25025.38,{"$error":"#N/A"}]
[null,null,null,null,null,null,null,null,null,null,null,null,null,null,null,null,null,null,2850,{"$f":"IFERROR(VLOOKUP(S2873,Journal!$R:$AQ,26,FALSE),\"\")","v":""},{"$error":"#VALUE!"},{"$error":"#N/A"},"",{"$f":"IFERROR(VLOOKUP(S2873,Journal!$R:$AV,32,FALSE),\"\")","v":""},null,null,null,null,{"$f":"IFERROR(VLOOKUP(AA2873, 'Daily Snapshot'!$B:$J,7,FALSE),\"\")","v":""},null,null,null,null,2870,{"$f":"IFERROR(VLOOKUP(AH2873,Journal!$R:$S,2,FALSE),\"\")","v":""},0,0,null,null,null,null,null,null,null,null,null,null,null,null,null,null,null,null,null,null,null,null,null,null,2844,0,25025.38,{"$error":"#N/A"}]
[null,null,null,null,null,null,null,null,null,null,null,null,null,null,null,null,null,null,2860,{"$f":"IFERROR(VLOOKUP(S2883,Journal!$R:$AQ,26,FALSE),\"\")","v":""},{"$error":"#VALUE!"},{"$error":"#N/A"},"",{"$f":"IFERROR(VLOOKUP(S2883,Journal!$R:$AV,32,FALSE),\"\")","v":""},null,null,null,null,{"$f":"IFERROR(VLOOKUP(AA2883, 'Daily Snapshot'!$B:$J,7,FALSE),\"\")","v":""},null,null,null,null,2880,{"$f":"IFERROR(VLOOKUP(AH2883,Journal!$R:$S,2,FALSE),\"\")","v":""},0,0,null,null,null,null,null,null,null,null,null,null,null,null,null,null,null,null,null,null,null,null,null,null,2854,0,25025.38,{"$error":"#N/A"}]
[null,null,null,null,null,null,null,null,null,null,null,null,null,null,null,null,null,null,2863,{"$f":"IFERROR(VLOOKUP(S2886,Journal!$R:$AQ,26,FALSE),\"\")","v":""},{"$error":"#VALUE!"},{"$error":"#N/A"},"",{"$f":"IFERROR(VLOOKUP(S2886,Journal!$R:$AV,32,FALSE),\"\")","v":""},null,null,null,null,{"$f":"IFERROR(VLOOKUP(AA2886, 'Daily Snapshot'!$B:$J,7,FALSE),\"\")","v":""},null,null,null,null,2883,{"$f":"IFERROR(VLOOKUP(AH2886,Journal!$R:$S,2,FALSE),\"\")","v":""},0,0,null,null,null,null,null,null,null,null,null,null,null,null,null,null,null,null,null,null,null,null,null,null,2857,0,25025.38,{"$error":"#N/A"}]
[null,null,null,null,null,null,null,null,null,null,null,null,null,null,null,null,null,null,2875,{"$f":"IFERROR(VLOOKUP(S2898,Journal!$R:$AQ,26,FALSE),\"\")","v":""},{"$error":"#VALUE!"},{"$error":"#N/A"},"",{"$f":"IFERROR(VLOOKUP(S2898,Journal!$R:$AV,32,FALSE),\"\")","v":""},null,null,null,null,{"$f":"IFERROR(VLOOKUP(AA2898, 'Daily Snapshot'!$B:$J,7,FALSE),\"\")","v":""},null,null,null,null,2895,{"$f":"IFERROR(VLOOKUP(AH2898,Journal!$R:$S,2,FALSE),\"\")","v":""},0,0,null,null,null,null,null,null,null,null,null,null,null,null,null,null,null,null,null,null,null,null,null,null,2869,0,25025.38,{"$error":"#N/A"}]
[null,null,null,null,null,null,null,null,null,null,null,null,null,null,null,null,null,null,2882,{"$f":"IFERROR(VLOOKUP(S2905,Journal!$R:$AQ,26,FALSE),\"\")","v":""},{"$f":"T2905+U2904","v":{"$error":"#VALUE!"}},{"$error":"#N/A"},{"$f":"IFERROR(T2905/$H$25,\"\")","v":""},{"$f":"IFERROR(VLOOKUP(S2905,Journal!$R:$AV,32,FALSE),\"\")","v":""},null,null,null,null,{"$f":"IFERROR(VLOOKUP(AA2905, 'Daily Snapshot'!$B:$J,7,FALSE),\"\")","v":""},null,null,null,null,2902,{"$f":"IFERROR(VLOOKUP(AH2905,Journal!$R:$S,2,FALSE),\"\")","v":""},0,0,null,null,null,null,null,null,null,null,null,null,null,null,null,null,null,null,null,null,null,null,null,null,2876,0,25025.38,{"$error":"#N/A"}]
[null,null,null,null,null,null,null,null,null,null,null,null,null,null,null,null,null,null,2891,{"$f":"IFERROR(VLOOKUP(S2914,Journal!$R:$AQ,26,FALSE),\"\")","v":""},{"$error":"#VALUE!"},{"$error":"#N/A"},"",{"$f":"IFERROR(VLOOKUP(S2914,Journal!$R:$AV,32,FALSE),\"\")","v":""},null,null,null,null,{"$f":"IFERROR(VLOOKUP(AA2914, 'Daily Snapshot'!$B:$J,7,FALSE),\"\")","v":""},null,null,null,null,2911,{"$f":"IFERROR(VLOOKUP(AH2914,Journal!$R:$S,2,FALSE),\"\")","v":""},0,0,null,null,null,null,null,null,null,null,null,null,null,null,null,null,null,null,null,null,null,null,null,null,2885,0,25025.38,{"$f":"IF(OR(BI2914=0,BI2914<$H$26,BI2914>$H$27),NA(),BI2914+BJ2913)","v":{"$error":"#N/A"}}]
[null,null,null,null,null,null,null,null,null,null,null,null,null,null,null,null,null,null,2900,{"$f":"IFERROR(VLOOKUP(S2923,Journal!$R:$AQ,26,FALSE),\"\")","v":""},{"$error":"#VALUE!"},{"$error":"#N/A"},"",{"$f":"IFERROR(VLOOKUP(S2923,Journal!$R:$AV,32,FALSE),\"\")","v":""},null,null,null,null,{"$f":"IFERROR(VLOOKUP(AA2923, 'Daily Snapshot'!$B:$J,7,FALSE),\"\")","v":""},null,null,null,null,2920,{"$f":"IFERROR(VLOOKUP(AH2923,Journal!$R:$S,2,FALSE),\"\")","v":""},0,0,null,null,null,null,null,null,null,null,null,null,null,null,null,null,null,null,null,null,null,null,null,null,2894,0,25025.38,{"$error":"#N/A"}]
[null,null,null,null,null,null,null,null,null,null,null,null,null,null,null,null,null,null,2912,{"$f":"IFERROR(VLOOKUP(S2935,Journal!$R:$AQ,26,FALSE),\"\")","v":""},{"$error":"#VALUE!"},{"$error":"#N/A"},"",{"$f":"IFERROR(VLOOKUP(S2935,Journal!$R:$AV,32,FALSE),\"\")","v":""},null,null,null,null,{"$f":"IFERROR(VLOOKUP(AA2935, 'Daily Snapshot'!$B:$J,7,FALSE),\"\")","v":""},null,null,null,null,2932,{"$f":"IFERROR(VLOOKUP(AH2935,Journal!$R:$S,2,FALSE),\"\")","v":""},0,0,null,null,null,null,null,null,null,null,null,null,null,null,null,null,null,null,null,null,null,null,null,null,2906,0,25025.38,{"$error":"#N/A"}]
[null,null,null,null,null,null,null,null,null,null,null,null,null,null,null,null,null,null,2915,{"$f":"IFERROR(VLOOKUP(S2938,Journal!$R:$AQ,26,FALSE),\"\")","v":""},{"$error":"#VALUE!"},{"$error":"#N/A"},"",{"$f":"IFERROR(VLOOKUP(S2938,Journal!$R:$AV,32,FALSE),\"\")","v":""},null,null,null,null,{"$f":"IFERROR(VLOOKUP(AA2938, 'Daily Snapshot'!$B:$J,7,FALSE),\"\")","v":""},null,null,null,null,2935,{"$f":"IFERROR(VLOOKUP(AH2938,Journal!$R:$S,2,FALSE),\"\")","v":""},0,0,null,null,null,null,null,null,null,null,null,null,null,null,null,null,null,null,null,null,null,null,null,null,2909,0,25025.38,{"$error":"#N/A"}]
[null,null,null,null,null,null,null,null,null,null,null,null,null,null,null,null,null,null,2931,{"$f":"IFERROR(VLOOKUP(S2954,Journal!$R:$AQ,26,FALSE),\"\")","v":""},{"$error":"#VALUE!"},{"$error":"#N/A"},"",{"$f":"IFERROR(VLOOKUP(S2954,Journal!$R:$AV,32,FALSE),\"\")","v":""},null,null,null,null,{"$f":"IFERROR(VLOOKUP(AA2954, 'Daily Snapshot'!$B:$J,7,FALSE),\"\")","v":""},null,null,null,null,2951,{"$f":"IFERROR(VLOOKUP(AH2954,Journal!$R:$S,2,FALSE),\"\")","v":""},0,0,null,null,null,null,null,null,null,null,null,null,null,null,null,null,null,null,null,null,null,null,null,null,2925,0,25025.38,{"$error":"#N/A"}]
[null,null,null,null,null,null,null,null,null,null,null,null,null,null,null,null,null,null,2932,{"$f":"IFERROR(VLOOKUP(S2955,Journal!$R:$AQ,26,FALSE),\"\")","v":""},{"$error":"#VALUE!"},{"$error":"#N/A"},"",{"$f":"IFERROR(VLOOKUP(S2955,Journal!$R:$AV,32,FALSE),\"\")","v":""},null,null,null,null,{"$f":"IFERROR(VLOOKUP(AA2955, 'Daily Snapshot'!$B:$J,7,FALSE),\"\")","v":""},null,null,null,null,2952,{"$f":"IFERROR(VLOOKUP(AH2955,Journal!$R:$S,2,FALSE),\"\")","v":""},0,0,null,null,null,null,null,null,null,null,null,null,null,null,null,null,null,null,null,null,null,null,null,null,2926,0,25025.38,{"$error":"#N/A"}]
[null,null,null,null,null,null,null,null,null,null,null,null,null,null,null,null,null,null,2945,{"$f":"IFERROR(VLOOKUP(S2968,Journal!$R:$AQ,26,FALSE),\"\")","v":""},{"$error":"#VALUE!"},{"$error":"#N/A"},"",{"$f":"IFERROR(VLOOKUP(S2968,Journal!$R:$AV,32,FALSE),\"\")","v":""},null,null,null,null,{"$f":"IFERROR(VLOOKUP(AA2968, 'Daily Snapshot'!$B:$J,7,FALSE),\"\")","v":""},null,null,null,null,2965,{"$f":"IFERROR(VLOOKUP(AH2968,Journal!$R:$S,2,FALSE),\"\")","v":""},0,0,null,null,null,null,null,null,null,null,null,null,null,null,null,null,null,null,null,null,null,null,null,null,2939,0,25025.38,{"$error":"#N/A"}]
[null,null,null,null,null,null,null,null,null,null,null,null,null,null,null,null,null,null,2952,{"$f":"IFERROR(VLOOKUP(S2975,Journal!$R:$AQ,26,FALSE),\"\")","v":""},{"$error":"#VALUE!"},{"$error":"#N/A"},"",{"$f":"IFERROR(VLOOKUP(S2975,Journal!$R:$AV,32,FALSE),\"\")","v":""},null,null,null,null,{"$f":"IFERROR(VLOOKUP(AA2975, 'Daily Snapshot'!$B:$J,7,FALSE),\"\")","v":""},null,null,null,null,2972,{"$f":"IFERROR(VLOOKUP(AH2975,Journal!$R:$S,2,FALSE),\"\")","v":""},0,0,null,null,null,null,null,null,null,null,null,null,null,null,null,null,null,null,null,null,null,null,null,null,2946,0,{"$f":"BI2975+BJ2974","v":25025.38},{"$error":"#N/A"}]
[null,null,null,null,null,null,null,null,null,null,null,null,null,null,null,null,null,null,2964,{"$f":"IFERROR(VLOOKUP(S2987,Journal!$R:$AQ,26,FALSE),\"\")","v":""},{"$error":"#VALUE!"},{"$error":"#N/A"},"",{"$f":"IFERROR(VLOOKUP(S2987,Journal!$R:$AV,32,FALSE),\"\")","v":""},null,null,null,null,{"$f":"IFERROR(VLOOKUP(AA2987, 'Daily Snapshot'!$B:$J,7,FALSE),\"\")","v":""},null,null,null,null,2984,{"$f":"IFERROR(VLOOKUP(AH2987,Journal!$R:$S,2,FALSE),\"\")","v":""},0,0,null,null,null,null,null,null,null,null,null,null,null,null,null,null,null,null,null,null,null,null,null,null,2958,0,25025.38,{"$error":"#N/A"}]
[null,null,null,null,null,null,null,null,null,null,null,null,null,null,null,null,null,null,2971,{"$f":"IFERROR(VLOOKUP(S2994,Journal!$R:$AQ,26,FALSE),\"\")","v":""},{"$error":"#VALUE!"},{"$error":"#N/A"},"",{"$f":"IFERROR(VLOOKUP(S2994,Journal!$R:$AV,32,FALSE),\"\")","v":""},null,null,null,null,{"$f":"IFERROR(VLOOKUP(AA2994, 'Daily Snapshot'!$B:$J,7,FALSE),\"\")","v":""},null,null,null,null,2991,{"$f":"IFERROR(VLOOKUP(AH2994,Journal!$R:$S,2,FALSE),\"\")","v":""},0,0,null,null,null,null,null,null,null,null,null,null,null,null,null,null,null,null,null,null,null,null,null,null,2965,0,25025.38,{"$error":"#N/A"}]
[null,null,null,null,null,null,null,null,null,null,null,null,null,null,null,null,null,null,2981,{"$f":"IFERROR(VLOOKUP(S3004,Journal!$R:$AQ,26,FALSE),\"\")","v":""},{"$error":"#VALUE!"},{"$error":"#N/A"},"",{"$f":"IFERROR(VLOOKUP(S3004,Journal!$R:$AV,32,FALSE),\"\")","v":""},null,null,null,null,{"$f":"IFERROR(VLOOKUP(AA3004, 'Daily Snapshot'!$B:$J,7,FALSE),\"\")","v":""},null,null,null,null,3001,{"$f":"IFERROR(VLOOKUP(AH3004,Journal!$R:$S,2,FALSE),\"\")","v":""},0,0,null,null,null,null,null,null,null,null,null,null,null,null,null,null,null,null,null,null,null,null,null,null,2975,0,25025.38,{"$error":"#N/A"}]
[null,null,null,null,null,null,null,null,null,null,null,null,null,null,null,null,null,null,2985,{"$f":"IFERROR(VLOOKUP(S3008,Journal!$R:$AQ,26,FALSE),\"\")","v":""},{"$error":"#VALUE!"},{"$error":"#N/A"},"",{"$f":"IFERROR(VLOOKUP(S3008,Journal!$R:$AV,32,FALSE),\"\")","v":""},null,null,null,null,{"$f":"IFERROR(VLOOKUP(AA3008, 'Daily Snapshot'!$B:$J,7,FALSE),\"\")","v":""},null,null,null,null,3005,{"$f":"IFERROR(VLOOKUP(AH3008,Journal!$R:$S,2,FALSE),\"\")","v":""},0,0,null,null,null,null,null,null,null,null,null,null,null,null,null,null,null,null,null,null,null,null,null,null,2979,0,25025.38,{"$error":"#N/A"}]
[null,null,null,null,null,null,null,null,null,null,null,null,null,null,null,null,null,null,3001,{"$f":"IFERROR(VLOOKUP(S3024,Journal!$R:$AQ,26,FALSE),\"\")","v":""},{"$error":"#VALUE!"},{"$error":"#N/A"},"",{"$f":"IFERROR(VLOOKUP(S3024,Journal!$R:$AV,32,FALSE),\"\")","v":""},null,null,null,null,{"$f":"IFERROR(VLOOKUP(AA3024, 'Daily Snapshot'!$B:$J,7,FALSE),\"\")","v":""},null,null,null,null,3021,{"$f":"IFERROR(VLOOKUP(AH3024,Journal!$R:$S,2,FALSE),\"\")","v":""},0,0,null,null,null,null,null,null,null,null,null,null,null,null,null,null,null,null,null,null,null,null,null,null,2995,0,25025.38,{"$error":"#N/A"}]
[null,null,null,null,null,null,null,null,null,null,null,null,null,null,null,null,null,null,3004,{"$f":"IFERROR(VLOOKUP(S3027,Journal!$R:$AQ,26,FALSE),\"\")","v":""},{"$error":"#VALUE!"},{"$error":"#N/A"},"",{"$f":"IFERROR(VLOOKUP(S3027,Journal!$R:$AV,32,FALSE),\"\")","v":""},null,null,null,null,{"$f":"IFERROR(VLOOKUP(AA3027, 'Daily Snapshot'!$B:$J,7,FALSE),\"\")","v":""},null,null,null,null,3024,{"$f":"IFERROR(VLOOKUP(AH3027,Journal!$R:$S,2,FALSE),\"\")","v":""},0,0,null,null,null,null,null,null,null,null,null,null,null,null,null,null,null,null,null,null,null,null,null,null,2998,0,25025.38,{"$error":"#N/A"}]
[null,null,null,null,null,null,null,null,null,null,null,null,null,null,null,null,null,null,3011,{"$f":"IFERROR(VLOOKUP(S3034,Journal!$R:$AQ,26,FALSE),\"\")","v":""},{"$error":"#VALUE!"},{"$error":"#N/A"},"",{"$f":"IFERROR(VLOOKUP(S3034,Journal!$R:$AV,32,FALSE),\"\")","v":""},null,null,null,null,{"$f":"IFERROR(VLOOKUP(AA3034, 'Daily Snapshot'!$B:$J,7,FALSE),\"\")","v":""},null,null,null,null,3031,{"$f":"IFERROR(VLOOKUP(AH3034,Journal!$R:$S,2,FALSE),\"\")","v":""},0,0,null,null,null,null,null,null,null,null,null,null,null,null,null,null,null,null,null,null,null,null,null,null,3005,0,25025.38,{"$error":"#N/A"}]
[null,null,null,null,null,null,null,null,null,null,null,null,null,null,null,null,null,null,3022,{"$f":"IFERROR(VLOOKUP(S3045,Journal!$R:$AQ,26,FALSE),\"\")","v":""},{"$error":"#VALUE!"},{"$error":"#N/A"},"",{"$f":"IFERROR(VLOOKUP(S3045,Journal!$R:$AV,32,FALSE),\"\")","v":""},null,null,null,null,{"$f":"IFERROR(VLOOKUP(AA3045, 'Daily Snapshot'!$B:$J,7,FALSE),\"\")","v":""},null,null,null,null,3042,{"$f":"IFERROR(VLOOKUP(AH3045,Journal!$R:$S,2,FALSE),\"\")","v":""},0,0,null,null,null,null,null,null,null,null,null,null,null,null,null,null,null,null,null,null,null,null,null,null,3016,0,25025.38,{"$error":"#N/A"}]
[null,null,null,null,null,null,null,null,null,null,null,null,null,null,null,null,null,null,3034,{"$f":"IFERROR(VLOOKUP(S3057,Journal!$R:$AQ,26,FALSE),\"\")","v":""},{"$error":"#VALUE!"},{"$error":"#N/A"},"",{"$f":"IFERROR(VLOOKUP(S3057,Journal!$R:$AV,32,FALSE),\"\")","v":""},null,null,null,null,{"$f":"IFERROR(VLOOKUP(AA3057, 'Daily Snapshot'!$B:$J,7,FALSE),\"\")","v":""},null,null,null,null,3054,{"$f":"IFERROR(VLOOKUP(AH3057,Journal!$R:$S,2,FALSE),\"\")","v":""},0,0,null,null,null,null,null,null,null,null,null,null,null,null,null,null,null,null,null,null,null,null,null,null,3028,0,25025.38,{"$error":"#N/A"}]
[null,null,null,null,null,null,null,null,null,null,null,null,null,null,null,null,null,null,3041,{"$f":"IFERROR(VLOOKUP(S3064,Journal!$R:$AQ,26,FALSE),\"\")","v":""},{"$error":"#VALUE!"},{"$error":"#N/A"},"",{"$f":"IFERROR(VLOOKUP(S3064,Journal!$R:$AV,32,FALSE),\"\")","v":""},null,null,null,null,{"$f":"IFERROR(VLOOKUP(AA3064, 'Daily Snapshot'!$B:$J,7,FALSE),\"\")","v":""},null,null,null,null,3061,{"$f":"IFERROR(VLOOKUP(AH3064,Journal!$R:$S,2,FALSE),\"\")","v":""},0,0,null,null,null,null,null,null,null,null,null,null,null,null,null,null,null,null,null,null,null,null,null,null,3035,0,25025.38,{"$error":"#N/A"}]
[null,null,null,null,null,null,null,null,null,null,null,null,null,null,null,null,null,null,3053,{"$f":"IFERROR(VLOOKUP(S3076,Journal!$R:$AQ,26,FALSE),\"\")","v":""},{"$error":"#VALUE!"},{"$error":"#N/A"},"",{"$f":"IFERROR(VLOOKUP(S3076,Journal!$R:$AV,32,FALSE),\"\")","v":""},null,null,null,null,{"$f":"IFERROR(VLOOKUP(AA3076, 'Daily Snapshot'!$B:$J,7,FALSE),\"\")","v":""},null,null,null,null,3073,{"$f":"IFERROR(VLOOKUP(AH3076,Journal!$R:$S,2,FALSE),\"\")","v":""},{"$f":"IF($AI3076=\"W\", 1,0)","v":0},{"$f":"IF($AI3076=\"L\", -1,0)","v":0},null,null,null,null,null,null,null,null,null,null,null,null,null,null,null,null,null,null,null,null,null,null,3047,0,25025.38,{"$error":"#N/A"}]
[null,null,null,null,null,null,null,null,null,null,null,null,null,null,null,null,null,null,3056,{"$f":"IFERROR(VLOOKUP(S3079,Journal!$R:$AQ,26,FALSE),\"\")","v":""},{"$error":"#VALUE!"},{"$error":"#N/A"},"",{"$f":"IFERROR(VLOOKUP(S3079,Journal!$R:$AV,32,FALSE),\"\")","v":""},null,null,null,null,{"$f":"IFERROR(VLOOKUP(AA3079, 'Daily Snapshot'!$B:$J,7,FALSE),\"\")","v":""},null,null,null,null,3076,{"$f":"IFERROR(VLOOKUP(AH3079,Journal!$R:$S,2,FALSE),\"\")","v":""},0,0,null,null,null,null,null,null,null,null,null,null,null,null,null,null,null,null,null,null,null,null,null,null,3050,0,25025.38,{"$error":"#N/A"}]
[null,null,null,null,null,null,null,null,null,null,null,null,null,null,null,null,null,null,3071,{"$f":"IFERROR(VLOOKUP(S3094,Journal!$R:$AQ,26,FALSE),\"\")","v":""},{"$error":"#VALUE!"},{"$error":"#N/A"},"",{"$f":"IFERROR(VLOOKUP(S3094,Journal!$R:$AV,32,FALSE),\"\")","v":""},null,null,null,null,{"$f":"IFERROR(VLOOKUP(AA3094, 'Daily Snapshot'!$B:$J,7,FALSE),\"\")","v":""},null,null,null,null,3091,{"$f":"IFERROR(VLOOKUP(AH3094,Journal!$R:$S,2,FALSE),\"\")","v":""},0,0,null,null,null,null,null,null,null,null,null,null,null,null,null,null,null,null,null,null,null,null,null,null,3065,0,25025.38,{"$error":"#N/A"}]
[null,null,null,null,null,null,null,null,null,null,null,null,null,null,null,null,null,null,3074,{"$f":"IFERROR(VLOOKUP(S3097,Journal!$R:$AQ,26,FALSE),\"\")","v":""},{"$f":"T3097+U3096","v":{"$error":"#VALUE!"}},{"$error":"#N/A"},{"$f":"IFERROR(T3097/$H$25,\"\")","v":""},{"$f":"IFERROR(VLOOKUP(S3097,Journal!$R:$AV,32,FALSE),\"\")","v":""},null,null,null,null,{"$f":"IFERROR(VLOOKUP(AA3097, 'Daily Snapshot'!$B:$J,7,FALSE),\"\")","v":""},null,null,null,null,3094,{"$f":"IFERROR(VLOOKUP(AH3097,Journal!$R:$S,2,FALSE),\"\")","v":""},0,0,null,null,null,null,null,null,null,null,null,null,null,null,null,null,null,null,null,null,null,null,null,null,3068,0,25025.38,{"$error":"#N/A"}]
[null,null,null,null,null,null,null,null,null,null,null,null,null,null,null,null,null,null,3081,{"$f":"IFERROR(VLOOKUP(S3104,Journal!$R:$AQ,26,FALSE),\"\")","v":""},{"$error":"#VALUE!"},{"$error":"#N/A"},"",{"$f":"IFERROR(VLOOKUP(S3104,Journal!$R:$AV,32,FALSE),\"\")","v":""},null,null,null,null,{"$f":"IFERROR(VLOOKUP(AA3104, 'Daily Snapshot'!$B:$J,7,FALSE),\"\")","v":""},null,null,null,null,3101,{"$f":"IFERROR(VLOOKUP(AH3104,Journal!$R:$S,2,FALSE),\"\")","v":""},0,0,null,null,null,null,null,null,null,null,null,null,null,null,null,null,null,null,null,null,null,null,null,null,3075,{"$f":"N3107","v":0},25025.38,{"$error":"#N/A"}]
[null,null,null,null,null,null,null,null,null,null,null,null,null,null,null,null,null,null,3093,{"$f":"IFERROR(VLOOKUP(S3116,Journal!$R:$AQ,26,FALSE),\"\")","v":""},{"$error":"#VALUE!"},{"$error":"#N/A"},"",{"$f":"IFERROR(VLOOKUP(S3116,Journal!$R:$AV,32,FALSE),\"\")","v":""},null,null,null,null,{"$f":"IFERROR(VLOOKUP(AA3116, 'Daily Snapshot'!$B:$J,7,FALSE),\"\")","v":""},null,null,null,null,3113,{"$f":"IFERROR(VLOOKUP(AH3116,Journal!$R:$S,2,FALSE),\"\")","v":""},0,0,null,null,null,null,null,null,null,null,null,null,null,null,null,null,null,null,null,null,null,null,null,null,3087,0,25025.38,{"$error":"#N/A"}]
[null,null,null,null,null,null,null,null,null,null,null,null,null,null,null,null,null,null,3105,{"$f":"IFERROR(VLOOKUP(S3128,Journal!$R:$AQ,26,FALSE),\"\")","v":""},{"$error":"#VALUE!"},{"$error":"#N/A"},"",{"$f":"IFERROR(VLOOKUP(S3128,Journal!$R:$AV,32,FALSE),\"\")","v":""},null,null,null,null,{"$f":"IFERROR(VLOOKUP(AA3128, 'Daily Snapshot'!$B:$J,7,FALSE),\"\")","v":""},null,null,null,null,3125,{"$f":"IFERROR(VLOOKUP(AH3128,Journal!$R:$S,2,FALSE),\"\")","v":""},0,0,null,null,null,null,null,null,null,null,null,null,null,null,null,null,null,null,null,null,null,null,null,null,3099,0,25025.38,{"$error":"#N/A"}]
[null,null,null,null,null,null,null,null,null,null,null,null,null,null,null,null,null,null,3112,{"$f":"IFERROR(VLOOKUP(S3135,Journal!$R:$AQ,26,FALSE),\"\")","v":""},{"$error":"#VALUE!"},{"$error":"#N/A"},"",{"$f":"IFERROR(VLOOKUP(S3135,Journal!$R:$AV,32,FALSE),\"\")","v":""},null,null,null,null,{"$f":"IFERROR(VLOOKUP(AA3135, 'Daily Snapshot'!$B:$J,7,FALSE),\"\")","v":""},null,null,null,null,3132,{"$f":"IFERROR(VLOOKUP(AH3135,Journal!$R:$S,2,FALSE),\"\")","v":""},0,0,null,null,null,null,null,null,null,null,null,null,null,null,null,null,null,null,null,null,null,null,null,null,3106,0,25025.38,{"$error":"#N/A"}]
[null,null,null,null,null,null,null,null,null,null,null,null,null,null,null,null,null,null,3123,{"$f":"IFERROR(VLOOKUP(S3146,Journal!$R:$AQ,26,FALSE),\"\")","v":""},{"$error":"#VALUE!"},{"$error":"#N/A"},"",{"$f":"IFERROR(VLOOKUP(S3146,Journal!$R:$AV,32,FALSE),\"\")","v":""},null,null,null,null,{"$f":"IFERROR(VLOOKUP(AA3146, 'Daily Snapshot'!$B:$J,7,FALSE),\"\")","v":""},null,null,null,null,3143,{"$f":"IFERROR(VLOOKUP(AH3146,Journal!$R:$S,2,FALSE),\"\")","v":""},0,0,null,null,null,null,null,null,null,null,null,null,null,null,null,null,null,null,null,null,null,null,null,null,3117,0,25025.38,{"$error":"#N/A"}]
[null,null,null,null,null,null,null,null,null,null,null,null,null,null,null,null,null,null,3126,{"$f":"IFERROR(VLOOKUP(S3149,Journal!$R:$AQ,26,FALSE),\"\")","v":""},{"$error":"#VALUE!"},{"$error":"#N/A"},"",{"$f":"IFERROR(VLOOKUP(S3149,Journal!$R:$AV,32,FALSE),\"\")","v":""},null,null,null,null,{"$f":"IFERROR(VLOOKUP(AA3149, 'Daily Snapshot'!$B:$J,7,FALSE),\"\")","v":""},null,null,null,null,3146,{"$f":"IFERROR(VLOOKUP(AH3149,Journal!$R:$S,2,FALSE),\"\")","v":""},0,0,null,null,null,null,null,null,null,null,null,null,null,null,null,null,null,null,null,null,null,null,null,null,3120,0,25025.38,{"$error":"#N/A"}]
[null,null,null,null,null,null,null,null,null,null,null,null,null,null,null,null,null,null,3142,{"$f":"IFERROR(VLOOKUP(S3165,Journal!$R:$AQ,26,FALSE),\"\")","v":""},{"$error":"#VALUE!"},{"$error":"#N/A"},"",{"$f":"IFERROR(VLOOKUP(S3165,Journal!$R:$AV,32,FALSE),\"\")","v":""},null,null,null,null,{"$f":"IFERROR(VLOOKUP(AA3165, 'Daily Snapshot'!$B:$J,7,FALSE),\"\")","v":""},null,null,null,null,3162,{"$f":"IFERROR(VLOOKUP(AH3165,Journal!$R:$S,2,FALSE),\"\")","v":""},0,0,null,null,null,null,null,null,null,null,null,null,null,null,null,null,null,null,null,null,null,null,null,null,3136,0,25025.38,{"$error":"#N/A"}]
[null,null,null,null,null,null,null,null,null,null,null,null,null,null,null,null,null,null,3143,{"$f":"IFERROR(VLOOKUP(S3166,Journal!$R:$AQ,26,FALSE),\"\")","v":""},{"$error":"#VALUE!"},{"$error":"#N/A"},"",{"$f":"IFERROR(VLOOKUP(S3166,Journal!$R:$AV,32,FALSE),\"\")","v":""},null,null,null,null,{"$f":"IFERROR(VLOOKUP(AA3166, 'Daily Snapshot'!$B:$J,7,FALSE),\"\")","v":""},null,null,null,null,3163,{"$f":"IFERROR(VLOOKUP(AH3166,Journal!$R:$S,2,FALSE),\"\")","v":""},0,0,null,null,null,null,null,null,null,null,null,null,null,null,null,null,null,null,null,null,null,null,null,null,3137,0,25025.38,{"$error":"#N/A"}]
[null,null,null,null,null,null,null,null,null,null,null,null,null,null,null,null,null,null,3151,{"$f":"IFERROR(VLOOKUP(S3174,Journal!$R:$AQ,26,FALSE),\"\")","v":""},{"$error":"#VALUE!"},{"$error":"#N/A"},"",{"$f":"IFERROR(VLOOKUP(S3174,Journal!$R:$AV,32,FALSE),\"\")","v":""},null,null,null,null,{"$f":"IFERROR(VLOOKUP(AA3174, 'Daily Snapshot'!$B:$J,7,FALSE),\"\")","v":""},null,null,null,null,3171,{"$f":"IFERROR(VLOOKUP(AH3174,Journal!$R:$S,2,FALSE),\"\")","v":""},0,0,null,null,null,null,null,null,null,null,null,null,null,null,null,null,null,null,null,null,null,null,null,null,3145,0,25025.38,{"$error":"#N/A"}]
[null,null,null,null,null,null,null,null,null,null,null,null,null,null,null,null,null,null,3163,{"$f":"IFERROR(VLOOKUP(S3186,Journal!$R:$AQ,26,FALSE),\"\")","v":""},{"$error":"#VALUE!"},{"$error":"#N/A"},"",{"$f":"IFERROR(VLOOKUP(S3186,Journal!$R:$AV,32,FALSE),\"\")","v":""},null,null,null,null,{"$f":"IFERROR(VLOOKUP(AA3186, 'Daily Snapshot'!$B:$J,7,FALSE),\"\")","v":""},null,null,null,null,3183,{"$f":"IFERROR(VLOOKUP(AH3186,Journal!$R:$S,2,FALSE),\"\")","v":""},0,0,null,null,null,null,null,null,null,null,null,null,null,null,null,null,null,null,null,null,null,null,null,null,3157,0,25025.38,{"$error":"#N/A"}]
[null,null,null,null,null,null,null,null,null,null,null,null,null,null,null,null,null,null,3175,{"$f":"IFERROR(VLOOKUP(S3198,Journal!$R:$AQ,26,FALSE),\"\")","v":""},{"$error":"#VALUE!"},{"$error":"#N/A"},"",{"$f":"IFERROR(VLOOKUP(S3198,Journal!$R:$AV,32,FALSE),\"\")","v":""},null,null,null,null,{"$f":"IFERROR(VLOOKUP(AA3198, 'Daily Snapshot'!$B:$J,7,FALSE),\"\")","v":""},null,null,null,null,3195,{"$f":"IFERROR(VLOOKUP(AH3198,Journal!$R:$S,2,FALSE),\"\")","v":""},0,0,null,null,null,null,null,null,null,null,null,null,null,null,null,null,null,null,null,null,null,null,null,null,3169,0,25025.38,{"$error":"#N/A"}]
[null,null,null,null,null,null,null,null,null,null,null,null,null,null,null,null,null,null,3182,{"$f":"IFERROR(VLOOKUP(S3205,Journal!$R:$AQ,26,FALSE),\"\")","v":""},{"$error":"#VALUE!"},{"$error":"#N/A"},"",{"$f":"IFERROR(VLOOKUP(S3205,Journal!$R:$AV,32,FALSE),\"\")","v":""},null,null,null,null,{"$f":"IFERROR(VLOOKUP(AA3205, 'Daily Snapshot'!$B:$J,7,FALSE),\"\")","v":""},null,null,null,null,3202,{"$f":"IFERROR(VLOOKUP(AH3205,Journal!$R:$S,2,FALSE),\"\")","v":""},0,0,null,null,null,null,null,null,null,null,null,null,null,null,null,null,null,null,null,null,null,null,null,null,3176,0,25025.38,{"$error":"#N/A"}]
[null,null,null,null,null,null,null,null,null,null,null,null,null,null,null,null,null,null,3192,{"$f":"IFERROR(VLOOKUP(S3215,Journal!$R:$AQ,26,FALSE),\"\")","v":""},{"$error":"#VALUE!"},{"$error":"#N/A"},"",{"$f":"IFERROR(VLOOKUP(S3215,Journal!$R:$AV,32,FALSE),\"\")","v":""},null,null,null,null,{"$f":"IFERROR(VLOOKUP(AA3215, 'Daily Snapshot'!$B:$J,7,FALSE),\"\")","v":""},null,null,null,null,3212,{"$f":"IFERROR(VLOOKUP(AH3215,Journal!$R:$S,2,FALSE),\"\")","v":""},0,0,null,null,null,null,null,null,null,null,null,null,null,null,null,null,null,null,null,null,null,null,null,null,3186,0,25025.38,{"$error":"#N/A"}]
[null,null,null,null,null,null,null,null,null,null,null,null,null,null,null,null,null,null,3200,{"$f":"IFERROR(VLOOKUP(S3223,Journal!$R:$AQ,26,FALSE),\"\")","v":""},{"$error":"#VALUE!"},{"$error":"#N/A"},"",{"$f":"IFERROR(VLOOKUP(S3223,Journal!$R:$AV,32,FALSE),\"\")","v":""},null,null,null,null,{"$f":"IFERROR(VLOOKUP(AA3223, 'Daily Snapshot'!$B:$J,7,FALSE),\"\")","v":""},null,null,null,null,3220,{"$f":"IFERROR(VLOOKUP(AH3223,Journal!$R:$S,2,FALSE),\"\")","v":""},0,0,null,null,null,null,null,null,null,null,null,null,null,null,null,null,null,null,null,null,null,null,null,null,3194,0,25025.38,{"$error":"#N/A"}]
[null,null,null,null,null,null,null,null,null,null,null,null,null,null,null,null,null,null,3212,{"$f":"IFERROR(VLOOKUP(S3235,Journal!$R:$AQ,26,FALSE),\"\")","v":""},{"$error":"#VALUE!"},{"$error":"#N/A"},"",{"$f":"IFERROR(VLOOKUP(S3235,Journal!$R:$AV,32,FALSE),\"\")","v":""},null,null,null,null,{"$f":"IFERROR(VLOOKUP(AA3235, 'Daily Snapshot'!$B:$J,7,FALSE),\"\")","v":""},null,null,null,null,3232,{"$f":"IFERROR(VLOOKUP(AH3235,Journal!$R:$S,2,FALSE),\"\")","v":""},0,0,null,null,null,null,null,null,null,null,null,null,null,null,null,null,null,null,null,null,null,null,null,null,3206,0,25025.38,{"$error":"#N/A"}]
[null,null,null,null,null,null,null,null,null,null,null,null,null,null,null,null,null,null,3215,{"$f":"IFERROR(VLOOKUP(S3238,Journal!$R:$AQ,26,FALSE),\"\")","v":""},{"$error":"#VALUE!"},{"$error":"#N/A"},"",{"$f":"IFERROR(VLOOKUP(S3238,Journal!$R:$AV,32,FALSE),\"\")","v":""},null,null,null,null,{"$f":"IFERROR(VLOOKUP(AA3238, 'Daily Snapshot'!$B:$J,7,FALSE),\"\")","v":""},null,null,null,null,3235,{"$f":"IFERROR(VLOOKUP(AH3238,Journal!$R:$S,2,FALSE),\"\")","v":""},0,0,null,null,null,null,null,null,null,null,null,null,null,null,null,null,null,null,null,null,null,null,null,null,3209,0,25025.38,{"$error":"#N/A"}]
[null,null,null,null,null,null,null,null,null,null,null,null,null,null,null,null,null,null,3222,{"$f":"IFERROR(VLOOKUP(S3245,Journal!$R:$AQ,26,FALSE),\"\")","v":""},{"$error":"#VALUE!"},{"$error":"#N/A"},"",{"$f":"IFERROR(VLOOKUP(S3245,Journal!$R:$AV,32,FALSE),\"\")","v":""},null,null,null,null,{"$f":"IFERROR(VLOOKUP(AA3245, 'Daily Snapshot'!$B:$J,7,FALSE),\"\")","v":""},null,null,null,null,3242,{"$f":"IFERROR(VLOOKUP(AH3245,Journal!$R:$S,2,FALSE),\"\")","v":""},0,0,null,null,null,null,null,null,null,null,null,null,null,null,null,null,null,null,null,null,null,null,null,null,3216,0,25025.38,{"$error":"#N/A"}]
[null,null,null,null,null,null,null,null,null,null,null,null,null,null,null,null,null,null,3233,{"$f":"IFERROR(VLOOKUP(S3256,Journal!$R:$AQ,26,FALSE),\"\")","v":""},{"$error":"#VALUE!"},{"$error":"#N/A"},"",{"$f":"IFERROR(VLOOKUP(S3256,Journal!$R:$AV,32,FALSE),\"\")","v":""},null,null,null,null,{"$f":"IFERROR(VLOOKUP(AA3256, 'Daily Snapshot'!$B:$J,7,FALSE),\"\")","v":""},null,null,null,null,3253,{"$f":"IFERROR(VLOOKUP(AH3256,Journal!$R:$S,2,FALSE),\"\")","v":""},0,0,null,null,null,null,null,null,null,null,null,null,null,null,null,null,null,null,null,null,null,null,null,null,3227,0,25025.38,{"$error":"#N/A"}]
[null,null,null,null,null,null,null,null,null,null,null,null,null,null,null,null,null,null,3245,{"$f":"IFERROR(VLOOKUP(S3268,Journal!$R:$AQ,26,FALSE),\"\")","v":""},{"$error":"#VALUE!"},{"$error":"#N/A"},"",{"$f":"IFERROR(VLOOKUP(S3268,Journal!$R:$AV,32,FALSE),\"\")","v":""},null,null,null,null,{"$f":"IFERROR(VLOOKUP(AA3268, 'Daily Snapshot'!$B:$J,7,FALSE),\"\")","v":""},null,null,null,null,3265,{"$f":"IFERROR(VLOOKUP(AH3268,Journal!$R:$S,2,FALSE),\"\")","v":""},{"$f":"IF($AI3268=\"W\", 1,0)","v":0},{"$f":"IF($AI3268=\"L\", -1,0)","v":0},null,null,null,null,null,null,null,null,null,null,null,null,null,null,null,null,null,null,null,null,null,null,3239,0,25025.38,{"$error":"#N/A"}]
[null,null,null,null,null,null,null,null,null,null,null,null,null,null,null,null,null,null,3252,{"$f":"IFERROR(VLOOKUP(S3275,Journal!$R:$AQ,26,FALSE),\"\")","v":""},{"$error":"#VALUE!"},{"$error":"#N/A"},"",{"$f":"IFERROR(VLOOKUP(S3275,Journal!$R:$AV,32,FALSE),\"\")","v":""},null,null,null,null,{"$f":"IFERROR(VLOOKUP(AA3275, 'Daily Snapshot'!$B:$J,7,FALSE),\"\")","v":""},null,null,null,null,3272,{"$f":"IFERROR(VLOOKUP(AH3275,Journal!$R:$S,2,FALSE),\"\")","v":""},0,0,null,null,null,null,null,null,null,null,null,null,null,null,null,null,null,null,null,null,null,null,null,null,3246,0,25025.38,{"$error":"#N/A"}]
[null,null,null,null,null,null,null,null,null,null,null,null,null,null,null,null,null,null,3264,{"$f":"IFERROR(VLOOKUP(S3287,Journal!$R:$AQ,26,FALSE),\"\")","v":""},{"$error":"#VALUE!"},{"$error":"#N/A"},"",{"$f":"IFERROR(VLOOKUP(S3287,Journal!$R:$AV,32,FALSE),\"\")","v":""},null,null,null,null,{"$f":"IFERROR(VLOOKUP(AA3287, 'Daily Snapshot'!$B:$J,7,FALSE),\"\")","v":""},null,null,null,null,3284,{"$f":"IFERROR(VLOOKUP(AH3287,Journal!$R:$S,2,FALSE),\"\")","v":""},0,0,null,null,null,null,null,null,null,null,null,null,null,null,null,null,null,null,null,null,null,null,null,null,3258,0,25025.38,{"$error":"#N/A"}]
[null,null,null,null,null,null,null,null,null,null,null,null,null,null,null,null,null,null,3271,{"$f":"IFERROR(VLOOKUP(S3294,Journal!$R:$AQ,26,FALSE),\"\")","v":""},{"$error":"#VALUE!"},{"$error":"#N/A"},"",{"$f":"IFERROR(VLOOKUP(S3294,Journal!$R:$AV,32,FALSE),\"\")","v":""},null,null,null,null,{"$f":"IFERROR(VLOOKUP(AA3294, 'Daily Snapshot'!$B:$J,7,FALSE),\"\")","v":""},null,null,null,null,3291,{"$f":"IFERROR(VLOOKUP(AH3294,Journal!$R:$S,2,FALSE),\"\")","v":""},0,0,null,null,null,null,null,null,null,null,null,null,null,null,null,null,null,null,null,null,null,null,null,null,3265,0,25025.38,{"$error":"#N/A"}]
[null,null,null,null,null,null,null,null,null,null,null,null,null,null,null,null,null,null,3282,{"$f":"IFERROR(VLOOKUP(S3305,Journal!$R:$AQ,26,FALSE),\"\")","v":""},{"$error":"#VALUE!"},{"$error":"#N/A"},"",{"$f":"IFERROR(VLOOKUP(S3305,Journal!$R:$AV,32,FALSE),\"\")","v":""},null,null,null,null,{"$f":"IFERROR(VLOOKUP(AA3305, 'Daily Snapshot'!$B:$J,7,FALSE),\"\")","v":""},null,null,null,null,3302,{"$f":"IFERROR(VLOOKUP(AH3305,Journal!$R:$S,2,FALSE),\"\")","v":""},0,0,null,null,null,null,null,null,null,null,null,null,null,null,null,null,null,null,null,null,null,null,null,null,3276,0,25025.38,{"$error":"#N/A"}]
[null,null,null,null,null,null,null,null,null,null,null,null,null,null,null,null,null,null,3285,{"$f":"IFERROR(VLOOKUP(S3308,Journal!$R:$AQ,26,FALSE),\"\")","v":""},{"$error":"#VALUE!"},{"$error":"#N/A"},"",{"$f":"IFERROR(VLOOKUP(S3308,Journal!$R:$AV,32,FALSE),\"\")","v":""},null,null,null,null,{"$f":"IFERROR(VLOOKUP(AA3308, 'Daily Snapshot'!$B:$J,7,FALSE),\"\")","v":""},null,null,null,null,3305,{"$f":"IFERROR(VLOOKUP(AH3308,Journal!$R:$S,2,FALSE),\"\")","v":""},0,0,null,null,null,null,null,null,null,null,null,null,null,null,null,null,null,null,null,null,null,null,null,null,3279,0,25025.38,{"$error":"#N/A"}]
[null,null,null,null,null,null,null,null,null,null,null,null,null,null,null,null,null,null,3292,{"$f":"IFERROR(VLOOKUP(S3315,Journal!$R:$AQ,26,FALSE),\"\")","v":""},{"$error":"#VALUE!"},{"$error":"#N/A"},"",{"$f":"IFERROR(VLOOKUP(S3315,Journal!$R:$AV,32,FALSE),\"\")","v":""},null,null,null,null,{"$f":"IFERROR(VLOOKUP(AA3315, 'Daily Snapshot'!$B:$J,7,FALSE),\"\")","v":""},null,null,null,null,3312,{"$f":"IFERROR(VLOOKUP(AH3315,Journal!$R:$S,2,FALSE),\"\")","v":""},0,0,null,null,null,null,null,null,null,null,null,null,null,null,null,null,null,null,null,null,null,null,null,null,3286,0,25025.38,{"$error":"#N/A"}]
[null,null,null,null,null,null,null,null,null,null,null,null,null,null,null,null,null,null,3304,{"$f":"IFERROR(VLOOKUP(S3327,Journal!$R:$AQ,26,FALSE),\"\")","v":""},{"$error":"#VALUE!"},{"$error":"#N/A"},"",{"$f":"IFERROR(VLOOKUP(S3327,Journal!$R:$AV,32,FALSE),\"\")","v":""},null,null,null,null,{"$f":"IFERROR(VLOOKUP(AA3327, 'Daily Snapshot'!$B:$J,7,FALSE),\"\")","v":""},null,null,null,null,3324,{"$f":"IFERROR(VLOOKUP(AH3327,Journal!$R:$S,2,FALSE),\"\")","v":""},0,0,null,null,null,null,null,null,null,null,null,null,null,null,null,null,null,null,null,null,null,null,null,null,3298,0,25025.38,{"$error":"#N/A"}]
[null,null,null,null,null,null,null,null,null,null,null,null,null,null,null,null,null,null,3316,{"$f":"IFERROR(VLOOKUP(S3339,Journal!$R:$AQ,26,FALSE),\"\")","v":""},{"$error":"#VALUE!"},{"$error":"#N/A"},"",{"$f":"IFERROR(VLOOKUP(S3339,Journal!$R:$AV,32,FALSE),\"\")","v":""},null,null,null,null,{"$f":"IFERROR(VLOOKUP(AA3339, 'Daily Snapshot'!$B:$J,7,FALSE),\"\")","v":""},null,null,null,null,3336,{"$f":"IFERROR(VLOOKUP(AH3339,Journal!$R:$S,2,FALSE),\"\")","v":""},0,0,null,null,null,null,null,null,null,null,null,null,null,null,null,null,null,null,null,null,null,null,null,null,3310,0,25025.38,{"$error":"#N/A"}]
[null,null,null,null,null,null,null,null,null,null,null,null,null,null,null,null,null,null,3323,{"$f":"IFERROR(VLOOKUP(S3346,Journal!$R:$AQ,26,FALSE),\"\")","v":""},{"$error":"#VALUE!"},{"$error":"#N/A"},"",{"$f":"IFERROR(VLOOKUP(S3346,Journal!$R:$AV,32,FALSE),\"\")","v":""},null,null,null,null,{"$f":"IFERROR(VLOOKUP(AA3346, 'Daily Snapshot'!$B:$J,7,FALSE),\"\")","v":""},null,null,null,null,3343,{"$f":"IFERROR(VLOOKUP(AH3346,Journal!$R:$S,2,FALSE),\"\")","v":""},0,0,null,null,null,null,null,null,null,null,null,null,null,null,null,null,null,null,null,null,null,null,null,null,3317,0,25025.38,{"$error":"#N/A"}]
[null,null,null,null,null,null,null,null,null,null,null,null,null,null,null,null,null,null,3334,{"$f":"IFERROR(VLOOKUP(S3357,Journal!$R:$AQ,26,FALSE),\"\")","v":""},{"$error":"#VALUE!"},{"$error":"#N/A"},"",{"$f":"IFERROR(VLOOKUP(S3357,Journal!$R:$AV,32,FALSE),\"\")","v":""},null,null,null,null,{"$f":"IFERROR(VLOOKUP(AA3357, 'Daily Snapshot'!$B:$J,7,FALSE),\"\")","v":""},null,null,null,null,3354,{"$f":"IFERROR(VLOOKUP(AH3357,Journal!$R:$S,2,FALSE),\"\")","v":""},0,0,null,null,null,null,null,null,null,null,null,null,null,null,null,null,null,null,null,null,null,null,null,null,3328,0,25025.38,{"$error":"#N/A"}]
[null,null,null,null,null,null,null,null,null,null,null,null,null,null,null,null,null,null,3341,{"$f":"IFERROR(VLOOKUP(S3364,Journal!$R:$AQ,26,FALSE),\"\")","v":""},{"$error":"#VALUE!"},{"$error":"#N/A"},"",{"$f":"IFERROR(VLOOKUP(S3364,Journal!$R:$AV,32,FALSE),\"\")","v":""},null,null,null,null,{"$f":"IFERROR(VLOOKUP(AA3364, 'Daily Snapshot'!$B:$J,7,FALSE),\"\")","v":""},null,null,null,null,3361,{"$f":"IFERROR(VLOOKUP(AH3364,Journal!$R:$S,2,FALSE),\"\")","v":""},0,0,null,null,null,null,null,null,null,null,null,null,null,null,null,null,null,null,null,null,null,null,null,null,3335,0,25025.38,{"$error":"#N/A"}]
[null,null,null,null,null,null,null,null,null,null,null,null,null,null,null,null,null,null,3353,{"$f":"IFERROR(VLOOKUP(S3376,Journal!$R:$AQ,26,FALSE),\"\")","v":""},{"$error":"#VALUE!"},{"$error":"#N/A"},"",{"$f":"IFERROR(VLOOKUP(S3376,Journal!$R:$AV,32,FALSE),\"\")","v":""},null,null,null,null,{"$f":"IFERROR(VLOOKUP(AA3376, 'Daily Snapshot'!$B:$J,7,FALSE),\"\")","v":""},null,null,null,null,3373,{"$f":"IFERROR(VLOOKUP(AH3376,Journal!$R:$S,2,FALSE),\"\")","v":""},0,0,null,null,null,null,null,null,null,null,null,null,null,null,null,null,null,null,null,null,null,null,null,null,3347,0,25025.38,{"$error":"#N/A"}]
[null,null,null,null,null,null,null,null,null,null,null,null,null,null,null,null,null,null,3356,{"$f":"IFERROR(VLOOKUP(S3379,Journal!$R:$AQ,26,FALSE),\"\")","v":""},{"$error":"#VALUE!"},{"$error":"#N/A"},"",{"$f":"IFERROR(VLOOKUP(S3379,Journal!$R:$AV,32,FALSE),\"\")","v":""},null,null,null,null,{"$f":"IFERROR(VLOOKUP(AA3379, 'Daily Snapshot'!$B:$J,7,FALSE),\"\")","v":""},null,null,null,null,3376,{"$f":"IFERROR(VLOOKUP(AH3379,Journal!$R:$S,2,FALSE),\"\")","v":""},0,0,null,null,null,null,null,null,null,null,null,null,null,null,null,null,null,null,null,null,null,null,null,null,3350,0,25025.38,{"$error":"#N/A"}]
[null,null,null,null,null,null,null,null,null,null,null,null,null,null,null,null,null,null,3364,{"$f":"IFERROR(VLOOKUP(S3387,Journal!$R:$AQ,26,FALSE),\"\")","v":""},{"$error":"#VALUE!"},{"$error":"#N/A"},"",{"$f":"IFERROR(VLOOKUP(S3387,Journal!$R:$AV,32,FALSE),\"\")","v":""},null,null,null,null,{"$f":"IFERROR(VLOOKUP(AA3387, 'Daily Snapshot'!$B:$J,7,FALSE),\"\")","v":""},null,null,null,null,3384,{"$f":"IFERROR(VLOOKUP(AH3387,Journal!$R:$S,2,FALSE),\"\")","v":""},0,0,null,null,null,null,null,null,null,null,null,null,null,null,null,null,null,null,null,null,null,null,null,null,3358,0,25025.38,{"$error":"#N/A"}]
[null,null,null,null,null,null,null,null,null,null,null,null,null,null,null,null,null,null,3374,{"$f":"IFERROR(VLOOKUP(S3397,Journal!$R:$AQ,26,FALSE),\"\")","v":""},{"$error":"#VALUE!"},{"$error":"#N/A"},"",{"$f":"IFERROR(VLOOKUP(S3397,Journal!$R:$AV,32,FALSE),\"\")","v":""},null,null,null,null,{"$f":"IFERROR(VLOOKUP(AA3397, 'Daily Snapshot'!$B:$J,7,FALSE),\"\")","v":""},null,null,null,null,3394,{"$f":"IFERROR(VLOOKUP(AH3397,Journal!$R:$S,2,FALSE),\"\")","v":""},0,0,null,null,null,null,null,null,null,null,null,null,null,null,null,null,null,null,null,null,null,null,null,null,3368,0,25025.38,{"$error":"#N/A"}]
[null,null,null,null,null,null,null,null,null,null,null,null,null,null,null,null,null,null,3381,{"$f":"IFERROR(VLOOKUP(S3404,Journal!$R:$AQ,26,FALSE),\"\")","v":""},{"$error":"#VALUE!"},{"$error":"#N/A"},"",{"$f":"IFERROR(VLOOKUP(S3404,Journal!$R:$AV,32,FALSE),\"\")","v":""},null,null,null,null,{"$f":"IFERROR(VLOOKUP(AA3404, 'Daily Snapshot'!$B:$J,7,FALSE),\"\")","v":""},null,null,null,null,3401,{"$f":"IFERROR(VLOOKUP(AH3404,Journal!$R:$S,2,FALSE),\"\")","v":""},0,0,null,null,null,null,null,null,null,null,null,null,null,null,null,null,null,null,null,null,null,null,null,null,3375,0,25025.38,{"$error":"#N/A"}]
[null,null,null,null,null,null,null,null,null,null,null,null,null,null,null,null,null,null,3393,{"$f":"IFERROR(VLOOKUP(S3416,Journal!$R:$AQ,26,FALSE),\"\")","v":""},{"$error":"#VALUE!"},{"$error":"#N/A"},"",{"$f":"IFERROR(VLOOKUP(S3416,Journal!$R:$AV,32,FALSE),\"\")","v":""},null,null,null,null,{"$f":"IFERROR(VLOOKUP(AA3416, 'Daily Snapshot'!$B:$J,7,FALSE),\"\")","v":""},null,null,null,null,3413,{"$f":"IFERROR(VLOOKUP(AH3416,Journal!$R:$S,2,FALSE),\"\")","v":""},0,0,null,null,null,null,null,null,null,null,null,null,null,null,null,null,null,null,null,null,null,null,null,null,3387,0,25025.38,{"$error":"#N/A"}]
[null,null,null,null,null,null,null,null,null,null,null,null,null,null,null,null,null,null,3405,{"$f":"IFERROR(VLOOKUP(S3428,Journal!$R:$AQ,26,FALSE),\"\")","v":""},{"$error":"#VALUE!"},{"$error":"#N/A"},"",{"$f":"IFERROR(VLOOKUP(S3428,Journal!$R:$AV,32,FALSE),\"\")","v":""},null,null,null,null,{"$f":"IFERROR(VLOOKUP(AA3428, 'Daily Snapshot'!$B:$J,7,FALSE),\"\")","v":""},null,null,null,null,3425,{"$f":"IFERROR(VLOOKUP(AH3428,Journal!$R:$S,2,FALSE),\"\")","v":""},0,0,null,null,null,null,null,null,null,null,null,null,null,null,null,null,null,null,null,null,null,null,null,null,3399,0,25025.38,{"$error":"#N/A"}]
[null,null,null,null,null,null,null,null,null,null,null,null,null,null,null,null,null,null,3413,{"$f":"IFERROR(VLOOKUP(S3436,Journal!$R:$AQ,26,FALSE),\"\")","v":""},{"$error":"#VALUE!"},{"$error":"#N/A"},"",{"$f":"IFERROR(VLOOKUP(S3436,Journal!$R:$AV,32,FALSE),\"\")","v":""},null,null,null,null,{"$f":"IFERROR(VLOOKUP(AA3436, 'Daily Snapshot'!$B:$J,7,FALSE),\"\")","v":""},null,null,null,null,3433,{"$f":"IFERROR(VLOOKUP(AH3436,Journal!$R:$S,2,FALSE),\"\")","v":""},0,0,null,null,null,null,null,null,null,null,null,null,null,null,null,null,null,null,null,null,null,null,null,null,3407,0,25025.38,{"$error":"#N/A"}]
[null,null,null,null,null,null,null,null,null,null,null,null,null,null,null,null,null,null,3423,{"$f":"IFERROR(VLOOKUP(S3446,Journal!$R:$AQ,26,FALSE),\"\")","v":""},{"$error":"#VALUE!"},{"$error":"#N/A"},"",{"$f":"IFERROR(VLOOKUP(S3446,Journal!$R:$AV,32,FALSE),\"\")","v":""},null,null,null,null,{"$f":"IFERROR(VLOOKUP(AA3446, 'Daily Snapshot'!$B:$J,7,FALSE),\"\")","v":""},null,null,null,null,3443,{"$f":"IFERROR(VLOOKUP(AH3446,Journal!$R:$S,2,FALSE),\"\")","v":""},0,0,null,null,null,null,null,null,null,null,null,null,null,null,null,null,null,null,null,null,null,null,null,null,3417,0,25025.38,{"$error":"#N/A"}]
[null,null,null,null,null,null,null,null,null,null,null,null,null,null,null,null,null,null,3426,{"$f":"IFERROR(VLOOKUP(S3449,Journal!$R:$AQ,26,FALSE),\"\")","v":""},{"$error":"#VALUE!"},{"$error":"#N/A"},"",{"$f":"IFERROR(VLOOKUP(S3449,Journal!$R:$AV,32,FALSE),\"\")","v":""},null,null,null,null,{"$f":"IFERROR(VLOOKUP(AA3449, 'Daily Snapshot'!$B:$J,7,FALSE),\"\")","v":""},null,null,null,null,3446,{"$f":"IFERROR(VLOOKUP(AH3449,Journal!$R:$S,2,FALSE),\"\")","v":""},0,0,null,null,null,null,null,null,null,null,null,null,null,null,null,null,null,null,null,null,null,null,null,null,3420,0,25025.38,{"$error":"#N/A"}]
[null,null,null,null,null,null,null,null,null,null,null,null,null,null,null,null,null,null,3433,{"$f":"IFERROR(VLOOKUP(S3456,Journal!$R:$AQ,26,FALSE),\"\")","v":""},{"$error":"#VALUE!"},{"$error":"#N/A"},"",{"$f":"IFERROR(VLOOKUP(S3456,Journal!$R:$AV,32,FALSE),\"\")","v":""},null,null,null,null,{"$f":"IFERROR(VLOOKUP(AA3456, 'Daily Snapshot'!$B:$J,7,FALSE),\"\")","v":""},null,null,null,null,3453,{"$f":"IFERROR(VLOOKUP(AH3456,Journal!$R:$S,2,FALSE),\"\")","v":""},0,0,null,null,null,null,null,null,null,null,null,null,null,null,null,null,null,null,null,null,null,null,null,null,3427,0,25025.38,{"$error":"#N/A"}]
[null,null,null,null,null,null,null,null,null,null,null,null,null,null,null,null,null,null,3445,{"$f":"IFERROR(VLOOKUP(S3468,Journal!$R:$AQ,26,FALSE),\"\")","v":""},{"$error":"#VALUE!"},{"$error":"#N/A"},"",{"$f":"IFERROR(VLOOKUP(S3468,Journal!$R:$AV,32,FALSE),\"\")","v":""},null,null,null,null,{"$f":"IFERROR(VLOOKUP(AA3468, 'Daily Snapshot'!$B:$J,7,FALSE),\"\")","v":""},null,null,null,null,3465,{"$f":"IFERROR(VLOOKUP(AH3468,Journal!$R:$S,2,FALSE),\"\")","v":""},0,0,null,null,null,null,null,null,null,null,null,null,null,null,null,null,null,null,null,null,null,null,null,null,3439,0,25025.38,{"$error":"#N/A"}]
[null,null,null,null,null,null,null,null,null,null,null,null,null,null,null,null,null,null,3454,{"$f":"IFERROR(VLOOKUP(S3477,Journal!$R:$AQ,26,FALSE),\"\")","v":""},{"$error":"#VALUE!"},{"$error":"#N/A"},"",{"$f":"IFERROR(VLOOKUP(S3477,Journal!$R:$AV,32,FALSE),\"\")","v":""},null,null,null,null,{"$f":"IFERROR(VLOOKUP(AA3477, 'Daily Snapshot'!$B:$J,7,FALSE),\"\")","v":""},null,null,null,null,3474,{"$f":"IFERROR(VLOOKUP(AH3477,Journal!$R:$S,2,FALSE),\"\")","v":""},0,0,null,null,null,null,null,null,null,null,null,null,null,null,null,null,null,null,null,null,null,null,null,null,3448,0,25025.38,{"$error":"#N/A"}]
[null,null,null,null,null,null,null,null,null,null,null,null,null,null,null,null,null,null,3463,{"$f":"IFERROR(VLOOKUP(S3486,Journal!$R:$AQ,26,FALSE),\"\")","v":""},{"$error":"#VALUE!"},{"$error":"#N/A"},"",{"$f":"IFERROR(VLOOKUP(S3486,Journal!$R:$AV,32,FALSE),\"\")","v":""},null,null,null,null,{"$f":"IFERROR(VLOOKUP(AA3486, 'Daily Snapshot'!$B:$J,7,FALSE),\"\")","v":""},null,null,null,null,3483,{"$f":"IFERROR(VLOOKUP(AH3486,Journal!$R:$S,2,FALSE),\"\")","v":""},0,0,null,null,null,null,null,null,null,null,null,null,null,null,null,null,null,null,null,null,null,null,null,null,3457,0,25025.38,{"$error":"#N/A"}]
[null,null,null,null,null,null,null,null,null,null,null,null,null,null,null,null,null,null,3475,{"$f":"IFERROR(VLOOKUP(S3498,Journal!$R:$AQ,26,FALSE),\"\")","v":""},{"$error":"#VALUE!"},{"$error":"#N/A"},"",{"$f":"IFERROR(VLOOKUP(S3498,Journal!$R:$AV,32,FALSE),\"\")","v":""},null,null,null,null,{"$f":"IFERROR(VLOOKUP(AA3498, 'Daily Snapshot'!$B:$J,7,FALSE),\"\")","v":""},null,null,null,null,3495,{"$f":"IFERROR(VLOOKUP(AH3498,Journal!$R:$S,2,FALSE),\"\")","v":""},0,0,null,null,null,null,null,null,null,null,null,null,null,null,null,null,null,null,null,null,null,null,null,null,3469,0,25025.38,{"$error":"#N/A"}]
[null,null,null,null,null,null,null,null,null,null,null,null,null,null,null,null,null,null,3482,{"$f":"IFERROR(VLOOKUP(S3505,Journal!$R:$AQ,26,FALSE),\"\")","v":""},{"$error":"#VALUE!"},{"$error":"#N/A"},"",{"$f":"IFERROR(VLOOKUP(S3505,Journal!$R:$AV,32,FALSE),\"\")","v":""},null,null,null,null,{"$f":"IFERROR(VLOOKUP(AA3505, 'Daily Snapshot'!$B:$J,7,FALSE),\"\")","v":""},null,null,null,null,3502,{"$f":"IFERROR(VLOOKUP(AH3505,Journal!$R:$S,2,FALSE),\"\")","v":""},0,0,null,null,null,null,null,null,null,null,null,null,null,null,null,null,null,null,null,null,null,null,null,null,3476,0,25025.38,{"$error":"#N/A"}]
[null,null,null,null,null,null,null,null,null,null,null,null,null,null,null,null,null,null,3494,{"$f":"IFERROR(VLOOKUP(S3517,Journal!$R:$AQ,26,FALSE),\"\")","v":""},{"$error":"#VALUE!"},{"$error":"#N/A"},"",{"$f":"IFERROR(VLOOKUP(S3517,Journal!$R:$AV,32,FALSE),\"\")","v":""},null,null,null,null,{"$f":"IFERROR(VLOOKUP(AA3517, 'Daily Snapshot'!$B:$J,7,FALSE),\"\")","v":""},null,null,null,null,3514,{"$f":"IFERROR(VLOOKUP(AH3517,Journal!$R:$S,2,FALSE),\"\")","v":""},0,0,null,null,null,null,null,null,null,null,null,null,null,null,null,null,null,null,null,null,null,null,null,null,3488,0,25025.38,{"$error":"#N/A"}]
[null,null,null,null,null,null,null,null,null,null,null,null,null,null,null,null,null,null,3495,{"$f":"IFERROR(VLOOKUP(S3518,Journal!$R:$AQ,26,FALSE),\"\")","v":""},{"$error":"#VALUE!"},{"$error":"#N/A"},"",{"$f":"IFERROR(VLOOKUP(S3518,Journal!$R:$AV,32,FALSE),\"\")","v":""},null,null,null,null,{"$f":"IFERROR(VLOOKUP(AA3518, 'Daily Snapshot'!$B:$J,7,FALSE),\"\")","v":""},null,null,null,null,3515,{"$f":"IFERROR(VLOOKUP(AH3518,Journal!$R:$S,2,FALSE),\"\")","v":""},0,0,null,null,null,null,null,null,null,null,null,null,null,null,null,null,null,null,null,null,null,null,null,null,3489,0,25025.38,{"$error":"#N/A"}]
[null,null,null,null,null,null,null,null,null,null,null,null,null,null,null,null,null,null,3503,{"$f":"IFERROR(VLOOKUP(S3526,Journal!$R:$AQ,26,FALSE),\"\")","v":""},{"$error":"#VALUE!"},{"$error":"#N/A"},"",{"$f":"IFERROR(VLOOKUP(S3526,Journal!$R:$AV,32,FALSE),\"\")","v":""},null,null,null,null,{"$f":"IFERROR(VLOOKUP(AA3526, 'Daily Snapshot'!$B:$J,7,FALSE),\"\")","v":""},null,null,null,null,3523,{"$f":"IFERROR(VLOOKUP(AH3526,Journal!$R:$S,2,FALSE),\"\")","v":""},0,0,null,null,null,null,null,null,null,null,null,null,null,null,null,null,null,null,null,null,null,null,null,null,3497,0,25025.38,{"$error":"#N/A"}]
[null,null,null,null,null,null,null,null,null,null,null,null,null,null,null,null,null,null,3515,{"$f":"IFERROR(VLOOKUP(S3538,Journal!$R:$AQ,26,FALSE),\"\")","v":""},{"$error":"#VALUE!"},{"$error":"#N/A"},"",{"$f":"IFERROR(VLOOKUP(S3538,Journal!$R:$AV,32,FALSE),\"\")","v":""},null,null,null,null,{"$f":"IFERROR(VLOOKUP(AA3538, 'Daily Snapshot'!$B:$J,7,FALSE),\"\")","v":""},null,null,null,null,3535,{"$f":"IFERROR(VLOOKUP(AH3538,Journal!$R:$S,2,FALSE),\"\")","v":""},0,0,null,null,null,null,null,null,null,null,null,null,null,null,null,null,null,null,null,null,null,null,null,null,3509,0,25025.38,{"$error":"#N/A"}]
[null,null,null,null,null,null,null,null,null,null,null,null,null,null,null,null,null,null,3522,{"$f":"IFERROR(VLOOKUP(S3545,Journal!$R:$AQ,26,FALSE),\"\")","v":""},{"$f":"T3545+U3544","v":{"$error":"#VALUE!"}},{"$error":"#N/A"},{"$f":"IFERROR(T3545/$H$25,\"\")","v":""},{"$f":"IFERROR(VLOOKUP(S3545,Journal!$R:$AV,32,FALSE),\"\")","v":""},null,null,null,null,{"$f":"IFERROR(VLOOKUP(AA3545, 'Daily Snapshot'!$B:$J,7,FALSE),\"\")","v":""},null,null,null,null,3542,{"$f":"IFERROR(VLOOKUP(AH3545,Journal!$R:$S,2,FALSE),\"\")","v":""},0,0,null,null,null,null,null,null,null,null,null,null,null,null,null,null,null,null,null,null,null,null,null,null,3516,0,25025.38,{"$error":"#N/A"}]
[null,null,null,null,null,null,null,null,null,null,null,null,null,null,null,null,null,null,3534,{"$f":"IFERROR(VLOOKUP(S3557,Journal!$R:$AQ,26,FALSE),\"\")","v":""},{"$error":"#VALUE!"},{"$error":"#N/A"},"",{"$f":"IFERROR(VLOOKUP(S3557,Journal!$R:$AV,32,FALSE),\"\")","v":""},null,null,null,null,{"$f":"IFERROR(VLOOKUP(AA3557, 'Daily Snapshot'!$B:$J,7,FALSE),\"\")","v":""},null,null,null,null,3554,{"$f":"IFERROR(VLOOKUP(AH3557,Journal!$R:$S,2,FALSE),\"\")","v":""},0,0,null,null,null,null,null,null,null,null,null,null,null,null,null,null,null,null,null,null,null,null,null,null,3528,0,25025.38,{"$error":"#N/A"}]
[null,null,null,null,null,null,null,null,null,null,null,null,null,null,null,null,null,null,3544,{"$f":"IFERROR(VLOOKUP(S3567,Journal!$R:$AQ,26,FALSE),\"\")","v":""},{"$error":"#VALUE!"},{"$error":"#N/A"},"",{"$f":"IFERROR(VLOOKUP(S3567,Journal!$R:$AV,32,FALSE),\"\")","v":""},null,null,null,null,{"$f":"IFERROR(VLOOKUP(AA3567, 'Daily Snapshot'!$B:$J,7,FALSE),\"\")","v":""},null,null,null,null,3564,{"$f":"IFERROR(VLOOKUP(AH3567,Journal!$R:$S,2,FALSE),\"\")","v":""},0,0,null,null,null,null,null,null,null,null,null,null,null,null,null,null,null,null,null,null,null,null,null,null,3538,0,25025.38,{"$error":"#N/A"}]
[null,null,null,null,null,null,null,null,null,null,null,null,null,null,null,null,null,null,3552,{"$f":"IFERROR(VLOOKUP(S3575,Journal!$R:$AQ,26,FALSE),\"\")","v":""},{"$error":"#VALUE!"},{"$error":"#N/A"},"",{"$f":"IFERROR(VLOOKUP(S3575,Journal!$R:$AV,32,FALSE),\"\")","v":""},null,null,null,null,{"$f":"IFERROR(VLOOKUP(AA3575, 'Daily Snapshot'!$B:$J,7,FALSE),\"\")","v":""},null,null,null,null,3572,{"$f":"IFERROR(VLOOKUP(AH3575,Journal!$R:$S,2,FALSE),\"\")","v":""},0,0,null,null,null,null,null,null,null,null,null,null,null,null,null,null,null,null,null,null,null,null,null,null,3546,0,25025.38,{"$error":"#N/A"}]
[null,null,null,null,null,null,null,null,null,null,null,null,null,null,null,null,null,null,3564,{"$f":"IFERROR(VLOOKUP(S3587,Journal!$R:$AQ,26,FALSE),\"\")","v":""},{"$error":"#VALUE!"},{"$error":"#N/A"},"",{"$f":"IFERROR(VLOOKUP(S3587,Journal!$R:$AV,32,FALSE),\"\")","v":""},null,null,null,null,{"$f":"IFERROR(VLOOKUP(AA3587, 'Daily Snapshot'!$B:$J,7,FALSE),\"\")","v":""},null,null,null,null,3584,{"$f":"IFERROR(VLOOKUP(AH3587,Journal!$R:$S,2,FALSE),\"\")","v":""},0,0,null,null,null,null,null,null,null,null,null,null,null,null,null,null,null,null,null,null,null,null,null,null,3558,0,25025.38,{"$error":"#N/A"}]
[null,null,null,null,null,null,null,null,null,null,null,null,null,null,null,null,null,null,3571,{"$f":"IFERROR(VLOOKUP(S3594,Journal!$R:$AQ,26,FALSE),\"\")","v":""},{"$error":"#VALUE!"},{"$error":"#N/A"},"",{"$f":"IFERROR(VLOOKUP(S3594,Journal!$R:$AV,32,FALSE),\"\")","v":""},null,null,null,null,{"$f":"IFERROR(VLOOKUP(AA3594, 'Daily Snapshot'!$B:$J,7,FALSE),\"\")","v":""},null,null,null,null,3591,{"$f":"IFERROR(VLOOKUP(AH3594,Journal!$R:$S,2,FALSE),\"\")","v":""},0,0,null,null,null,null,null,null,null,null,null,null,null,null,null,null,null,null,null,null,null,null,null,null,3565,0,25025.38,{"$error":"#N/A"}]
[null,null,null,null,null,null,null,null,null,null,null,null,null,null,null,null,null,null,3575,{"$f":"IFERROR(VLOOKUP(S3598,Journal!$R:$AQ,26,FALSE),\"\")","v":""},{"$error":"#VALUE!"},{"$error":"#N/A"},"",{"$f":"IFERROR(VLOOKUP(S3598,Journal!$R:$AV,32,FALSE),\"\")","v":""},null,null,null,null,{"$f":"IFERROR(VLOOKUP(AA3598, 'Daily Snapshot'!$B:$J,7,FALSE),\"\")","v":""},null,null,null,null,3595,{"$f":"IFERROR(VLOOKUP(AH3598,Journal!$R:$S,2,FALSE),\"\")","v":""},0,0,null,null,null,null,null,null,null,null,null,null,null,null,null,null,null,null,null,null,null,null,null,null,3569,0,25025.38,{"$error":"#N/A"}]
[null,null,null,null,null,null,null,null,null,null,null,null,null,null,null,null,null,null,3585,{"$f":"IFERROR(VLOOKUP(S3608,Journal!$R:$AQ,26,FALSE),\"\")","v":""},{"$error":"#VALUE!"},{"$error":"#N/A"},"",{"$f":"IFERROR(VLOOKUP(S3608,Journal!$R:$AV,32,FALSE),\"\")","v":""},null,null,null,null,{"$f":"IFERROR(VLOOKUP(AA3608, 'Daily Snapshot'!$B:$J,7,FALSE),\"\")","v":""},null,null,null,null,3605,{"$f":"IFERROR(VLOOKUP(AH3608,Journal!$R:$S,2,FALSE),\"\")","v":""},0,0,null,null,null,null,null,null,null,null,null,null,null,null,null,null,null,null,null,null,null,null,null,null,3579,0,25025.38,{"$error":"#N/A"}]
[null,null,null,null,null,null,null,null,null,null,null,null,null,null,null,null,null,null,3592,{"$f":"IFERROR(VLOOKUP(S3615,Journal!$R:$AQ,26,FALSE),\"\")","v":""},{"$error":"#VALUE!"},{"$error":"#N/A"},"",{"$f":"IFERROR(VLOOKUP(S3615,Journal!$R:$AV,32,FALSE),\"\")","v":""},null,null,null,null,{"$f":"IFERROR(VLOOKUP(AA3615, 'Daily Snapshot'!$B:$J,7,FALSE),\"\")","v":""},null,null,null,null,3612,{"$f":"IFERROR(VLOOKUP(AH3615,Journal!$R:$S,2,FALSE),\"\")","v":""},0,0,null,null,null,null,null,null,null,null,null,null,null,null,null,null,null,null,null,null,null,null,null,null,3586,0,{"$f":"BI3615+BJ3614","v":25025.38},{"$error":"#N/A"}]
[null,null,null,null,null,null,null,null,null,null,null,null,null,null,null,null,null,null,3604,{"$f":"IFERROR(VLOOKUP(S3627,Journal!$R:$AQ,26,FALSE),\"\")","v":""},{"$error":"#VALUE!"},{"$error":"#N/A"},"",{"$f":"IFERROR(VLOOKUP(S3627,Journal!$R:$AV,32,FALSE),\"\")","v":""},null,null,null,null,{"$f":"IFERROR(VLOOKUP(AA3627, 'Daily Snapshot'!$B:$J,7,FALSE),\"\")","v":""},null,null,null,null,3624,{"$f":"IFERROR(VLOOKUP(AH3627,Journal!$R:$S,2,FALSE),\"\")","v":""},0,0,null,null,null,null,null,null,null,null,null,null,null,null,null,null,null,null,null,null,null,null,null,null,3598,0,25025.38,{"$error":"#N/A"}]
[null,null,null,null,null,null,null,null,null,null,null,null,null,null,null,null,null,null,3616,{"$f":"IFERROR(VLOOKUP(S3639,Journal!$R:$AQ,26,FALSE),\"\")","v":""},{"$error":"#VALUE!"},{"$error":"#N/A"},"",{"$f":"IFERROR(VLOOKUP(S3639,Journal!$R:$AV,32,FALSE),\"\")","v":""},null,null,null,null,{"$f":"IFERROR(VLOOKUP(AA3639, 'Daily Snapshot'!$B:$J,7,FALSE),\"\")","v":""},null,null,null,null,3636,{"$f":"IFERROR(VLOOKUP(AH3639,Journal!$R:$S,2,FALSE),\"\")","v":""},0,0,null,null,null,null,null,null,null,null,null,null,null,null,null,null,null,null,null,null,null,null,null,null,3610,0,25025.38,{"$error":"#N/A"}]
[null,null,null,null,null,null,null,null,null,null,null,null,null,null,null,null,null,null,3624,{"$f":"IFERROR(VLOOKUP(S3647,Journal!$R:$AQ,26,FALSE),\"\")","v":""},{"$error":"#VALUE!"},{"$error":"#N/A"},"",{"$f":"IFERROR(VLOOKUP(S3647,Journal!$R:$AV,32,FALSE),\"\")","v":""},null,null,null,null,{"$f":"IFERROR(VLOOKUP(AA3647, 'Daily Snapshot'!$B:$J,7,FALSE),\"\")","v":""},null,null,null,null,3644,{"$f":"IFERROR(VLOOKUP(AH3647,Journal!$R:$S,2,FALSE),\"\")","v":""},0,0,null,null,null,null,null,null,null,null,null,null,null,null,null,null,null,null,null,null,null,null,null,null,3618,0,25025.38,{"$error":"#N/A"}]
[null,null,null,null,null,null,null,null,null,null,null,null,null,null,null,null,null,null,3634,{"$f":"IFERROR(VLOOKUP(S3657,Journal!$R:$AQ,26,FALSE),\"\")","v":""},{"$error":"#VALUE!"},{"$error":"#N/A"},"",{"$f":"IFERROR(VLOOKUP(S3657,Journal!$R:$AV,32,FALSE),\"\")","v":""},null,null,null,null,{"$f":"IFERROR(VLOOKUP(AA3657, 'Daily Snapshot'!$B:$J,7,FALSE),\"\")","v":""},null,null,null,null,3654,{"$f":"IFERROR(VLOOKUP(AH3657,Journal!$R:$S,2,FALSE),\"\")","v":""},0,0,null,null,null,null,null,null,null,null,null,null,null,null,null,null,null,null,null,null,null,null,null,null,3628,0,25025.38,{"$error":"#N/A"}]
[null,null,null,null,null,null,null,null,null,null,null,null,null,null,null,null,null,null,3641,{"$f":"IFERROR(VLOOKUP(S3664,Journal!$R:$AQ,26,FALSE),\"\")","v":""},{"$error":"#VALUE!"},{"$error":"#N/A"},"",{"$f":"IFERROR(VLOOKUP(S3664,Journal!$R:$AV,32,FALSE),\"\")","v":""},null,null,null,null,{"$f":"IFERROR(VLOOKUP(AA3664, 'Daily Snapshot'!$B:$J,7,FALSE),\"\")","v":""},null,null,null,null,3661,{"$f":"IFERROR(VLOOKUP(AH3664,Journal!$R:$S,2,FALSE),\"\")","v":""},0,0,null,null,null,null,null,null,null,null,null,null,null,null,null,null,null,null,null,null,null,null,null,null,3635,0,25025.38,{"$error":"#N/A"}]
[null,null,null,null,null,null,null,null,null,null,null,null,null,null,null,null,null,null,3644,{"$f":"IFERROR(VLOOKUP(S3667,Journal!$R:$AQ,26,FALSE),\"\")","v":""},{"$error":"#VALUE!"},{"$error":"#N/A"},"",{"$f":"IFERROR(VLOOKUP(S3667,Journal!$R:$AV,32,FALSE),\"\")","v":""},null,null,null,null,{"$f":"IFERROR(VLOOKUP(AA3667, 'Daily Snapshot'!$B:$J,7,FALSE),\"\")","v":""},null,null,null,null,3664,{"$f":"IFERROR(VLOOKUP(AH3667,Journal!$R:$S,2,FALSE),\"\")","v":""},0,0,null,null,null,null,null,null,null,null,null,null,null,null,null,null,null,null,null,null,null,null,null,null,3638,0,25025.38,{"$error":"#N/A"}]
[null,null,null,null,null,null,null,null,null,null,null,null,null,null,null,null,null,null,3656,{"$f":"IFERROR(VLOOKUP(S3679,Journal!$R:$AQ,26,FALSE),\"\")","v":""},{"$error":"#VALUE!"},{"$error":"#N/A"},"",{"$f":"IFERROR(VLOOKUP(S3679,Journal!$R:$AV,32,FALSE),\"\")","v":""},null,null,null,null,{"$f":"IFERROR(VLOOKUP(AA3679, 'Daily Snapshot'!$B:$J,7,FALSE),\"\")","v":""},null,null,null,null,3676,{"$f":"IFERROR(VLOOKUP(AH3679,Journal!$R:$S,2,FALSE),\"\")","v":""},0,0,null,null,null,null,null,null,null,null,null,null,null,null,null,null,null,null,null,null,null,null,null,null,3650,0,{"$f":"BI3679+BJ3678","v":25025.38},{"$error":"#N/A"}]
[null,null,null,null,null,null,null,null,null,null,null,null,null,null,null,null,null,null,3665,{"$f":"IFERROR(VLOOKUP(S3688,Journal!$R:$AQ,26,FALSE),\"\")","v":""},{"$error":"#VALUE!"},{"$error":"#N/A"},"",{"$f":"IFERROR(VLOOKUP(S3688,Journal!$R:$AV,32,FALSE),\"\")","v":""},null,null,null,null,{"$f":"IFERROR(VLOOKUP(AA3688, 'Daily Snapshot'!$B:$J,7,FALSE),\"\")","v":""},null,null,null,null,3685,{"$f":"IFERROR(VLOOKUP(AH3688,Journal!$R:$S,2,FALSE),\"\")","v":""},0,0,null,null,null,null,null,null,null,null,null,null,null,null,null,null,null,null,null,null,null,null,null,null,3659,0,25025.38,{"$error":"#N/A"}]
[null,null,null,null,null,null,null,null,null,null,null,null,null,null,null,null,null,null,3674,{"$f":"IFERROR(VLOOKUP(S3697,Journal!$R:$AQ,26,FALSE),\"\")","v":""},{"$error":"#VALUE!"},{"$error":"#N/A"},"",{"$f":"IFERROR(VLOOKUP(S3697,Journal!$R:$AV,32,FALSE),\"\")","v":""},null,null,null,null,{"$f":"IFERROR(VLOOKUP(AA3697, 'Daily Snapshot'!$B:$J,7,FALSE),\"\")","v":""},null,null,null,null,3694,{"$f":"IFERROR(VLOOKUP(AH3697,Journal!$R:$S,2,FALSE),\"\")","v":""},0,0,null,null,null,null,null,null,null,null,null,null,null,null,null,null,null,null,null,null,null,null,null,null,3668,0,25025.38,{"$error":"#N/A"}]
[null,null,null,null,null,null,null,null,null,null,null,null,null,null,null,null,null,null,3681,{"$f":"IFERROR(VLOOKUP(S3704,Journal!$R:$AQ,26,FALSE),\"\")","v":""},{"$error":"#VALUE!"},{"$error":"#N/A"},"",{"$f":"IFERROR(VLOOKUP(S3704,Journal!$R:$AV,32,FALSE),\"\")","v":""},null,null,null,null,{"$f":"IFERROR(VLOOKUP(AA3704, 'Daily Snapshot'!$B:$J,7,FALSE),\"\")","v":""},null,null,null,null,3701,{"$f":"IFERROR(VLOOKUP(AH3704,Journal!$R:$S,2,FALSE),\"\")","v":""},0,0,null,null,null,null,null,null,null,null,null,null,null,null,null,null,null,null,null,null,null,null,null,null,3675,0,25025.38,{"$error":"#N/A"}]
[null,null,null,null,null,null,null,null,null,null,null,null,null,null,null,null,null,null,3693,{"$f":"IFERROR(VLOOKUP(S3716,Journal!$R:$AQ,26,FALSE),\"\")","v":""},{"$error":"#VALUE!"},{"$error":"#N/A"},"",{"$f":"IFERROR(VLOOKUP(S3716,Journal!$R:$AV,32,FALSE),\"\")","v":""},null,null,null,null,{"$f":"IFERROR(VLOOKUP(AA3716, 'Daily Snapshot'!$B:$J,7,FALSE),\"\")","v":""},null,null,null,null,3713,{"$f":"IFERROR(VLOOKUP(AH3716,Journal!$R:$S,2,FALSE),\"\")","v":""},{"$f":"IF($AI3716=\"W\", 1,0)","v":0},{"$f":"IF($AI3716=\"L\", -1,0)","v":0},null,null,null,null,null,null,null,null,null,null,null,null,null,null,null,null,null,null,null,null,null,null,3687,0,25025.38,{"$error":"#N/A"}]
[null,null,null,null,null,null,null,null,null,null,null,null,null,null,null,null,null,null,3705,{"$f":"IFERROR(VLOOKUP(S3728,Journal!$R:$AQ,26,FALSE),\"\")","v":""},{"$error":"#VALUE!"},{"$error":"#N/A"},"",{"$f":"IFERROR(VLOOKUP(S3728,Journal!$R:$AV,32,FALSE),\"\")","v":""},null,null,null,null,{"$f":"IFERROR(VLOOKUP(AA3728, 'Daily Snapshot'!$B:$J,7,FALSE),\"\")","v":""},null,null,null,null,3725,{"$f":"IFERROR(VLOOKUP(AH3728,Journal!$R:$S,2,FALSE),\"\")","v":""},0,0,null,null,null,null,null,null,null,null,null,null,null,null,null,null,null,null,null,null,null,null,null,null,3699,0,25025.38,{"$error":"#N/A"}]
[null,null,null,null,null,null,null,null,null,null,null,null,null,null,null,null,null,null,3706,{"$f":"IFERROR(VLOOKUP(S3729,Journal!$R:$AQ,26,FALSE),\"\")","v":""},{"$error":"#VALUE!"},{"$error":"#N/A"},"",{"$f":"IFERROR(VLOOKUP(S3729,Journal!$R:$AV,32,FALSE),\"\")","v":""},null,null,null,null,{"$f":"IFERROR(VLOOKUP(AA3729, 'Daily Snapshot'!$B:$J,7,FALSE),\"\")","v":""},null,null,null,null,3726,{"$f":"IFERROR(VLOOKUP(AH3729,Journal!$R:$S,2,FALSE),\"\")","v":""},0,0,null,null,null,null,null,null,null,null,null,null,null,null,null,null,null,null,null,null,null,null,null,null,3700,0,25025.38,{"$error":"#N/A"}]
[null,null,null,null,null,null,null,null,null,null,null,null,null,null,null,null,null,null,3714,{"$f":"IFERROR(VLOOKUP(S3737,Journal!$R:$AQ,26,FALSE),\"\")","v":""},{"$f":"T3737+U3736","v":{"$error":"#VALUE!"}},{"$error":"#N/A"},{"$f":"IFERROR(T3737/$H$25,\"\")","v":""},{"$f":"IFERROR(VLOOKUP(S3737,Journal!$R:$AV,32,FALSE),\"\")","v":""},null,null,null,null,{"$f":"IFERROR(VLOOKUP(AA3737, 'Daily Snapshot'!$B:$J,7,FALSE),\"\")","v":""},null,null,null,null,3734,{"$f":"IFERROR(VLOOKUP(AH3737,Journal!$R:$S,2,FALSE),\"\")","v":""},0,0,null,null,null,null,null,null,null,null,null,null,null,null,null,null,null,null,null,null,null,null,null,null,3708,0,25025.38,{"$error":"#N/A"}]
[null,null,null,null,null,null,null,null,null,null,null,null,null,null,null,null,null,null,3726,{"$f":"IFERROR(VLOOKUP(S3749,Journal!$R:$AQ,26,FALSE),\"\")","v":""},{"$error":"#VALUE!"},{"$error":"#N/A"},"",{"$f":"IFERROR(VLOOKUP(S3749,Journal!$R:$AV,32,FALSE),\"\")","v":""},null,null,null,null,{"$f":"IFERROR(VLOOKUP(AA3749, 'Daily Snapshot'!$B:$J,7,FALSE),\"\")","v":""},null,null,null,null,3746,{"$f":"IFERROR(VLOOKUP(AH3749,Journal!$R:$S,2,FALSE),\"\")","v":""},0,0,null,null,null,null,null,null,null,null,null,null,null,null,null,null,null,null,null,null,null,null,null,null,3720,0,25025.38,{"$error":"#N/A"}]
[null,null,null,null,null,null,null,null,null,null,null,null,null,null,null,null,null,null,3733,{"$f":"IFERROR(VLOOKUP(S3756,Journal!$R:$AQ,26,FALSE),\"\")","v":""},{"$error":"#VALUE!"},{"$error":"#N/A"},"",{"$f":"IFERROR(VLOOKUP(S3756,Journal!$R:$AV,32,FALSE),\"\")","v":""},null,null,null,null,{"$f":"IFERROR(VLOOKUP(AA3756, 'Daily Snapshot'!$B:$J,7,FALSE),\"\")","v":""},null,null,null,null,3753,{"$f":"IFERROR(VLOOKUP(AH3756,Journal!$R:$S,2,FALSE),\"\")","v":""},0,0,null,null,null,null,null,null,null,null,null,null,null,null,null,null,null,null,null,null,null,null,null,null,3727,0,25025.38,{"$error":"#N/A"}]
[null,null,null,null,null,null,null,null,null,null,null,null,null,null,null,null,null,null,3745,{"$f":"IFERROR(VLOOKUP(S3768,Journal!$R:$AQ,26,FALSE),\"\")","v":""},{"$error":"#VALUE!"},{"$error":"#N/A"},"",{"$f":"IFERROR(VLOOKUP(S3768,Journal!$R:$AV,32,FALSE),\"\")","v":""},null,null,null,null,{"$f":"IFERROR(VLOOKUP(AA3768, 'Daily Snapshot'!$B:$J,7,FALSE),\"\")","v":""},null,null,null,null,3765,{"$f":"IFERROR(VLOOKUP(AH3768,Journal!$R:$S,2,FALSE),\"\")","v":""},0,0,null,null,null,null,null,null,null,null,null,null,null,null,null,null,null,null,null,null,null,null,null,null,3739,0,25025.38,{"$error":"#N/A"}]
[null,null,null,null,null,null,null,null,null,null,null,null,null,null,null,null,null,null,3755,{"$f":"IFERROR(VLOOKUP(S3778,Journal!$R:$AQ,26,FALSE),\"\")","v":""},{"$error":"#VALUE!"},{"$error":"#N/A"},"",{"$f":"IFERROR(VLOOKUP(S3778,Journal!$R:$AV,32,FALSE),\"\")","v":""},null,null,null,null,{"$f":"IFERROR(VLOOKUP(AA3778, 'Daily Snapshot'!$B:$J,7,FALSE),\"\")","v":""},null,null,null,null,3775,{"$f":"IFERROR(VLOOKUP(AH3778,Journal!$R:$S,2,FALSE),\"\")","v":""},0,0,null,null,null,null,null,null,null,null,null,null,null,null,null,null,null,null,null,null,null,null,null,null,3749,0,25025.38,{"$error":"#N/A"}]
[null,null,null,null,null,null,null,null,null,null,null,null,null,null,null,null,null,null,3763,{"$f":"IFERROR(VLOOKUP(S3786,Journal!$R:$AQ,26,FALSE),\"\")","v":""},{"$error":"#VALUE!"},{"$error":"#N/A"},"",{"$f":"IFERROR(VLOOKUP(S3786,Journal!$R:$AV,32,FALSE),\"\")","v":""},null,null,null,null,{"$f":"IFERROR(VLOOKUP(AA3786, 'Daily Snapshot'!$B:$J,7,FALSE),\"\")","v":""},null,null,null,null,3783,{"$f":"IFERROR(VLOOKUP(AH3786,Journal!$R:$S,2,FALSE),\"\")","v":""},0,0,null,null,null,null,null,null,null,null,null,null,null,null,null,null,null,null,null,null,null,null,null,null,3757,0,25025.38,{"$error":"#N/A"}]
[null,null,null,null,null,null,null,null,null,null,null,null,null,null,null,null,null,null,3775,{"$f":"IFERROR(VLOOKUP(S3798,Journal!$R:$AQ,26,FALSE),\"\")","v":""},{"$error":"#VALUE!"},{"$error":"#N/A"},"",{"$f":"IFERROR(VLOOKUP(S3798,Journal!$R:$AV,32,FALSE),\"\")","v":""},null,null,null,null,{"$f":"IFERROR(VLOOKUP(AA3798, 'Daily Snapshot'!$B:$J,7,FALSE),\"\")","v":""},null,null,null,null,3795,{"$f":"IFERROR(VLOOKUP(AH3798,Journal!$R:$S,2,FALSE),\"\")","v":""},0,0,null,null,null,null,null,null,null,null,null,null,null,null,null,null,null,null,null,null,null,null,null,null,3769,0,25025.38,{"$error":"#N/A"}]
[null,null,null,null,null,null,null,null,null,null,null,null,null,null,null,null,null,null,3782,{"$f":"IFERROR(VLOOKUP(S3805,Journal!$R:$AQ,26,FALSE),\"\")","v":""},{"$error":"#VALUE!"},{"$error":"#N/A"},"",{"$f":"IFERROR(VLOOKUP(S3805,Journal!$R:$AV,32,FALSE),\"\")","v":""},null,null,null,null,{"$f":"IFERROR(VLOOKUP(AA3805, 'Daily Snapshot'!$B:$J,7,FALSE),\"\")","v":""},null,null,null,null,3802,{"$f":"IFERROR(VLOOKUP(AH3805,Journal!$R:$S,2,FALSE),\"\")","v":""},0,0,null,null,null,null,null,null,null,null,null,null,null,null,null,null,null,null,null,null,null,null,null,null,3776,0,25025.38,{"$error":"#N/A"}]
[null,null,null,null,null,null,null,null,null,null,null,null,null,null,null,null,null,null,3785,{"$f":"IFERROR(VLOOKUP(S3808,Journal!$R:$AQ,26,FALSE),\"\")","v":""},{"$error":"#VALUE!"},{"$error":"#N/A"},"",{"$f":"IFERROR(VLOOKUP(S3808,Journal!$R:$AV,32,FALSE),\"\")","v":""},null,null,null,null,{"$f":"IFERROR(VLOOKUP(AA3808, 'Daily Snapshot'!$B:$J,7,FALSE),\"\")","v":""},null,null,null,null,3805,{"$f":"IFERROR(VLOOKUP(AH3808,Journal!$R:$S,2,FALSE),\"\")","v":""},0,0,null,null,null,null,null,null,null,null,null,null,null,null,null,null,null,null,null,null,null,null,null,null,3779,{"$f":"N3811","v":0},25025.38,{"$error":"#N/A"}]
[null,null,null,null,null,null,null,null,null,null,null,null,null,null,null,null,null,null,3796,{"$f":"IFERROR(VLOOKUP(S3819,Journal!$R:$AQ,26,FALSE),\"\")","v":""},{"$error":"#VALUE!"},{"$error":"#N/A"},"",{"$f":"IFERROR(VLOOKUP(S3819,Journal!$R:$AV,32,FALSE),\"\")","v":""},null,null,null,null,{"$f":"IFERROR(VLOOKUP(AA3819, 'Daily Snapshot'!$B:$J,7,FALSE),\"\")","v":""},null,null,null,null,3816,{"$f":"IFERROR(VLOOKUP(AH3819,Journal!$R:$S,2,FALSE),\"\")","v":""},0,0,null,null,null,null,null,null,null,null,null,null,null,null,null,null,null,null,null,null,null,null,null,null,3790,0,25025.38,{"$error":"#N/A"}]
[null,null,null,null,null,null,null,null,null,null,null,null,null,null,null,null,null,null,3803,{"$f":"IFERROR(VLOOKUP(S3826,Journal!$R:$AQ,26,FALSE),\"\")","v":""},{"$error":"#VALUE!"},{"$error":"#N/A"},"",{"$f":"IFERROR(VLOOKUP(S3826,Journal!$R:$AV,32,FALSE),\"\")","v":""},null,null,null,null,{"$f":"IFERROR(VLOOKUP(AA3826, 'Daily Snapshot'!$B:$J,7,FALSE),\"\")","v":""},null,null,null,null,3823,{"$f":"IFERROR(VLOOKUP(AH3826,Journal!$R:$S,2,FALSE),\"\")","v":""},0,0,null,null,null,null,null,null,null,null,null,null,null,null,null,null,null,null,null,null,null,null,null,null,3797,0,25025.38,{"$error":"#N/A"}]
[null,null,null,null,null,null,null,null,null,null,null,null,null,null,null,null,null,null,3815,{"$f":"IFERROR(VLOOKUP(S3838,Journal!$R:$AQ,26,FALSE),\"\")","v":""},{"$error":"#VALUE!"},{"$error":"#N/A"},"",{"$f":"IFERROR(VLOOKUP(S3838,Journal!$R:$AV,32,FALSE),\"\")","v":""},null,null,null,null,{"$f":"IFERROR(VLOOKUP(AA3838, 'Daily Snapshot'!$B:$J,7,FALSE),\"\")","v":""},null,null,null,null,3835,{"$f":"IFERROR(VLOOKUP(AH3838,Journal!$R:$S,2,FALSE),\"\")","v":""},0,0,null,null,null,null,null,null,null,null,null,null,null,null,null,null,null,null,null,null,null,null,null,null,3809,0,25025.38,{"$error":"#N/A"}]
[null,null,null,null,null,null,null,null,null,null,null,null,null,null,null,null,null,null,3822,{"$f":"IFERROR(VLOOKUP(S3845,Journal!$R:$AQ,26,FALSE),\"\")","v":""},{"$error":"#VALUE!"},{"$error":"#N/A"},"",{"$f":"IFERROR(VLOOKUP(S3845,Journal!$R:$AV,32,FALSE),\"\")","v":""},null,null,null,null,{"$f":"IFERROR(VLOOKUP(AA3845, 'Daily Snapshot'!$B:$J,7,FALSE),\"\")","v":""},null,null,null,null,3842,{"$f":"IFERROR(VLOOKUP(AH3845,Journal!$R:$S,2,FALSE),\"\")","v":""},0,0,null,null,null,null,null,null,null,null,null,null,null,null,null,null,null,null,null,null,null,null,null,null,3816,0,25025.38,{"$error":"#N/A"}]
[null,null,null,null,null,null,null,null,null,null,null,null,null,null,null,null,null,null,3834,{"$f":"IFERROR(VLOOKUP(S3857,Journal!$R:$AQ,26,FALSE),\"\")","v":""},{"$error":"#VALUE!"},{"$error":"#N/A"},"",{"$f":"IFERROR(VLOOKUP(S3857,Journal!$R:$AV,32,FALSE),\"\")","v":""},null,null,null,null,{"$f":"IFERROR(VLOOKUP(AA3857, 'Daily Snapshot'!$B:$J,7,FALSE),\"\")","v":""},null,null,null,null,3854,{"$f":"IFERROR(VLOOKUP(AH3857,Journal!$R:$S,2,FALSE),\"\")","v":""},0,0,null,null,null,null,null,null,null,null,null,null,null,null,null,null,null,null,null,null,null,null,null,null,3828,0,25025.38,{"$error":"#N/A"}]
[null,null,null,null,null,null,null,null,null,null,null,null,null,null,null,null,null,null,3845,{"$f":"IFERROR(VLOOKUP(S3868,Journal!$R:$AQ,26,FALSE),\"\")","v":""},{"$error":"#VALUE!"},{"$f":"IF(OR(T3868=0,T3868<$H$26,T3868>$H$27),NA(),T3868+U3867)","v":{"$error":"#N/A"}},"",{"$f":"IFERROR(VLOOKUP(S3868,Journal!$R:$AV,32,FALSE),\"\")","v":""},null,null,null,null,{"$f":"IFERROR(VLOOKUP(AA3868, 'Daily Snapshot'!$B:$J,7,FALSE),\"\")","v":""},null,null,null,null,3865,{"$f":"IFERROR(VLOOKUP(AH3868,Journal!$R:$S,2,FALSE),\"\")","v":""},0,0,null,null,null,null,null,null,null,null,null,null,null,null,null,null,null,null,null,null,null,null,null,null,3839,0,25025.38,{"$error":"#N/A"}]
[null,null,null,null,null,null,null,null,null,null,null,null,null,null,null,null,null,null,3852,{"$f":"IFERROR(VLOOKUP(S3875,Journal!$R:$AQ,26,FALSE),\"\")","v":""},{"$error":"#VALUE!"},{"$error":"#N/A"},"",{"$f":"IFERROR(VLOOKUP(S3875,Journal!$R:$AV,32,FALSE),\"\")","v":""},null,null,null,null,{"$f":"IFERROR(VLOOKUP(AA3875, 'Daily Snapshot'!$B:$J,7,FALSE),\"\")","v":""},null,null,null,null,3872,{"$f":"IFERROR(VLOOKUP(AH3875,Journal!$R:$S,2,FALSE),\"\")","v":""},0,0,null,null,null,null,null,null,null,null,null,null,null,null,null,null,null,null,null,null,null,null,null,null,3846,0,25025.38,{"$error":"#N/A"}]
[null,null,null,null,null,null,null,null,null,null,null,null,null,null,null,null,null,null,3855,{"$f":"IFERROR(VLOOKUP(S3878,Journal!$R:$AQ,26,FALSE),\"\")","v":""},{"$error":"#VALUE!"},{"$error":"#N/A"},"",{"$f":"IFERROR(VLOOKUP(S3878,Journal!$R:$AV,32,FALSE),\"\")","v":""},null,null,null,null,{"$f":"IFERROR(VLOOKUP(AA3878, 'Daily Snapshot'!$B:$J,7,FALSE),\"\")","v":""},null,null,null,null,3875,{"$f":"IFERROR(VLOOKUP(AH3878,Journal!$R:$S,2,FALSE),\"\")","v":""},0,0,null,null,null,null,null,null,null,null,null,null,null,null,null,null,null,null,null,null,null,null,null,null,3849,0,25025.38,{"$error":"#N/A"}]
[null,null,null,null,null,null,null,null,null,null,null,null,null,null,null,null,null,null,3871,{"$f":"IFERROR(VLOOKUP(S3894,Journal!$R:$AQ,26,FALSE),\"\")","v":""},{"$error":"#VALUE!"},{"$error":"#N/A"},"",{"$f":"IFERROR(VLOOKUP(S3894,Journal!$R:$AV,32,FALSE),\"\")","v":""},null,null,null,null,{"$f":"IFERROR(VLOOKUP(AA3894, 'Daily Snapshot'!$B:$J,7,FALSE),\"\")","v":""},null,null,null,null,3891,{"$f":"IFERROR(VLOOKUP(AH3894,Journal!$R:$S,2,FALSE),\"\")","v":""},0,0,null,null,null,null,null,null,null,null,null,null,null,null,null,null,null,null,null,null,null,null,null,null,3865,0,25025.38,{"$error":"#N/A"}]
[null,null,null,null,null,null,null,null,null,null,null,null,null,null,null,null,null,null,3874,{"$f":"IFERROR(VLOOKUP(S3897,Journal!$R:$AQ,26,FALSE),\"\")","v":""},{"$error":"#VALUE!"},{"$error":"#N/A"},"",{"$f":"IFERROR(VLOOKUP(S3897,Journal!$R:$AV,32,FALSE),\"\")","v":""},null,null,null,null,{"$f":"IFERROR(VLOOKUP(AA3897, 'Daily Snapshot'!$B:$J,7,FALSE),\"\")","v":""},null,null,null,null,3894,{"$f":"IFERROR(VLOOKUP(AH3897,Journal!$R:$S,2,FALSE),\"\")","v":""},0,0,null,null,null,null,null,null,null,null,null,null,null,null,null,null,null,null,null,null,null,null,null,null,3868,0,25025.38,{"$error":"#N/A"}]
[null,null,null,null,null,null,null,null,null,null,null,null,null,null,null,null,null,null,3886,{"$f":"IFERROR(VLOOKUP(S3909,Journal!$R:$AQ,26,FALSE),\"\")","v":""},{"$error":"#VALUE!"},{"$error":"#N/A"},"",{"$f":"IFERROR(VLOOKUP(S3909,Journal!$R:$AV,32,FALSE),\"\")","v":""},null,null,null,null,{"$f":"IFERROR(VLOOKUP(AA3909, 'Daily Snapshot'!$B:$J,7,FALSE),\"\")","v":""},null,null,null,null,3906,{"$f":"IFERROR(VLOOKUP(AH3909,Journal!$R:$S,2,FALSE),\"\")","v":""},0,0,null,null,null,null,null,null,null,null,null,null,null,null,null,null,null,null,null,null,null,null,null,null,3880,0,25025.38,{"$error":"#N/A"}]
[null,null,null,null,null,null,null,null,null,null,null,null,null,null,null,null,null,null,3892,{"$f":"IFERROR(VLOOKUP(S3915,Journal!$R:$AQ,26,FALSE),\"\")","v":""},{"$error":"#VALUE!"},{"$error":"#N/A"},"",{"$f":"IFERROR(VLOOKUP(S3915,Journal!$R:$AV,32,FALSE),\"\")","v":""},null,null,null,null,{"$f":"IFERROR(VLOOKUP(AA3915, 'Daily Snapshot'!$B:$J,7,FALSE),\"\")","v":""},null,null,null,null,3912,{"$f":"IFERROR(VLOOKUP(AH3915,Journal!$R:$S,2,FALSE),\"\")","v":""},0,0,null,null,null,null,null,null,null,null,null,null,null,null,null,null,null,null,null,null,null,null,null,null,3886,0,25025.38,{"$error":"#N/A"}]
[null,null,null,null,null,null,null,null,null,null,null,null,null,null,null,null,null,null,3904,{"$f":"IFERROR(VLOOKUP(S3927,Journal!$R:$AQ,26,FALSE),\"\")","v":""},{"$error":"#VALUE!"},{"$error":"#N/A"},"",{"$f":"IFERROR(VLOOKUP(S3927,Journal!$R:$AV,32,FALSE),\"\")","v":""},null,null,null,null,{"$f":"IFERROR(VLOOKUP(AA3927, 'Daily Snapshot'!$B:$J,7,FALSE),\"\")","v":""},null,null,null,null,3924,{"$f":"IFERROR(VLOOKUP(AH3927,Journal!$R:$S,2,FALSE),\"\")","v":""},0,0,null,null,null,null,null,null,null,null,null,null,null,null,null,null,null,null,null,null,null,null,null,null,3898,0,25025.38,{"$error":"#N/A"}]
[null,null,null,null,null,null,null,null,null,null,null,null,null,null,null,null,null,null,3916,{"$f":"IFERROR(VLOOKUP(S3939,Journal!$R:$AQ,26,FALSE),\"\")","v":""},{"$error":"#VALUE!"},{"$error":"#N/A"},"",{"$f":"IFERROR(VLOOKUP(S3939,Journal!$R:$AV,32,FALSE),\"\")","v":""},null,null,null,null,{"$f":"IFERROR(VLOOKUP(AA3939, 'Daily Snapshot'!$B:$J,7,FALSE),\"\")","v":""},null,null,null,null,3936,{"$f":"IFERROR(VLOOKUP(AH3939,Journal!$R:$S,2,FALSE),\"\")","v":""},0,0,null,null,null,null,null,null,null,null,null,null,null,null,null,null,null,null,null,null,null,null,null,null,3910,0,25025.38,{"$error":"#N/A"}]
[null,null,null,null,null,null,null,null,null,null,null,null,null,null,null,null,null,null,3923,{"$f":"IFERROR(VLOOKUP(S3946,Journal!$R:$AQ,26,FALSE),\"\")","v":""},{"$error":"#VALUE!"},{"$error":"#N/A"},"",{"$f":"IFERROR(VLOOKUP(S3946,Journal!$R:$AV,32,FALSE),\"\")","v":""},null,null,null,null,{"$f":"IFERROR(VLOOKUP(AA3946, 'Daily Snapshot'!$B:$J,7,FALSE),\"\")","v":""},null,null,null,null,3943,{"$f":"IFERROR(VLOOKUP(AH3946,Journal!$R:$S,2,FALSE),\"\")","v":""},0,0,null,null,null,null,null,null,null,null,null,null,null,null,null,null,null,null,null,null,null,null,null,null,3917,0,25025.38,{"$error":"#N/A"}]
[null,null,null,null,null,null,null,null,null,null,null,null,null,null,null,null,null,null,3927,{"$f":"IFERROR(VLOOKUP(S3950,Journal!$R:$AQ,26,FALSE),\"\")","v":""},{"$error":"#VALUE!"},{"$error":"#N/A"},"",{"$f":"IFERROR(VLOOKUP(S3950,Journal!$R:$AV,32,FALSE),\"\")","v":""},null,null,null,null,{"$f":"IFERROR(VLOOKUP(AA3950, 'Daily Snapshot'!$B:$J,7,FALSE),\"\")","v":""},null,null,null,null,3947,{"$f":"IFERROR(VLOOKUP(AH3950,Journal!$R:$S,2,FALSE),\"\")","v":""},0,0,null,null,null,null,null,null,null,null,null,null,null,null,null,null,null,null,null,null,null,null,null,null,3921,0,25025.38,{"$error":"#N/A"}]
[null,null,null,null,null,null,null,null,null,null,null,null,null,null,null,null,null,null,3941,{"$f":"IFERROR(VLOOKUP(S3964,Journal!$R:$AQ,26,FALSE),\"\")","v":""},{"$error":"#VALUE!"},{"$error":"#N/A"},"",{"$f":"IFERROR(VLOOKUP(S3964,Journal!$R:$AV,32,FALSE),\"\")","v":""},null,null,null,null,{"$f":"IFERROR(VLOOKUP(AA3964, 'Daily Snapshot'!$B:$J,7,FALSE),\"\")","v":""},null,null,null,null,3961,{"$f":"IFERROR(VLOOKUP(AH3964,Journal!$R:$S,2,FALSE),\"\")","v":""},0,0,null,null,null,null,null,null,null,null,null,null,null,null,null,null,null,null,null,null,null,null,null,null,3935,0,25025.38,{"$error":"#N/A"}]
[null,null,null,null,null,null,null,null,null,null,null,null,null,null,null,null,null,null,3944,{"$f":"IFERROR(VLOOKUP(S3967,Journal!$R:$AQ,26,FALSE),\"\")","v":""},{"$error":"#VALUE!"},{"$error":"#N/A"},"",{"$f":"IFERROR(VLOOKUP(S3967,Journal!$R:$AV,32,FALSE),\"\")","v":""},null,null,null,null,{"$f":"IFERROR(VLOOKUP(AA3967, 'Daily Snapshot'!$B:$J,7,FALSE),\"\")","v":""},null,null,null,null,3964,{"$f":"IFERROR(VLOOKUP(AH3967,Journal!$R:$S,2,FALSE),\"\")","v":""},0,0,null,null,null,null,null,null,null,null,null,null,null,null,null,null,null,null,null,null,null,null,null,null,3938,0,25025.38,{"$error":"#N/A"}]
[null,null,null,null,null,null,null,null,null,null,null,null,null,null,null,null,null,null,3956,{"$f":"IFERROR(VLOOKUP(S3979,Journal!$R:$AQ,26,FALSE),\"\")","v":""},{"$error":"#VALUE!"},{"$error":"#N/A"},"",{"$f":"IFERROR(VLOOKUP(S3979,Journal!$R:$AV,32,FALSE),\"\")","v":""},null,null,null,null,{"$f":"IFERROR(VLOOKUP(AA3979, 'Daily Snapshot'!$B:$J,7,FALSE),\"\")","v":""},null,null,null,null,3976,{"$f":"IFERROR(VLOOKUP(AH3979,Journal!$R:$S,2,FALSE),\"\")","v":""},0,0,null,null,null,null,null,null,null,null,null,null,null,null,null,null,null,null,null,null,null,null,null,null,3950,0,25025.38,{"$error":"#N/A"}]
[null,null,null,null,null,null,null,null,null,null,null,null,null,null,null,null,null,null,3963,{"$f":"IFERROR(VLOOKUP(S3986,Journal!$R:$AQ,26,FALSE),\"\")","v":""},{"$error":"#VALUE!"},{"$error":"#N/A"},"",{"$f":"IFERROR(VLOOKUP(S3986,Journal!$R:$AV,32,FALSE),\"\")","v":""},null,null,null,null,{"$f":"IFERROR(VLOOKUP(AA3986, 'Daily Snapshot'!$B:$J,7,FALSE),\"\")","v":""},null,null,null,null,3983,{"$f":"IFERROR(VLOOKUP(AH3986,Journal!$R:$S,2,FALSE),\"\")","v":""},0,0,null,null,null,null,null,null,null,null,null,null,null,null,null,null,null,null,null,null,null,null,null,null,3957,0,25025.38,{"$error":"#N/A"}]
[null,null,null,null,null,null,null,null,null,null,null,null,null,null,null,null,null,null,3976,{"$f":"IFERROR(VLOOKUP(S3999,Journal!$R:$AQ,26,FALSE),\"\")","v":""},{"$error":"#VALUE!"},{"$error":"#N/A"},"",{"$f":"IFERROR(VLOOKUP(S3999,Journal!$R:$AV,32,FALSE),\"\")","v":""},null,null,null,null,{"$f":"IFERROR(VLOOKUP(AA3999, 'Daily Snapshot'!$B:$J,7,FALSE),\"\")","v":""},null,null,null,null,3996,{"$f":"IFERROR(VLOOKUP(AH3999,Journal!$R:$S,2,FALSE),\"\")","v":""},0,0,null,null,null,null,null,null,null,null,null,null,null,null,null,null,null,null,null,null,null,null,null,null,3970,0,{"$f":"BI3999+BJ3998","v":25025.38},{"$error":"#N/A"}]
[null,null,null,null,null,null,null,null,null,null,null,null,null,null,null,null,null,null,3981,{"$f":"IFERROR(VLOOKUP(S4004,Journal!$R:$AQ,26,FALSE),\"\")","v":""},{"$error":"#VALUE!"},{"$error":"#N/A"},"",{"$f":"IFERROR(VLOOKUP(S4004,Journal!$R:$AV,32,FALSE),\"\")","v":""},null,null,null,null,{"$f":"IFERROR(VLOOKUP(AA4004, 'Daily Snapshot'!$B:$J,7,FALSE),\"\")","v":""},null,null,null,null,4001,{"$f":"IFERROR(VLOOKUP(AH4004,Journal!$R:$S,2,FALSE),\"\")","v":""},0,0,null,null,null,null,null,null,null,null,null,null,null,null,null,null,null,null,null,null,null,null,null,null,3975,0,25025.38,{"$error":"#N/A"}]
[null,null,null,null,null,null,null,null,null,null,null,null,null,null,null,null,null,null,3993,{"$f":"IFERROR(VLOOKUP(S4016,Journal!$R:$AQ,26,FALSE),\"\")","v":""},{"$error":"#VALUE!"},{"$error":"#N/A"},"",{"$f":"IFERROR(VLOOKUP(S4016,Journal!$R:$AV,32,FALSE),\"\")","v":""},null,null,null,null,{"$f":"IFERROR(VLOOKUP(AA4016, 'Daily Snapshot'!$B:$J,7,FALSE),\"\")","v":""},null,null,null,null,4013,{"$f":"IFERROR(VLOOKUP(AH4016,Journal!$R:$S,2,FALSE),\"\")","v":""},0,0,null,null,null,null,null,null,null,null,null,null,null,null,null,null,null,null,null,null,null,null,null,null,3987,0,25025.38,{"$error":"#N/A"}]
[null,null,null,null,null,null,null,null,null,null,null,null,null,null,null,null,null,null,3996,{"$f":"IFERROR(VLOOKUP(S4019,Journal!$R:$AQ,26,FALSE),\"\")","v":""},{"$error":"#VALUE!"},{"$error":"#N/A"},"",{"$f":"IFERROR(VLOOKUP(S4019,Journal!$R:$AV,32,FALSE),\"\")","v":""},null,null,null,null,{"$f":"IFERROR(VLOOKUP(AA4019, 'Daily Snapshot'!$B:$J,7,FALSE),\"\")","v":""},null,null,null,null,4016,{"$f":"IFERROR(VLOOKUP(AH4019,Journal!$R:$S,2,FALSE),\"\")","v":""},0,0,null,null,null,null,null,null,null,null,null,null,null,null,null,null,null,null,null,null,null,null,null,null,3990,0,25025.38,{"$error":"#N/A"}]
[null,null,null,null,null,null,null,null,null,null,null,null,null,null,null,null,null,null,4007,{"$f":"IFERROR(VLOOKUP(S4030,Journal!$R:$AQ,26,FALSE),\"\")","v":""},{"$error":"#VALUE!"},{"$error":"#N/A"},"",{"$f":"IFERROR(VLOOKUP(S4030,Journal!$R:$AV,32,FALSE),\"\")","v":""},null,null,null,null,{"$f":"IFERROR(VLOOKUP(AA4030, 'Daily Snapshot'!$B:$J,7,FALSE),\"\")","v":""},null,null,null,null,4027,{"$f":"IFERROR(VLOOKUP(AH4030,Journal!$R:$S,2,FALSE),\"\")","v":""},0,0,null,null,null,null,null,null,null,null,null,null,null,null,null,null,null,null,null,null,null,null,null,null,4001,0,25025.38,{"$error":"#N/A"}]
[null,null,null,null,null,null,null,null,null,null,null,null,null,null,null,null,null,null,4014,{"$f":"IFERROR(VLOOKUP(S4037,Journal!$R:$AQ,26,FALSE),\"\")","v":""},{"$error":"#VALUE!"},{"$error":"#N/A"},"",{"$f":"IFERROR(VLOOKUP(S4037,Journal!$R:$AV,32,FALSE),\"\")","v":""},null,null,null,null,{"$f":"IFERROR(VLOOKUP(AA4037, 'Daily Snapshot'!$B:$J,7,FALSE),\"\")","v":""},null,null,null,null,4034,{"$f":"IFERROR(VLOOKUP(AH4037,Journal!$R:$S,2,FALSE),\"\")","v":""},0,0,null,null,null,null,null,null,null,null,null,null,null,null,null,null,null,null,null,null,null,null,null,null,4008,0,25025.38,{"$error":"#N/A"}]
[null,null,null,null,null,null,null,null,null,null,null,null,null,null,null,null,null,null,4026,{"$f":"IFERROR(VLOOKUP(S4049,Journal!$R:$AQ,26,FALSE),\"\")","v":""},{"$error":"#VALUE!"},{"$error":"#N/A"},"",{"$f":"IFERROR(VLOOKUP(S4049,Journal!$R:$AV,32,FALSE),\"\")","v":""},null,null,null,null,{"$f":"IFERROR(VLOOKUP(AA4049, 'Daily Snapshot'!$B:$J,7,FALSE),\"\")","v":""},null,null,null,null,4046,{"$f":"IFERROR(VLOOKUP(AH4049,Journal!$R:$S,2,FALSE),\"\")","v":""},0,0,null,null,null,null,null,null,null,null,null,null,null,null,null,null,null,null,null,null,null,null,null,null,4020,0,25025.38,{"$error":"#N/A"}]
[null,null,null,null,null,null,null,null,null,null,null,null,null,null,null,null,null,null,4033,{"$f":"IFERROR(VLOOKUP(S4056,Journal!$R:$AQ,26,FALSE),\"\")","v":""},{"$error":"#VALUE!"},{"$error":"#N/A"},"",{"$f":"IFERROR(VLOOKUP(S4056,Journal!$R:$AV,32,FALSE),\"\")","v":""},null,null,null,null,{"$f":"IFERROR(VLOOKUP(AA4056, 'Daily Snapshot'!$B:$J,7,FALSE),\"\")","v":""},null,null,null,null,4053,{"$f":"IFERROR(VLOOKUP(AH4056,Journal!$R:$S,2,FALSE),\"\")","v":""},0,0,null,null,null,null,null,null,null,null,null,null,null,null,null,null,null,null,null,null,null,null,null,null,4027,0,25025.38,{"$error":"#N/A"}]
[null,null,null,null,null,null,null,null,null,null,null,null,null,null,null,null,null,null,4045,{"$f":"IFERROR(VLOOKUP(S4068,Journal!$R:$AQ,26,FALSE),\"\")","v":""},{"$error":"#VALUE!"},{"$error":"#N/A"},"",{"$f":"IFERROR(VLOOKUP(S4068,Journal!$R:$AV,32,FALSE),\"\")","v":""},null,null,null,null,{"$f":"IFERROR(VLOOKUP(AA4068, 'Daily Snapshot'!$B:$J,7,FALSE),\"\")","v":""},null,null,null,null,4065,{"$f":"IFERROR(VLOOKUP(AH4068,Journal!$R:$S,2,FALSE),\"\")","v":""},0,0,null,null,null,null,null,null,null,null,null,null,null,null,null,null,null,null,null,null,null,null,null,null,4039,0,25025.38,{"$error":"#N/A"}]
[null,null,null,null,null,null,null,null,null,null,null,null,null,null,null,null,null,null,4056,{"$f":"IFERROR(VLOOKUP(S4079,Journal!$R:$AQ,26,FALSE),\"\")","v":""},{"$error":"#VALUE!"},{"$error":"#N/A"},"",{"$f":"IFERROR(VLOOKUP(S4079,Journal!$R:$AV,32,FALSE),\"\")","v":""},null,null,null,null,{"$f":"IFERROR(VLOOKUP(AA4079, 'Daily Snapshot'!$B:$J,7,FALSE),\"\")","v":""},null,null,null,null,4076,{"$f":"IFERROR(VLOOKUP(AH4079,Journal!$R:$S,2,FALSE),\"\")","v":""},0,0,null,null,null,null,null,null,null,null,null,null,null,null,null,null,null,null,null,null,null,null,null,null,4050,0,25025.38,{"$error":"#N/A"}]
[null,null,null,null,null,null,null,null,null,null,null,null,null,null,null,null,null,null,4063,{"$f":"IFERROR(VLOOKUP(S4086,Journal!$R:$AQ,26,FALSE),\"\")","v":""},{"$error":"#VALUE!"},{"$error":"#N/A"},"",{"$f":"IFERROR(VLOOKUP(S4086,Journal!$R:$AV,32,FALSE),\"\")","v":""},null,null,null,null,{"$f":"IFERROR(VLOOKUP(AA4086, 'Daily Snapshot'!$B:$J,7,FALSE),\"\")","v":""},null,null,null,null,4083,{"$f":"IFERROR(VLOOKUP(AH4086,Journal!$R:$S,2,FALSE),\"\")","v":""},0,0,null,null,null,null,null,null,null,null,null,null,null,null,null,null,null,null,null,null,null,null,null,null,4057,0,25025.38,{"$error":"#N/A"}]
[null,null,null,null,null,null,null,null,null,null,null,null,null,null,null,null,null,null,4066,{"$f":"IFERROR(VLOOKUP(S4089,Journal!$R:$AQ,26,FALSE),\"\")","v":""},{"$error":"#VALUE!"},{"$error":"#N/A"},"",{"$f":"IFERROR(VLOOKUP(S4089,Journal!$R:$AV,32,FALSE),\"\")","v":""},null,null,null,null,{"$f":"IFERROR(VLOOKUP(AA4089, 'Daily Snapshot'!$B:$J,7,FALSE),\"\")","v":""},null,null,null,null,4086,{"$f":"IFERROR(VLOOKUP(AH4089,Journal!$R:$S,2,FALSE),\"\")","v":""},0,0,null,null,null,null,null,null,null,null,null,null,null,null,null,null,null,null,null,null,null,null,null,null,4060,0,25025.38,{"$error":"#N/A"}]
[null,null,null,null,null,null,null,null,null,null,null,null,null,null,null,null,null,null,4082,{"$f":"IFERROR(VLOOKUP(S4105,Journal!$R:$AQ,26,FALSE),\"\")","v":""},{"$error":"#VALUE!"},{"$error":"#N/A"},"",{"$f":"IFERROR(VLOOKUP(S4105,Journal!$R:$AV,32,FALSE),\"\")","v":""},null,null,null,null,{"$f":"IFERROR(VLOOKUP(AA4105, 'Daily Snapshot'!$B:$J,7,FALSE),\"\")","v":""},null,null,null,null,4102,{"$f":"IFERROR(VLOOKUP(AH4105,Journal!$R:$S,2,FALSE),\"\")","v":""},0,0,null,null,null,null,null,null,null,null,null,null,null,null,null,null,null,null,null,null,null,null,null,null,4076,0,25025.38,{"$error":"#N/A"}]
[null,null,null,null,null,null,null,null,null,null,null,null,null,null,null,null,null,null,4085,{"$f":"IFERROR(VLOOKUP(S4108,Journal!$R:$AQ,26,FALSE),\"\")","v":""},{"$error":"#VALUE!"},{"$error":"#N/A"},"",{"$f":"IFERROR(VLOOKUP(S4108,Journal!$R:$AV,32,FALSE),\"\")","v":""},null,null,null,null,{"$f":"IFERROR(VLOOKUP(AA4108, 'Daily Snapshot'!$B:$J,7,FALSE),\"\")","v":""},null,null,null,null,4105,{"$f":"IFERROR(VLOOKUP(AH4108,Journal!$R:$S,2,FALSE),\"\")","v":""},0,0,null,null,null,null,null,null,null,null,null,null,null,null,null,null,null,null,null,null,null,null,null,null,4079,0,25025.38,{"$error":"#N/A"}]
[null,null,null,null,null,null,null,null,null,null,null,null,null,null,null,null,null,null,4097,{"$f":"IFERROR(VLOOKUP(S4120,Journal!$R:$AQ,26,FALSE),\"\")","v":""},{"$error":"#VALUE!"},{"$error":"#N/A"},"",{"$f":"IFERROR(VLOOKUP(S4120,Journal!$R:$AV,32,FALSE),\"\")","v":""},null,null,null,null,{"$f":"IFERROR(VLOOKUP(AA4120, 'Daily Snapshot'!$B:$J,7,FALSE),\"\")","v":""},null,null,null,null,4117,{"$f":"IFERROR(VLOOKUP(AH4120,Journal!$R:$S,2,FALSE),\"\")","v":""},0,0,null,null,null,null,null,null,null,null,null,null,null,null,null,null,null,null,null,null,null,null,null,null,4091,0,25025.38,{"$error":"#N/A"}]
[null,null,null,null,null,null,null,null,null,null,null,null,null,null,null,null,null,null,4103,{"$f":"IFERROR(VLOOKUP(S4126,Journal!$R:$AQ,26,FALSE),\"\")","v":""},{"$error":"#VALUE!"},{"$error":"#N/A"},"",{"$f":"IFERROR(VLOOKUP(S4126,Journal!$R:$AV,32,FALSE),\"\")","v":""},null,null,null,null,{"$f":"IFERROR(VLOOKUP(AA4126, 'Daily Snapshot'!$B:$J,7,FALSE),\"\")","v":""},null,null,null,null,4123,{"$f":"IFERROR(VLOOKUP(AH4126,Journal!$R:$S,2,FALSE),\"\")","v":""},0,0,null,null,null,null,null,null,null,null,null,null,null,null,null,null,null,null,null,null,null,null,null,null,4097,0,25025.38,{"$error":"#N/A"}]
[null,null,null,null,null,null,null,null,null,null,null,null,null,null,null,null,null,null,4115,{"$f":"IFERROR(VLOOKUP(S4138,Journal!$R:$AQ,26,FALSE),\"\")","v":""},{"$error":"#VALUE!"},{"$error":"#N/A"},"",{"$f":"IFERROR(VLOOKUP(S4138,Journal!$R:$AV,32,FALSE),\"\")","v":""},null,null,null,null,{"$f":"IFERROR(VLOOKUP(AA4138, 'Daily Snapshot'!$B:$J,7,FALSE),\"\")","v":""},null,null,null,null,4135,{"$f":"IFERROR(VLOOKUP(AH4138,Journal!$R:$S,2,FALSE),\"\")","v":""},0,0,null,null,null,null,null,null,null,null,null,null,null,null,null,null,null,null,null,null,null,null,null,null,4109,0,25025.38,{"$error":"#N/A"}]
[null,null,null,null,null,null,null,null,null,null,null,null,null,null,null,null,null,null,4122,{"$f":"IFERROR(VLOOKUP(S4145,Journal!$R:$AQ,26,FALSE),\"\")","v":""},{"$error":"#VALUE!"},{"$error":"#N/A"},"",{"$f":"IFERROR(VLOOKUP(S4145,Journal!$R:$AV,32,FALSE),\"\")","v":""},null,null,null,null,{"$f":"IFERROR(VLOOKUP(AA4145, 'Daily Snapshot'!$B:$J,7,FALSE),\"\")","v":""},null,null,null,null,4142,{"$f":"IFERROR(VLOOKUP(AH4145,Journal!$R:$S,2,FALSE),\"\")","v":""},0,0,null,null,null,null,null,null,null,null,null,null,null,null,null,null,null,null,null,null,null,null,null,null,4116,0,25025.38,{"$error":"#N/A"}]
[null,null,null,null,null,null,null,null,null,null,null,null,null,null,null,null,null,null,4134,{"$f":"IFERROR(VLOOKUP(S4157,Journal!$R:$AQ,26,FALSE),\"\")","v":""},{"$error":"#VALUE!"},{"$error":"#N/A"},"",{"$f":"IFERROR(VLOOKUP(S4157,Journal!$R:$AV,32,FALSE),\"\")","v":""},null,null,null,null,{"$f":"IFERROR(VLOOKUP(AA4157, 'Daily Snapshot'!$B:$J,7,FALSE),\"\")","v":""},null,null,null,null,4154,{"$f":"IFERROR(VLOOKUP(AH4157,Journal!$R:$S,2,FALSE),\"\")","v":""},0,0,null,null,null,null,null,null,null,null,null,null,null,null,null,null,null,null,null,null,null,null,null,null,4128,0,25025.38,{"$error":"#N/A"}]
[null,null,null,null,null,null,null,null,null,null,null,null,null,null,null,null,null,null,4138,{"$f":"IFERROR(VLOOKUP(S4161,Journal!$R:$AQ,26,FALSE),\"\")","v":""},{"$error":"#VALUE!"},{"$error":"#N/A"},"",{"$f":"IFERROR(VLOOKUP(S4161,Journal!$R:$AV,32,FALSE),\"\")","v":""},null,null,null,null,{"$f":"IFERROR(VLOOKUP(AA4161, 'Daily Snapshot'!$B:$J,7,FALSE),\"\")","v":""},null,null,null,null,4158,{"$f":"IFERROR(VLOOKUP(AH4161,Journal!$R:$S,2,FALSE),\"\")","v":""},0,0,null,null,null,null,null,null,null,null,null,null,null,null,null,null,null,null,null,null,null,null,null,null,4132,0,25025.38,{"$error":"#N/A"}]
[null,null,null,null,null,null,null,null,null,null,null,null,null,null,null,null,null,null,4152,{"$f":"IFERROR(VLOOKUP(S4175,Journal!$R:$AQ,26,FALSE),\"\")","v":""},{"$error":"#VALUE!"},{"$error":"#N/A"},"",{"$f":"IFERROR(VLOOKUP(S4175,Journal!$R:$AV,32,FALSE),\"\")","v":""},null,null,null,null,{"$f":"IFERROR(VLOOKUP(AA4175, 'Daily Snapshot'!$B:$J,7,FALSE),\"\")","v":""},null,null,null,null,4172,{"$f":"IFERROR(VLOOKUP(AH4175,Journal!$R:$S,2,FALSE),\"\")","v":""},0,0,null,null,null,null,null,null,null,null,null,null,null,null,null,null,null,null,null,null,null,null,null,null,4146,0,25025.38,{"$error":"#N/A"}]
[null,null,null,null,null,null,null,null,null,null,null,null,null,null,null,null,null,null,4155,{"$f":"IFERROR(VLOOKUP(S4178,Journal!$R:$AQ,26,FALSE),\"\")","v":""},{"$error":"#VALUE!"},{"$error":"#N/A"},"",{"$f":"IFERROR(VLOOKUP(S4178,Journal!$R:$AV,32,FALSE),\"\")","v":""},null,null,null,null,{"$f":"IFERROR(VLOOKUP(AA4178, 'Daily Snapshot'!$B:$J,7,FALSE),\"\")","v":""},null,null,null,null,4175,{"$f":"IFERROR(VLOOKUP(AH4178,Journal!$R:$S,2,FALSE),\"\")","v":""},0,0,null,null,null,null,null,null,null,null,null,null,null,null,null,null,null,null,null,null,null,null,null,null,4149,0,25025.38,{"$error":"#N/A"}]
[null,null,null,null,null,null,null,null,null,null,null,null,null,null,null,null,null,null,4171,{"$f":"IFERROR(VLOOKUP(S4194,Journal!$R:$AQ,26,FALSE),\"\")","v":""},{"$error":"#VALUE!"},{"$error":"#N/A"},"",{"$f":"IFERROR(VLOOKUP(S4194,Journal!$R:$AV,32,FALSE),\"\")","v":""},null,null,null,null,{"$f":"IFERROR(VLOOKUP(AA4194, 'Daily Snapshot'!$B:$J,7,FALSE),\"\")","v":""},null,null,null,null,4191,{"$f":"IFERROR(VLOOKUP(AH4194,Journal!$R:$S,2,FALSE),\"\")","v":""},0,0,null,null,null,null,null,null,null,null,null,null,null,null,null,null,null,null,null,null,null,null,null,null,4165,0,25025.38,{"$f":"IF(OR(BI4194=0,BI4194<$H$26,BI4194>$H$27),NA(),BI4194+BJ4193)","v":{"$error":"#N/A"}}]
[null,null,null,null,null,null,null,null,null,null,null,null,null,null,null,null,null,null,4174,{"$f":"IFERROR(VLOOKUP(S4197,Journal!$R:$AQ,26,FALSE),\"\")","v":""},{"$error":"#VALUE!"},{"$error":"#N/A"},"",{"$f":"IFERROR(VLOOKUP(S4197,Journal!$R:$AV,32,FALSE),\"\")","v":""},null,null,null,null,{"$f":"IFERROR(VLOOKUP(AA4197, 'Daily Snapshot'!$B:$J,7,FALSE),\"\")","v":""},null,null,null,null,4194,{"$f":"IFERROR(VLOOKUP(AH4197,Journal!$R:$S,2,FALSE),\"\")","v":""},0,0,null,null,null,null,null,null,null,null,null,null,null,null,null,null,null,null,null,null,null,null,null,null,4168,0,25025.38,{"$error":"#N/A"}]
[null,null,null,null,null,null,null,null,null,null,null,null,null,null,null,null,null,null,4187,{"$f":"IFERROR(VLOOKUP(S4210,Journal!$R:$AQ,26,FALSE),\"\")","v":""},{"$error":"#VALUE!"},{"$error":"#N/A"},"",{"$f":"IFERROR(VLOOKUP(S4210,Journal!$R:$AV,32,FALSE),\"\")","v":""},null,null,null,null,{"$f":"IFERROR(VLOOKUP(AA4210, 'Daily Snapshot'!$B:$J,7,FALSE),\"\")","v":""},null,null,null,null,4207,{"$f":"IFERROR(VLOOKUP(AH4210,Journal!$R:$S,2,FALSE),\"\")","v":""},0,0,null,null,null,null,null,null,null,null,null,null,null,null,null,null,null,null,null,null,null,null,null,null,4181,0,25025.38,{"$error":"#N/A"}]
[null,null,null,null,null,null,null,null,null,null,null,null,null,null,null,null,null,null,4192,{"$f":"IFERROR(VLOOKUP(S4215,Journal!$R:$AQ,26,FALSE),\"\")","v":""},{"$error":"#VALUE!"},{"$error":"#N/A"},"",{"$f":"IFERROR(VLOOKUP(S4215,Journal!$R:$AV,32,FALSE),\"\")","v":""},null,null,null,null,{"$f":"IFERROR(VLOOKUP(AA4215, 'Daily Snapshot'!$B:$J,7,FALSE),\"\")","v":""},null,null,null,null,4212,{"$f":"IFERROR(VLOOKUP(AH4215,Journal!$R:$S,2,FALSE),\"\")","v":""},0,0,null,null,null,null,null,null,null,null,null,null,null,null,null,null,null,null,null,null,null,null,null,null,4186,0,25025.38,{"$error":"#N/A"}]
[null,null,null,null,null,null,null,null,null,null,null,null,null,null,null,null,null,null,4204,{"$f":"IFERROR(VLOOKUP(S4227,Journal!$R:$AQ,26,FALSE),\"\")","v":""},{"$error":"#VALUE!"},{"$error":"#N/A"},"",{"$f":"IFERROR(VLOOKUP(S4227,Journal!$R:$AV,32,FALSE),\"\")","v":""},null,null,null,null,{"$f":"IFERROR(VLOOKUP(AA4227, 'Daily Snapshot'!$B:$J,7,FALSE),\"\")","v":""},null,null,null,null,4224,{"$f":"IFERROR(VLOOKUP(AH4227,Journal!$R:$S,2,FALSE),\"\")","v":""},0,0,null,null,null,null,null,null,null,null,null,null,null,null,null,null,null,null,null,null,null,null,null,null,4198,0,25025.38,{"$error":"#N/A"}]
[null,null,null,null,null,null,null,null,null,null,null,null,null,null,null,null,null,null,4207,{"$f":"IFERROR(VLOOKUP(S4230,Journal!$R:$AQ,26,FALSE),\"\")","v":""},{"$error":"#VALUE!"},{"$error":"#N/A"},"",{"$f":"IFERROR(VLOOKUP(S4230,Journal!$R:$AV,32,FALSE),\"\")","v":""},null,null,null,null,{"$f":"IFERROR(VLOOKUP(AA4230, 'Daily Snapshot'!$B:$J,7,FALSE),\"\")","v":""},null,null,null,null,4227,{"$f":"IFERROR(VLOOKUP(AH4230,Journal!$R:$S,2,FALSE),\"\")","v":""},0,0,null,null,null,null,null,null,null,null,null,null,null,null,null,null,null,null,null,null,null,null,null,null,4201,0,25025.38,{"$error":"#N/A"}]
[null,null,null,null,null,null,null,null,null,null,null,null,null,null,null,null,null,null,4223,{"$f":"IFERROR(VLOOKUP(S4246,Journal!$R:$AQ,26,FALSE),\"\")","v":""},{"$error":"#VALUE!"},{"$error":"#N/A"},"",{"$f":"IFERROR(VLOOKUP(S4246,Journal!$R:$AV,32,FALSE),\"\")","v":""},null,null,null,null,{"$f":"IFERROR(VLOOKUP(AA4246, 'Daily Snapshot'!$B:$J,7,FALSE),\"\")","v":""},null,null,null,null,4243,{"$f":"IFERROR(VLOOKUP(AH4246,Journal!$R:$S,2,FALSE),\"\")","v":""},0,0,null,null,null,null,null,null,null,null,null,null,null,null,null,null,null,null,null,null,null,null,null,null,4217,0,25025.38,{"$error":"#N/A"}]
[null,null,null,null,null,null,null,null,null,null,null,null,null,null,null,null,null,null,4228,{"$f":"IFERROR(VLOOKUP(S4251,Journal!$R:$AQ,26,FALSE),\"\")","v":""},{"$error":"#VALUE!"},{"$error":"#N/A"},"",{"$f":"IFERROR(VLOOKUP(S4251,Journal!$R:$AV,32,FALSE),\"\")","v":""},null,null,null,null,{"$f":"IFERROR(VLOOKUP(AA4251, 'Daily Snapshot'!$B:$J,7,FALSE),\"\")","v":""},null,null,null,null,4248,{"$f":"IFERROR(VLOOKUP(AH4251,Journal!$R:$S,2,FALSE),\"\")","v":""},0,0,null,null,null,null,null,null,null,null,null,null,null,null,null,null,null,null,null,null,null,null,null,null,4222,0,25025.38,{"$error":"#N/A"}]
[null,null,null,null,null,null,null,null,null,null,null,null,null,null,null,null,null,null,4241,{"$f":"IFERROR(VLOOKUP(S4264,Journal!$R:$AQ,26,FALSE),\"\")","v":""},{"$error":"#VALUE!"},{"$error":"#N/A"},"",{"$f":"IFERROR(VLOOKUP(S4264,Journal!$R:$AV,32,FALSE),\"\")","v":""},null,null,null,null,{"$f":"IFERROR(VLOOKUP(AA4264, 'Daily Snapshot'!$B:$J,7,FALSE),\"\")","v":""},null,null,null,null,4261,{"$f":"IFERROR(VLOOKUP(AH4264,Journal!$R:$S,2,FALSE),\"\")","v":""},0,0,null,null,null,null,null,null,null,null,null,null,null,null,null,null,null,null,null,null,null,null,null,null,4235,0,25025.38,{"$error":"#N/A"}]
[null,null,null,null,null,null,null,null,null,null,null,null,null,null,null,null,null,null,4244,{"$f":"IFERROR(VLOOKUP(S4267,Journal!$R:$AQ,26,FALSE),\"\")","v":""},{"$error":"#VALUE!"},{"$error":"#N/A"},"",{"$f":"IFERROR(VLOOKUP(S4267,Journal!$R:$AV,32,FALSE),\"\")","v":""},null,null,null,null,{"$f":"IFERROR(VLOOKUP(AA4267, 'Daily Snapshot'!$B:$J,7,FALSE),\"\")","v":""},null,null,null,null,4264,{"$f":"IFERROR(VLOOKUP(AH4267,Journal!$R:$S,2,FALSE),\"\")","v":""},0,0,null,null,null,null,null,null,null,null,null,null,null,null,null,null,null,null,null,null,null,null,null,null,4238,0,25025.38,{"$error":"#N/A"}]
[null,null,null,null,null,null,null,null,null,null,null,null,null,null,null,null,null,null,4256,{"$f":"IFERROR(VLOOKUP(S4279,Journal!$R:$AQ,26,FALSE),\"\")","v":""},{"$error":"#VALUE!"},{"$error":"#N/A"},"",{"$f":"IFERROR(VLOOKUP(S4279,Journal!$R:$AV,32,FALSE),\"\")","v":""},null,null,null,null,{"$f":"IFERROR(VLOOKUP(AA4279, 'Daily Snapshot'!$B:$J,7,FALSE),\"\")","v":""},null,null,null,null,4276,{"$f":"IFERROR(VLOOKUP(AH4279,Journal!$R:$S,2,FALSE),\"\")","v":""},0,0,null,null,null,null,null,null,null,null,null,null,null,null,null,null,null,null,null,null,null,null,null,null,4250,0,25025.38,{"$error":"#N/A"}]
[null,null,null,null,null,null,null,null,null,null,null,null,null,null,null,null,null,null,4263,{"$f":"IFERROR(VLOOKUP(S4286,Journal!$R:$AQ,26,FALSE),\"\")","v":""},{"$error":"#VALUE!"},{"$error":"#N/A"},"",{"$f":"IFERROR(VLOOKUP(S4286,Journal!$R:$AV,32,FALSE),\"\")","v":""},null,null,null,null,{"$f":"IFERROR(VLOOKUP(AA4286, 'Daily Snapshot'!$B:$J,7,FALSE),\"\")","v":""},null,null,null,null,4283,{"$f":"IFERROR(VLOOKUP(AH4286,Journal!$R:$S,2,FALSE),\"\")","v":""},0,0,null,null,null,null,null,null,null,null,null,null,null,null,null,null,null,null,null,null,null,null,null,null,4257,0,25025.38,{"$error":"#N/A"}]
[null,null,null,null,null,null,null,null,null,null,null,null,null,null,null,null,null,null,4269,{"$f":"IFERROR(VLOOKUP(S4292,Journal!$R:$AQ,26,FALSE),\"\")","v":""},{"$error":"#VALUE!"},{"$error":"#N/A"},"",{"$f":"IFERROR(VLOOKUP(S4292,Journal!$R:$AV,32,FALSE),\"\")","v":""},null,null,null,null,{"$f":"IFERROR(VLOOKUP(AA4292, 'Daily Snapshot'!$B:$J,7,FALSE),\"\")","v":""},null,null,null,null,4289,{"$f":"IFERROR(VLOOKUP(AH4292,Journal!$R:$S,2,FALSE),\"\")","v":""},{"$f":"IF($AI4292=\"W\", 1,0)","v":0},{"$f":"IF($AI4292=\"L\", -1,0)","v":0},null,null,null,null,null,null,null,null,null,null,null,null,null,null,null,null,null,null,null,null,null,null,4263,0,25025.38,{"$error":"#N/A"}]
[null,null,null,null,null,null,null,null,null,null,null,null,null,null,null,null,null,null,4281,{"$f":"IFERROR(VLOOKUP(S4304,Journal!$R:$AQ,26,FALSE),\"\")","v":""},{"$error":"#VALUE!"},{"$error":"#N/A"},"",{"$f":"IFERROR(VLOOKUP(S4304,Journal!$R:$AV,32,FALSE),\"\")","v":""},null,null,null,null,{"$f":"IFERROR(VLOOKUP(AA4304, 'Daily Snapshot'!$B:$J,7,FALSE),\"\")","v":""},null,null,null,null,4301,{"$f":"IFERROR(VLOOKUP(AH4304,Journal!$R:$S,2,FALSE),\"\")","v":""},0,0,null,null,null,null,null,null,null,null,null,null,null,null,null,null,null,null,null,null,null,null,null,null,4275,0,25025.38,{"$error":"#N/A"}]
[null,null,null,null,null,null,null,null,null,null,null,null,null,null,null,null,null,null,4293,{"$f":"IFERROR(VLOOKUP(S4316,Journal!$R:$AQ,26,FALSE),\"\")","v":""},{"$error":"#VALUE!"},{"$f":"IF(OR(T4316=0,T4316<$H$26,T4316>$H$27),NA(),T4316+U4315)","v":{"$error":"#N/A"}},"",{"$f":"IFERROR(VLOOKUP(S4316,Journal!$R:$AV,32,FALSE),\"\")","v":""},null,null,null,null,{"$f":"IFERROR(VLOOKUP(AA4316, 'Daily Snapshot'!$B:$J,7,FALSE),\"\")","v":""},null,null,null,null,4313,{"$f":"IFERROR(VLOOKUP(AH4316,Journal!$R:$S,2,FALSE),\"\")","v":""},0,0,null,null,null,null,null,null,null,null,null,null,null,null,null,null,null,null,null,null,null,null,null,null,4287,0,25025.38,{"$error":"#N/A"}]
[null,null,null,null,null,null,null,null,null,null,null,null,null,null,null,null,null,null,4296,{"$f":"IFERROR(VLOOKUP(S4319,Journal!$R:$AQ,26,FALSE),\"\")","v":""},{"$error":"#VALUE!"},{"$error":"#N/A"},"",{"$f":"IFERROR(VLOOKUP(S4319,Journal!$R:$AV,32,FALSE),\"\")","v":""},null,null,null,null,{"$f":"IFERROR(VLOOKUP(AA4319, 'Daily Snapshot'!$B:$J,7,FALSE),\"\")","v":""},null,null,null,null,4316,{"$f":"IFERROR(VLOOKUP(AH4319,Journal!$R:$S,2,FALSE),\"\")","v":""},0,0,null,null,null,null,null,null,null,null,null,null,null,null,null,null,null,null,null,null,null,null,null,null,4290,0,{"$f":"BI4319+BJ4318","v":25025.38},{"$error":"#N/A"}]
[null,null,null,null,null,null,null,null,null,null,null,null,null,null,null,null,null,null,4312,{"$f":"IFERROR(VLOOKUP(S4335,Journal!$R:$AQ,26,FALSE),\"\")","v":""},{"$error":"#VALUE!"},{"$error":"#N/A"},"",{"$f":"IFERROR(VLOOKUP(S4335,Journal!$R:$AV,32,FALSE),\"\")","v":""},null,null,null,null,{"$f":"IFERROR(VLOOKUP(AA4335, 'Daily Snapshot'!$B:$J,7,FALSE),\"\")","v":""},null,null,null,null,4332,{"$f":"IFERROR(VLOOKUP(AH4335,Journal!$R:$S,2,FALSE),\"\")","v":""},0,0,null,null,null,null,null,null,null,null,null,null,null,null,null,null,null,null,null,null,null,null,null,null,4306,0,25025.38,{"$error":"#N/A"}]
[null,null,null,null,null,null,null,null,null,null,null,null,null,null,null,null,null,null,4318,{"$f":"IFERROR(VLOOKUP(S4341,Journal!$R:$AQ,26,FALSE),\"\")","v":""},{"$error":"#VALUE!"},{"$error":"#N/A"},"",{"$f":"IFERROR(VLOOKUP(S4341,Journal!$R:$AV,32,FALSE),\"\")","v":""},null,null,null,null,{"$f":"IFERROR(VLOOKUP(AA4341, 'Daily Snapshot'!$B:$J,7,FALSE),\"\")","v":""},null,null,null,null,4338,{"$f":"IFERROR(VLOOKUP(AH4341,Journal!$R:$S,2,FALSE),\"\")","v":""},0,0,null,null,null,null,null,null,null,null,null,null,null,null,null,null,null,null,null,null,null,null,null,null,4312,0,25025.38,{"$error":"#N/A"}]
[null,null,null,null,null,null,null,null,null,null,null,null,null,null,null,null,null,null,4326,{"$f":"IFERROR(VLOOKUP(S4349,Journal!$R:$AQ,26,FALSE),\"\")","v":""},{"$error":"#VALUE!"},{"$error":"#N/A"},"",{"$f":"IFERROR(VLOOKUP(S4349,Journal!$R:$AV,32,FALSE),\"\")","v":""},null,null,null,null,{"$f":"IFERROR(VLOOKUP(AA4349, 'Daily Snapshot'!$B:$J,7,FALSE),\"\")","v":""},null,null,null,null,4346,{"$f":"IFERROR(VLOOKUP(AH4349,Journal!$R:$S,2,FALSE),\"\")","v":""},0,0,null,null,null,null,null,null,null,null,null,null,null,null,null,null,null,null,null,null,null,null,null,null,4320,0,25025.38,{"$error":"#N/A"}]
[null,null,null,null,null,null,null,null,null,null,null,null,null,null,null,null,null,null,4333,{"$f":"IFERROR(VLOOKUP(S4356,Journal!$R:$AQ,26,FALSE),\"\")","v":""},{"$error":"#VALUE!"},{"$error":"#N/A"},"",{"$f":"IFERROR(VLOOKUP(S4356,Journal!$R:$AV,32,FALSE),\"\")","v":""},null,null,null,null,{"$f":"IFERROR(VLOOKUP(AA4356, 'Daily Snapshot'!$B:$J,7,FALSE),\"\")","v":""},null,null,null,null,4353,{"$f":"IFERROR(VLOOKUP(AH4356,Journal!$R:$S,2,FALSE),\"\")","v":""},{"$f":"IF($AI4356=\"W\", 1,0)","v":0},{"$f":"IF($AI4356=\"L\", -1,0)","v":0},null,null,null,null,null,null,null,null,null,null,null,null,null,null,null,null,null,null,null,null,null,null,4327,0,25025.38,{"$error":"#N/A"}]
[null,null,null,null,null,null,null,null,null,null,null,null,null,null,null,null,null,null,4345,{"$f":"IFERROR(VLOOKUP(S4368,Journal!$R:$AQ,26,FALSE),\"\")","v":""},{"$error":"#VALUE!"},{"$error":"#N/A"},"",{"$f":"IFERROR(VLOOKUP(S4368,Journal!$R:$AV,32,FALSE),\"\")","v":""},null,null,null,null,{"$f":"IFERROR(VLOOKUP(AA4368, 'Daily Snapshot'!$B:$J,7,FALSE),\"\")","v":""},null,null,null,null,4365,{"$f":"IFERROR(VLOOKUP(AH4368,Journal!$R:$S,2,FALSE),\"\")","v":""},0,0,null,null,null,null,null,null,null,null,null,null,null,null,null,null,null,null,null,null,null,null,null,null,4339,0,25025.38,{"$error":"#N/A"}]
[null,null,null,null,null,null,null,null,null,null,null,null,null,null,null,null,null,null,4352,{"$f":"IFERROR(VLOOKUP(S4375,Journal!$R:$AQ,26,FALSE),\"\")","v":""},{"$error":"#VALUE!"},{"$error":"#N/A"},"",{"$f":"IFERROR(VLOOKUP(S4375,Journal!$R:$AV,32,FALSE),\"\")","v":""},null,null,null,null,{"$f":"IFERROR(VLOOKUP(AA4375, 'Daily Snapshot'!$B:$J,7,FALSE),\"\")","v":""},null,null,null,null,4372,{"$f":"IFERROR(VLOOKUP(AH4375,Journal!$R:$S,2,FALSE),\"\")","v":""},0,0,null,null,null,null,null,null,null,null,null,null,null,null,null,null,null,null,null,null,null,null,null,null,4346,0,25025.38,{"$error":"#N/A"}]
[null,null,null,null,null,null,null,null,null,null,null,null,null,null,null,null,null,null,4359,{"$f":"IFERROR(VLOOKUP(S4382,Journal!$R:$AQ,26,FALSE),\"\")","v":""},{"$error":"#VALUE!"},{"$error":"#N/A"},"",{"$f":"IFERROR(VLOOKUP(S4382,Journal!$R:$AV,32,FALSE),\"\")","v":""},null,null,null,null,{"$f":"IFERROR(VLOOKUP(AA4382, 'Daily Snapshot'!$B:$J,7,FALSE),\"\")","v":""},null,null,null,null,4379,{"$f":"IFERROR(VLOOKUP(AH4382,Journal!$R:$S,2,FALSE),\"\")","v":""},0,0,null,null,null,null,null,null,null,null,null,null,null,null,null,null,null,null,null,null,null,null,null,null,4353,0,25025.38,{"$error":"#N/A"}]
[null,null,null,null,null,null,null,null,null,null,null,null,null,null,null,null,null,null,4366,{"$f":"IFERROR(VLOOKUP(S4389,Journal!$R:$AQ,26,FALSE),\"\")","v":""},{"$error":"#VALUE!"},{"$error":"#N/A"},"",{"$f":"IFERROR(VLOOKUP(S4389,Journal!$R:$AV,32,FALSE),\"\")","v":""},null,null,null,null,{"$f":"IFERROR(VLOOKUP(AA4389, 'Daily Snapshot'!$B:$J,7,FALSE),\"\")","v":""},null,null,null,null,4386,{"$f":"IFERROR(VLOOKUP(AH4389,Journal!$R:$S,2,FALSE),\"\")","v":""},0,0,null,null,null,null,null,null,null,null,null,null,null,null,null,null,null,null,null,null,null,null,null,null,4360,0,25025.38,{"$error":"#N/A"}]
[null,null,null,null,null,null,null,null,null,null,null,null,null,null,null,null,null,null,4382,{"$f":"IFERROR(VLOOKUP(S4405,Journal!$R:$AQ,26,FALSE),\"\")","v":""},{"$error":"#VALUE!"},{"$error":"#N/A"},"",{"$f":"IFERROR(VLOOKUP(S4405,Journal!$R:$AV,32,FALSE),\"\")","v":""},null,null,null,null,{"$f":"IFERROR(VLOOKUP(AA4405, 'Daily Snapshot'!$B:$J,7,FALSE),\"\")","v":""},null,null,null,null,4402,{"$f":"IFERROR(VLOOKUP(AH4405,Journal!$R:$S,2,FALSE),\"\")","v":""},0,0,null,null,null,null,null,null,null,null,null,null,null,null,null,null,null,null,null,null,null,null,null,null,4376,0,25025.38,{"$error":"#N/A"}]
[null,null,null,null,null,null,null,null,null,null,null,null,null,null,null,null,null,null,4385,{"$f":"IFERROR(VLOOKUP(S4408,Journal!$R:$AQ,26,FALSE),\"\")","v":""},{"$error":"#VALUE!"},{"$error":"#N/A"},"",{"$f":"IFERROR(VLOOKUP(S4408,Journal!$R:$AV,32,FALSE),\"\")","v":""},null,null,null,null,{"$f":"IFERROR(VLOOKUP(AA4408, 'Daily Snapshot'!$B:$J,7,FALSE),\"\")","v":""},null,null,null,null,4405,{"$f":"IFERROR(VLOOKUP(AH4408,Journal!$R:$S,2,FALSE),\"\")","v":""},0,0,null,null,null,null,null,null,null,null,null,null,null,null,null,null,null,null,null,null,null,null,null,null,4379,0,25025.38,{"$error":"#N/A"}]
[null,null,null,null,null,null,null,null,null,null,null,null,null,null,null,null,null,null,4397,{"$f":"IFERROR(VLOOKUP(S4420,Journal!$R:$AQ,26,FALSE),\"\")","v":""},{"$error":"#VALUE!"},{"$error":"#N/A"},"",{"$f":"IFERROR(VLOOKUP(S4420,Journal!$R:$AV,32,FALSE),\"\")","v":""},null,null,null,null,{"$f":"IFERROR(VLOOKUP(AA4420, 'Daily Snapshot'!$B:$J,7,FALSE),\"\")","v":""},null,null,null,null,4417,{"$f":"IFERROR(VLOOKUP(AH4420,Journal!$R:$S,2,FALSE),\"\")","v":""},{"$f":"IF($AI4420=\"W\", 1,0)","v":0},{"$f":"IF($AI4420=\"L\", -1,0)","v":0},null,null,null,null,null,null,null,null,null,null,null,null,null,null,null,null,null,null,null,null,null,null,4391,0,25025.38,{"$error":"#N/A"}]
[null,null,null,null,null,null,null,null,null,null,null,null,null,null,null,null,null,null,4408,{"$f":"IFERROR(VLOOKUP(S4431,Journal!$R:$AQ,26,FALSE),\"\")","v":""},{"$error":"#VALUE!"},{"$error":"#N/A"},"",{"$f":"IFERROR(VLOOKUP(S4431,Journal!$R:$AV,32,FALSE),\"\")","v":""},null,null,null,null,{"$f":"IFERROR(VLOOKUP(AA4431, 'Daily Snapshot'!$B:$J,7,FALSE),\"\")","v":""},null,null,null,null,4428,{"$f":"IFERROR(VLOOKUP(AH4431,Journal!$R:$S,2,FALSE),\"\")","v":""},0,0,null,null,null,null,null,null,null,null,null,null,null,null,null,null,null,null,null,null,null,null,null,null,4402,0,25025.38,{"$error":"#N/A"}]
[null,null,null,null,null,null,null,null,null,null,null,null,null,null,null,null,null,null,4415,{"$f":"IFERROR(VLOOKUP(S4438,Journal!$R:$AQ,26,FALSE),\"\")","v":""},{"$error":"#VALUE!"},{"$error":"#N/A"},"",{"$f":"IFERROR(VLOOKUP(S4438,Journal!$R:$AV,32,FALSE),\"\")","v":""},null,null,null,null,{"$f":"IFERROR(VLOOKUP(AA4438, 'Daily Snapshot'!$B:$J,7,FALSE),\"\")","v":""},null,null,null,null,4435,{"$f":"IFERROR(VLOOKUP(AH4438,Journal!$R:$S,2,FALSE),\"\")","v":""},0,0,null,null,null,null,null,null,null,null,null,null,null,null,null,null,null,null,null,null,null,null,null,null,4409,0,25025.38,{"$error":"#N/A"}]
[null,null,null,null,null,null,null,null,null,null,null,null,null,null,null,null,null,null,4422,{"$f":"IFERROR(VLOOKUP(S4445,Journal!$R:$AQ,26,FALSE),\"\")","v":""},{"$error":"#VALUE!"},{"$error":"#N/A"},"",{"$f":"IFERROR(VLOOKUP(S4445,Journal!$R:$AV,32,FALSE),\"\")","v":""},null,null,null,null,{"$f":"IFERROR(VLOOKUP(AA4445, 'Daily Snapshot'!$B:$J,7,FALSE),\"\")","v":""},null,null,null,null,4442,{"$f":"IFERROR(VLOOKUP(AH4445,Journal!$R:$S,2,FALSE),\"\")","v":""},0,0,null,null,null,null,null,null,null,null,null,null,null,null,null,null,null,null,null,null,null,null,null,null,4416,0,25025.38,{"$error":"#N/A"}]
[null,null,null,null,null,null,null,null,null,null,null,null,null,null,null,null,null,null,4434,{"$f":"IFERROR(VLOOKUP(S4457,Journal!$R:$AQ,26,FALSE),\"\")","v":""},{"$error":"#VALUE!"},{"$error":"#N/A"},"",{"$f":"IFERROR(VLOOKUP(S4457,Journal!$R:$AV,32,FALSE),\"\")","v":""},null,null,null,null,{"$f":"IFERROR(VLOOKUP(AA4457, 'Daily Snapshot'!$B:$J,7,FALSE),\"\")","v":""},null,null,null,null,4454,{"$f":"IFERROR(VLOOKUP(AH4457,Journal!$R:$S,2,FALSE),\"\")","v":""},0,0,null,null,null,null,null,null,null,null,null,null,null,null,null,null,null,null,null,null,null,null,null,null,4428,0,25025.38,{"$error":"#N/A"}]
[null,null,null,null,null,null,null,null,null,null,null,null,null,null,null,null,null,null,4439,{"$f":"IFERROR(VLOOKUP(S4462,Journal!$R:$AQ,26,FALSE),\"\")","v":""},{"$error":"#VALUE!"},{"$error":"#N/A"},"",{"$f":"IFERROR(VLOOKUP(S4462,Journal!$R:$AV,32,FALSE),\"\")","v":""},null,null,null,null,{"$f":"IFERROR(VLOOKUP(AA4462, 'Daily Snapshot'!$B:$J,7,FALSE),\"\")","v":""},null,null,null,null,4459,{"$f":"IFERROR(VLOOKUP(AH4462,Journal!$R:$S,2,FALSE),\"\")","v":""},0,0,null,null,null,null,null,null,null,null,null,null,null,null,null,null,null,null,null,null,null,null,null,null,4433,0,25025.38,{"$error":"#N/A"}]
[null,null,null,null,null,null,null,null,null,null,null,null,null,null,null,null,null,null,4452,{"$f":"IFERROR(VLOOKUP(S4475,Journal!$R:$AQ,26,FALSE),\"\")","v":""},{"$error":"#VALUE!"},{"$error":"#N/A"},"",{"$f":"IFERROR(VLOOKUP(S4475,Journal!$R:$AV,32,FALSE),\"\")","v":""},null,null,null,null,{"$f":"IFERROR(VLOOKUP(AA4475, 'Daily Snapshot'!$B:$J,7,FALSE),\"\")","v":""},null,null,null,null,4472,{"$f":"IFERROR(VLOOKUP(AH4475,Journal!$R:$S,2,FALSE),\"\")","v":""},0,0,null,null,null,null,null,null,null,null,null,null,null,null,null,null,null,null,null,null,null,null,null,null,4446,0,25025.38,{"$error":"#N/A"}]
[null,null,null,null,null,null,null,null,null,null,null,null,null,null,null,null,null,null,4455,{"$f":"IFERROR(VLOOKUP(S4478,Journal!$R:$AQ,26,FALSE),\"\")","v":""},{"$error":"#VALUE!"},{"$error":"#N/A"},"",{"$f":"IFERROR(VLOOKUP(S4478,Journal!$R:$AV,32,FALSE),\"\")","v":""},null,null,null,null,{"$f":"IFERROR(VLOOKUP(AA4478, 'Daily Snapshot'!$B:$J,7,FALSE),\"\")","v":""},null,null,null,null,4475,{"$f":"IFERROR(VLOOKUP(AH4478,Journal!$R:$S,2,FALSE),\"\")","v":""},0,0,null,null,null,null,null,null,null,null,null,null,null,null,null,null,null,null,null,null,null,null,null,null,4449,0,25025.38,{"$error":"#N/A"}]
[null,null,null,null,null,null,null,null,null,null,null,null,null,null,null,null,null,null,4462,{"$f":"IFERROR(VLOOKUP(S4485,Journal!$R:$AQ,26,FALSE),\"\")","v":""},{"$error":"#VALUE!"},{"$error":"#N/A"},"",{"$f":"IFERROR(VLOOKUP(S4485,Journal!$R:$AV,32,FALSE),\"\")","v":""},null,null,null,null,{"$f":"IFERROR(VLOOKUP(AA4485, 'Daily Snapshot'!$B:$J,7,FALSE),\"\")","v":""},null,null,null,null,4482,{"$f":"IFERROR(VLOOKUP(AH4485,Journal!$R:$S,2,FALSE),\"\")","v":""},0,0,null,null,null,null,null,null,null,null,null,null,null,null,null,null,null,null,null,null,null,null,null,null,4456,0,25025.38,{"$error":"#N/A"}]
[null,null,null,null,null,null,null,null,null,null,null,null,null,null,null,null,null,null,4474,{"$f":"IFERROR(VLOOKUP(S4497,Journal!$R:$AQ,26,FALSE),\"\")","v":""},{"$error":"#VALUE!"},{"$error":"#N/A"},"",{"$f":"IFERROR(VLOOKUP(S4497,Journal!$R:$AV,32,FALSE),\"\")","v":""},null,null,null,null,{"$f":"IFERROR(VLOOKUP(AA4497, 'Daily Snapshot'!$B:$J,7,FALSE),\"\")","v":""},null,null,null,null,4494,{"$f":"IFERROR(VLOOKUP(AH4497,Journal!$R:$S,2,FALSE),\"\")","v":""},0,0,null,null,null,null,null,null,null,null,null,null,null,null,null,null,null,null,null,null,null,null,null,null,4468,0,25025.38,{"$error":"#N/A"}]
[null,null,null,null,null,null,null,null,null,null,null,null,null,null,null,null,null,null,4480,{"$f":"IFERROR(VLOOKUP(S4503,Journal!$R:$AQ,26,FALSE),\"\")","v":""},{"$error":"#VALUE!"},{"$error":"#N/A"},"",{"$f":"IFERROR(VLOOKUP(S4503,Journal!$R:$AV,32,FALSE),\"\")","v":""},null,null,null,null,{"$f":"IFERROR(VLOOKUP(AA4503, 'Daily Snapshot'!$B:$J,7,FALSE),\"\")","v":""},null,null,null,null,4500,{"$f":"IFERROR(VLOOKUP(AH4503,Journal!$R:$S,2,FALSE),\"\")","v":""},0,0,null,null,null,null,null,null,null,null,null,null,null,null,null,null,null,null,null,null,null,null,null,null,4474,0,25025.38,{"$error":"#N/A"}]
[null,null,null,null,null,null,null,null,null,null,null,null,null,null,null,null,null,null,4492,{"$f":"IFERROR(VLOOKUP(S4515,Journal!$R:$AQ,26,FALSE),\"\")","v":""},{"$error":"#VALUE!"},{"$error":"#N/A"},"",{"$f":"IFERROR(VLOOKUP(S4515,Journal!$R:$AV,32,FALSE),\"\")","v":""},null,null,null,null,{"$f":"IFERROR(VLOOKUP(AA4515, 'Daily Snapshot'!$B:$J,7,FALSE),\"\")","v":""},null,null,null,null,4512,{"$f":"IFERROR(VLOOKUP(AH4515,Journal!$R:$S,2,FALSE),\"\")","v":""},0,0,null,null,null,null,null,null,null,null,null,null,null,null,null,null,null,null,null,null,null,null,null,null,4486,0,25025.38,{"$error":"#N/A"}]
[null,null,null,null,null,null,null,null,null,null,null,null,null,null,null,null,null,null,4504,{"$f":"IFERROR(VLOOKUP(S4527,Journal!$R:$AQ,26,FALSE),\"\")","v":""},{"$error":"#VALUE!"},{"$error":"#N/A"},"",{"$f":"IFERROR(VLOOKUP(S4527,Journal!$R:$AV,32,FALSE),\"\")","v":""},null,null,null,null,{"$f":"IFERROR(VLOOKUP(AA4527, 'Daily Snapshot'!$B:$J,7,FALSE),\"\")","v":""},null,null,null,null,4524,{"$f":"IFERROR(VLOOKUP(AH4527,Journal!$R:$S,2,FALSE),\"\")","v":""},0,0,null,null,null,null,null,null,null,null,null,null,null,null,null,null,null,null,null,null,null,null,null,null,4498,0,25025.38,{"$error":"#N/A"}]
[null,null,null,null,null,null,null,null,null,null,null,null,null,null,null,null,null,null,4507,{"$f":"IFERROR(VLOOKUP(S4530,Journal!$R:$AQ,26,FALSE),\"\")","v":""},{"$error":"#VALUE!"},{"$error":"#N/A"},"",{"$f":"IFERROR(VLOOKUP(S4530,Journal!$R:$AV,32,FALSE),\"\")","v":""},null,null,null,null,{"$f":"IFERROR(VLOOKUP(AA4530, 'Daily Snapshot'!$B:$J,7,FALSE),\"\")","v":""},null,null,null,null,4527,{"$f":"IFERROR(VLOOKUP(AH4530,Journal!$R:$S,2,FALSE),\"\")","v":""},0,0,null,null,null,null,null,null,null,null,null,null,null,null,null,null,null,null,null,null,null,null,null,null,4501,0,25025.38,{"$error":"#N/A"}]
[null,null,null,null,null,null,null,null,null,null,null,null,null,null,null,null,null,null,4523,{"$f":"IFERROR(VLOOKUP(S4546,Journal!$R:$AQ,26,FALSE),\"\")","v":""},{"$error":"#VALUE!"},{"$error":"#N/A"},"",{"$f":"IFERROR(VLOOKUP(S4546,Journal!$R:$AV,32,FALSE),\"\")","v":""},null,null,null,null,{"$f":"IFERROR(VLOOKUP(AA4546, 'Daily Snapshot'!$B:$J,7,FALSE),\"\")","v":""},null,null,null,null,4543,{"$f":"IFERROR(VLOOKUP(AH4546,Journal!$R:$S,2,FALSE),\"\")","v":""},0,0,null,null,null,null,null,null,null,null,null,null,null,null,null,null,null,null,null,null,null,null,null,null,4517,0,25025.38,{"$error":"#N/A"}]
[null,null,null,null,null,null,null,null,null,null,null,null,null,null,null,null,null,null,4529,{"$f":"IFERROR(VLOOKUP(S4552,Journal!$R:$AQ,26,FALSE),\"\")","v":""},{"$error":"#VALUE!"},{"$error":"#N/A"},"",{"$f":"IFERROR(VLOOKUP(S4552,Journal!$R:$AV,32,FALSE),\"\")","v":""},null,null,null,null,{"$f":"IFERROR(VLOOKUP(AA4552, 'Daily Snapshot'!$B:$J,7,FALSE),\"\")","v":""},null,null,null,null,4549,{"$f":"IFERROR(VLOOKUP(AH4552,Journal!$R:$S,2,FALSE),\"\")","v":""},0,0,null,null,null,null,null,null,null,null,null,null,null,null,null,null,null,null,null,null,null,null,null,null,4523,0,25025.38,{"$error":"#N/A"}]
[null,null,null,null,null,null,null,null,null,null,null,null,null,null,null,null,null,null,4532,{"$f":"IFERROR(VLOOKUP(S4555,Journal!$R:$AQ,26,FALSE),\"\")","v":""},{"$error":"#VALUE!"},{"$error":"#N/A"},"",{"$f":"IFERROR(VLOOKUP(S4555,Journal!$R:$AV,32,FALSE),\"\")","v":""},null,null,null,null,{"$f":"IFERROR(VLOOKUP(AA4555, 'Daily Snapshot'!$B:$J,7,FALSE),\"\")","v":""},null,null,null,null,4552,{"$f":"IFERROR(VLOOKUP(AH4555,Journal!$R:$S,2,FALSE),\"\")","v":""},0,0,null,null,null,null,null,null,null,null,null,null,null,null,null,null,null,null,null,null,null,null,null,null,4526,0,25025.38,{"$error":"#N/A"}]
[null,null,null,null,null,null,null,null,null,null,null,null,null,null,null,null,null,null,4544,{"$f":"IFERROR(VLOOKUP(S4567,Journal!$R:$AQ,26,FALSE),\"\")","v":""},{"$error":"#VALUE!"},{"$error":"#N/A"},"",{"$f":"IFERROR(VLOOKUP(S4567,Journal!$R:$AV,32,FALSE),\"\")","v":""},null,null,null,null,{"$f":"IFERROR(VLOOKUP(AA4567, 'Daily Snapshot'!$B:$J,7,FALSE),\"\")","v":""},null,null,null,null,4564,{"$f":"IFERROR(VLOOKUP(AH4567,Journal!$R:$S,2,FALSE),\"\")","v":""},0,0,null,null,null,null,null,null,null,null,null,null,null,null,null,null,null,null,null,null,null,null,null,null,4538,0,25025.38,{"$error":"#N/A"}]
[null,null,null,null,null,null,null,null,null,null,null,null,null,null,null,null,null,null,4556,{"$f":"IFERROR(VLOOKUP(S4579,Journal!$R:$AQ,26,FALSE),\"\")","v":""},{"$error":"#VALUE!"},{"$error":"#N/A"},"",{"$f":"IFERROR(VLOOKUP(S4579,Journal!$R:$AV,32,FALSE),\"\")","v":""},null,null,null,null,{"$f":"IFERROR(VLOOKUP(AA4579, 'Daily Snapshot'!$B:$J,7,FALSE),\"\")","v":""},null,null,null,null,4576,{"$f":"IFERROR(VLOOKUP(AH4579,Journal!$R:$S,2,FALSE),\"\")","v":""},0,0,null,null,null,null,null,null,null,null,null,null,null,null,null,null,null,null,null,null,null,null,null,null,4550,0,25025.38,{"$error":"#N/A"}]
[null,null,null,null,null,null,null,null,null,null,null,null,null,null,null,null,null,null,4563,{"$f":"IFERROR(VLOOKUP(S4586,Journal!$R:$AQ,26,FALSE),\"\")","v":""},{"$error":"#VALUE!"},{"$error":"#N/A"},"",{"$f":"IFERROR(VLOOKUP(S4586,Journal!$R:$AV,32,FALSE),\"\")","v":""},null,null,null,null,{"$f":"IFERROR(VLOOKUP(AA4586, 'Daily Snapshot'!$B:$J,7,FALSE),\"\")","v":""},null,null,null,null,4583,{"$f":"IFERROR(VLOOKUP(AH4586,Journal!$R:$S,2,FALSE),\"\")","v":""},0,0,null,null,null,null,null,null,null,null,null,null,null,null,null,null,null,null,null,null,null,null,null,null,4557,0,25025.38,{"$error":"#N/A"}]
[null,null,null,null,null,null,null,null,null,null,null,null,null,null,null,null,null,null,4570,{"$f":"IFERROR(VLOOKUP(S4593,Journal!$R:$AQ,26,FALSE),\"\")","v":""},{"$error":"#VALUE!"},{"$error":"#N/A"},"",{"$f":"IFERROR(VLOOKUP(S4593,Journal!$R:$AV,32,FALSE),\"\")","v":""},null,null,null,null,{"$f":"IFERROR(VLOOKUP(AA4593, 'Daily Snapshot'!$B:$J,7,FALSE),\"\")","v":""},null,null,null,null,4590,{"$f":"IFERROR(VLOOKUP(AH4593,Journal!$R:$S,2,FALSE),\"\")","v":""},0,0,null,null,null,null,null,null,null,null,null,null,null,null,null,null,null,null,null,null,null,null,null,null,4564,0,25025.38,{"$error":"#N/A"}]
[null,null,null,null,null,null,null,null,null,null,null,null,null,null,null,null,null,null,4577,{"$f":"IFERROR(VLOOKUP(S4600,Journal!$R:$AQ,26,FALSE),\"\")","v":""},{"$error":"#VALUE!"},{"$error":"#N/A"},"",{"$f":"IFERROR(VLOOKUP(S4600,Journal!$R:$AV,32,FALSE),\"\")","v":""},null,null,null,null,{"$f":"IFERROR(VLOOKUP(AA4600, 'Daily Snapshot'!$B:$J,7,FALSE),\"\")","v":""},null,null,null,null,4597,{"$f":"IFERROR(VLOOKUP(AH4600,Journal!$R:$S,2,FALSE),\"\")","v":""},0,0,null,null,null,null,null,null,null,null,null,null,null,null,null,null,null,null,null,null,null,null,null,null,4571,0,25025.38,{"$error":"#N/A"}]
[null,null,null,null,null,null,null,null,null,null,null,null,null,null,null,null,null,null,4593,{"$f":"IFERROR(VLOOKUP(S4616,Journal!$R:$AQ,26,FALSE),\"\")","v":""},{"$error":"#VALUE!"},{"$error":"#N/A"},"",{"$f":"IFERROR(VLOOKUP(S4616,Journal!$R:$AV,32,FALSE),\"\")","v":""},null,null,null,null,{"$f":"IFERROR(VLOOKUP(AA4616, 'Daily Snapshot'!$B:$J,7,FALSE),\"\")","v":""},null,null,null,null,4613,{"$f":"IFERROR(VLOOKUP(AH4616,Journal!$R:$S,2,FALSE),\"\")","v":""},0,0,null,null,null,null,null,null,null,null,null,null,null,null,null,null,null,null,null,null,null,null,null,null,4587,0,25025.38,{"$error":"#N/A"}]
[null,null,null,null,null,null,null,null,null,null,null,null,null,null,null,null,null,null,4596,{"$f":"IFERROR(VLOOKUP(S4619,Journal!$R:$AQ,26,FALSE),\"\")","v":""},{"$error":"#VALUE!"},{"$error":"#N/A"},"",{"$f":"IFERROR(VLOOKUP(S4619,Journal!$R:$AV,32,FALSE),\"\")","v":""},null,null,null,null,{"$f":"IFERROR(VLOOKUP(AA4619, 'Daily Snapshot'!$B:$J,7,FALSE),\"\")","v":""},null,null,null,null,4616,{"$f":"IFERROR(VLOOKUP(AH4619,Journal!$R:$S,2,FALSE),\"\")","v":""},0,0,null,null,null,null,null,null,null,null,null,null,null,null,null,null,null,null,null,null,null,null,null,null,4590,0,25025.38,{"$error":"#N/A"}]
[null,null,null,null,null,null,null,null,null,null,null,null,null,null,null,null,null,null,4603,{"$f":"IFERROR(VLOOKUP(S4626,Journal!$R:$AQ,26,FALSE),\"\")","v":""},{"$error":"#VALUE!"},{"$error":"#N/A"},"",{"$f":"IFERROR(VLOOKUP(S4626,Journal!$R:$AV,32,FALSE),\"\")","v":""},null,null,null,null,{"$f":"IFERROR(VLOOKUP(AA4626, 'Daily Snapshot'!$B:$J,7,FALSE),\"\")","v":""},null,null,null,null,4623,{"$f":"IFERROR(VLOOKUP(AH4626,Journal!$R:$S,2,FALSE),\"\")","v":""},0,0,null,null,null,null,null,null,null,null,null,null,null,null,null,null,null,null,null,null,null,null,null,null,4597,0,25025.38,{"$error":"#N/A"}]
[null,null,null,null,null,null,null,null,null,null,null,null,null,null,null,null,null,null,4619,{"$f":"IFERROR(VLOOKUP(S4642,Journal!$R:$AQ,26,FALSE),\"\")","v":""},{"$error":"#VALUE!"},{"$error":"#N/A"},"",{"$f":"IFERROR(VLOOKUP(S4642,Journal!$R:$AV,32,FALSE),\"\")","v":""},null,null,null,null,{"$f":"IFERROR(VLOOKUP(AA4642, 'Daily Snapshot'!$B:$J,7,FALSE),\"\")","v":""},null,null,null,null,4639,{"$f":"IFERROR(VLOOKUP(AH4642,Journal!$R:$S,2,FALSE),\"\")","v":""},0,0,null,null,null,null,null,null,null,null,null,null,null,null,null,null,null,null,null,null,null,null,null,null,4613,{"$f":"N4645","v":0},{"$f":"BI4642+BJ4641","v":25025.38},{"$f":"IF(OR(BI4642=0,BI4642<$H$26,BI4642>$H$27),NA(),BI4642+BJ4641)","v":{"$error":"#N/A"}}]
[null,null,null,null,null,null,null,null,null,null,null,null,null,null,null,null,null,null,4626,{"$f":"IFERROR(VLOOKUP(S4649,Journal!$R:$AQ,26,FALSE),\"\")","v":""},{"$error":"#VALUE!"},{"$error":"#N/A"},"",{"$f":"IFERROR(VLOOKUP(S4649,Journal!$R:$AV,32,FALSE),\"\")","v":""},null,null,null,null,{"$f":"IFERROR(VLOOKUP(AA4649, 'Daily Snapshot'!$B:$J,7,FALSE),\"\")","v":""},null,null,null,null,4646,{"$f":"IFERROR(VLOOKUP(AH4649,Journal!$R:$S,2,FALSE),\"\")","v":""},0,0]
[null,null,null,null,null,null,null,null,null,null,null,null,null,null,null,null,null,null,4633,{"$f":"IFERROR(VLOOKUP(S4656,Journal!$R:$AQ,26,FALSE),\"\")","v":""},{"$error":"#VALUE!"},{"$error":"#N/A"},"",{"$f":"IFERROR(VLOOKUP(S4656,Journal!$R:$AV,32,FALSE),\"\")","v":""},null,null,null,null,{"$f":"IFERROR(VLOOKUP(AA4656, 'Daily Snapshot'!$B:$J,7,FALSE),\"\")","v":""},null,null,null,null,4653,{"$f":"IFERROR(VLOOKUP(AH4656,Journal!$R:$S,2,FALSE),\"\")","v":""},0,0]
[null,null,null,null,null,null,null,null,null,null,null,null,null,null,null,null,null,null,4645,{"$f":"IFERROR(VLOOKUP(S4668,Journal!$R:$AQ,26,FALSE),\"\")","v":""},{"$error":"#VALUE!"},{"$error":"#N/A"},"",{"$f":"IFERROR(VLOOKUP(S4668,Journal!$R:$AV,32,FALSE),\"\")","v":""},null,null,null,null,{"$f":"IFERROR(VLOOKUP(AA4668, 'Daily Snapshot'!$B:$J,7,FALSE),\"\")","v":""},null,null,null,null,4665,{"$f":"IFERROR(VLOOKUP(AH4668,Journal!$R:$S,2,FALSE),\"\")","v":""},0,0]
[null,null,null,null,null,null,null,null,null,null,null,null,null,null,null,null,null,null,4652,{"$f":"IFERROR(VLOOKUP(S4675,Journal!$R:$AQ,26,FALSE),\"\")","v":""},{"$error":"#VALUE!"},{"$error":"#N/A"},"",{"$f":"IFERROR(VLOOKUP(S4675,Journal!$R:$AV,32,FALSE),\"\")","v":""},null,null,null,null,{"$f":"IFERROR(VLOOKUP(AA4675, 'Daily Snapshot'!$B:$J,7,FALSE),\"\")","v":""},null,null,null,null,4672,{"$f":"IFERROR(VLOOKUP(AH4675,Journal!$R:$S,2,FALSE),\"\")","v":""},0,0]
[null,null,null,null,null,null,null,null,null,null,null,null,null,null,null,null,null,null,4660,{"$f":"IFERROR(VLOOKUP(S4683,Journal!$R:$AQ,26,FALSE),\"\")","v":""},{"$error":"#VALUE!"},{"$error":"#N/A"},"",{"$f":"IFERROR(VLOOKUP(S4683,Journal!$R:$AV,32,FALSE),\"\")","v":""},null,null,null,null,{"$f":"IFERROR(VLOOKUP(AA4683, 'Daily Snapshot'!$B:$J,7,FALSE),\"\")","v":""},null,null,null,null,4680,{"$f":"IFERROR(VLOOKUP(AH4683,Journal!$R:$S,2,FALSE),\"\")","v":""},0,0]
[null,null,null,null,null,null,null,null,null,null,null,null,null,null,null,null,null,null,4666,{"$f":"IFERROR(VLOOKUP(S4689,Journal!$R:$AQ,26,FALSE),\"\")","v":""},{"$error":"#VALUE!"},{"$error":"#N/A"},"",{"$f":"IFERROR(VLOOKUP(S4689,Journal!$R:$AV,32,FALSE),\"\")","v":""},null,null,null,null,{"$f":"IFERROR(VLOOKUP(AA4689, 'Daily Snapshot'!$B:$J,7,FALSE),\"\")","v":""},null,null,null,null,4686,{"$f":"IFERROR(VLOOKUP(AH4689,Journal!$R:$S,2,FALSE),\"\")","v":""},0,0]
[null,null,null,null,null,null,null,null,null,null,null,null,null,null,null,null,null,null,4673,{"$f":"IFERROR(VLOOKUP(S4696,Journal!$R:$AQ,26,FALSE),\"\")","v":""},{"$error":"#VALUE!"},{"$error":"#N/A"},"",{"$f":"IFERROR(VLOOKUP(S4696,Journal!$R:$AV,32,FALSE),\"\")","v":""},null,null,null,null,{"$f":"IFERROR(VLOOKUP(AA4696, 'Daily Snapshot'!$B:$J,7,FALSE),\"\")","v":""},null,null,null,null,4693,{"$f":"IFERROR(VLOOKUP(AH4696,Journal!$R:$S,2,FALSE),\"\")","v":""},0,0]
[null,null,null,null,null,null,null,null,null,null,null,null,null,null,null,null,null,null,4685,{"$f":"IFERROR(VLOOKUP(S4708,Journal!$R:$AQ,26,FALSE),\"\")","v":""},{"$error":"#VALUE!"},{"$error":"#N/A"},"",{"$f":"IFERROR(VLOOKUP(S4708,Journal!$R:$AV,32,FALSE),\"\")","v":""},null,null,null,null,{"$f":"IFERROR(VLOOKUP(AA4708, 'Daily Snapshot'!$B:$J,7,FALSE),\"\")","v":""},null,null,null,null,4705,{"$f":"IFERROR(VLOOKUP(AH4708,Journal!$R:$S,2,FALSE),\"\")","v":""},0,0]
[null,null,null,null,null,null,null,null,null,null,null,null,null,null,null,null,null,null,4697,{"$f":"IFERROR(VLOOKUP(S4720,Journal!$R:$AQ,26,FALSE),\"\")","v":""},{"$error":"#VALUE!"},{"$error":"#N/A"},"",{"$f":"IFERROR(VLOOKUP(S4720,Journal!$R:$AV,32,FALSE),\"\")","v":""},null,null,null,null,{"$f":"IFERROR(VLOOKUP(AA4720, 'Daily Snapshot'!$B:$J,7,FALSE),\"\")","v":""},null,null,null,null,4717,{"$f":"IFERROR(VLOOKUP(AH4720,Journal!$R:$S,2,FALSE),\"\")","v":""},0,0]
[null,null,null,null,null,null,null,null,null,null,null,null,null,null,null,null,null,null,4701,{"$f":"IFERROR(VLOOKUP(S4724,Journal!$R:$AQ,26,FALSE),\"\")","v":""},{"$error":"#VALUE!"},{"$error":"#N/A"},"",{"$f":"IFERROR(VLOOKUP(S4724,Journal!$R:$AV,32,FALSE),\"\")","v":""},null,null,null,null,{"$f":"IFERROR(VLOOKUP(AA4724, 'Daily Snapshot'!$B:$J,7,FALSE),\"\")","v":""},null,null,null,null,4721,{"$f":"IFERROR(VLOOKUP(AH4724,Journal!$R:$S,2,FALSE),\"\")","v":""},0,0]
[null,null,null,null,null,null,null,null,null,null,null,null,null,null,null,null,null,null,4715,{"$f":"IFERROR(VLOOKUP(S4738,Journal!$R:$AQ,26,FALSE),\"\")","v":""},{"$error":"#VALUE!"},{"$error":"#N/A"},"",{"$f":"IFERROR(VLOOKUP(S4738,Journal!$R:$AV,32,FALSE),\"\")","v":""},null,null,null,null,{"$f":"IFERROR(VLOOKUP(AA4738, 'Daily Snapshot'!$B:$J,7,FALSE),\"\")","v":""},null,null,null,null,4735,{"$f":"IFERROR(VLOOKUP(AH4738,Journal!$R:$S,2,FALSE),\"\")","v":""},0,0]
[null,null,null,null,null,null,null,null,null,null,null,null,null,null,null,null,null,null,4722,{"$f":"IFERROR(VLOOKUP(S4745,Journal!$R:$AQ,26,FALSE),\"\")","v":""},{"$error":"#VALUE!"},{"$error":"#N/A"},"",{"$f":"IFERROR(VLOOKUP(S4745,Journal!$R:$AV,32,FALSE),\"\")","v":""},null,null,null,null,{"$f":"IFERROR(VLOOKUP(AA4745, 'Daily Snapshot'!$B:$J,7,FALSE),\"\")","v":""},null,null,null,null,4742,{"$f":"IFERROR(VLOOKUP(AH4745,Journal!$R:$S,2,FALSE),\"\")","v":""},0,0]
[null,null,null,null,null,null,null,null,null,null,null,null,null,null,null,null,null,null,4734,{"$f":"IFERROR(VLOOKUP(S4757,Journal!$R:$AQ,26,FALSE),\"\")","v":""},{"$error":"#VALUE!"},{"$error":"#N/A"},"",{"$f":"IFERROR(VLOOKUP(S4757,Journal!$R:$AV,32,FALSE),\"\")","v":""},null,null,null,null,{"$f":"IFERROR(VLOOKUP(AA4757, 'Daily Snapshot'!$B:$J,7,FALSE),\"\")","v":""},null,null,null,null,4754,{"$f":"IFERROR(VLOOKUP(AH4757,Journal!$R:$S,2,FALSE),\"\")","v":""},0,0]
[null,null,null,null,null,null,null,null,null,null,null,null,null,null,null,null,null,null,4737,{"$f":"IFERROR(VLOOKUP(S4760,Journal!$R:$AQ,26,FALSE),\"\")","v":""},{"$error":"#VALUE!"},{"$error":"#N/A"},"",{"$f":"IFERROR(VLOOKUP(S4760,Journal!$R:$AV,32,FALSE),\"\")","v":""},null,null,null,null,{"$f":"IFERROR(VLOOKUP(AA4760, 'Daily Snapshot'!$B:$J,7,FALSE),\"\")","v":""},null,null,null,null,4757,{"$f":"IFERROR(VLOOKUP(AH4760,Journal!$R:$S,2,FALSE),\"\")","v":""},0,0]
[null,null,null,null,null,null,null,null,null,null,null,null,null,null,null,null,null,null,4750,{"$f":"IFERROR(VLOOKUP(S4773,Journal!$R:$AQ,26,FALSE),\"\")","v":""},{"$error":"#VALUE!"},{"$error":"#N/A"},"",{"$f":"IFERROR(VLOOKUP(S4773,Journal!$R:$AV,32,FALSE),\"\")","v":""},null,null,null,null,{"$f":"IFERROR(VLOOKUP(AA4773, 'Daily Snapshot'!$B:$J,7,FALSE),\"\")","v":""},null,null,null,null,4770,{"$f":"IFERROR(VLOOKUP(AH4773,Journal!$R:$S,2,FALSE),\"\")","v":""},0,0]
[null,null,null,null,null,null,null,null,null,null,null,null,null,null,null,null,null,null,4755,{"$f":"IFERROR(VLOOKUP(S4778,Journal!$R:$AQ,26,FALSE),\"\")","v":""},{"$error":"#VALUE!"},{"$error":"#N/A"},"",{"$f":"IFERROR(VLOOKUP(S4778,Journal!$R:$AV,32,FALSE),\"\")","v":""},null,null,null,null,{"$f":"IFERROR(VLOOKUP(AA4778, 'Daily Snapshot'!$B:$J,7,FALSE),\"\")","v":""},null,null,null,null,4775,{"$f":"IFERROR(VLOOKUP(AH4778,Journal!$R:$S,2,FALSE),\"\")","v":""},0,0]
[null,null,null,null,null,null,null,null,null,null,null,null,null,null,null,null,null,null,4762,{"$f":"IFERROR(VLOOKUP(S4785,Journal!$R:$AQ,26,FALSE),\"\")","v":""},{"$error":"#VALUE!"},{"$error":"#N/A"},"",{"$f":"IFERROR(VLOOKUP(S4785,Journal!$R:$AV,32,FALSE),\"\")","v":""},null,null,null,null,{"$f":"IFERROR(VLOOKUP(AA4785, 'Daily Snapshot'!$B:$J,7,FALSE),\"\")","v":""},null,null,null,null,4782,{"$f":"IFERROR(VLOOKUP(AH4785,Journal!$R:$S,2,FALSE),\"\")","v":""},0,0]
[null,null,null,null,null,null,null,null,null,null,null,null,null,null,null,null,null,null,4774,{"$f":"IFERROR(VLOOKUP(S4797,Journal!$R:$AQ,26,FALSE),\"\")","v":""},{"$error":"#VALUE!"},{"$error":"#N/A"},"",{"$f":"IFERROR(VLOOKUP(S4797,Journal!$R:$AV,32,FALSE),\"\")","v":""},null,null,null,null,{"$f":"IFERROR(VLOOKUP(AA4797, 'Daily Snapshot'!$B:$J,7,FALSE),\"\")","v":""},null,null,null,null,4794,{"$f":"IFERROR(VLOOKUP(AH4797,Journal!$R:$S,2,FALSE),\"\")","v":""},0,0]
[null,null,null,null,null,null,null,null,null,null,null,null,null,null,null,null,null,null,4786,{"$f":"IFERROR(VLOOKUP(S4809,Journal!$R:$AQ,26,FALSE),\"\")","v":""},{"$error":"#VALUE!"},{"$error":"#N/A"},"",{"$f":"IFERROR(VLOOKUP(S4809,Journal!$R:$AV,32,FALSE),\"\")","v":""},null,null,null,null,{"$f":"IFERROR(VLOOKUP(AA4809, 'Daily Snapshot'!$B:$J,7,FALSE),\"\")","v":""},null,null,null,null,4806,{"$f":"IFERROR(VLOOKUP(AH4809,Journal!$R:$S,2,FALSE),\"\")","v":""},0,0]
[null,null,null,null,null,null,null,null,null,null,null,null,null,null,null,null,null,null,4791,{"$f":"IFERROR(VLOOKUP(S4814,Journal!$R:$AQ,26,FALSE),\"\")","v":""},{"$error":"#VALUE!"},{"$error":"#N/A"},"",{"$f":"IFERROR(VLOOKUP(S4814,Journal!$R:$AV,32,FALSE),\"\")","v":""},null,null,null,null,{"$f":"IFERROR(VLOOKUP(AA4814, 'Daily Snapshot'!$B:$J,7,FALSE),\"\")","v":""},null,null,null,null,4811,{"$f":"IFERROR(VLOOKUP(AH4814,Journal!$R:$S,2,FALSE),\"\")","v":""},0,0]
[null,null,null,null,null,null,null,null,null,null,null,null,null,null,null,null,null,null,4804,{"$f":"IFERROR(VLOOKUP(S4827,Journal!$R:$AQ,26,FALSE),\"\")","v":""},{"$error":"#VALUE!"},{"$error":"#N/A"},"",{"$f":"IFERROR(VLOOKUP(S4827,Journal!$R:$AV,32,FALSE),\"\")","v":""},null,null,null,null,{"$f":"IFERROR(VLOOKUP(AA4827, 'Daily Snapshot'!$B:$J,7,FALSE),\"\")","v":""},null,null,null,null,4824,{"$f":"IFERROR(VLOOKUP(AH4827,Journal!$R:$S,2,FALSE),\"\")","v":""},0,0]
[null,null,null,null,null,null,null,null,null,null,null,null,null,null,null,null,null,null,4807,{"$f":"IFERROR(VLOOKUP(S4830,Journal!$R:$AQ,26,FALSE),\"\")","v":""},{"$error":"#VALUE!"},{"$error":"#N/A"},"",{"$f":"IFERROR(VLOOKUP(S4830,Journal!$R:$AV,32,FALSE),\"\")","v":""},null,null,null,null,{"$f":"IFERROR(VLOOKUP(AA4830, 'Daily Snapshot'!$B:$J,7,FALSE),\"\")","v":""},null,null,null,null,4827,{"$f":"IFERROR(VLOOKUP(AH4830,Journal!$R:$S,2,FALSE),\"\")","v":""},0,0]
[null,null,null,null,null,null,null,null,null,null,null,null,null,null,null,null,null,null,4814,{"$f":"IFERROR(VLOOKUP(S4837,Journal!$R:$AQ,26,FALSE),\"\")","v":""},{"$error":"#VALUE!"},{"$error":"#N/A"},"",{"$f":"IFERROR(VLOOKUP(S4837,Journal!$R:$AV,32,FALSE),\"\")","v":""},null,null,null,null,{"$f":"IFERROR(VLOOKUP(AA4837, 'Daily Snapshot'!$B:$J,7,FALSE),\"\")","v":""},null,null,null,null,4834,{"$f":"IFERROR(VLOOKUP(AH4837,Journal!$R:$S,2,FALSE),\"\")","v":""},0,0]
[null,null,null,null,null,null,null,null,null,null,null,null,null,null,null,null,null,null,4826,{"$f":"IFERROR(VLOOKUP(S4849,Journal!$R:$AQ,26,FALSE),\"\")","v":""},{"$error":"#VALUE!"},{"$error":"#N/A"},"",{"$f":"IFERROR(VLOOKUP(S4849,Journal!$R:$AV,32,FALSE),\"\")","v":""},null,null,null,null,{"$f":"IFERROR(VLOOKUP(AA4849, 'Daily Snapshot'!$B:$J,7,FALSE),\"\")","v":""},null,null,null,null,4846,{"$f":"IFERROR(VLOOKUP(AH4849,Journal!$R:$S,2,FALSE),\"\")","v":""},0,0]
[null,null,null,null,null,null,null,null,null,null,null,null,null,null,null,null,null,null,4832,{"$f":"IFERROR(VLOOKUP(S4855,Journal!$R:$AQ,26,FALSE),\"\")","v":""},{"$error":"#VALUE!"},{"$error":"#N/A"},"",{"$f":"IFERROR(VLOOKUP(S4855,Journal!$R:$AV,32,FALSE),\"\")","v":""},null,null,null,null,{"$f":"IFERROR(VLOOKUP(AA4855, 'Daily Snapshot'!$B:$J,7,FALSE),\"\")","v":""},null,null,null,null,4852,{"$f":"IFERROR(VLOOKUP(AH4855,Journal!$R:$S,2,FALSE),\"\")","v":""},0,0]
[null,null,null,null,null,null,null,null,null,null,null,null,null,null,null,null,null,null,4844,{"$f":"IFERROR(VLOOKUP(S4867,Journal!$R:$AQ,26,FALSE),\"\")","v":""},{"$error":"#VALUE!"},{"$error":"#N/A"},"",{"$f":"IFERROR(VLOOKUP(S4867,Journal!$R:$AV,32,FALSE),\"\")","v":""},null,null,null,null,{"$f":"IFERROR(VLOOKUP(AA4867, 'Daily Snapshot'!$B:$J,7,FALSE),\"\")","v":""},null,null,null,null,4864,{"$f":"IFERROR(VLOOKUP(AH4867,Journal!$R:$S,2,FALSE),\"\")","v":""},0,0]
[null,null,null,null,null,null,null,null,null,null,null,null,null,null,null,null,null,null,4856,{"$f":"IFERROR(VLOOKUP(S4879,Journal!$R:$AQ,26,FALSE),\"\")","v":""},{"$error":"#VALUE!"},{"$error":"#N/A"},"",{"$f":"IFERROR(VLOOKUP(S4879,Journal!$R:$AV,32,FALSE),\"\")","v":""},null,null,null,null,{"$f":"IFERROR(VLOOKUP(AA4879, 'Daily Snapshot'!$B:$J,7,FALSE),\"\")","v":""},null,null,null,null,4876,{"$f":"IFERROR(VLOOKUP(AH4879,Journal!$R:$S,2,FALSE),\"\")","v":""},0,0]
[null,null,null,null,null,null,null,null,null,null,null,null,null,null,null,null,null,null,4863,{"$f":"IFERROR(VLOOKUP(S4886,Journal!$R:$AQ,26,FALSE),\"\")","v":""},{"$error":"#VALUE!"},{"$error":"#N/A"},"",{"$f":"IFERROR(VLOOKUP(S4886,Journal!$R:$AV,32,FALSE),\"\")","v":""},null,null,null,null,{"$f":"IFERROR(VLOOKUP(AA4886, 'Daily Snapshot'!$B:$J,7,FALSE),\"\")","v":""},null,null,null,null,4883,{"$f":"IFERROR(VLOOKUP(AH4886,Journal!$R:$S,2,FALSE),\"\")","v":""},0,0]
[null,null,null,null,null,null,null,null,null,null,null,null,null,null,null,null,null,null,4875,{"$f":"IFERROR(VLOOKUP(S4898,Journal!$R:$AQ,26,FALSE),\"\")","v":""},{"$error":"#VALUE!"},{"$error":"#N/A"},"",{"$f":"IFERROR(VLOOKUP(S4898,Journal!$R:$AV,32,FALSE),\"\")","v":""},null,null,null,null,{"$f":"IFERROR(VLOOKUP(AA4898, 'Daily Snapshot'!$B:$J,7,FALSE),\"\")","v":""},null,null,null,null,4895,{"$f":"IFERROR(VLOOKUP(AH4898,Journal!$R:$S,2,FALSE),\"\")","v":""},0,0]
[null,null,null,null,null,null,null,null,null,null,null,null,null,null,null,null,null,null,4876,{"$f":"IFERROR(VLOOKUP(S4899,Journal!$R:$AQ,26,FALSE),\"\")","v":""},{"$error":"#VALUE!"},{"$error":"#N/A"},"",{"$f":"IFERROR(VLOOKUP(S4899,Journal!$R:$AV,32,FALSE),\"\")","v":""},null,null,null,null,{"$f":"IFERROR(VLOOKUP(AA4899, 'Daily Snapshot'!$B:$J,7,FALSE),\"\")","v":""},null,null,null,null,4896,{"$f":"IFERROR(VLOOKUP(AH4899,Journal!$R:$S,2,FALSE),\"\")","v":""},0,0]
[null,null,null,null,null,null,null,null,null,null,null,null,null,null,null,null,null,null,4877,{"$f":"IFERROR(VLOOKUP(S4900,Journal!$R:$AQ,26,FALSE),\"\")","v":""},{"$error":"#VALUE!"},{"$error":"#N/A"},"",{"$f":"IFERROR(VLOOKUP(S4900,Journal!$R:$AV,32,FALSE),\"\")","v":""},null,null,null,null,{"$f":"IFERROR(VLOOKUP(AA4900, 'Daily Snapshot'!$B:$J,7,FALSE),\"\")","v":""},null,null,null,null,4897,{"$f":"IFERROR(VLOOKUP(AH4900,Journal!$R:$S,2,FALSE),\"\")","v":""},0,0]
[null,null,null,null,null,null,null,null,null,null,null,null,null,null,null,null,null,null,4878,{"$f":"IFERROR(VLOOKUP(S4901,Journal!$R:$AQ,26,FALSE),\"\")","v":""},{"$error":"#VALUE!"},{"$error":"#N/A"},"",{"$f":"IFERROR(VLOOKUP(S4901,Journal!$R:$AV,32,FALSE),\"\")","v":""},null,null,null,null,{"$f":"IFERROR(VLOOKUP(AA4901, 'Daily Snapshot'!$B:$J,7,FALSE),\"\")","v":""},null,null,null,null,4898,{"$f":"IFERROR(VLOOKUP(AH4901,Journal!$R:$S,2,FALSE),\"\")","v":""},0,0]
[null,null,null,null,null,null,null,null,null,null,null,null,null,null,null,null,null,null,4879,{"$f":"IFERROR(VLOOKUP(S4902,Journal!$R:$AQ,26,FALSE),\"\")","v":""},{"$error":"#VALUE!"},{"$error":"#N/A"},"",{"$f":"IFERROR(VLOOKUP(S4902,Journal!$R:$AV,32,FALSE),\"\")","v":""},null,null,null,null,{"$f":"IFERROR(VLOOKUP(AA4902, 'Daily Snapshot'!$B:$J,7,FALSE),\"\")","v":""},null,null,null,null,4899,{"$f":"IFERROR(VLOOKUP(AH4902,Journal!$R:$S,2,FALSE),\"\")","v":""},0,0]
[null,null,null,null,null,null,null,null,null,null,null,null,null,null,null,null,null,null,4880,{"$f":"IFERROR(VLOOKUP(S4903,Journal!$R:$AQ,26,FALSE),\"\")","v":""},{"$error":"#VALUE!"},{"$error":"#N/A"},"",{"$f":"IFERROR(VLOOKUP(S4903,Journal!$R:$AV,32,FALSE),\"\")","v":""},null,null,null,null,{"$f":"IFERROR(VLOOKUP(AA4903, 'Daily Snapshot'!$B:$J,7,FALSE),\"\")","v":""},null,null,null,null,4900,{"$f":"IFERROR(VLOOKUP(AH4903,Journal!$R:$S,2,FALSE),\"\")","v":""},0,0]
[null,null,null,null,null,null,null,null,null,null,null,null,null,null,null,null,null,null,4881,{"$f":"IFERROR(VLOOKUP(S4904,Journal!$R:$AQ,26,FALSE),\"\")","v":""},{"$error":"#VALUE!"},{"$error":"#N/A"},"",{"$f":"IFERROR(VLOOKUP(S4904,Journal!$R:$AV,32,FALSE),\"\")","v":""},null,null,null,null,{"$f":"IFERROR(VLOOKUP(AA4904, 'Daily Snapshot'!$B:$J,7,FALSE),\"\")","v":""},null,null,null,null,4901,{"$f":"IFERROR(VLOOKUP(AH4904,Journal!$R:$S,2,FALSE),\"\")","v":""},0,0]
[null,null,null,null,null,null,null,null,null,null,null,null,null,null,null,null,null,null,4882,{"$f":"IFERROR(VLOOKUP(S4905,Journal!$R:$AQ,26,FALSE),\"\")","v":""},{"$error":"#VALUE!"},{"$error":"#N/A"},"",{"$f":"IFERROR(VLOOKUP(S4905,Journal!$R:$AV,32,FALSE),\"\")","v":""},null,null,null,null,{"$f":"IFERROR(VLOOKUP(AA4905, 'Daily Snapshot'!$B:$J,7,FALSE),\"\")","v":""},null,null,null,null,4902,{"$f":"IFERROR(VLOOKUP(AH4905,Journal!$R:$S,2,FALSE),\"\")","v":""},0,0]
[null,null,null,null,null,null,null,null,null,null,null,null,null,null,null,null,null,null,4883,{"$f":"IFERROR(VLOOKUP(S4906,Journal!$R:$AQ,26,FALSE),\"\")","v":""},{"$error":"#VALUE!"},{"$error":"#N/A"},"",{"$f":"IFERROR(VLOOKUP(S4906,Journal!$R:$AV,32,FALSE),\"\")","v":""},null,null,null,null,{"$f":"IFERROR(VLOOKUP(AA4906, 'Daily Snapshot'!$B:$J,7,FALSE),\"\")","v":""},null,null,null,null,4903,{"$f":"IFERROR(VLOOKUP(AH4906,Journal!$R:$S,2,FALSE),\"\")","v":""},0,0]
[null,null,null,null,null,null,null,null,null,null,null,null,null,null,null,null,null,null,4884,{"$f":"IFERROR(VLOOKUP(S4907,Journal!$R:$AQ,26,FALSE),\"\")","v":""},{"$error":"#VALUE!"},{"$error":"#N/A"},"",{"$f":"IFERROR(VLOOKUP(S4907,Journal!$R:$AV,32,FALSE),\"\")","v":""},null,null,null,null,{"$f":"IFERROR(VLOOKUP(AA4907, 'Daily Snapshot'!$B:$J,7,FALSE),\"\")","v":""},null,null,null,null,4904,{"$f":"IFERROR(VLOOKUP(AH4907,Journal!$R:$S,2,FALSE),\"\")","v":""},0,0]
[null,null,null,null,null,null,null,null,null,null,null,null,null,null,null,null,null,null,4885,{"$f":"IFERROR(VLOOKUP(S4908,Journal!$R:$AQ,26,FALSE),\"\")","v":""},{"$error":"#VALUE!"},{"$error":"#N/A"},"",{"$f":"IFERROR(VLOOKUP(S4908,Journal!$R:$AV,32,FALSE),\"\")","v":""},null,null,null,null,{"$f":"IFERROR(VLOOKUP(AA4908, 'Daily Snapshot'!$B:$J,7,FALSE),\"\")","v":""},null,null,null,null,4905,{"$f":"IFERROR(VLOOKUP(AH4908,Journal!$R:$S,2,FALSE),\"\")","v":""},0,0]
[null,null,null,null,null,null,null,null,null,null,null,null,null,null,null,null,null,null,4886,{"$f":"IFERROR(VLOOKUP(S4909,Journal!$R:$AQ,26,FALSE),\"\")","v":""},{"$error":"#VALUE!"},{"$error":"#N/A"},"",{"$f":"IFERROR(VLOOKUP(S4909,Journal!$R:$AV,32,FALSE),\"\")","v":""},null,null,null,null,{"$f":"IFERROR(VLOOKUP(AA4909, 'Daily Snapshot'!$B:$J,7,FALSE),\"\")","v":""},null,null,null,null,4906,{"$f":"IFERROR(VLOOKUP(AH4909,Journal!$R:$S,2,FALSE),\"\")","v":""},0,0]
[null,null,null,null,null,null,null,null,null,null,null,null,null,null,null,null,null,null,4887,{"$f":"IFERROR(VLOOKUP(S4910,Journal!$R:$AQ,26,FALSE),\"\")","v":""},{"$error":"#VALUE!"},{"$error":"#N/A"},"",{"$f":"IFERROR(VLOOKUP(S4910,Journal!$R:$AV,32,FALSE),\"\")","v":""},null,null,null,null,{"$f":"IFERROR(VLOOKUP(AA4910, 'Daily Snapshot'!$B:$J,7,FALSE),\"\")","v":""},null,null,null,null,4907,{"$f":"IFERROR(VLOOKUP(AH4910,Journal!$R:$S,2,FALSE),\"\")","v":""},0,0]
[null,null,null,null,null,null,null,null,null,null,null,null,null,null,null,null,null,null,4888,{"$f":"IFERROR(VLOOKUP(S4911,Journal!$R:$AQ,26,FALSE),\"\")","v":""},{"$error":"#VALUE!"},{"$error":"#N/A"},"",{"$f":"IFERROR(VLOOKUP(S4911,Journal!$R:$AV,32,FALSE),\"\")","v":""},null,null,null,null,{"$f":"IFERROR(VLOOKUP(AA4911, 'Daily Snapshot'!$B:$J,7,FALSE),\"\")","v":""},null,null,null,null,4908,{"$f":"IFERROR(VLOOKUP(AH4911,Journal!$R:$S,2,FALSE),\"\")","v":""},0,0]
[null,null,null,null,null,null,null,null,null,null,null,null,null,null,null,null,null,null,4889,{"$f":"IFERROR(VLOOKUP(S4912,Journal!$R:$AQ,26,FALSE),\"\")","v":""},{"$error":"#VALUE!"},{"$error":"#N/A"},"",{"$f":"IFERROR(VLOOKUP(S4912,Journal!$R:$AV,32,FALSE),\"\")","v":""},null,null,null,null,{"$f":"IFERROR(VLOOKUP(AA4912, 'Daily Snapshot'!$B:$J,7,FALSE),\"\")","v":""},null,null,null,null,4909,{"$f":"IFERROR(VLOOKUP(AH4912,Journal!$R:$S,2,FALSE),\"\")","v":""},0,0]
[null,null,null,null,null,null,null,null,null,null,null,null,null,null,null,null,null,null,4890,{"$f":"IFERROR(VLOOKUP(S4913,Journal!$R:$AQ,26,FALSE),\"\")","v":""},{"$error":"#VALUE!"},{"$error":"#N/A"},"",{"$f":"IFERROR(VLOOKUP(S4913,Journal!$R:$AV,32,FALSE),\"\")","v":""},null,null,null,null,{"$f":"IFERROR(VLOOKUP(AA4913, 'Daily Snapshot'!$B:$J,7,FALSE),\"\")","v":""},null,null,null,null,4910,{"$f":"IFERROR(VLOOKUP(AH4913,Journal!$R:$S,2,FALSE),\"\")","v":""},0,0]
[null,null,null,null,null,null,null,null,null,null,null,null,null,null,null,null,null,null,4891,{"$f":"IFERROR(VLOOKUP(S4914,Journal!$R:$AQ,26,FALSE),\"\")","v":""},{"$error":"#VALUE!"},{"$error":"#N/A"},"",{"$f":"IFERROR(VLOOKUP(S4914,Journal!$R:$AV,32,FALSE),\"\")","v":""},null,null,null,null,{"$f":"IFERROR(VLOOKUP(AA4914, 'Daily Snapshot'!$B:$J,7,FALSE),\"\")","v":""},null,null,null,null,4911,{"$f":"IFERROR(VLOOKUP(AH4914,Journal!$R:$S,2,FALSE),\"\")","v":""},0,0]
[null,null,null,null,null,null,null,null,null,null,null,null,null,null,null,null,null,null,4892,{"$f":"IFERROR(VLOOKUP(S4915,Journal!$R:$AQ,26,FALSE),\"\")","v":""},{"$error":"#VALUE!"},{"$error":"#N/A"},"",{"$f":"IFERROR(VLOOKUP(S4915,Journal!$R:$AV,32,FALSE),\"\")","v":""},null,null,null,null,{"$f":"IFERROR(VLOOKUP(AA4915, 'Daily Snapshot'!$B:$J,7,FALSE),\"\")","v":""},null,null,null,null,4912,{"$f":"IFERROR(VLOOKUP(AH4915,Journal!$R:$S,2,FALSE),\"\")","v":""},0,0]
[null,null,null,null,null,null,null,null,null,null,null,null,null,null,null,null,null,null,4893,{"$f":"IFERROR(VLOOKUP(S4916,Journal!$R:$AQ,26,FALSE),\"\")","v":""},{"$error":"#VALUE!"},{"$error":"#N/A"},"",{"$f":"IFERROR(VLOOKUP(S4916,Journal!$R:$AV,32,FALSE),\"\")","v":""},null,null,null,null,{"$f":"IFERROR(VLOOKUP(AA4916, 'Daily Snapshot'!$B:$J,7,FALSE),\"\")","v":""},null,null,null,null,4913,{"$f":"IFERROR(VLOOKUP(AH4916,Journal!$R:$S,2,FALSE),\"\")","v":""},0,0]
[null,null,null,null,null,null,null,null,null,null,null,null,null,null,null,null,null,null,4894,{"$f":"IFERROR(VLOOKUP(S4917,Journal!$R:$AQ,26,FALSE),\"\")","v":""},{"$error":"#VALUE!"},{"$error":"#N/A"},"",{"$f":"IFERROR(VLOOKUP(S4917,Journal!$R:$AV,32,FALSE),\"\")","v":""},null,null,null,null,{"$f":"IFERROR(VLOOKUP(AA4917, 'Daily Snapshot'!$B:$J,7,FALSE),\"\")","v":""},null,null,null,null,4914,{"$f":"IFERROR(VLOOKUP(AH4917,Journal!$R:$S,2,FALSE),\"\")","v":""},0,0]
[null,null,null,null,null,null,null,null,null,null,null,null,null,null,null,null,null,null,4895,{"$f":"IFERROR(VLOOKUP(S4918,Journal!$R:$AQ,26,FALSE),\"\")","v":""},{"$error":"#VALUE!"},{"$error":"#N/A"},"",{"$f":"IFERROR(VLOOKUP(S4918,Journal!$R:$AV,32,FALSE),\"\")","v":""},null,null,null,null,{"$f":"IFERROR(VLOOKUP(AA4918, 'Daily Snapshot'!$B:$J,7,FALSE),\"\")","v":""},null,null,null,null,4915,{"$f":"IFERROR(VLOOKUP(AH4918,Journal!$R:$S,2,FALSE),\"\")","v":""},0,0]
[null,null,null,null,null,null,null,null,null,null,null,null,null,null,null,null,null,null,4896,{"$f":"IFERROR(VLOOKUP(S4919,Journal!$R:$AQ,26,FALSE),\"\")","v":""},{"$error":"#VALUE!"},{"$error":"#N/A"},"",{"$f":"IFERROR(VLOOKUP(S4919,Journal!$R:$AV,32,FALSE),\"\")","v":""},null,null,null,null,{"$f":"IFERROR(VLOOKUP(AA4919, 'Daily Snapshot'!$B:$J,7,FALSE),\"\")","v":""},null,null,null,null,4916,{"$f":"IFERROR(VLOOKUP(AH4919,Journal!$R:$S,2,FALSE),\"\")","v":""},0,0]
[null,null,null,null,null,null,null,null,null,null,null,null,null,null,null,null,null,null,4897,{"$f":"IFERROR(VLOOKUP(S4920,Journal!$R:$AQ,26,FALSE),\"\")","v":""},{"$error":"#VALUE!"},{"$error":"#N/A"},"",{"$f":"IFERROR(VLOOKUP(S4920,Journal!$R:$AV,32,FALSE),\"\")","v":""},null,null,null,null,{"$f":"IFERROR(VLOOKUP(AA4920, 'Daily Snapshot'!$B:$J,7,FALSE),\"\")","v":""},null,null,null,null,4917,{"$f":"IFERROR(VLOOKUP(AH4920,Journal!$R:$S,2,FALSE),\"\")","v":""},0,0]
[null,null,null,null,null,null,null,null,null,null,null,null,null,null,null,null,null,null,4898,{"$f":"IFERROR(VLOOKUP(S4921,Journal!$R:$AQ,26,FALSE),\"\")","v":""},{"$error":"#VALUE!"},{"$error":"#N/A"},"",{"$f":"IFERROR(VLOOKUP(S4921,Journal!$R:$AV,32,FALSE),\"\")","v":""},null,null,null,null,{"$f":"IFERROR(VLOOKUP(AA4921, 'Daily Snapshot'!$B:$J,7,FALSE),\"\")","v":""},null,null,null,null,4918,{"$f":"IFERROR(VLOOKUP(AH4921,Journal!$R:$S,2,FALSE),\"\")","v":""},0,0]
[null,null,null,null,null,null,null,null,null,null,null,null,null,null,null,null,null,null,4899,{"$f":"IFERROR(VLOOKUP(S4922,Journal!$R:$AQ,26,FALSE),\"\")","v":""},{"$error":"#VALUE!"},{"$error":"#N/A"},"",{"$f":"IFERROR(VLOOKUP(S4922,Journal!$R:$AV,32,FALSE),\"\")","v":""},null,null,null,null,{"$f":"IFERROR(VLOOKUP(AA4922, 'Daily Snapshot'!$B:$J,7,FALSE),\"\")","v":""},null,null,null,null,4919,{"$f":"IFERROR(VLOOKUP(AH4922,Journal!$R:$S,2,FALSE),\"\")","v":""},0,0]
[null,null,null,null,null,null,null,null,null,null,null,null,null,null,null,null,null,null,4900,{"$f":"IFERROR(VLOOKUP(S4923,Journal!$R:$AQ,26,FALSE),\"\")","v":""},{"$error":"#VALUE!"},{"$error":"#N/A"},"",{"$f":"IFERROR(VLOOKUP(S4923,Journal!$R:$AV,32,FALSE),\"\")","v":""},null,null,null,null,{"$f":"IFERROR(VLOOKUP(AA4923, 'Daily Snapshot'!$B:$J,7,FALSE),\"\")","v":""},null,null,null,null,4920,{"$f":"IFERROR(VLOOKUP(AH4923,Journal!$R:$S,2,FALSE),\"\")","v":""},0,0]
[null,null,null,null,null,null,null,null,null,null,null,null,null,null,null,null,null,null,4901,{"$f":"IFERROR(VLOOKUP(S4924,Journal!$R:$AQ,26,FALSE),\"\")","v":""},{"$error":"#VALUE!"},{"$error":"#N/A"},"",{"$f":"IFERROR(VLOOKUP(S4924,Journal!$R:$AV,32,FALSE),\"\")","v":""},null,null,null,null,{"$f":"IFERROR(VLOOKUP(AA4924, 'Daily Snapshot'!$B:$J,7,FALSE),\"\")","v":""},null,null,null,null,4921,{"$f":"IFERROR(VLOOKUP(AH4924,Journal!$R:$S,2,FALSE),\"\")","v":""},0,0]
[null,null,null,null,null,null,null,null,null,null,null,null,null,null,null,null,null,null,4902,{"$f":"IFERROR(VLOOKUP(S4925,Journal!$R:$AQ,26,FALSE),\"\")","v":""},{"$error":"#VALUE!"},{"$error":"#N/A"},"",{"$f":"IFERROR(VLOOKUP(S4925,Journal!$R:$AV,32,FALSE),\"\")","v":""},null,null,null,null,{"$f":"IFERROR(VLOOKUP(AA4925, 'Daily Snapshot'!$B:$J,7,FALSE),\"\")","v":""},null,null,null,null,4922,{"$f":"IFERROR(VLOOKUP(AH4925,Journal!$R:$S,2,FALSE),\"\")","v":""},0,0]
[null,null,null,null,null,null,null,null,null,null,null,null,null,null,null,null,null,null,4903,{"$f":"IFERROR(VLOOKUP(S4926,Journal!$R:$AQ,26,FALSE),\"\")","v":""},{"$error":"#VALUE!"},{"$error":"#N/A"},"",{"$f":"IFERROR(VLOOKUP(S4926,Journal!$R:$AV,32,FALSE),\"\")","v":""},null,null,null,null,{"$f":"IFERROR(VLOOKUP(AA4926, 'Daily Snapshot'!$B:$J,7,FALSE),\"\")","v":""},null,null,null,null,4923,{"$f":"IFERROR(VLOOKUP(AH4926,Journal!$R:$S,2,FALSE),\"\")","v":""},0,0]
[null,null,null,null,null,null,null,null,null,null,null,null,null,null,null,null,null,null,4904,{"$f":"IFERROR(VLOOKUP(S4927,Journal!$R:$AQ,26,FALSE),\"\")","v":""},{"$error":"#VALUE!"},{"$error":"#N/A"},"",{"$f":"IFERROR(VLOOKUP(S4927,Journal!$R:$AV,32,FALSE),\"\")","v":""},null,null,null,null,{"$f":"IFERROR(VLOOKUP(AA4927, 'Daily Snapshot'!$B:$J,7,FALSE),\"\")","v":""},null,null,null,null,4924,{"$f":"IFERROR(VLOOKUP(AH4927,Journal!$R:$S,2,FALSE),\"\")","v":""},0,0]
[null,null,null,null,null,null,null,null,null,null,null,null,null,null,null,null,null,null,4905,{"$f":"IFERROR(VLOOKUP(S4928,Journal!$R:$AQ,26,FALSE),\"\")","v":""},{"$error":"#VALUE!"},{"$error":"#N/A"},"",{"$f":"IFERROR(VLOOKUP(S4928,Journal!$R:$AV,32,FALSE),\"\")","v":""},null,null,null,null,{"$f":"IFERROR(VLOOKUP(AA4928, 'Daily Snapshot'!$B:$J,7,FALSE),\"\")","v":""},null,null,null,null,4925,{"$f":"IFERROR(VLOOKUP(AH4928,Journal!$R:$S,2,FALSE),\"\")","v":""},0,0]
[null,null,null,null,null,null,null,null,null,null,null,null,null,null,null,null,null,null,4906,{"$f":"IFERROR(VLOOKUP(S4929,Journal!$R:$AQ,26,FALSE),\"\")","v":""},{"$error":"#VALUE!"},{"$error":"#N/A"},"",{"$f":"IFERROR(VLOOKUP(S4929,Journal!$R:$AV,32,FALSE),\"\")","v":""},null,null,null,null,{"$f":"IFERROR(VLOOKUP(AA4929, 'Daily Snapshot'!$B:$J,7,FALSE),\"\")","v":""},null,null,null,null,4926,{"$f":"IFERROR(VLOOKUP(AH4929,Journal!$R:$S,2,FALSE),\"\")","v":""},0,0]
[null,null,null,null,null,null,null,null,null,null,null,null,null,null,null,null,null,null,4907,{"$f":"IFERROR(VLOOKUP(S4930,Journal!$R:$AQ,26,FALSE),\"\")","v":""},{"$error":"#VALUE!"},{"$error":"#N/A"},"",{"$f":"IFERROR(VLOOKUP(S4930,Journal!$R:$AV,32,FALSE),\"\")","v":""},null,null,null,null,{"$f":"IFERROR(VLOOKUP(AA4930, 'Daily Snapshot'!$B:$J,7,FALSE),\"\")","v":""},null,null,null,null,4927,{"$f":"IFERROR(VLOOKUP(AH4930,Journal!$R:$S,2,FALSE),\"\")","v":""},0,0]
[null,null,null,null,null,null,null,null,null,null,null,null,null,null,null,null,null,null,4908,{"$f":"IFERROR(VLOOKUP(S4931,Journal!$R:$AQ,26,FALSE),\"\")","v":""},{"$error":"#VALUE!"},{"$error":"#N/A"},"",{"$f":"IFERROR(VLOOKUP(S4931,Journal!$R:$AV,32,FALSE),\"\")","v":""},null,null,null,null,{"$f":"IFERROR(VLOOKUP(AA4931, 'Daily Snapshot'!$B:$J,7,FALSE),\"\")","v":""},null,null,null,null,4928,{"$f":"IFERROR(VLOOKUP(AH4931,Journal!$R:$S,2,FALSE),\"\")","v":""},0,0]
[null,null,null,null,null,null,null,null,null,null,null,null,null,null,null,null,null,null,4909,{"$f":"IFERROR(VLOOKUP(S4932,Journal!$R:$AQ,26,FALSE),\"\")","v":""},{"$error":"#VALUE!"},{"$error":"#N/A"},"",{"$f":"IFERROR(VLOOKUP(S4932,Journal!$R:$AV,32,FALSE),\"\")","v":""},null,null,null,null,{"$f":"IFERROR(VLOOKUP(AA4932, 'Daily Snapshot'!$B:$J,7,FALSE),\"\")","v":""},null,null,null,null,4929,{"$f":"IFERROR(VLOOKUP(AH4932,Journal!$R:$S,2,FALSE),\"\")","v":""},{"$f":"IF($AI4932=\"W\", 1,0)","v":0},{"$f":"IF($AI4932=\"L\", -1,0)","v":0}]
[null,null,null,null,null,null,null,null,null,null,null,null,null,null,null,null,null,null,4910,{"$f":"IFERROR(VLOOKUP(S4933,Journal!$R:$AQ,26,FALSE),\"\")","v":""},{"$error":"#VALUE!"},{"$error":"#N/A"},"",{"$f":"IFERROR(VLOOKUP(S4933,Journal!$R:$AV,32,FALSE),\"\")","v":""},null,null,null,null,{"$f":"IFERROR(VLOOKUP(AA4933, 'Daily Snapshot'!$B:$J,7,FALSE),\"\")","v":""},null,null,null,null,4930,{"$f":"IFERROR(VLOOKUP(AH4933,Journal!$R:$S,2,FALSE),\"\")","v":""},0,0]
[null,null,null,null,null,null,null,null,null,null,null,null,null,null,null,null,null,null,4911,{"$f":"IFERROR(VLOOKUP(S4934,Journal!$R:$AQ,26,FALSE),\"\")","v":""},{"$error":"#VALUE!"},{"$error":"#N/A"},"",{"$f":"IFERROR(VLOOKUP(S4934,Journal!$R:$AV,32,FALSE),\"\")","v":""},null,null,null,null,{"$f":"IFERROR(VLOOKUP(AA4934, 'Daily Snapshot'!$B:$J,7,FALSE),\"\")","v":""},null,null,null,null,4931,{"$f":"IFERROR(VLOOKUP(AH4934,Journal!$R:$S,2,FALSE),\"\")","v":""},0,0]
[null,null,null,null,null,null,null,null,null,null,null,null,null,null,null,null,null,null,4912,{"$f":"IFERROR(VLOOKUP(S4935,Journal!$R:$AQ,26,FALSE),\"\")","v":""},{"$error":"#VALUE!"},{"$error":"#N/A"},"",{"$f":"IFERROR(VLOOKUP(S4935,Journal!$R:$AV,32,FALSE),\"\")","v":""},null,null,null,null,{"$f":"IFERROR(VLOOKUP(AA4935, 'Daily Snapshot'!$B:$J,7,FALSE),\"\")","v":""},null,null,null,null,4932,{"$f":"IFERROR(VLOOKUP(AH4935,Journal!$R:$S,2,FALSE),\"\")","v":""},0,0]
[null,null,null,null,null,null,null,null,null,null,null,null,null,null,null,null,null,null,4913,{"$f":"IFERROR(VLOOKUP(S4936,Journal!$R:$AQ,26,FALSE),\"\")","v":""},{"$error":"#VALUE!"},{"$error":"#N/A"},"",{"$f":"IFERROR(VLOOKUP(S4936,Journal!$R:$AV,32,FALSE),\"\")","v":""},null,null,null,null,{"$f":"IFERROR(VLOOKUP(AA4936, 'Daily Snapshot'!$B:$J,7,FALSE),\"\")","v":""},null,null,null,null,4933,{"$f":"IFERROR(VLOOKUP(AH4936,Journal!$R:$S,2,FALSE),\"\")","v":""},0,0]
[null,null,null,null,null,null,null,null,null,null,null,null,null,null,null,null,null,null,4914,{"$f":"IFERROR(VLOOKUP(S4937,Journal!$R:$AQ,26,FALSE),\"\")","v":""},{"$error":"#VALUE!"},{"$error":"#N/A"},"",{"$f":"IFERROR(VLOOKUP(S4937,Journal!$R:$AV,32,FALSE),\"\")","v":""},null,null,null,null,{"$f":"IFERROR(VLOOKUP(AA4937, 'Daily Snapshot'!$B:$J,7,FALSE),\"\")","v":""},null,null,null,null,4934,{"$f":"IFERROR(VLOOKUP(AH4937,Journal!$R:$S,2,FALSE),\"\")","v":""},0,0]
[null,null,null,null,null,null,null,null,null,null,null,null,null,null,null,null,null,null,4915,{"$f":"IFERROR(VLOOKUP(S4938,Journal!$R:$AQ,26,FALSE),\"\")","v":""},{"$error":"#VALUE!"},{"$error":"#N/A"},"",{"$f":"IFERROR(VLOOKUP(S4938,Journal!$R:$AV,32,FALSE),\"\")","v":""},null,null,null,null,{"$f":"IFERROR(VLOOKUP(AA4938, 'Daily Snapshot'!$B:$J,7,FALSE),\"\")","v":""},null,null,null,null,4935,{"$f":"IFERROR(VLOOKUP(AH4938,Journal!$R:$S,2,FALSE),\"\")","v":""},0,0]
[null,null,null,null,null,null,null,null,null,null,null,null,null,null,null,null,null,null,4916,{"$f":"IFERROR(VLOOKUP(S4939,Journal!$R:$AQ,26,FALSE),\"\")","v":""},{"$error":"#VALUE!"},{"$error":"#N/A"},"",{"$f":"IFERROR(VLOOKUP(S4939,Journal!$R:$AV,32,FALSE),\"\")","v":""},null,null,null,null,{"$f":"IFERROR(VLOOKUP(AA4939, 'Daily Snapshot'!$B:$J,7,FALSE),\"\")","v":""},null,null,null,null,4936,{"$f":"IFERROR(VLOOKUP(AH4939,Journal!$R:$S,2,FALSE),\"\")","v":""},0,0]
[null,null,null,null,null,null,null,null,null,null,null,null,null,null,null,null,null,null,4917,{"$f":"IFERROR(VLOOKUP(S4940,Journal!$R:$AQ,26,FALSE),\"\")","v":""},{"$error":"#VALUE!"},{"$error":"#N/A"},"",{"$f":"IFERROR(VLOOKUP(S4940,Journal!$R:$AV,32,FALSE),\"\")","v":""},null,null,null,null,{"$f":"IFERROR(VLOOKUP(AA4940, 'Daily Snapshot'!$B:$J,7,FALSE),\"\")","v":""},null,null,null,null,4937,{"$f":"IFERROR(VLOOKUP(AH4940,Journal!$R:$S,2,FALSE),\"\")","v":""},0,0]
[null,null,null,null,null,null,null,null,null,null,null,null,null,null,null,null,null,null,4918,{"$f":"IFERROR(VLOOKUP(S4941,Journal!$R:$AQ,26,FALSE),\"\")","v":""},{"$error":"#VALUE!"},{"$error":"#N/A"},"",{"$f":"IFERROR(VLOOKUP(S4941,Journal!$R:$AV,32,FALSE),\"\")","v":""},null,null,null,null,{"$f":"IFERROR(VLOOKUP(AA4941, 'Daily Snapshot'!$B:$J,7,FALSE),\"\")","v":""},null,null,null,null,4938,{"$f":"IFERROR(VLOOKUP(AH4941,Journal!$R:$S,2,FALSE),\"\")","v":""},0,0]
[null,null,null,null,null,null,null,null,null,null,null,null,null,null,null,null,null,null,4919,{"$f":"IFERROR(VLOOKUP(S4942,Journal!$R:$AQ,26,FALSE),\"\")","v":""},{"$error":"#VALUE!"},{"$error":"#N/A"},"",{"$f":"IFERROR(VLOOKUP(S4942,Journal!$R:$AV,32,FALSE),\"\")","v":""},null,null,null,null,{"$f":"IFERROR(VLOOKUP(AA4942, 'Daily Snapshot'!$B:$J,7,FALSE),\"\")","v":""},null,null,null,null,4939,{"$f":"IFERROR(VLOOKUP(AH4942,Journal!$R:$S,2,FALSE),\"\")","v":""},0,0]
[null,null,null,null,null,null,null,null,null,null,null,null,null,null,null,null,null,null,4920,{"$f":"IFERROR(VLOOKUP(S4943,Journal!$R:$AQ,26,FALSE),\"\")","v":""},{"$error":"#VALUE!"},{"$error":"#N/A"},"",{"$f":"IFERROR(VLOOKUP(S4943,Journal!$R:$AV,32,FALSE),\"\")","v":""},null,null,null,null,{"$f":"IFERROR(VLOOKUP(AA4943, 'Daily Snapshot'!$B:$J,7,FALSE),\"\")","v":""},null,null,null,null,4940,{"$f":"IFERROR(VLOOKUP(AH4943,Journal!$R:$S,2,FALSE),\"\")","v":""},0,0]
[null,null,null,null,null,null,null,null,null,null,null,null,null,null,null,null,null,null,4921,{"$f":"IFERROR(VLOOKUP(S4944,Journal!$R:$AQ,26,FALSE),\"\")","v":""},{"$error":"#VALUE!"},{"$error":"#N/A"},"",{"$f":"IFERROR(VLOOKUP(S4944,Journal!$R:$AV,32,FALSE),\"\")","v":""},null,null,null,null,{"$f":"IFERROR(VLOOKUP(AA4944, 'Daily Snapshot'!$B:$J,7,FALSE),\"\")","v":""},null,null,null,null,4941,{"$f":"IFERROR(VLOOKUP(AH4944,Journal!$R:$S,2,FALSE),\"\")","v":""},0,0]
[null,null,null,null,null,null,null,null,null,null,null,null,null,null,null,null,null,null,4922,{"$f":"IFERROR(VLOOKUP(S4945,Journal!$R:$AQ,26,FALSE),\"\")","v":""},{"$error":"#VALUE!"},{"$error":"#N/A"},"",{"$f":"IFERROR(VLOOKUP(S4945,Journal!$R:$AV,32,FALSE),\"\")","v":""},null,null,null,null,{"$f":"IFERROR(VLOOKUP(AA4945, 'Daily Snapshot'!$B:$J,7,FALSE),\"\")","v":""},null,null,null,null,4942,{"$f":"IFERROR(VLOOKUP(AH4945,Journal!$R:$S,2,FALSE),\"\")","v":""},0,0]
[null,null,null,null,null,null,null,null,null,null,null,null,null,null,null,null,null,null,4923,{"$f":"IFERROR(VLOOKUP(S4946,Journal!$R:$AQ,26,FALSE),\"\")","v":""},{"$error":"#VALUE!"},{"$error":"#N/A"},"",{"$f":"IFERROR(VLOOKUP(S4946,Journal!$R:$AV,32,FALSE),\"\")","v":""},null,null,null,null,{"$f":"IFERROR(VLOOKUP(AA4946, 'Daily Snapshot'!$B:$J,7,FALSE),\"\")","v":""},null,null,null,null,4943,{"$f":"IFERROR(VLOOKUP(AH4946,Journal!$R:$S,2,FALSE),\"\")","v":""},0,0]
[null,null,null,null,null,null,null,null,null,null,null,null,null,null,null,null,null,null,4924,{"$f":"IFERROR(VLOOKUP(S4947,Journal!$R:$AQ,26,FALSE),\"\")","v":""},{"$error":"#VALUE!"},{"$error":"#N/A"},"",{"$f":"IFERROR(VLOOKUP(S4947,Journal!$R:$AV,32,FALSE),\"\")","v":""},null,null,null,null,{"$f":"IFERROR(VLOOKUP(AA4947, 'Daily Snapshot'!$B:$J,7,FALSE),\"\")","v":""},null,null,null,null,4944,{"$f":"IFERROR(VLOOKUP(AH4947,Journal!$R:$S,2,FALSE),\"\")","v":""},0,0]
[null,null,null,null,null,null,null,null,null,null,null,null,null,null,null,null,null,null,4925,{"$f":"IFERROR(VLOOKUP(S4948,Journal!$R:$AQ,26,FALSE),\"\")","v":""},{"$error":"#VALUE!"},{"$error":"#N/A"},"",{"$f":"IFERROR(VLOOKUP(S4948,Journal!$R:$AV,32,FALSE),\"\")","v":""},null,null,null,null,{"$f":"IFERROR(VLOOKUP(AA4948, 'Daily Snapshot'!$B:$J,7,FALSE),\"\")","v":""},null,null,null,null,4945,{"$f":"IFERROR(VLOOKUP(AH4948,Journal!$R:$S,2,FALSE),\"\")","v":""},0,0]
[null,null,null,null,null,null,null,null,null,null,null,null,null,null,null,null,null,null,4926,{"$f":"IFERROR(VLOOKUP(S4949,Journal!$R:$AQ,26,FALSE),\"\")","v":""},{"$error":"#VALUE!"},{"$error":"#N/A"},"",{"$f":"IFERROR(VLOOKUP(S4949,Journal!$R:$AV,32,FALSE),\"\")","v":""},null,null,null,null,{"$f":"IFERROR(VLOOKUP(AA4949, 'Daily Snapshot'!$B:$J,7,FALSE),\"\")","v":""},null,null,null,null,4946,{"$f":"IFERROR(VLOOKUP(AH4949,Journal!$R:$S,2,FALSE),\"\")","v":""},0,0]
[null,null,null,null,null,null,null,null,null,null,null,null,null,null,null,null,null,null,4927,{"$f":"IFERROR(VLOOKUP(S4950,Journal!$R:$AQ,26,FALSE),\"\")","v":""},{"$error":"#VALUE!"},{"$error":"#N/A"},"",{"$f":"IFERROR(VLOOKUP(S4950,Journal!$R:$AV,32,FALSE),\"\")","v":""},null,null,null,null,{"$f":"IFERROR(VLOOKUP(AA4950, 'Daily Snapshot'!$B:$J,7,FALSE),\"\")","v":""},null,null,null,null,4947,{"$f":"IFERROR(VLOOKUP(AH4950,Journal!$R:$S,2,FALSE),\"\")","v":""},0,0]
[null,null,null,null,null,null,null,null,null,null,null,null,null,null,null,null,null,null,4928,{"$f":"IFERROR(VLOOKUP(S4951,Journal!$R:$AQ,26,FALSE),\"\")","v":""},{"$error":"#VALUE!"},{"$error":"#N/A"},"",{"$f":"IFERROR(VLOOKUP(S4951,Journal!$R:$AV,32,FALSE),\"\")","v":""},null,null,null,null,{"$f":"IFERROR(VLOOKUP(AA4951, 'Daily Snapshot'!$B:$J,7,FALSE),\"\")","v":""},null,null,null,null,4948,{"$f":"IFERROR(VLOOKUP(AH4951,Journal!$R:$S,2,FALSE),\"\")","v":""},0,0]
[null,null,null,null,null,null,null,null,null,null,null,null,null,null,null,null,null,null,4929,{"$f":"IFERROR(VLOOKUP(S4952,Journal!$R:$AQ,26,FALSE),\"\")","v":""},{"$error":"#VALUE!"},{"$error":"#N/A"},"",{"$f":"IFERROR(VLOOKUP(S4952,Journal!$R:$AV,32,FALSE),\"\")","v":""},null,null,null,null,{"$f":"IFERROR(VLOOKUP(AA4952, 'Daily Snapshot'!$B:$J,7,FALSE),\"\")","v":""},null,null,null,null,4949,{"$f":"IFERROR(VLOOKUP(AH4952,Journal!$R:$S,2,FALSE),\"\")","v":""},0,0]
[null,null,null,null,null,null,null,null,null,null,null,null,null,null,null,null,null,null,4930,{"$f":"IFERROR(VLOOKUP(S4953,Journal!$R:$AQ,26,FALSE),\"\")","v":""},{"$f":"T4953+U4952","v":{"$error":"#VALUE!"}},{"$error":"#N/A"},{"$f":"IFERROR(T4953/$H$25,\"\")","v":""},{"$f":"IFERROR(VLOOKUP(S4953,Journal!$R:$AV,32,FALSE),\"\")","v":""},null,null,null,null,{"$f":"IFERROR(VLOOKUP(AA4953, 'Daily Snapshot'!$B:$J,7,FALSE),\"\")","v":""},null,null,null,null,4950,{"$f":"IFERROR(VLOOKUP(AH4953,Journal!$R:$S,2,FALSE),\"\")","v":""},0,0]
[null,null,null,null,null,null,null,null,null,null,null,null,null,null,null,null,null,null,4931,{"$f":"IFERROR(VLOOKUP(S4954,Journal!$R:$AQ,26,FALSE),\"\")","v":""},{"$error":"#VALUE!"},{"$error":"#N/A"},"",{"$f":"IFERROR(VLOOKUP(S4954,Journal!$R:$AV,32,FALSE),\"\")","v":""},null,null,null,null,{"$f":"IFERROR(VLOOKUP(AA4954, 'Daily Snapshot'!$B:$J,7,FALSE),\"\")","v":""},null,null,null,null,4951,{"$f":"IFERROR(VLOOKUP(AH4954,Journal!$R:$S,2,FALSE),\"\")","v":""},0,0]
[null,null,null,null,null,null,null,null,null,null,null,null,null,null,null,null,null,null,4932,{"$f":"IFERROR(VLOOKUP(S4955,Journal!$R:$AQ,26,FALSE),\"\")","v":""},{"$error":"#VALUE!"},{"$error":"#N/A"},"",{"$f":"IFERROR(VLOOKUP(S4955,Journal!$R:$AV,32,FALSE),\"\")","v":""},null,null,null,null,{"$f":"IFERROR(VLOOKUP(AA4955, 'Daily Snapshot'!$B:$J,7,FALSE),\"\")","v":""},null,null,null,null,4952,{"$f":"IFERROR(VLOOKUP(AH4955,Journal!$R:$S,2,FALSE),\"\")","v":""},0,0]
[null,null,null,null,null,null,null,null,null,null,null,null,null,null,null,null,null,null,4933,{"$f":"IFERROR(VLOOKUP(S4956,Journal!$R:$AQ,26,FALSE),\"\")","v":""},{"$error":"#VALUE!"},{"$f":"IF(OR(T4956=0,T4956<$H$26,T4956>$H$27),NA(),T4956+U4955)","v":{"$error":"#N/A"}},"",{"$f":"IFERROR(VLOOKUP(S4956,Journal!$R:$AV,32,FALSE),\"\")","v":""},null,null,null,null,{"$f":"IFERROR(VLOOKUP(AA4956, 'Daily Snapshot'!$B:$J,7,FALSE),\"\")","v":""},null,null,null,null,4953,{"$f":"IFERROR(VLOOKUP(AH4956,Journal!$R:$S,2,FALSE),\"\")","v":""},0,0]
[null,null,null,null,null,null,null,null,null,null,null,null,null,null,null,null,null,null,4934,{"$f":"IFERROR(VLOOKUP(S4957,Journal!$R:$AQ,26,FALSE),\"\")","v":""},{"$error":"#VALUE!"},{"$error":"#N/A"},"",{"$f":"IFERROR(VLOOKUP(S4957,Journal!$R:$AV,32,FALSE),\"\")","v":""},null,null,null,null,{"$f":"IFERROR(VLOOKUP(AA4957, 'Daily Snapshot'!$B:$J,7,FALSE),\"\")","v":""},null,null,null,null,4954,{"$f":"IFERROR(VLOOKUP(AH4957,Journal!$R:$S,2,FALSE),\"\")","v":""},0,0]
[null,null,null,null,null,null,null,null,null,null,null,null,null,null,null,null,null,null,4935,{"$f":"IFERROR(VLOOKUP(S4958,Journal!$R:$AQ,26,FALSE),\"\")","v":""},{"$error":"#VALUE!"},{"$error":"#N/A"},"",{"$f":"IFERROR(VLOOKUP(S4958,Journal!$R:$AV,32,FALSE),\"\")","v":""},null,null,null,null,{"$f":"IFERROR(VLOOKUP(AA4958, 'Daily Snapshot'!$B:$J,7,FALSE),\"\")","v":""},null,null,null,null,4955,{"$f":"IFERROR(VLOOKUP(AH4958,Journal!$R:$S,2,FALSE),\"\")","v":""},0,0]
[null,null,null,null,null,null,null,null,null,null,null,null,null,null,null,null,null,null,4936,{"$f":"IFERROR(VLOOKUP(S4959,Journal!$R:$AQ,26,FALSE),\"\")","v":""},{"$error":"#VALUE!"},{"$error":"#N/A"},"",{"$f":"IFERROR(VLOOKUP(S4959,Journal!$R:$AV,32,FALSE),\"\")","v":""},null,null,null,null,{"$f":"IFERROR(VLOOKUP(AA4959, 'Daily Snapshot'!$B:$J,7,FALSE),\"\")","v":""},null,null,null,null,4956,{"$f":"IFERROR(VLOOKUP(AH4959,Journal!$R:$S,2,FALSE),\"\")","v":""},0,0]
[null,null,null,null,null,null,null,null,null,null,null,null,null,null,null,null,null,null,4937,{"$f":"IFERROR(VLOOKUP(S4960,Journal!$R:$AQ,26,FALSE),\"\")","v":""},{"$error":"#VALUE!"},{"$error":"#N/A"},"",{"$f":"IFERROR(VLOOKUP(S4960,Journal!$R:$AV,32,FALSE),\"\")","v":""},null,null,null,null,{"$f":"IFERROR(VLOOKUP(AA4960, 'Daily Snapshot'!$B:$J,7,FALSE),\"\")","v":""},null,null,null,null,4957,{"$f":"IFERROR(VLOOKUP(AH4960,Journal!$R:$S,2,FALSE),\"\")","v":""},0,0]
[null,null,null,null,null,null,null,null,null,null,null,null,null,null,null,null,null,null,4938,{"$f":"IFERROR(VLOOKUP(S4961,Journal!$R:$AQ,26,FALSE),\"\")","v":""},{"$error":"#VALUE!"},{"$error":"#N/A"},"",{"$f":"IFERROR(VLOOKUP(S4961,Journal!$R:$AV,32,FALSE),\"\")","v":""},null,null,null,null,{"$f":"IFERROR(VLOOKUP(AA4961, 'Daily Snapshot'!$B:$J,7,FALSE),\"\")","v":""},null,null,null,null,4958,{"$f":"IFERROR(VLOOKUP(AH4961,Journal!$R:$S,2,FALSE),\"\")","v":""},0,0]
[null,null,null,null,null,null,null,null,null,null,null,null,null,null,null,null,null,null,4939,{"$f":"IFERROR(VLOOKUP(S4962,Journal!$R:$AQ,26,FALSE),\"\")","v":""},{"$error":"#VALUE!"},{"$error":"#N/A"},"",{"$f":"IFERROR(VLOOKUP(S4962,Journal!$R:$AV,32,FALSE),\"\")","v":""},null,null,null,null,{"$f":"IFERROR(VLOOKUP(AA4962, 'Daily Snapshot'!$B:$J,7,FALSE),\"\")","v":""},null,null,null,null,4959,{"$f":"IFERROR(VLOOKUP(AH4962,Journal!$R:$S,2,FALSE),\"\")","v":""},0,0]
[null,null,null,null,null,null,null,null,null,null,null,null,null,null,null,null,null,null,4940,{"$f":"IFERROR(VLOOKUP(S4963,Journal!$R:$AQ,26,FALSE),\"\")","v":""},{"$error":"#VALUE!"},{"$error":"#N/A"},"",{"$f":"IFERROR(VLOOKUP(S4963,Journal!$R:$AV,32,FALSE),\"\")","v":""},null,null,null,null,{"$f":"IFERROR(VLOOKUP(AA4963, 'Daily Snapshot'!$B:$J,7,FALSE),\"\")","v":""},null,null,null,null,4960,{"$f":"IFERROR(VLOOKUP(AH4963,Journal!$R:$S,2,FALSE),\"\")","v":""},0,0]
[null,null,null,null,null,null,null,null,null,null,null,null,null,null,null,null,null,null,4941,{"$f":"IFERROR(VLOOKUP(S4964,Journal!$R:$AQ,26,FALSE),\"\")","v":""},{"$error":"#VALUE!"},{"$error":"#N/A"},"",{"$f":"IFERROR(VLOOKUP(S4964,Journal!$R:$AV,32,FALSE),\"\")","v":""},null,null,null,null,{"$f":"IFERROR(VLOOKUP(AA4964, 'Daily Snapshot'!$B:$J,7,FALSE),\"\")","v":""},null,null,null,null,4961,{"$f":"IFERROR(VLOOKUP(AH4964,Journal!$R:$S,2,FALSE),\"\")","v":""},0,0]
[null,null,null,null,null,null,null,null,null,null,null,null,null,null,null,null,null,null,4942,{"$f":"IFERROR(VLOOKUP(S4965,Journal!$R:$AQ,26,FALSE),\"\")","v":""},{"$error":"#VALUE!"},{"$error":"#N/A"},"",{"$f":"IFERROR(VLOOKUP(S4965,Journal!$R:$AV,32,FALSE),\"\")","v":""},null,null,null,null,{"$f":"IFERROR(VLOOKUP(AA4965, 'Daily Snapshot'!$B:$J,7,FALSE),\"\")","v":""},null,null,null,null,4962,{"$f":"IFERROR(VLOOKUP(AH4965,Journal!$R:$S,2,FALSE),\"\")","v":""},0,0]
[null,null,null,null,null,null,null,null,null,null,null,null,null,null,null,null,null,null,4943,{"$f":"IFERROR(VLOOKUP(S4966,Journal!$R:$AQ,26,FALSE),\"\")","v":""},{"$error":"#VALUE!"},{"$error":"#N/A"},"",{"$f":"IFERROR(VLOOKUP(S4966,Journal!$R:$AV,32,FALSE),\"\")","v":""},null,null,null,null,{"$f":"IFERROR(VLOOKUP(AA4966, 'Daily Snapshot'!$B:$J,7,FALSE),\"\")","v":""},null,null,null,null,4963,{"$f":"IFERROR(VLOOKUP(AH4966,Journal!$R:$S,2,FALSE),\"\")","v":""},0,0]
[null,null,null,null,null,null,null,null,null,null,null,null,null,null,null,null,null,null,4944,{"$f":"IFERROR(VLOOKUP(S4967,Journal!$R:$AQ,26,FALSE),\"\")","v":""},{"$error":"#VALUE!"},{"$error":"#N/A"},"",{"$f":"IFERROR(VLOOKUP(S4967,Journal!$R:$AV,32,FALSE),\"\")","v":""},null,null,null,null,{"$f":"IFERROR(VLOOKUP(AA4967, 'Daily Snapshot'!$B:$J,7,FALSE),\"\")","v":""},null,null,null,null,4964,{"$f":"IFERROR(VLOOKUP(AH4967,Journal!$R:$S,2,FALSE),\"\")","v":""},0,0]
[null,null,null,null,null,null,null,null,null,null,null,null,null,null,null,null,null,null,4945,{"$f":"IFERROR(VLOOKUP(S4968,Journal!$R:$AQ,26,FALSE),\"\")","v":""},{"$error":"#VALUE!"},{"$error":"#N/A"},"",{"$f":"IFERROR(VLOOKUP(S4968,Journal!$R:$AV,32,FALSE),\"\")","v":""},null,null,null,null,{"$f":"IFERROR(VLOOKUP(AA4968, 'Daily Snapshot'!$B:$J,7,FALSE),\"\")","v":""},null,null,null,null,4965,{"$f":"IFERROR(VLOOKUP(AH4968,Journal!$R:$S,2,FALSE),\"\")","v":""},0,0]
[null,null,null,null,null,null,null,null,null,null,null,null,null,null,null,null,null,null,4946,{"$f":"IFERROR(VLOOKUP(S4969,Journal!$R:$AQ,26,FALSE),\"\")","v":""},{"$error":"#VALUE!"},{"$error":"#N/A"},"",{"$f":"IFERROR(VLOOKUP(S4969,Journal!$R:$AV,32,FALSE),\"\")","v":""},null,null,null,null,{"$f":"IFERROR(VLOOKUP(AA4969, 'Daily Snapshot'!$B:$J,7,FALSE),\"\")","v":""},null,null,null,null,4966,{"$f":"IFERROR(VLOOKUP(AH4969,Journal!$R:$S,2,FALSE),\"\")","v":""},0,0]
[null,null,null,null,null,null,null,null,null,null,null,null,null,null,null,null,null,null,4947,{"$f":"IFERROR(VLOOKUP(S4970,Journal!$R:$AQ,26,FALSE),\"\")","v":""},{"$error":"#VALUE!"},{"$error":"#N/A"},"",{"$f":"IFERROR(VLOOKUP(S4970,Journal!$R:$AV,32,FALSE),\"\")","v":""},null,null,null,null,{"$f":"IFERROR(VLOOKUP(AA4970, 'Daily Snapshot'!$B:$J,7,FALSE),\"\")","v":""},null,null,null,null,4967,{"$f":"IFERROR(VLOOKUP(AH4970,Journal!$R:$S,2,FALSE),\"\")","v":""},0,0]
[null,null,null,null,null,null,null,null,null,null,null,null,null,null,null,null,null,null,4948,{"$f":"IFERROR(VLOOKUP(S4971,Journal!$R:$AQ,26,FALSE),\"\")","v":""},{"$error":"#VALUE!"},{"$error":"#N/A"},"",{"$f":"IFERROR(VLOOKUP(S4971,Journal!$R:$AV,32,FALSE),\"\")","v":""},null,null,null,null,{"$f":"IFERROR(VLOOKUP(AA4971, 'Daily Snapshot'!$B:$J,7,FALSE),\"\")","v":""},null,null,null,null,4968,{"$f":"IFERROR(VLOOKUP(AH4971,Journal!$R:$S,2,FALSE),\"\")","v":""},0,0]
[null,null,null,null,null,null,null,null,null,null,null,null,null,null,null,null,null,null,4949,{"$f":"IFERROR(VLOOKUP(S4972,Journal!$R:$AQ,26,FALSE),\"\")","v":""},{"$error":"#VALUE!"},{"$error":"#N/A"},"",{"$f":"IFERROR(VLOOKUP(S4972,Journal!$R:$AV,32,FALSE),\"\")","v":""},null,null,null,null,{"$f":"IFERROR(VLOOKUP(AA4972, 'Daily Snapshot'!$B:$J,7,FALSE),\"\")","v":""},null,null,null,null,4969,{"$f":"IFERROR(VLOOKUP(AH4972,Journal!$R:$S,2,FALSE),\"\")","v":""},0,0]
[null,null,null,null,null,null,null,null,null,null,null,null,null,null,null,null,null,null,4950,{"$f":"IFERROR(VLOOKUP(S4973,Journal!$R:$AQ,26,FALSE),\"\")","v":""},{"$error":"#VALUE!"},{"$error":"#N/A"},"",{"$f":"IFERROR(VLOOKUP(S4973,Journal!$R:$AV,32,FALSE),\"\")","v":""},null,null,null,null,{"$f":"IFERROR(VLOOKUP(AA4973, 'Daily Snapshot'!$B:$J,7,FALSE),\"\")","v":""},null,null,null,null,4970,{"$f":"IFERROR(VLOOKUP(AH4973,Journal!$R:$S,2,FALSE),\"\")","v":""},0,0]
[null,null,null,null,null,null,null,null,null,null,null,null,null,null,null,null,null,null,4951,{"$f":"IFERROR(VLOOKUP(S4974,Journal!$R:$AQ,26,FALSE),\"\")","v":""},{"$error":"#VALUE!"},{"$error":"#N/A"},"",{"$f":"IFERROR(VLOOKUP(S4974,Journal!$R:$AV,32,FALSE),\"\")","v":""},null,null,null,null,{"$f":"IFERROR(VLOOKUP(AA4974, 'Daily Snapshot'!$B:$J,7,FALSE),\"\")","v":""},null,null,null,null,4971,{"$f":"IFERROR(VLOOKUP(AH4974,Journal!$R:$S,2,FALSE),\"\")","v":""},0,0]
[null,null,null,null,null,null,null,null,null,null,null,null,null,null,null,null,null,null,4952,{"$f":"IFERROR(VLOOKUP(S4975,Journal!$R:$AQ,26,FALSE),\"\")","v":""},{"$error":"#VALUE!"},{"$error":"#N/A"},"",{"$f":"IFERROR(VLOOKUP(S4975,Journal!$R:$AV,32,FALSE),\"\")","v":""},null,null,null,null,{"$f":"IFERROR(VLOOKUP(AA4975, 'Daily Snapshot'!$B:$J,7,FALSE),\"\")","v":""},null,null,null,null,4972,{"$f":"IFERROR(VLOOKUP(AH4975,Journal!$R:$S,2,FALSE),\"\")","v":""},0,0]
[null,null,null,null,null,null,null,null,null,null,null,null,null,null,null,null,null,null,4953,{"$f":"IFERROR(VLOOKUP(S4976,Journal!$R:$AQ,26,FALSE),\"\")","v":""},{"$error":"#VALUE!"},{"$error":"#N/A"},"",{"$f":"IFERROR(VLOOKUP(S4976,Journal!$R:$AV,32,FALSE),\"\")","v":""},null,null,null,null,{"$f":"IFERROR(VLOOKUP(AA4976, 'Daily Snapshot'!$B:$J,7,FALSE),\"\")","v":""},null,null,null,null,4973,{"$f":"IFERROR(VLOOKUP(AH4976,Journal!$R:$S,2,FALSE),\"\")","v":""},0,0]
[null,null,null,null,null,null,null,null,null,null,null,null,null,null,null,null,null,null,4954,{"$f":"IFERROR(VLOOKUP(S4977,Journal!$R:$AQ,26,FALSE),\"\")","v":""},{"$error":"#VALUE!"},{"$error":"#N/A"},"",{"$f":"IFERROR(VLOOKUP(S4977,Journal!$R:$AV,32,FALSE),\"\")","v":""},null,null,null,null,{"$f":"IFERROR(VLOOKUP(AA4977, 'Daily Snapshot'!$B:$J,7,FALSE),\"\")","v":""},null,null,null,null,4974,{"$f":"IFERROR(VLOOKUP(AH4977,Journal!$R:$S,2,FALSE),\"\")","v":""},0,0]
[null,null,null,null,null,null,null,null,null,null,null,null,null,null,null,null,null,null,4955,{"$f":"IFERROR(VLOOKUP(S4978,Journal!$R:$AQ,26,FALSE),\"\")","v":""},{"$error":"#VALUE!"},{"$error":"#N/A"},"",{"$f":"IFERROR(VLOOKUP(S4978,Journal!$R:$AV,32,FALSE),\"\")","v":""},null,null,null,null,{"$f":"IFERROR(VLOOKUP(AA4978, 'Daily Snapshot'!$B:$J,7,FALSE),\"\")","v":""},null,null,null,null,4975,{"$f":"IFERROR(VLOOKUP(AH4978,Journal!$R:$S,2,FALSE),\"\")","v":""},0,0]
[null,null,null,null,null,null,null,null,null,null,null,null,null,null,null,null,null,null,4956,{"$f":"IFERROR(VLOOKUP(S4979,Journal!$R:$AQ,26,FALSE),\"\")","v":""},{"$error":"#VALUE!"},{"$error":"#N/A"},"",{"$f":"IFERROR(VLOOKUP(S4979,Journal!$R:$AV,32,FALSE),\"\")","v":""},null,null,null,null,{"$f":"IFERROR(VLOOKUP(AA4979, 'Daily Snapshot'!$B:$J,7,FALSE),\"\")","v":""},null,null,null,null,4976,{"$f":"IFERROR(VLOOKUP(AH4979,Journal!$R:$S,2,FALSE),\"\")","v":""},0,0]
[null,null,null,null,null,null,null,null,null,null,null,null,null,null,null,null,null,null,4957,{"$f":"IFERROR(VLOOKUP(S4980,Journal!$R:$AQ,26,FALSE),\"\")","v":""},{"$error":"#VALUE!"},{"$error":"#N/A"},"",{"$f":"IFERROR(VLOOKUP(S4980,Journal!$R:$AV,32,FALSE),\"\")","v":""},null,null,null,null,{"$f":"IFERROR(VLOOKUP(AA4980, 'Daily Snapshot'!$B:$J,7,FALSE),\"\")","v":""},null,null,null,null,4977,{"$f":"IFERROR(VLOOKUP(AH4980,Journal!$R:$S,2,FALSE),\"\")","v":""},0,0]
[null,null,null,null,null,null,null,null,null,null,null,null,null,null,null,null,null,null,4958,{"$f":"IFERROR(VLOOKUP(S4981,Journal!$R:$AQ,26,FALSE),\"\")","v":""},{"$error":"#VALUE!"},{"$error":"#N/A"},"",{"$f":"IFERROR(VLOOKUP(S4981,Journal!$R:$AV,32,FALSE),\"\")","v":""},null,null,null,null,{"$f":"IFERROR(VLOOKUP(AA4981, 'Daily Snapshot'!$B:$J,7,FALSE),\"\")","v":""},null,null,null,null,4978,{"$f":"IFERROR(VLOOKUP(AH4981,Journal!$R:$S,2,FALSE),\"\")","v":""},0,0]
[null,null,null,null,null,null,null,null,null,null,null,null,null,null,null,null,null,null,4959,{"$f":"IFERROR(VLOOKUP(S4982,Journal!$R:$AQ,26,FALSE),\"\")","v":""},{"$error":"#VALUE!"},{"$error":"#N/A"},"",{"$f":"IFERROR(VLOOKUP(S4982,Journal!$R:$AV,32,FALSE),\"\")","v":""},null,null,null,null,{"$f":"IFERROR(VLOOKUP(AA4982, 'Daily Snapshot'!$B:$J,7,FALSE),\"\")","v":""},null,null,null,null,4979,{"$f":"IFERROR(VLOOKUP(AH4982,Journal!$R:$S,2,FALSE),\"\")","v":""},0,0]
[null,null,null,null,null,null,null,null,null,null,null,null,null,null,null,null,null,null,4960,{"$f":"IFERROR(VLOOKUP(S4983,Journal!$R:$AQ,26,FALSE),\"\")","v":""},{"$error":"#VALUE!"},{"$error":"#N/A"},"",{"$f":"IFERROR(VLOOKUP(S4983,Journal!$R:$AV,32,FALSE),\"\")","v":""},null,null,null,null,{"$f":"IFERROR(VLOOKUP(AA4983, 'Daily Snapshot'!$B:$J,7,FALSE),\"\")","v":""},null,null,null,null,4980,{"$f":"IFERROR(VLOOKUP(AH4983,Journal!$R:$S,2,FALSE),\"\")","v":""},0,0]
[null,null,null,null,null,null,null,null,null,null,null,null,null,null,null,null,null,null,4961,{"$f":"IFERROR(VLOOKUP(S4984,Journal!$R:$AQ,26,FALSE),\"\")","v":""},{"$error":"#VALUE!"},{"$error":"#N/A"},"",{"$f":"IFERROR(VLOOKUP(S4984,Journal!$R:$AV,32,FALSE),\"\")","v":""},null,null,null,null,{"$f":"IFERROR(VLOOKUP(AA4984, 'Daily Snapshot'!$B:$J,7,FALSE),\"\")","v":""},null,null,null,null,4981,{"$f":"IFERROR(VLOOKUP(AH4984,Journal!$R:$S,2,FALSE),\"\")","v":""},0,0]
[null,null,null,null,null,null,null,null,null,null,null,null,null,null,null,null,null,null,4962,{"$f":"IFERROR(VLOOKUP(S4985,Journal!$R:$AQ,26,FALSE),\"\")","v":""},{"$error":"#VALUE!"},{"$error":"#N/A"},"",{"$f":"IFERROR(VLOOKUP(S4985,Journal!$R:$AV,32,FALSE),\"\")","v":""},null,null,null,null,{"$f":"IFERROR(VLOOKUP(AA4985, 'Daily Snapshot'!$B:$J,7,FALSE),\"\")","v":""},null,null,null,null,4982,{"$f":"IFERROR(VLOOKUP(AH4985,Journal!$R:$S,2,FALSE),\"\")","v":""},0,0]
[null,null,null,null,null,null,null,null,null,null,null,null,null,null,null,null,null,null,4963,{"$f":"IFERROR(VLOOKUP(S4986,Journal!$R:$AQ,26,FALSE),\"\")","v":""},{"$error":"#VALUE!"},{"$error":"#N/A"},"",{"$f":"IFERROR(VLOOKUP(S4986,Journal!$R:$AV,32,FALSE),\"\")","v":""},null,null,null,null,{"$f":"IFERROR(VLOOKUP(AA4986, 'Daily Snapshot'!$B:$J,7,FALSE),\"\")","v":""},null,null,null,null,4983,{"$f":"IFERROR(VLOOKUP(AH4986,Journal!$R:$S,2,FALSE),\"\")","v":""},0,0]
[null,null,null,null,null,null,null,null,null,null,null,null,null,null,null,null,null,null,4964,{"$f":"IFERROR(VLOOKUP(S4987,Journal!$R:$AQ,26,FALSE),\"\")","v":""},{"$error":"#VALUE!"},{"$error":"#N/A"},"",{"$f":"IFERROR(VLOOKUP(S4987,Journal!$R:$AV,32,FALSE),\"\")","v":""},null,null,null,null,{"$f":"IFERROR(VLOOKUP(AA4987, 'Daily Snapshot'!$B:$J,7,FALSE),\"\")","v":""},null,null,null,null,4984,{"$f":"IFERROR(VLOOKUP(AH4987,Journal!$R:$S,2,FALSE),\"\")","v":""},0,0]
[null,null,null,null,null,null,null,null,null,null,null,null,null,null,null,null,null,null,4965,{"$f":"IFERROR(VLOOKUP(S4988,Journal!$R:$AQ,26,FALSE),\"\")","v":""},{"$error":"#VALUE!"},{"$error":"#N/A"},"",{"$f":"IFERROR(VLOOKUP(S4988,Journal!$R:$AV,32,FALSE),\"\")","v":""},null,null,null,null,{"$f":"IFERROR(VLOOKUP(AA4988, 'Daily Snapshot'!$B:$J,7,FALSE),\"\")","v":""},null,null,null,null,4985,{"$f":"IFERROR(VLOOKUP(AH4988,Journal!$R:$S,2,FALSE),\"\")","v":""},0,0]
[null,null,null,null,null,null,null,null,null,null,null,null,null,null,null,null,null,null,4966,{"$f":"IFERROR(VLOOKUP(S4989,Journal!$R:$AQ,26,FALSE),\"\")","v":""},{"$error":"#VALUE!"},{"$error":"#N/A"},"",{"$f":"IFERROR(VLOOKUP(S4989,Journal!$R:$AV,32,FALSE),\"\")","v":""},null,null,null,null,{"$f":"IFERROR(VLOOKUP(AA4989, 'Daily Snapshot'!$B:$J,7,FALSE),\"\")","v":""},null,null,null,null,4986,{"$f":"IFERROR(VLOOKUP(AH4989,Journal!$R:$S,2,FALSE),\"\")","v":""},0,0]
[null,null,null,null,null,null,null,null,null,null,null,null,null,null,null,null,null,null,4967,{"$f":"IFERROR(VLOOKUP(S4990,Journal!$R:$AQ,26,FALSE),\"\")","v":""},{"$error":"#VALUE!"},{"$error":"#N/A"},"",{"$f":"IFERROR(VLOOKUP(S4990,Journal!$R:$AV,32,FALSE),\"\")","v":""},null,null,null,null,{"$f":"IFERROR(VLOOKUP(AA4990, 'Daily Snapshot'!$B:$J,7,FALSE),\"\")","v":""},null,null,null,null,4987,{"$f":"IFERROR(VLOOKUP(AH4990,Journal!$R:$S,2,FALSE),\"\")","v":""},0,0]
[null,null,null,null,null,null,null,null,null,null,null,null,null,null,null,null,null,null,4968,{"$f":"IFERROR(VLOOKUP(S4991,Journal!$R:$AQ,26,FALSE),\"\")","v":""},{"$error":"#VALUE!"},{"$error":"#N/A"},"",{"$f":"IFERROR(VLOOKUP(S4991,Journal!$R:$AV,32,FALSE),\"\")","v":""},null,null,null,null,{"$f":"IFERROR(VLOOKUP(AA4991, 'Daily Snapshot'!$B:$J,7,FALSE),\"\")","v":""},null,null,null,null,4988,{"$f":"IFERROR(VLOOKUP(AH4991,Journal!$R:$S,2,FALSE),\"\")","v":""},0,0]
[null,null,null,null,null,null,null,null,null,null,null,null,null,null,null,null,null,null,4969,{"$f":"IFERROR(VLOOKUP(S4992,Journal!$R:$AQ,26,FALSE),\"\")","v":""},{"$error":"#VALUE!"},{"$error":"#N/A"},"",{"$f":"IFERROR(VLOOKUP(S4992,Journal!$R:$AV,32,FALSE),\"\")","v":""},null,null,null,null,{"$f":"IFERROR(VLOOKUP(AA4992, 'Daily Snapshot'!$B:$J,7,FALSE),\"\")","v":""},null,null,null,null,4989,{"$f":"IFERROR(VLOOKUP(AH4992,Journal!$R:$S,2,FALSE),\"\")","v":""},0,0]
[null,null,null,null,null,null,null,null,null,null,null,null,null,null,null,null,null,null,4970,{"$f":"IFERROR(VLOOKUP(S4993,Journal!$R:$AQ,26,FALSE),\"\")","v":""},{"$error":"#VALUE!"},{"$error":"#N/A"},"",{"$f":"IFERROR(VLOOKUP(S4993,Journal!$R:$AV,32,FALSE),\"\")","v":""},null,null,null,null,{"$f":"IFERROR(VLOOKUP(AA4993, 'Daily Snapshot'!$B:$J,7,FALSE),\"\")","v":""},null,null,null,null,4990,{"$f":"IFERROR(VLOOKUP(AH4993,Journal!$R:$S,2,FALSE),\"\")","v":""},0,0]
[null,null,null,null,null,null,null,null,null,null,null,null,null,null,null,null,null,null,4971,{"$f":"IFERROR(VLOOKUP(S4994,Journal!$R:$AQ,26,FALSE),\"\")","v":""},{"$error":"#VALUE!"},{"$error":"#N/A"},"",{"$f":"IFERROR(VLOOKUP(S4994,Journal!$R:$AV,32,FALSE),\"\")","v":""},null,null,null,null,{"$f":"IFERROR(VLOOKUP(AA4994, 'Daily Snapshot'!$B:$J,7,FALSE),\"\")","v":""},null,null,null,null,4991,{"$f":"IFERROR(VLOOKUP(AH4994,Journal!$R:$S,2,FALSE),\"\")","v":""},0,0]
[null,null,null,null,null,null,null,null,null,null,null,null,null,null,null,null,null,null,4972,{"$f":"IFERROR(VLOOKUP(S4995,Journal!$R:$AQ,26,FALSE),\"\")","v":""},{"$error":"#VALUE!"},{"$error":"#N/A"},"",{"$f":"IFERROR(VLOOKUP(S4995,Journal!$R:$AV,32,FALSE),\"\")","v":""},null,null,null,null,{"$f":"IFERROR(VLOOKUP(AA4995, 'Daily Snapshot'!$B:$J,7,FALSE),\"\")","v":""},null,null,null,null,4992,{"$f":"IFERROR(VLOOKUP(AH4995,Journal!$R:$S,2,FALSE),\"\")","v":""},0,0]
[null,null,null,null,null,null,null,null,null,null,null,null,null,null,null,null,null,null,4973,{"$f":"IFERROR(VLOOKUP(S4996,Journal!$R:$AQ,26,FALSE),\"\")","v":""},{"$error":"#VALUE!"},{"$error":"#N/A"},"",{"$f":"IFERROR(VLOOKUP(S4996,Journal!$R:$AV,32,FALSE),\"\")","v":""},null,null,null,null,{"$f":"IFERROR(VLOOKUP(AA4996, 'Daily Snapshot'!$B:$J,7,FALSE),\"\")","v":""},null,null,null,null,4993,{"$f":"IFERROR(VLOOKUP(AH4996,Journal!$R:$S,2,FALSE),\"\")","v":""},{"$f":"IF($AI4996=\"W\", 1,0)","v":0},{"$f":"IF($AI4996=\"L\", -1,0)","v":0}]
[null,null,null,null,null,null,null,null,null,null,null,null,null,null,null,null,null,null,4974,{"$f":"IFERROR(VLOOKUP(S4997,Journal!$R:$AQ,26,FALSE),\"\")","v":""},{"$error":"#VALUE!"},{"$error":"#N/A"},"",{"$f":"IFERROR(VLOOKUP(S4997,Journal!$R:$AV,32,FALSE),\"\")","v":""},null,null,null,null,{"$f":"IFERROR(VLOOKUP(AA4997, 'Daily Snapshot'!$B:$J,7,FALSE),\"\")","v":""},null,null,null,null,4994,{"$f":"IFERROR(VLOOKUP(AH4997,Journal!$R:$S,2,FALSE),\"\")","v":""},0,0]
[null,null,null,null,null,null,null,null,null,null,null,null,null,null,null,null,null,null,4975,{"$f":"IFERROR(VLOOKUP(S4998,Journal!$R:$AQ,26,FALSE),\"\")","v":""},{"$error":"#VALUE!"},{"$error":"#N/A"},"",{"$f":"IFERROR(VLOOKUP(S4998,Journal!$R:$AV,32,FALSE),\"\")","v":""},null,null,null,null,{"$f":"IFERROR(VLOOKUP(AA4998, 'Daily Snapshot'!$B:$J,7,FALSE),\"\")","v":""},null,null,null,null,4995,{"$f":"IFERROR(VLOOKUP(AH4998,Journal!$R:$S,2,FALSE),\"\")","v":""},0,0]
[null,null,null,null,null,null,null,null,null,null,null,null,null,null,null,null,null,null,4976,{"$f":"IFERROR(VLOOKUP(S4999,Journal!$R:$AQ,26,FALSE),\"\")","v":""},{"$error":"#VALUE!"},{"$error":"#N/A"},"",{"$f":"IFERROR(VLOOKUP(S4999,Journal!$R:$AV,32,FALSE),\"\")","v":""},null,null,null,null,{"$f":"IFERROR(VLOOKUP(AA4999, 'Daily Snapshot'!$B:$J,7,FALSE),\"\")","v":""},null,null,null,null,4996,{"$f":"IFERROR(VLOOKUP(AH4999,Journal!$R:$S,2,FALSE),\"\")","v":""},0,0]
[null,null,null,null,null,null,null,null,null,null,null,null,null,null,null,null,null,null,4977,{"$f":"IFERROR(VLOOKUP(S5000,Journal!$R:$AQ,26,FALSE),\"\")","v":""},{"$error":"#VALUE!"},{"$error":"#N/A"},"",{"$f":"IFERROR(VLOOKUP(S5000,Journal!$R:$AV,32,FALSE),\"\")","v":""},null,null,null,null,{"$f":"IFERROR(VLOOKUP(AA5000, 'Daily Snapshot'!$B:$J,7,FALSE),\"\")","v":""},null,null,null,null,4997,{"$f":"IFERROR(VLOOKUP(AH5000,Journal!$R:$S,2,FALSE),\"\")","v":""},0,0]
[null,null,null,null,null,null,null,null,null,null,null,null,null,null,null,null,null,null,4978,{"$f":"IFERROR(VLOOKUP(S5001,Journal!$R:$AQ,26,FALSE),\"\")","v":""},{"$error":"#VALUE!"},{"$error":"#N/A"},"",{"$f":"IFERROR(VLOOKUP(S5001,Journal!$R:$AV,32,FALSE),\"\")","v":""},null,null,null,null,{"$f":"IFERROR(VLOOKUP(AA5001, 'Daily Snapshot'!$B:$J,7,FALSE),\"\")","v":""},null,null,null,null,4998,{"$f":"IFERROR(VLOOKUP(AH5001,Journal!$R:$S,2,FALSE),\"\")","v":""},0,0]
[null,null,null,null,null,null,null,null,null,null,null,null,null,null,null,null,null,null,4979,{"$f":"IFERROR(VLOOKUP(S5002,Journal!$R:$AQ,26,FALSE),\"\")","v":""},{"$error":"#VALUE!"},{"$error":"#N/A"},"",{"$f":"IFERROR(VLOOKUP(S5002,Journal!$R:$AV,32,FALSE),\"\")","v":""},null,null,null,null,{"$f":"IFERROR(VLOOKUP(AA5002, 'Daily Snapshot'!$B:$J,7,FALSE),\"\")","v":""},null,null,null,null,4999,{"$f":"IFERROR(VLOOKUP(AH5002,Journal!$R:$S,2,FALSE),\"\")","v":""},0,0]
[null,null,null,null,null,null,null,null,null,null,null,null,null,null,null,null,null,null,4980,{"$f":"IFERROR(VLOOKUP(S5003,Journal!$R:$AQ,26,FALSE),\"\")","v":""},{"$error":"#VALUE!"},{"$error":"#N/A"},"",{"$f":"IFERROR(VLOOKUP(S5003,Journal!$R:$AV,32,FALSE),\"\")","v":""},null,null,null,null,{"$f":"IFERROR(VLOOKUP(AA5003, 'Daily Snapshot'!$B:$J,7,FALSE),\"\")","v":""},null,null,null,null,5000,{"$f":"IFERROR(VLOOKUP(AH5003,Journal!$R:$S,2,FALSE),\"\")","v":""},0,0]
[null,null,null,null,null,null,null,null,null,null,null,null,null,null,null,null,null,null,4981,{"$f":"IFERROR(VLOOKUP(S5004,Journal!$R:$AQ,26,FALSE),\"\")","v":""},{"$error":"#VALUE!"},{"$error":"#N/A"},"",{"$f":"IFERROR(VLOOKUP(S5004,Journal!$R:$AV,32,FALSE),\"\")","v":""}]
[null,null,null,null,null,null,null,null,null,null,null,null,null,null,null,null,null,null,4982,{"$f":"IFERROR(VLOOKUP(S5005,Journal!$R:$AQ,26,FALSE),\"\")","v":""},{"$error":"#VALUE!"},{"$error":"#N/A"},"",{"$f":"IFERROR(VLOOKUP(S5005,Journal!$R:$AV,32,FALSE),\"\")","v":""}]
[null,null,null,null,null,null,null,null,null,null,null,null,null,null,null,null,null,null,4983,{"$f":"IFERROR(VLOOKUP(S5006,Journal!$R:$AQ,26,FALSE),\"\")","v":""},{"$error":"#VALUE!"},{"$error":"#N/A"},"",{"$f":"IFERROR(VLOOKUP(S5006,Journal!$R:$AV,32,FALSE),\"\")","v":""}]
[null,null,null,null,null,null,null,null,null,null,null,null,null,null,null,null,null,null,4984,{"$f":"IFERROR(VLOOKUP(S5007,Journal!$R:$AQ,26,FALSE),\"\")","v":""},{"$error":"#VALUE!"},{"$error":"#N/A"},"",{"$f":"IFERROR(VLOOKUP(S5007,Journal!$R:$AV,32,FALSE),\"\")","v":""}]
[null,null,null,null,null,null,null,null,null,null,null,null,null,null,null,null,null,null,4985,{"$f":"IFERROR(VLOOKUP(S5008,Journal!$R:$AQ,26,FALSE),\"\")","v":""},{"$error":"#VALUE!"},{"$error":"#N/A"},"",{"$f":"IFERROR(VLOOKUP(S5008,Journal!$R:$AV,32,FALSE),\"\")","v":""}]
[null,null,null,null,null,null,null,null,null,null,null,null,null,null,null,null,null,null,4986,{"$f":"IFERROR(VLOOKUP(S5009,Journal!$R:$AQ,26,FALSE),\"\")","v":""},{"$error":"#VALUE!"},{"$error":"#N/A"},"",{"$f":"IFERROR(VLOOKUP(S5009,Journal!$R:$AV,32,FALSE),\"\")","v":""}]
[null,null,null,null,null,null,null,null,null,null,null,null,null,null,null,null,null,null,4987,{"$f":"IFERROR(VLOOKUP(S5010,Journal!$R:$AQ,26,FALSE),\"\")","v":""},{"$error":"#VALUE!"},{"$error":"#N/A"},"",{"$f":"IFERROR(VLOOKUP(S5010,Journal!$R:$AV,32,FALSE),\"\")","v":""}]
[null,null,null,null,null,null,null,null,null,null,null,null,null,null,null,null,null,null,4988,{"$f":"IFERROR(VLOOKUP(S5011,Journal!$R:$AQ,26,FALSE),\"\")","v":""},{"$error":"#VALUE!"},{"$error":"#N/A"},"",{"$f":"IFERROR(VLOOKUP(S5011,Journal!$R:$AV,32,FALSE),\"\")","v":""}]
[null,null,null,null,null,null,null,null,null,null,null,null,null,null,null,null,null,null,4989,{"$f":"IFERROR(VLOOKUP(S5012,Journal!$R:$AQ,26,FALSE),\"\")","v":""},{"$error":"#VALUE!"},{"$error":"#N/A"},"",{"$f":"IFERROR(VLOOKUP(S5012,Journal!$R:$AV,32,FALSE),\"\")","v":""}]
[null,null,null,null,null,null,null,null,null,null,null,null,null,null,null,null,null,null,4990,{"$f":"IFERROR(VLOOKUP(S5013,Journal!$R:$AQ,26,FALSE),\"\")","v":""},{"$error":"#VALUE!"},{"$error":"#N/A"},"",{"$f":"IFERROR(VLOOKUP(S5013,Journal!$R:$AV,32,FALSE),\"\")","v":""}]
[null,null,null,null,null,null,null,null,null,null,null,null,null,null,null,null,null,null,4991,{"$f":"IFERROR(VLOOKUP(S5014,Journal!$R:$AQ,26,FALSE),\"\")","v":""},{"$error":"#VALUE!"},{"$error":"#N/A"},"",{"$f":"IFERROR(VLOOKUP(S5014,Journal!$R:$AV,32,FALSE),\"\")","v":""}]
[null,null,null,null,null,null,null,null,null,null,null,null,null,null,null,null,null,null,4992,{"$f":"IFERROR(VLOOKUP(S5015,Journal!$R:$AQ,26,FALSE),\"\")","v":""},{"$error":"#VALUE!"},{"$error":"#N/A"},"",{"$f":"IFERROR(VLOOKUP(S5015,Journal!$R:$AV,32,FALSE),\"\")","v":""}]
[null,null,null,null,null,null,null,null,null,null,null,null,null,null,null,null,null,null,4993,{"$f":"IFERROR(VLOOKUP(S5016,Journal!$R:$AQ,26,FALSE),\"\")","v":""},{"$error":"#VALUE!"},{"$error":"#N/A"},"",{"$f":"IFERROR(VLOOKUP(S5016,Journal!$R:$AV,32,FALSE),\"\")","v":""}]
[null,null,null,null,null,null,null,null,null,null,null,null,null,null,null,null,null,null,4994,{"$f":"IFERROR(VLOOKUP(S5017,Journal!$R:$AQ,26,FALSE),\"\")","v":""},{"$f":"T5017+U5016","v":{"$error":"#VALUE!"}},{"$error":"#N/A"},{"$f":"IFERROR(T5017/$H$25,\"\")","v":""},{"$f":"IFERROR(VLOOKUP(S5017,Journal!$R:$AV,32,FALSE),\"\")","v":""}]
[null,null,null,null,null,null,null,null,null,null,null,null,null,null,null,null,null,null,4995,{"$f":"IFERROR(VLOOKUP(S5018,Journal!$R:$AQ,26,FALSE),\"\")","v":""},{"$error":"#VALUE!"},{"$error":"#N/A"},"",{"$f":"IFERROR(VLOOKUP(S5018,Journal!$R:$AV,32,FALSE),\"\")","v":""}]
[null,null,null,null,null,null,null,null,null,null,null,null,null,null,null,null,null,null,4996,{"$f":"IFERROR(VLOOKUP(S5019,Journal!$R:$AQ,26,FALSE),\"\")","v":""},{"$error":"#VALUE!"},{"$error":"#N/A"},"",{"$f":"IFERROR(VLOOKUP(S5019,Journal!$R:$AV,32,FALSE),\"\")","v":""}]
[null,null,null,null,null,null,null,null,null,null,null,null,null,null,null,null,null,null,4997,{"$f":"IFERROR(VLOOKUP(S5020,Journal!$R:$AQ,26,FALSE),\"\")","v":""},{"$error":"#VALUE!"},{"$f":"IF(OR(T5020=0,T5020<$H$26,T5020>$H$27),NA(),T5020+U5019)","v":{"$error":"#N/A"}},"",{"$f":"IFERROR(VLOOKUP(S5020,Journal!$R:$AV,32,FALSE),\"\")","v":""}]
[null,null,null,null,null,null,null,null,null,null,null,null,null,null,null,null,null,null,4998,{"$f":"IFERROR(VLOOKUP(S5021,Journal!$R:$AQ,26,FALSE),\"\")","v":""},{"$error":"#VALUE!"},{"$f":"IF(OR(T5021=0,T5021<$H$26,T5021>$H$27),NA(),T5021+U5020)","v":{"$error":"#N/A"}},"",{"$f":"IFERROR(VLOOKUP(S5021,Journal!$R:$AV,32,FALSE),\"\")","v":""}]
[null,null,null,null,null,null,null,null,null,null,null,null,null,null,null,null,null,null,4999,{"$f":"IFERROR(VLOOKUP(S5022,Journal!$R:$AQ,26,FALSE),\"\")","v":""},{"$error":"#VALUE!"},{"$f":"IF(OR(T5022=0,T5022<$H$26,T5022>$H$27),NA(),T5022+U5021)","v":{"$error":"#N/A"}},"",{"$f":"IFERROR(VLOOKUP(S5022,Journal!$R:$AV,32,FALSE),\"\")","v":""}]
[null,null,null,null,null,null,null,null,null,null,null,null,null,null,null,null,null,null,5000,{"$f":"IFERROR(VLOOKUP(S5023,Journal!$R:$AQ,26,FALSE),\"\")","v":""},{"$error":"#VALUE!"},{"$f":"IF(OR(T5023=0,T5023<$H$26,T5023>$H$27),NA(),T5023+U5022)","v":{"$error":"#N/A"}},"",{"$f":"IFERROR(VLOOKUP(S5023,Journal!$R:$AV,32,FALSE),\"\")","v":""}]

{"sheet":"Scatter Plot","index":5,"n_rows":204,"n_cols":24,"rows_kept":204,"cut":false,"hidden":false,"merged":[[40,19,40,23],[50,19,50,23],[25,19,25,23],[60,19,60,23]]}
["DAY","#","DATE","SYMBOL","STRAT","Traded","Edge","ENTRY","SHARES","STOP","TARGET","P&L","DUR","RISK","REWARD","R-TGT","R-REAL","COMMENTS"]
[1,1,"2019-01-02","JD","15 ORBO","Y","N",20.59,150,20.49,20.94,22.09,10,{"$f":"IF(H2=\"\",\"\",ABS((J2-H2)*I2))","v":15.000000000000213},{"$f":"IF(H2=\"\",\"\",ABS((K2-H2)*I2))","v":52.500000000000213},{"$f":"IF(N2=\"\",\"\",(H2-K2)/(J2-H2))","v":3.4999999999999645},{"$f":"IF(N2=\"\",\"\",L2/N2)","v":1.4726666666666457}]
[]
[]
[]
[]
[]
[]
[]
[]
[]
[]
[]
[]
[]
[]
[]
[]
[]
[]
[]
[]
[]
[]
[]
[null,null,null,null,null,null,null,null,null,null,null,null,null,null,null,null,null,null,null,"Statistics"]
[null,null,null,null,null,null,null,null,null,null,null,null,null,null,null,null,null,null,null,null,"Week","Month","Year","Total"]
[null,null,null,null,null,null,null,null,null,null,null,null,null,null,null,null,null,null,null,"Losing Percentage",{"$f":"U29-1","v":-0.21590909090909083},{"$f":"V29-1","v":-0.21590909090909083},{"$f":"W29-1","v":-0.21590909090909083},-0.21590909090909083]
[null,null,null,null,null,null,null,null,null,null,null,null,null,null,null,null,null,null,null,"Winning Percentage",{"$f":"'Weekly Report'!F11","v":0.78409090909090917},{"$f":"'Weekly Report'!F11","v":0.78409090909090917},{"$f":"'Weekly Report'!F11","v":0.78409090909090917},{"$f":"'Weekly Report'!F11","v":0.78409090909090917}]
[null,null,null,null,null,null,null,null,null,null,null,null,null,null,null,null,null,null,null,"Total Gain/Loss ",{"$f":"SUM(Q1:Q191)","v":1.4726666666666457},{"$f":"SUM(Q1:Q187)","v":1.4726666666666457},{"$f":"SUM(Q1:Q470)","v":1.4726666666666457},{"$f":"SUM(Q2:Q175)","v":1.4726666666666457}]
[null,null,null,null,null,null,null,null,null,null,null,null,null,null,null,null,null,null,null,"Average Daily Gain/Loss ",{"$f":"IFERROR(AVERAGE(Q1:Q191),\"0.00\")","v":1.4726666666666457},{"$f":"IFERROR(AVERAGE(Q1:Q187),\"0.00\")","v":1.4726666666666457},{"$f":"IFERROR(AVERAGE(Q1:Q470),\"0.00\")","v":1.4726666666666457},{"$f":"AVERAGE(Q2:Q175)","v":1.4726666666666457}]
[null,null,null,null,null,null,null,null,null,null,null,null,null,null,null,null,null,null,null,"Average Win ",{"$f":"IFERROR(AVERAGEIF(Q1:Q190,\">0\"),\"0.00\")","v":1.4726666666666457},{"$f":"IFERROR(AVERAGEIF(Q1:Q187,\">0\"),\"0.00\")","v":1.4726666666666457},{"$f":"IFERROR(AVERAGEIF(Q1:Q470,\">0\"),\"0.00\")","v":1.4726666666666457},{"$f":"AVERAGEIF(Q2:Q175,\">0\")","v":1.4726666666666457}]
[null,null,null,null,null,null,null,null,null,null,null,null,null,null,null,null,null,null,null,"Average Loss ",{"$f":"IFERROR(AVERAGEIF(Q1:Q188,\"<0\"),\"0.00\")","v":"0.00"},{"$f":"IFERROR(AVERAGEIF(Q1:Q187,\"<0\"),\"0.00\")","v":"0.00"},{"$f":"IFERROR(AVERAGEIF(Q1:Q470,\"<0\"),\"0.00\")","v":"0.00"},{"$f":"AVERAGEIF(Q2:Q175,\"<0\")","v":{"$error":"#DIV/0!"}}]
[null,null,null,null,null,null,null,null,null,null,null,null,null,null,null,null,null,null,null,"Largest Gain ",{"$f":"MAX(Q1:Q191)","v":1.4726666666666457},{"$f":"MAX(Q1:Q187)","v":1.4726666666666457},{"$f":"MAX(Q1:Q470)","v":1.4726666666666457},{"$f":"MAX(Q2:Q175)","v":1.4726666666666457}]
[null,null,null,null,null,null,null,null,null,null,null,null,null,null,null,null,null,null,null,"Largest Loss ",{"$f":"MIN(Q1:Q189)","v":1.4726666666666457},{"$f":"MIN(Q1:Q187)","v":1.4726666666666457},{"$f":"MIN(Q1:Q470)","v":1.4726666666666457},{"$f":"MIN(Q2:Q175)","v":1.4726666666666457}]
[null,null,null,null,null,null,null,null,null,null,null,null,null,null,null,null,null,null,null,"Average Trade expectation ",{"$f":"(U29*U32)-(U28*U33)","v":1.1547045454545291},{"$f":"(V29*V32)-(V28*V33)","v":1.1547045454545291},{"$f":"(W29*W32)-(W28*W33)","v":1.1547045454545291},{"$f":"(X29*X32)-(X28*X33)","v":{"$error":"#DIV/0!"}}]
[null,null,null,null,null,null,null,null,null,null,null,null,null,null,null,null,null,null,null,"Profit Factor ",{"$f":"IFERROR(SUMIF(Q1:Q187,\">0\")/SUMIF(Q1:Q187,\"<0\"),\"0.00\")*-1","v":0},{"$f":"IFERROR(SUMIF(Q1:Q187,\">0\")/SUMIF(Q1:Q187,\"<0\"),\"0.00\")*-1","v":0},{"$f":"IFERROR(SUMIF(Q1:Q474,\">0\")/SUMIF(Q1:Q470,\"<0\"),\"0.00\")*-1","v":0},{"$f":"SUMIF(Q2:Q470,\">0\")/SUMIF(Q2:Q470,\"<0\")*-1","v":{"$error":"#DIV/0!"}}]
[null,null,null,null,null,null,null,null,null,null,null,null,null,null,null,null,null,null,null,"Percent Profitable",{"$f":"IFERROR(COUNTIF(Q1:Q189,\">0\")/COUNTA(Q1:Q189),\"0.00\")","v":0.25},{"$f":"COUNTIF(Q1:Q187,\">0\")/COUNTA(Q1:Q187)","v":0.5},{"$f":"COUNTIF(Q1:Q470,\">0\")/COUNTA(Q1:Q470)","v":5.2631578947368418E-2},{"$f":"COUNTIF(Q2:Q470,\">0\")/COUNTA(Q2:Q470)","v":5.5555555555555552E-2}]
[]
[]
[null,null,null,null,null,null,null,null,null,null,null,null,null,null,null,null,null,null,null,"Traded within Strategy"]
[null,null,null,null,null,null,null,null,null,null,null,null,null,null,null,null,null,null,null,null,"Week","Month","Year","Total"]
[null,null,null,null,null,null,null,null,null,null,null,null,null,null,null,null,null,null,null,"5 ORBO",{"$f":"COUNTIFS($E$1:$E$189,\"5 ORBO\",$F$1:$F$189,\"Y\",$G$1:$G$189,\"Y\")","v":0},{"$f":"COUNTIFS($E$1:$E$198,\"5 ORBO\",$F$1:$F$198,\"Y\",$G$1:$G$198,\"Y\")","v":0},{"$f":"COUNTIFS($E$1:$E$186,\"5 ORBO\",$F$1:$F$186,\"Y\",$G$1:$G$186,\"Y\")","v":0},{"$f":"COUNTIFS($E$2:$E$186,\"5 ORBO\",$F$2:$F$186,\"Y\",$G$2:$G$186,\"Y\")","v":0}]
[null,null,null,null,null,null,null,null,null,null,null,null,null,null,null,null,null,null,null,"5 ORBD",{"$f":"COUNTIFS($E$1:$E$189,\"5 ORBD\",$F$1:$F$189,\"Y\",$G$1:$G$189,\"Y\")","v":0},{"$f":"COUNTIFS($E$1:$E$198,\"5 ORBD\",$F$1:$F$198,\"Y\",$G$1:$G$198,\"Y\")","v":0},{"$f":"COUNTIFS($E$1:$E$186,\"5 ORBD\",$F$1:$F$186,\"Y\",$G$1:$G$186,\"Y\")","v":0},{"$f":"COUNTIFS($E$2:$E$186,\"5 ORBD\",$F$2:$F$186,\"Y\",$G$2:$G$186,\"Y\")","v":0}]
[null,null,null,null,null,null,null,null,null,null,null,null,null,null,null,null,null,null,null,"15 ORBO",{"$f":"COUNTIFS($E$1:$E$189,\"15 ORBO\",$F$1:$F$189,\"Y\",$G$1:$G$189,\"Y\")","v":0},{"$f":"COUNTIFS($E$1:$E$198,\"15 ORBO\",$F$1:$F$198,\"Y\",$G$1:$G$198,\"Y\")","v":0},{"$f":"COUNTIFS($E$1:$E$186,\"15 ORBO\",$F$1:$F$186,\"Y\",$G$1:$G$186,\"Y\")","v":0},{"$f":"COUNTIFS($E$2:$E$186,\"15 ORBO\",$F$2:$F$186,\"Y\",$G$2:$G$186,\"Y\")","v":0}]
[null,null,null,null,null,null,null,null,null,null,null,null,null,null,null,null,null,null,null,"15 ORBD",{"$f":"COUNTIFS($E$1:$E$189,\"15 ORBD\",$F$1:$F$189,\"Y\",$G$1:$G$189,\"Y\")","v":0},{"$f":"COUNTIFS($E$176:$E$198,\"15 ORBD\",$F$176:$F$198,\"Y\",$G$176:$G$198,\"Y\")","v":0},{"$f":"COUNTIFS($E$1:$E$186,\"15 ORBD\",$F$1:$F$186,\"Y\",$G$1:$G$186,\"Y\")","v":0},{"$f":"COUNTIFS($E$2:$E$186,\"15 ORBD\",$F$2:$F$186,\"Y\",$G$2:$G$186,\"Y\")","v":0}]
[null,null,null,null,null,null,null,null,null,null,null,null,null,null,null,null,null,null,null,"MA-X-L",{"$f":"COUNTIFS($E$1:$E$196,\"MA-X-L\",$F$1:$F$196,\"Y\",$G$1:$G$196,\"Y\")","v":0},{"$f":"COUNTIFS($E$1:$E$198,\"MA-X-L\",$F$1:$F$198,\"Y\",$G$1:$G$198,\"Y\")","v":0},{"$f":"COUNTIFS($E$1:$E$186,\"MA-X-L\",$F$1:$F$186,\"Y\",$G$1:$G$186,\"Y\")","v":0},{"$f":"COUNTIFS($E$2:$E$186,\"MA-X-L\",$F$2:$F$186,\"Y\",$G$2:$G$186,\"Y\")","v":0}]
[null,null,null,null,null,null,null,null,null,null,null,null,null,null,null,null,null,null,null,"MA-X-S",{"$f":"COUNTIFS($E$1:$E$193,\"MA-X-S\",$F$1:$F$193,\"Y\",$G$1:$G$193,\"Y\")","v":0},{"$f":"COUNTIFS($E$1:$E$198,\"MA-X-S\",$F$1:$F$198,\"Y\",$G$1:$G$198,\"Y\")","v":0},{"$f":"COUNTIFS($E$1:$E$186,\"MA-X-S\",$F$1:$F$186,\"Y\",$G$1:$G$186,\"Y\")","v":0},{"$f":"COUNTIFS($E$2:$E$186,\"MA-X-S\",$F$2:$F$186,\"Y\",$G$2:$G$186,\"Y\")","v":0}]
[]
[]
[null,null,null,null,null,null,null,null,null,null,null,null,null,null,null,null,null,null,null,"Traded Outside Strategy"]
[null,null,null,null,null,null,null,null,null,null,null,null,null,null,null,null,null,null,null,null,"Week","Month","Year","Total"]
[null,null,null,null,null,null,null,null,null,null,null,null,null,null,null,null,null,null,null,"5 ORBO",{"$f":"COUNTIFS($E$1:$E$189,\"5 ORBO\",$F$1:$F$189,\"Y\",$G$1:$G$189,\"N\")","v":0},{"$f":"COUNTIFS($E$1:$E$198,\"5 ORBO\",$F$1:$F$198,\"Y\",$G$1:$G$198,\"N\")","v":0},{"$f":"COUNTIFS($E$1:$E$186,\"5 ORBO\",$F$1:$F$186,\"Y\",$G$1:$G$186,\"N\")","v":0},{"$f":"COUNTIFS($E$2:$E$186,\"5 ORBO\",$F$2:$F$186,\"Y\",$G$2:$G$186,\"N\")","v":0}]
[null,null,null,null,null,null,null,null,null,null,null,null,null,null,null,null,null,null,null,"5 ORBD",{"$f":"COUNTIFS($E$1:$E$189,\"5 ORBD\",$F$1:$F$189,\"Y\",$G$1:$G$189,\"N\")","v":0},{"$f":"COUNTIFS($E$1:$E$198,\"5 ORBD\",$F$1:$F$198,\"Y\",$G$1:$G$198,\"N\")","v":0},{"$f":"COUNTIFS($E$1:$E$186,\"5 ORBD\",$F$1:$F$186,\"Y\",$G$1:$G$186,\"N\")","v":0},{"$f":"COUNTIFS($E$2:$E$186,\"5 ORBD\",$F$2:$F$186,\"Y\",$G$2:$G$186,\"N\")","v":0}]
[null,null,null,null,null,null,null,null,null,null,null,null,null,null,null,null,null,null,null,"15 ORBO",{"$f":"COUNTIFS($E$1:$E$189,\"15 ORBO\",$F$1:$F$189,\"Y\",$G$1:$G$189,\"N\")","v":1},{"$f":"COUNTIFS($E$1:$E$198,\"15 ORBO\",$F$1:$F$198,\"Y\",$G$1:$G$198,\"N\")","v":1},{"$f":"COUNTIFS($E$1:$E$186,\"15 ORBO\",$F$1:$F$186,\"Y\",$G$1:$G$186,\"N\")","v":1},{"$f":"COUNTIFS($E$2:$E$186,\"15 ORBO\",$F$2:$F$186,\"Y\",$G$2:$G$186,\"N\")","v":1}]
[null,null,null,null,null,null,null,null,null,null,null,null,null,null,null,null,null,null,null,"15 ORBD",{"$f":"COUNTIFS($E$1:$E$189,\"15 ORBD\",$F$1:$F$189,\"Y\",$G$1:$G$189,\"N\")","v":0},{"$f":"COUNTIFS($E$1:$E$198,\"15 ORBD\",$F$1:$F$198,\"Y\",$G$1:$G$198,\"N\")","v":0},{"$f":"COUNTIFS($E$1:$E$186,\"15 ORBD\",$F$1:$F$186,\"Y\",$G$1:$G$186,\"N\")","v":0},{"$f":"COUNTIFS($E$2:$E$186,\"15 ORBD\",$F$2:$F$186,\"Y\",$G$2:$G$186,\"N\")","v":0}]
[null,null,null,null,null,null,null,null,null,null,null,null,null,null,null,null,null,null,null,"MA-X-L",{"$f":"COUNTIFS($E$1:$E$193,\"MA-X-L\",$F$1:$F$193,\"Y\",$G$1:$G$193,\"N\")","v":0},{"$f":"COUNTIFS($E$1:$E$198,\"MA-X-L\",$F$1:$F$198,\"Y\",$G$1:$G$198,\"N\")","v":0},{"$f":"COUNTIFS($E$1:$E$186,\"MA-X-L\",$F$1:$F$186,\"Y\",$G$1:$G$186,\"N\")","v":0},{"$f":"COUNTIFS($E$2:$E$186,\"MA-X-L\",$F$2:$F$186,\"Y\",$G$2:$G$186,\"N\")","v":0}]
[null,null,null,null,null,null,null,null,null,null,null,null,null,null,null,null,null,null,null,"MA-X-L",{"$f":"COUNTIFS($E$1:$E$189,\"MA-X-S\",$F$1:$F$189,\"Y\",$G$1:$G$189,\"N\")","v":0},{"$f":"COUNTIFS($E$1:$E$198,\"MA-X-S\",$F$1:$F$198,\"Y\",$G$1:$G$198,\"N\")","v":0},{"$f":"COUNTIFS($E$1:$E$186,\"MA-X-S\",$F$1:$F$186,\"Y\",$G$1:$G$186,\"N\")","v":0},{"$f":"COUNTIFS($E$2:$E$186,\"MA-X-S\",$F$2:$F$186,\"Y\",$G$2:$G$186,\"N\")","v":0}]
[]
[]
[null,null,null,null,null,null,null,null,null,null,null,null,null,null,null,null,null,null,null,"Trade Log"]
[null,null,null,null,null,null,null,null,null,null,null,null,null,null,null,null,null,null,null,null,"Week","Month","Year","Total"]
[null,null,null,null,null,null,null,null,null,null,null,null,null,null,null,null,null,null,null,"5 ORBO",{"$f":"COUNTIFS($E$1:$E$189,\"5 ORBO\")","v":0},{"$f":"COUNTIFS($E$1:$E$198,\"5 ORBO\")","v":0},{"$f":"COUNTIFS($E$1:$E$186,\"5 ORBO\")","v":0},{"$f":"COUNTIFS($E$2:$E$186,\"5 ORBO\")","v":0}]
[null,null,null,null,null,null,null,null,null,null,null,null,null,null,null,null,null,null,null,"5 ORBD",{"$f":"COUNTIFS($E$1:$E$189,\"5 ORBD\")","v":0},{"$f":"COUNTIFS($E$1:$E$198,\"5 ORBD\")","v":0},{"$f":"COUNTIFS($E$1:$E$186,\"5 ORBD\")","v":0},{"$f":"COUNTIFS($E$2:$E$186,\"5 ORBD\")","v":0}]
[null,null,null,null,null,null,null,null,null,null,null,null,null,null,null,null,null,null,null,"15 ORBO",{"$f":"COUNTIFS($E$1:$E$189,\"15 ORBO\")","v":1},{"$f":"COUNTIFS($E$1:$E$198,\"15 ORBO\")","v":1},{"$f":"COUNTIFS($E$1:$E$186,\"15 ORBO\")","v":1},{"$f":"COUNTIFS($E$2:$E$186,\"15 ORBO\")","v":1}]
[null,null,null,null,null,null,null,null,null,null,null,null,null,null,null,null,null,null,null,"15 ORBD",{"$f":"COUNTIFS($E$1:$E$189,\"15 ORBD\")","v":0},{"$f":"COUNTIFS($E$1:$E$198,\"15 ORBD\")","v":0},{"$f":"COUNTIFS($E$1:$E$186,\"15 ORBD\")","v":0},{"$f":"COUNTIFS($E$2:$E$186,\"15 ORBD\")","v":0}]
[null,null,null,null,null,null,null,null,null,null,null,null,null,null,null,null,null,null,null,"MA-X-L",{"$f":"COUNTIFS($E$1:$E$196,\"MA-X-L\")","v":0},{"$f":"COUNTIFS($E$1:$E$198,\"MA-X-L\")","v":0},{"$f":"COUNTIFS($E$1:$E$186,\"MA-X-L\")","v":0},{"$f":"COUNTIFS($E$2:$E$186,\"MA-X-L\")","v":0}]
[null,null,null,null,null,null,null,null,null,null,null,null,null,null,null,null,null,null,null,"MA-X-S",{"$f":"COUNTIFS($E$1:$E$193,\"MA-X-S\")","v":0},{"$f":"COUNTIFS($E$1:$E$198,\"MA-X-S\")","v":0},{"$f":"COUNTIFS($E$1:$E$186,\"MA-X-S\")","v":0},{"$f":"COUNTIFS($E$2:$E$186,\"MA-X-S\")","v":0}]
[null,null,null,null,null,null,null,null,null,null,null,null,null,null,null,null,null,null,null,"V- Reversal",{"$f":"COUNTIFS($E$1:$E$193,\"V-Reversal\")","v":0},{"$f":"COUNTIFS($E$1:$E$198,\"V-Reversal\")","v":0},{"$f":"COUNTIFS($E$1:$E$186,\"V-Reversal\")","v":0},{"$f":"COUNTIFS($E$2:$E$186,\"V-Reversal\")","v":0}]
[null,null,null,null,null,null,null,null,null,null,null,null,null,null,null,null,null,null,null,"FOMO",{"$f":"COUNTIFS($E$1:$E$193,\"FOMO\")","v":0},{"$f":"COUNTIFS($E$1:$E$198,\"FOMO\")","v":0},{"$f":"COUNTIFS($E$1:$E$186,\"FOMO\")","v":0},{"$f":"COUNTIFS($E$2:$E$186,\"FOMO\")","v":0}]
[null,null,null,null,null,null,null,null,null,null,null,null,null,null,null,null,null,null,null,"Revenge",{"$f":"COUNTIFS($E$176:$E$189,\"Revenge\")","v":0},{"$f":"COUNTIFS($E$1:$E$198,\"Revenge\")","v":0},{"$f":"COUNTIFS($E$1:$E$186,\"Revenge\")","v":0},{"$f":"COUNTIFS($E$2:$E$186,\"Revenge\")","v":0}]
[null,null,null,null,null,null,null,null,null,null,null,null,null,null,null,null,null,null,null,"Total",{"$f":"SUM(U63:U71)","v":1},{"$f":"SUM(V63:V71)","v":1},1,1]
[]
[]
[]
[]
[]
[]
[]
[]
[]
[]
[]
[]
[]
[]
[]
[]
[]
[]
[]
[]
[]
[]
[]
[]
[]
[]
[]
[]
[]
[]
[]
[]
[]
[]
[]
[]
[]
[]
[]
[]
[]
[]
[]
[]
[]
[]
[]
[]
[]
[]
[]
[]
[]
[]
[]
[]
[]
[]
[]
[]
[]
[]
[]
[]
[]
[]
[]
[]
[]
[]
[]
[]
[]
[]
[]
[]
[]
[]
[]
[]
[]
[]
[]
[]
[]
[]
[]
[]
[]
[]
[]
[]
[]
[]
[]
[]
[]
[]
[]
[]
[]
[]
[]
[]
[]
[]
[]
[]
[]
[]
[]
[]
[]
[]
[]
[null,null,null,null,null,null,null,null,null,null,null,null,null,{"$f":"IF(H188=\"\",\"\",ABS((J188-H188)*I188))","v":""},{"$f":"IF(H188=\"\",\"\",ABS((K188-H188)*I188))","v":""},{"$f":"IF(N188=\"\",\"\",(H188-K188)/(J188-H188))","v":""},{"$f":"IF(N188=\"\",\"\",L188/N188)","v":""}]
[null,null,null,null,null,null,null,null,null,null,null,null,null,"","","",""]
[null,null,null,null,null,null,null,null,null,null,null,null,null,"","","",""]
[null,null,null,null,null,null,null,null,null,null,null,null,null,"","","",""]
[null,null,null,null,null,null,null,null,null,null,null,null,null,"","","",""]
[null,null,null,null,null,null,null,null,null,null,null,null,null,"","","",""]
[null,null,null,null,null,null,null,null,null,null,null,null,null,"","","",""]
[null,null,null,null,null,null,null,null,null,null,null,null,null,"","","",""]
[null,null,null,null,null,null,null,null,null,null,null,null,null,"","","",""]
[null,null,null,null,null,null,null,null,null,null,null,null,null,"","","",""]
[null,null,null,null,null,null,null,null,null,null,null,null,null,"","","",""]
[null,null,null,null,null,null,null,null,null,null,null,null,null,"","","",""]
[null,null,null,null,null,null,null,null,null,null,null,null,null,"","","",""]
[null,null,null,null,null,null,null,null,null,null,null,null,null,"","","",""]
[null,null,null,null,null,null,null,null,null,null,null,null,null,"","","",""]
[null,null,null,null,null,null,null,null,null,null,null,null,null,"","","",""]
[null,null,null,null,null,null,null,null,null,null,null,null,null,"","","",""]

{"sheet":"Profitability R's","index":6,"n_rows":53,"n_cols":18,"rows_kept":53,"cut":false,"hidden":false,"merged":[]}
["Date","Stock","Strategy","Met Edge","1R","2R","3R+","Back to 1R","1R","1.5R","2R +","Faith"]
["2019-11-05","AMD","15 ORBO","Yes","Yes","Yes","No","Yes",true,true,false,null,null,null,"Week","Month","Year","Total"]
[null,null,null,null,null,null,null,null,null,null,null,null,null,"Percentage of 1R",{"$f":"IFERROR(AVERAGEA($I$2:$I$10014),\"0%\")","v":1},{"$f":"IFERROR(AVERAGEA($I$2:$I$9998),\"0%\")","v":1},{"$f":"IFERROR(AVERAGEA($I$2:$I$9998),\"0%\")","v":1},{"$f":"IFERROR(AVERAGEA($I$2:$I$9998),\"0%\")","v":1}]
[null,null,null,null,null,null,null,null,null,null,null,null,null,"Percentage of 1.5R",{"$f":"IFERROR(AVERAGEA($J$2:$J$10014),\"0%\")","v":1},{"$f":"IFERROR(AVERAGEA($J$66:$J$9998),\"0%\")","v":"0%"},{"$f":"IFERROR(AVERAGEA($J2:$J$9998),\"0%\")","v":1},{"$f":"IFERROR(AVERAGEA($J$2:$J$9998),\"0%\")","v":1}]
[null,null,null,null,null,null,null,null,null,null,null,null,null,"Percentage of 2R +",{"$f":"IFERROR(AVERAGEA($K$2:$K$10014),\"0%\")","v":0},{"$f":"IFERROR(AVERAGEA($K$2:$K$9998),\"0%\")","v":0},{"$f":"IFERROR(AVERAGEA($K$2:$K$9998),\"0%\")","v":0},{"$f":"IFERROR(AVERAGEA($K$2:$K$9998),\"0%\")","v":0}]
[null,null,null,null,null,null,null,null,null,null,null,null,null,"Faith",{"$f":"IFERROR(AVERAGEA($L$2:$L$10014),\"0%\")","v":"0%"},{"$f":"IFERROR(AVERAGEA($L$2:$L$9998),\"0%\")","v":"0%"},{"$f":"IFERROR(AVERAGEA($L$2:$L$9998),\"0%\")","v":"0%"},{"$f":"IFERROR(AVERAGEA($L$2:$L$9998),\"0%\")","v":"0%"}]
[]
[]
[]
[]
[]
[]
[]
[]
[]
[]
[]
[]
[]
[]
[]
[]
[]
[]
[]
[]
[]
[]
[]
[]
[]
[]
[]
[]
[]
[]
[]
[]
[]
[]
[]
[]
[]
[]
[]
[]
[]
[]
[]
[]
[]
[]
[null,null,null,null,null,null,null,null,null,null,null,null,null,null," "]

{"sheet":"5 ORB Edge","index":7,"n_rows":14,"n_cols":46,"rows_kept":14,"cut":false,"hidden":false,"merged":[[0,3,3,20],[0,22,0,27],[0,29,0,33],[0,35,0,39]]}
[null,null,null,"5/15 Minute Open Range Breaks",null,null,null,null,null,null,null,null,null,null,null,null,null,null,null,null,null,null,"Total Trades",null,null,null,null,null,null,"Meet Edge",null,null,null,null,null,"Worked",null,null,null,null,null,null,"Week","Month","Year","Total"]
[null,null,null,null,null,null,null,null,null,null,null,null,null,null,null,null,null,null,null,null,null,null,null,"Day","Week","Month","Year","Total",null,"Day","Week","Month","Year","Total",null,"Day","Week","Month","Year","Total",null,"Win %",{"$f":"IFERROR(AK5/AE5,0)","v":0},{"$f":"IFERROR(AL5/AF5,0)","v":0},{"$f":"IFERROR(AM5/AG5,0)","v":0},{"$f":"AN5/AH5","v":1}]
[null,null,null,null,null,null,null,null,null,null,null,null,null,null,null,null,null,null,null,null,null,null,"ORBO",{"$f":"COUNTIF($C$628:$C$10002,\"5 ORBO\")","v":0},{"$f":"COUNTIF($C$623:$C$10010,\"5 ORBO\")","v":0},{"$f":"COUNTIF($C$607:$C$10000,\"5 ORBO\")","v":0},{"$f":"COUNTIF($C$607:$C$10000,\"5 ORBO\")","v":0},{"$f":"COUNTIF(C7:C100000,\"5 ORBO\")","v":5},null,{"$f":"COUNTIFS($C$623:$C$10001,\"5 ORBO\",$O$623:$O$10001,\"Y\")","v":0},{"$f":"COUNTIFS($C$623:$C$10010,\"5 ORBO\",$O$623:$O$10010,\"Y\")","v":0},{"$f":"COUNTIFS($C$607:$C$9999,\"5 ORBO\",$O$607:$O$9999,\"Y\")","v":0},{"$f":"COUNTIFS($C$607:$C$9999,\"5 ORBO\",$O$607:$O$9999,\"Y\")","v":0},{"$f":"COUNTIFS($C$7:$C$10000,\"5 ORBO\",$O$7:$O$10000,\"Y\")","v":0},null,{"$f":"COUNTIFS($C$623:$C$10001,\"5 ORBO\",$R$623:$R$10001,\"Y\")","v":0},{"$f":"COUNTIFS($C$623:$C$10009,\"5 ORBO\",$R$623:$R$10009,\"Y\")","v":0},{"$f":"COUNTIFS($C$607:$C$9999,\"5 ORBO\",$R$607:$R$9999,\"Y\")","v":0},{"$f":"COUNTIFS($C$607:$C$9999,\"5 ORBO\",$R$607:$R$9999,\"Y\")","v":0},{"$f":"COUNTIFS($C$7:$C$9999,\"5 ORBO\",$R$7:$R$9999,\"Y\")","v":0},null,"Loss %",{"$f":"(AQ2-1)*-1-1","v":0},{"$f":"(AR2-1)*-1-1","v":0},{"$f":"(AS2-1)*-1-1","v":0},{"$f":"(AT2-1)*-1","v":0}]
[null,null,null,null,null,null,null,null,null,null,null,null,null,null,null,null,null,null,null,null,null,null,"ORBD",{"$f":"COUNTIF($C$628:$C$10002,\"5 ORBD\")","v":0},{"$f":"COUNTIF($C$623:$C$10010,\"5 ORBD\")","v":0},{"$f":"COUNTIF($C$607:$C$10000,\"5 ORBD\")","v":0},{"$f":"COUNTIF($C$607:$C$10000,\"5 ORBD\")","v":0},{"$f":"COUNTIF(C7:C10000,\"5 ORBD\")","v":3},null,{"$f":"COUNTIFS($C$623:$C$10001,\"5 ORBD\",$O$623:$O$10001,\"Y\")","v":0},{"$f":"COUNTIFS($C$623:$C$10010,\"5 ORBD\",$O$623:$O$10010,\"Y\")","v":0},{"$f":"COUNTIFS($C$607:$C$9999,\"5 ORBD\",$O$607:$O$9999,\"Y\")","v":0},{"$f":"COUNTIFS($C$607:$C$9999,\"5 ORBO\",$O$607:$O$9999,\"Y\")","v":0},{"$f":"COUNTIFS($C$7:$C$9999,\"5 ORBD\",$O$7:$O$9999,\"Y\")","v":1},null,{"$f":"COUNTIFS($C$623:$C$10001,\"5 ORBD\",$R$623:$R$10001,\"Y\")","v":0},{"$f":"COUNTIFS($C$623:$C$10009,\"5 ORBD\",$R$623:$R$10009,\"Y\")","v":0},{"$f":"COUNTIFS($C$608:$C$9999,\"5 ORBD\",$R$608:$R$9999,\"Y\")","v":0},{"$f":"COUNTIFS($C$607:$C$9999,\"5 ORBO\",$R$607:$R$9999,\"Y\")","v":0},{"$f":"COUNTIFS($C$7:$C$9999,\"5 ORBD\",$R$7:$R$9999,\"Y\")","v":1}]
[null,null,null,null,"Risk","Indicators",null,null,null,null,null,"Confirm",null,null,"Analysis",null,null,null,"Profit Taking",null,null,null,"Total",{"$f":"SUM(X3:X4)","v":0},{"$f":"SUM(Y3:Y4)","v":0},{"$f":"SUM(Z3:Z4)","v":0},{"$f":"SUM(AA3:AA4)","v":0},{"$f":"SUM(AB3:AB4)","v":8},null,{"$f":"SUM(AD3:AD4)","v":0},{"$f":"SUM(AE3:AE4)","v":0},{"$f":"SUM(AF3:AF4)","v":0},{"$f":"SUM(AG3:AG4)","v":0},{"$f":"SUM(AH3:AH4)","v":1},null,{"$f":"SUM(AJ3:AJ4)","v":0},0,0,{"$f":"SUM(AM3:AM4)","v":0},{"$f":"SUM(AN3:AN4)","v":1}]
["Date","Stock","Strategy","Premarket Dir Down, Side, or Up","Meets Risk/Reward Ratios","Smaller than ATR","High Volume Small Shares","ORBU Above VWAP","ORBD Below VWAP","No large Candle or Wick","Close near VWAP","Direction is \"ꓥ\" or \"V\"","Rejection of VWAP","Breaks the previous 1 min candle open high/low","Did the Trade meet my Edge","Did I Take the Trade","Should I Have Taken the Trade","Did the Trade Work","Plan A","Plan B","1:1/Breakeven","Remarks",null,null,null," ",null,null,null,null,null,null,null,null,null,null,"."]
["2018-11-05","AMD","5 ORBD","N","S","X","X","D",null,"X",null,"X","X",null,"N","Y","N","G"]
["2018-11-05","CZR","5 ORBO","Y","S","X","X","S",null,null,"X","X",null,null,"N","N","N","N"]
["2018-11-06","AMD","5 ORBO","N","S","X","X","U","X",null,"X","X","X",null,"N","N","N","N"]
["2018-11-06","MYL","5 ORBO","N","S","X","X","U","X",null,"X",null,null,null,"N","N","N","N"]
["2018-11-06","SUM","5 ORBO","Y","S","X","X","S","X",null,"X","X","N",null,"N","N","N","G"]
["2018-11-07","AMD","5 ORBO","N","S","X","X","U","X",null,null,null,"Y",null,"N","Y","N","N"]
["2018-11-07","KORS","5 ORBD","N","D","X","X","D",null,"X",null,null,null,null,"N","N","N","N",null,null,null,"SSR"]
["2018-11-07","Z","5 ORBD","Y","D","X","X","D",null,"X","X","X",null,null,"Y","N","Y","Y",null,null,null,"SSR"]

{"sheet":"15 ORB Edge","index":8,"n_rows":20,"n_cols":46,"rows_kept":20,"cut":false,"hidden":false,"merged":[[0,3,3,20],[0,22,0,27],[0,29,0,33],[0,35,0,39]]}
[null,null,null,"5/15 Minute Open Range Breaks",null,null,null,null,null,null,null,null,null,null,null,null,null,null,null,null,null,null,"Total Trades",null,null,null,null,null,null,"Meet Edge",null,null,null,null,null,"Worked",null,null,null,null,null,null,"Week","Monthly","Year","Total"]
[null,null,null,null,null,null,null,null,null,null,null,null,null,null,null,null,null,null,null,null,null,null,null,"Day","Week","Month","Year","Total",null,"Day","Week","Month","Year","Total",null,"Day","Week","Month","Year","Total",null,"Win %",{"$f":"IFERROR(AK5/AE5,0)","v":0},{"$f":"IFERROR(AL5/AF5,0)","v":0},{"$f":"IFERROR(AM5/AG5,0)","v":0},{"$f":"AN5/AH5","v":0.8}]
[null,null,null,null,null,null,null,null,null,null,null,null,null,null,null,null,null,null,null,null,null,null,"ORBO",{"$f":"COUNTIF($C$629:$C$10000,\"15 ORBO\")","v":0},{"$f":"COUNTIF($C$624:$C$10000,\"15 ORBO\")","v":0},{"$f":"COUNTIF($C$608:$C$10000,\"15 ORBO\")","v":0},{"$f":"COUNTIF($C$608:$C$10000,\"15 ORBO\")","v":0},{"$f":"COUNTIF(C7:C100000,\"15 ORBO\")","v":6},null,{"$f":"COUNTIFS($C$621:$C$9999,\"15 ORBO\",$O$621:$O$9999,\"Y\")","v":0},{"$f":"COUNTIFS($C$624:$C$9999,\"15 ORBO\",$O$624:$O$9999,\"Y\")","v":0},{"$f":"COUNTIFS($C$608:$C$9999,\"15 ORBO\",$O$608:$O$9999,\"Y\")","v":0},{"$f":"COUNTIFS($C$608:$C$9999,\"15 ORBO\",$O$608:$O$9999,\"Y\")","v":0},{"$f":"COUNTIFS($C$7:$C$9999,\"15 ORBO\",$O$7:$O$9999,\"Y\")","v":3},null,{"$f":"COUNTIFS($C$624:$C$9999,\"15 ORBO\",$R$624:$R$9999,\"Y\")","v":0},{"$f":"COUNTIFS($C$624:$C$9999,\"15 ORBO\",$R$624:$R$9999,\"Y\")","v":0},{"$f":"COUNTIFS($C$608:$C$9999,\"15 ORBO\",$R$608:$R$9999,\"Y\")","v":0},{"$f":"COUNTIFS($C$608:$C$9999,\"15 ORBO\",$R$608:$R$9999,\"Y\")","v":0},{"$f":"COUNTIFS($C$7:$C$9999,\"15 ORBO\",$R$7:$R$9999,\"Y\")","v":3},null,"Loss %",{"$f":"(AQ2-1)*-1-1","v":0},{"$f":"(AR2-1)*-1-1","v":0},{"$f":"(AS2-1)*-1-1","v":0},{"$f":"(AT2-1)*-1","v":0.19999999999999996}]
[null,null,null,null,null,null,null,null,null,null,null,null,null,null,null,null,null,null,null,null,null,null,"ORBD",{"$f":"COUNTIF($C$629:$C$10000,\"15 ORBD\")","v":0},{"$f":"COUNTIF($C$624:$C$10000,\"15 ORBD\")","v":0},{"$f":"COUNTIF($C$608:$C$10000,\"15 ORBD\")","v":0},{"$f":"COUNTIF($C$608:$C$10000,\"15 ORBO\")","v":0},{"$f":"COUNTIF(C7:C10000,\"15 ORBD\")","v":8},null,{"$f":"COUNTIFS($C$621:$C$9999,\"15 ORBD\",$O$621:$O$9999,\"Y\")","v":0},{"$f":"COUNTIFS($C$624:$C$9999,\"15 ORBD\",$O$624:$O$9999,\"Y\")","v":0},{"$f":"COUNTIFS($C$608:$C$9999,\"15 ORBD\",$O$608:$O$9999,\"Y\")","v":0},{"$f":"COUNTIFS($C$608:$C$9999,\"15 ORBO\",$O$608:$O$9999,\"Y\")","v":0},{"$f":"COUNTIFS($C$7:$C$9999,\"15 ORBD\",$O$7:$O$9999,\"Y\")","v":2},null,{"$f":"COUNTIFS($C$624:$C$9999,\"15 ORBD\",$R$624:$R$9999,\"Y\")","v":0},{"$f":"COUNTIFS($C$624:$C$9999,\"15 ORBD\",$R$624:$R$9999,\"Y\")","v":0},{"$f":"COUNTIFS($C$608:$C$9999,\"15 ORBD\",$R$608:$R$9999,\"Y\")","v":0},{"$f":"COUNTIFS($C$608:$C$9999,\"15 ORBO\",$R$608:$R$9999,\"Y\")","v":0},{"$f":"COUNTIFS($C$7:$C$9999,\"15 ORBD\",$R$7:$R$9999,\"Y\")","v":1}]
[null,null,null,null,"Risk","Indicators",null,null,null,null,null,"Confirm",null,null,"Analysis",null,null,null,"Profit Taking",null,null,null,"Total",{"$f":"SUM(X3:X4)","v":0},{"$f":"SUM(Y3:Y4)","v":0},{"$f":"SUM(Z3:Z4)","v":0},{"$f":"SUM(AA3:AA4)","v":0},{"$f":"SUM(AB3:AB4)","v":14},null,{"$f":"SUM(AD3:AD4)","v":0},{"$f":"SUM(AE3:AE4)","v":0},{"$f":"SUM(AF3:AF4)","v":0},{"$f":"SUM(AG3:AG4)","v":0},{"$f":"SUM(AH3:AH4)","v":5},null,{"$f":"SUM(AJ3:AJ4)","v":0},{"$f":"SUM(AK3:AK4)","v":0},0,0,{"$f":"SUM(AN3:AN4)","v":4}]
["Date","Stock","Strategy","Premarket Dir Down, Side, or Up","Meets Risk/Reward Ratios","Smaller than ATR","High Volume Small Shares","ORBU Above VWAP","ORBD Below VWAP","No large Candle or Wick","Close near VWAP","Direction is \"ꓥ\" or \"V\"","Rejection of VWAP","Breaks the previous 1 min candle open high/low","Did the Trade meet my Edge","Did I Take the Trade","Should I Have Taken the Trade","Did the Trade Work","Plan A","Plan B","1:1/Breakeven","Remarks",null," ",null,null,null," ",null," ",null,null,null,null," "]
["2018-11-05","AMD","15 ORBD","N","S","X","X","D",null,"X",null,null,"X",null,"N","N","N","N"]
["2018-11-05","CZR","15 ORBD","Y","D","X","X","D",null,"X","X","X",null,null,"N","N","N","N"]
["2018-11-06","AMD","15 ORBO","Y","S","X","X","C","X",null,"X","X","X",null,"Y","N","Y","Y"]
["2018-11-06","MYL","15 ORBO","N","S","X","X","U",null,null,null,null,null,null,"N","N","N","N"]
["2018-11-06","SUM","15 ORBO","Y","U","X","X","U","X",null,"X","X","X",null,"Y","N","Y","Y"]
["2018-11-07","AMD","15 ORBO","Y","U","X","X","C","X",null,null,"X","X",null,"Y","N","Y","Y"]
["2018-11-07","KORS","15 ORBD","N","D","X","X","D",null,"X",null,null,null,null,"N","Y","N","N",null,null,null,"SSR"]
["2018-11-07","Z","15 ORBD","N","S","X","X","D",null,"X","X",null,null,null,"N","N","N","N",null,null,null,"SSR"]
["2018-11-08","CTRP","15 ORBD","Y","D","X","X","D",null,"X",null,"X","X",null,"Y","Y","N","Y",null,null,null,"SSR"]
["2018-11-08","MNST","15 ORBO","N","S",null,"X","S","X",null,null,null,null,null,"N","N","N","G"]
["2018-11-08","COMM","15 ORBD","N","D","X","X","D",null,"X",null,null,"X",null,"N","N","N","G"]
["2018-11-09","HTZ","15 ORBD","Y","S","X","X","S",null,"X",null,"X","X",null,"Y","N","Y","N"]
["2018-11-09","DBX","15 ORBD","N","S",null,"X","C",null,"X",null,"X",null,null,"N","N","N","N"]
["2018-11-09","YELP","15 ORBO","N",null,null,"X","U","X",null,null,null,"X",null,"N","N","N","N"]

{"sheet":"MA Edge","index":9,"n_rows":775,"n_cols":50,"rows_kept":775,"cut":false,"hidden":false,"merged":[[0,33,0,37],[0,39,0,43],[0,26,0,31],[0,3,3,23],[4,5,4,7],[4,8,4,11],[4,12,4,15],[4,21,4,23],[4,17,4,20]]}
[" ",null,null,"Moving Average Cross Over/Price Level Breakout",null,null,null,null,null,null,null,null,null,null,null,null,null,null,null,null,null,null,null,null,null,null,"Total Trades",null,null,null,null,null,null,"Meet Edge",null,null,null,null,null,"Worked",null,null,null,null,null,null,"Week","Month","Year","Total"]
[null,null,null,null,null,null,null,null,null,null,null,null,null,null,null,null,null,null,null,null,null,null,null,null,null,null,null,"Day","Week","Month","Year","Total",null,"Day","Week","Month","Year","Total",null,"Day","Week","Month","Year","Total",null,"Win %",{"$f":"IFERROR(AO5/AI5,0)","v":0},{"$f":"IFERROR(AP5/AJ5,0)","v":0},{"$f":"IFERROR(AQ5/AK5,0)","v":0},{"$f":"AR5/AL5","v":0.66666666666666663}]
[null,null,null,null,null,null,null,null,null,null,null,null,null,null,null,null,null,null,null,null,null,null,null,null,null,null,"MA-X-L",{"$f":"COUNTIF($C$127:$C$9998,\"MA-X-L\")","v":0},{"$f":"COUNTIF($C$120:$C$9998,\"MA-X-L\")","v":0},{"$f":"COUNTIF($C$96:$C$9998,\"MA-X-L\")","v":0},{"$f":"COUNTIF($C$96:$C$9998,\"MA-X-L\")","v":0},{"$f":"COUNTIF(C7:C99998,\"MA-X-L\")","v":6},null,{"$f":"COUNTIFS($C$127:$C$9997,\"MA-X-L\",$R$127:$R$9997,\"Y\")","v":0},{"$f":"COUNTIFS($C$120:$C$9997,\"MA-X-L\",$R$120:$R$9997,\"Y\")","v":0},{"$f":"COUNTIFS($C$96:$C$9997,\"MA-X-L\",$R$96:$R$9997,\"Y\")","v":0},{"$f":"COUNTIFS($C$96:$C$9997,\"MA-X-L\",$R$96:$R$9997,\"Y\")","v":0},{"$f":"COUNTIFS($C$7:$C$9997,\"MA-X-L\",$R$7:$R$9997,\"Y\")","v":2},null,{"$f":"COUNTIFS($C$127:$C$9997,\"MA-X-L\",$U$127:$U$9997,\"Y\")","v":0},{"$f":"COUNTIFS($C$120:$C$9997,\"MA-X-L\",$U$120:$U$9997,\"Y\")","v":0},{"$f":"COUNTIFS($C$96:$C$9997,\"MA-X-L\",$U$96:$U$9997,\"Y\")","v":0},{"$f":"COUNTIFS($C$96:$C$9997,\"MA-X-L\",$U$96:$U$9997,\"Y\")","v":0},{"$f":"COUNTIFS($C$7:$C$9997,\"MA-X-L\",$U$7:$U$9997,\"Y\")","v":1},null,"Loss %",{"$f":"(AU2-1)*-1","v":1},{"$f":"(AV2-1)","v":-1},{"$f":"(AW2-1)","v":-1},{"$f":"(AX2-1)*-1","v":0.33333333333333337}]
[null,null,null,null,null,null,null,null,null,null,null,null,null,null,null,null,null,null,null,null,null,null,null,null,null,null,"MA-X-S",{"$f":"COUNTIF($C$127:$C$9998,\"MA-X-S\")","v":0},{"$f":"COUNTIF($C$120:$C$9998,\"MA-X-S\")","v":0},{"$f":"COUNTIF($C$96:$C$9998,\"MA-X-S\")","v":0},{"$f":"COUNTIF($C$96:$C$9998,\"MA-X-L\")","v":0},{"$f":"COUNTIF(C7:C9998,\"MA-X-S\")","v":3},null,{"$f":"COUNTIFS($C$127:$C$9997,\"MA-X-S\",$R$127:$R$9997,\"Y\")","v":0},{"$f":"COUNTIFS($C$120:$C$9997,\"MA-X-S\",$R$120:$R$9997,\"Y\")","v":0},{"$f":"COUNTIFS($C$96:$C$9997,\"MA-X-S\",$R$96:$R$9997,\"Y\")","v":0},{"$f":"COUNTIFS($C$96:$C$9997,\"MA-X-L\",$R$96:$R$9997,\"Y\")","v":0},{"$f":"COUNTIFS($C$7:$C$9997,\"MA-X-S\",$R$7:$R$9997,\"Y\")","v":1},null,{"$f":"COUNTIFS($C$127:$C$9997,\"MA-X-S\",$U$127:$U$9997,\"Y\")","v":0},{"$f":"COUNTIFS($C$120:$C$9997,\"MA-X-S\",$U$120:$U$9997,\"Y\")","v":0},{"$f":"COUNTIFS($C$96:$C$9997,\"MA-X-S\",$U$96:$U$9997,\"Y\")","v":0},{"$f":"COUNTIFS($C$96:$C$9997,\"MA-X-L\",$U$96:$U$9997,\"Y\")","v":0},{"$f":"COUNTIFS($C$7:$C$9997,\"MA-X-S\",$U$7:$U$9997,\"Y\")","v":1}]
[null,null,null,"Pre","Risk","Scan",null,null,"Indicators",null,null,null,"Confirmations",null,null,null,"En","Analysis",null,null,null,"Profit Taking",null,null,null,null,"Total",{"$f":"SUM(AB3:AB4)","v":0},{"$f":"SUM(AC3:AC4)","v":0},{"$f":"SUM(AD3:AD4)","v":0},{"$f":"SUM(AE3:AE4)","v":0},{"$f":"SUM(AF3:AF4)","v":9},null,{"$f":"SUM(AH3:AH4)","v":0},{"$f":"SUM(AI3:AI4)","v":0},{"$f":"SUM(AJ3:AJ4)","v":0},{"$f":"SUM(AK3:AK4)","v":0},{"$f":"SUM(AL3:AL4)","v":3},null,{"$f":"SUM(AN3:AN4)","v":0},{"$f":"SUM(AO3:AO4)","v":0},{"$f":"SUM(AP3:AP4)","v":0},{"$f":"SUM(AQ3:AQ4)","v":0},{"$f":"SUM(AR3:AR4)","v":2}]
["Date","Stock","Strategy","Premarket Dir Down, Side, or Up","Meets Risk/Reward Ratios","Failed to make a new 15 minute High/Low","Failed to make a new 5 Minute High/Low","Is at HOD/LOD, .00/.50, Support/Resistance","9 crossing the 20 on the 1 minute","9/20 EMA sloping to cross 50 SMA on 1 & 2 Minute","50 SMA on 1 minute is Semi-flat","50 SMA slopes are the same","Has a 5 minute setup","Has a 15 minute setup","MAs are below/above entry point","Consolidated Volume with 3 touches","Breaks 3 Touches","Did the Trade meet my Edge","Did I Take the Trade","Should I Have Taken the Trade","Did the Trade Work","Plan A","Plan B","1:1/Breakeven","Time","Remarks"]
["2019-10-07","ROKU","MA-X-L","S","Y","X","X","X","X",null,null,"X","X","X",null,"X",null,"N","N","N","G","P",null,"Y",1130]
["2019-10-07","MFST","MA-X-L","S","Y",null,"X","X","X","X",null,null,"X",null,null,null,null,"N","N","N","G","P",null,"Y",1208]
["2019-10-07","UBER","MA-X-L","U","Y",null,"X","X","X","X","X","X","X",null,"X",null,"X","N","N","N","N",null,null,null,"1158"]
["2019-10-09","NVDA","MA-X-S","S","Y","X","X","X","X","X",null,"X","X",null,null,"X","X","N","N","N","G","P",null,"Y","0713"]
["2019-10-09","MSFT","MA-X-S","S","Y","X","X","X","X","X",null,"X","X",null,null,"X","X","N","N","N","G","P",null,"Y",""]
["2019-10-10","MSFT","MA-X-L","S","N","X","X",null,"X",null,null,"X","X",null,null,null,null,"N","N","N","N",null,null,null,"0708"]
["2019-10-10","JD","MA-X-S","S","Y","X","X","X","X","X",null,"X","X","X",null,"X","X","Y","N","N","Y","Y","P","Y","0730"]
["2019-10-10","AMD","MA-X-L","S","Y","X","X","X","X","X",null,"X","X","X",null,"X","X","Y","N","N","Y","P",null,"Y",null,null," "]
["2019-10-10","MU","MA-X-L","S","Y",null,"X",null,"X","X","X","X","X","X",null,"X","X","Y","N","N","N"]
[]
[]
[]
[]
[]
[]
[]
[]
[]
[]
[]
[]
[]
[]
[]
[]
[]
[]
[]
[]
[]
[]
[]
[]
[]
[]
[]
[]
[]
[]
[]
[]
[]
[]
[]
[]
[]
[]
[]
[]
[]
[]
[]
[]
[]
[]
[]
[]
[]
[]
[]
[]
[]
[]
[]
[]
[]
[]
[]
[]
[]
[]
[]
[]
[]
[]
[]
[]
[]
[]
[]
[]
[]
[]
[]
[]
[]
[]
[]
[]
[]
[]
[]
[]
[]
[]
[]
[]
[]
[]
[]
[]
[]
[]
[]
[]
[]
[]
[]
[]
[]
[]
[]
[]
[]
[]
[]
[]
[]
[]
[]
[]
[]
[]
[]
[]
[]
[]
[]
[]
[]
[]
[]
[]
[]
[]
[]
[]
[]
[]
[]
[]
[]
[]
[]
[]
[]
[]
[]
[]
[]
[]
[]
[]
[]
[]
[]
[]
[]
[]
[]
[]
[]
[]
[]
[]
[]
[]
[]
[]
[]
[]
[]
[]
[]
[]
[]
[]
[]
[]
[]
[]
[]
[]
[]
[]
[]
[]
[]
[]
[]
[]
[]
[]
[]
[]
[]
[]
[]
[]
[]
[]
[]
[]
[]
[]
[]
[]
[]
[]
[]
[]
[]
[]
[]
[]
[]
[]
[]
[]
[]
[]
[]
[]
[]
[]
[]
[]
[]
[]
[]
[]
[]
[]
[]
[]
[]
[]
[]
[]
[]
[]
[]
[]
[]
[]
[]
[]
[]
[]
[]
[]
[]
[]
[]
[]
[]
[]
[]
[]
[]
[]
[]
[]
[]
[]
[]
[]
[]
[]
[]
[]
[]
[]
[]
[]
[]
[]
[]
[]
[]
[]
[]
[]
[]
[]
[]
[]
[]
[]
[]
[]
[]
[]
[]
[]
[]
[]
[]
[]
[]
[]
[]
[]
[]
[]
[]
[]
[]
[]
[]
[]
[]
[]
[]
[]
[]
[]
[]
[]
[]
[]
[]
[]
[]
[]
[]
[]
[]
[]
[]
[]
[]
[]
[]
[]
[]
[]
[]
[]
[]
[]
[]
[]
[]
[]
[]
[]
[]
[]
[]
[]
[]
[]
[]
[]
[]
[]
[]
[]
[]
[]
[]
[]
[]
[]
[]
[]
[]
[]
[]
[]
[]
[]
[]
[]
[]
[]
[]
[]
[]
[]
[]
[]
[]
[]
[]
[]
[]
[]
[]
[]
[]
[]
[]
[]
[]
[]
[]
[]
[]
[]
[]
[]
[]
[]
[]
[]
[]
[]
[]
[]
[]
[]
[]
[]
[]
[]
[]
[]
[]
[]
[]
[]
[]
[]
[]
[]
[]
[]
[]
[]
[]
[]
[]
[]
[]
[]
[]
[]
[]
[]
[]
[]
[]
[]
[]
[]
[]
[]
[]
[]
[]
[]
[]
[]
[]
[]
[]
[]
[]
[]
[]
[]
[]
[]
[]
[]
[]
[]
[]
[]
[]
[]
[]
[]
[]
[]
[]
[]
[]
[]
[]
[]
[]
[]
[]
[]
[]
[]
[]
[]
[]
[]
[]
[]
[]
[]
[]
[]
[]
[]
[]
[]
[]
[]
[]
[]
[]
[]
[]
[]
[]
[]
[]
[]
[]
[]
[]
[]
[]
[]
[]
[]
[]
[]
[]
[]
[]
[]
[]
[]
[]
[]
[]
[]
[]
[]
[]
[]
[]
[]
[]
[]
[]
[]
[]
[]
[]
[]
[]
[]
[]
[]
[]
[]
[]
[]
[]
[]
[]
[]
[]
[]
[]
[]
[]
[]
[]
[]
[]
[]
[]
[]
[]
[]
[]
[]
[]
[]
[]
[]
[]
[]
[]
[]
[]
[]
[]
[]
[]
[]
[]
[]
[]
[]
[]
[]
[]
[]
[]
[]
[]
[]
[]
[]
[]
[]
[]
[]
[]
[]
[]
[]
[]
[]
[]
[]
[]
[]
[]
[]
[]
[]
[]
[]
[]
[]
[]
[]
[]
[]
[]
[]
[]
[]
[]
[]
[]
[]
[]
[]
[]
[]
[]
[]
[]
[]
[]
[]
[]
[]
[]
[]
[]
[]
[]
[]
[]
[]
[]
[]
[]
[]
[]
[]
[]
[]
[]
[]
[]
[]
[]
[]
[]
[]
[]
[]
[]
[]
[]
[]
[]
[]
[]
[]
[]
[]
[]
[]
[]
[]
[]
[]
[]
[]
[]
[]
[]
[]
[]
[]
[]
[]
[]
[]
[]
[]
[]
[]
[]
[]
[]
[]
[]
[]
[]
[]
[]
[]
[]
[]
[]
[]
[]
[]
[]
[]
[]
[]
[]
[]
[]
[]
[]
[]
[]
[]
[]
[]
[]
[]
[]
[]
[]
[]
[]
[]
[]
[]
[]
[]
[]
[]
[]
[]
[]
[]
[]
[]
[]
[]
[]
[]
[]
[]
[]
[]
[]
[null,null,null,null,null,null,null," "]

{"sheet":"Calendar","index":10,"n_rows":167,"n_cols":11,"rows_kept":167,"cut":false,"hidden":false,"merged":[[125,3,125,7],[138,3,138,7],[54,3,54,7],[55,3,55,7],[68,3,68,7],[69,3,69,7],[82,3,82,7],[96,3,96,7],[1,10,2,20],[97,3,97,7],[110,3,110,7],[111,3,111,7],[124,3,124,7],[12,3,12,7],[13,3,13,7],[26,3,26,7],[27,3,27,7],[40,3,40,7],[41,3,41,7],[83,3,83,7],[139,3,139,7],[152,3,152,7],[153,3,153,7],[166,3,166,7],[167,3,167,7]]}
[null,2020,"January",null,null,null,null,null,null,null,"Instructions: click on and read the comments in cell B1 and C1."]
[null,{"$f":"UPPER(TEXT(B3,\"dddd\"))","v":"MONDAY"},{"$f":"UPPER(TEXT(C3,\"dddd\"))","v":"TUESDAY"},"WEDNESDAY","THURSDAY","FRIDAY","SATURDAY","SUNDAY",null,null,"You can use this calendar to track your daily and weekly profits. See the entries in May and June 2018 as examples."]
[null,"2018-12-31","2019-01-01","2020-01-01","2020-01-02","2020-01-03","2020-01-04","2020-01-05"]
[]
[null,"2020-01-06","2020-01-07","2020-01-08","2020-01-09","2020-01-10","2020-01-11","2020-01-12"]
[]
[null,"2020-01-13","2020-01-14","2020-01-15","2020-01-16","2020-01-17","2020-01-18","2020-01-19"]
[]
[null,"2020-01-20","2020-01-21","2020-01-22","2020-01-23","2020-01-24","2020-01-25","2020-01-26"]
[]
[null,"2020-01-27","2020-01-28","2020-01-29","2020-01-30","2020-01-31"]
[]
[null,null,null,"Notes:"]
[]
[null,{"$f":"Calendar1Year","v":2020},"February"]
[null,{"$f":"UPPER(TEXT(B17,\"dddd\"))","v":"MONDAY"},{"$f":"UPPER(TEXT(C17,\"dddd\"))","v":"TUESDAY"},"WEDNESDAY","THURSDAY","FRIDAY","SATURDAY","SUNDAY"]
[null,"2019-01-28","2019-01-29","2019-01-30","2019-01-31","2019-02-01","2019-02-02","2019-02-03"]
[]
[null,"2019-02-04","2019-02-05","2019-02-06","2019-02-07","2019-02-08","2019-02-09","2019-02-10"]
[]
[null,"2019-02-11","2019-02-12","2019-02-13","2019-02-14","2019-02-15","2019-02-16","2019-02-17"]
[]
[null,"2019-02-18","2019-02-19","2019-02-20","2019-02-21","2019-02-22","2019-02-23","2019-02-24"]
[null,"Market Closed"]
[null,"2019-02-25","2019-02-26","2019-02-27","2019-02-28","2019-03-01","2019-03-02","2019-03-03"]
[]
[null,null,null,"Notes:"]
[]
[null,{"$f":"Calendar1Year","v":2020},"March"]
[null,{"$f":"UPPER(TEXT(B31,\"dddd\"))","v":"MONDAY"},{"$f":"UPPER(TEXT(C31,\"dddd\"))","v":"TUESDAY"},"WEDNESDAY","THURSDAY","FRIDAY","SATURDAY","SUNDAY"]
[null,"2019-02-25","2019-02-26","2019-02-27","2019-02-28","2019-03-01","2019-03-02","2019-03-03"]
[]
[null,"2019-03-04","2019-03-05","2019-03-06","2019-03-07","2019-03-08","2019-03-09","2019-03-10"]
[]
[null,"2019-03-11","2019-03-12","2019-03-13","2019-03-14","2019-03-15","2019-03-16","2019-03-17"]
[]
[null,"2019-03-18","2019-03-19","2019-03-20","2019-03-21","2019-03-22","2019-03-23","2019-03-24"]
[]
[null,"2019-03-25","2019-03-26","2019-03-27","2019-03-28","2019-03-29","2019-03-30","2019-03-31"]
[]
[null,null,null,"Notes:"]
[]
[null,{"$f":"Calendar1Year","v":2020},"April"]
[null,{"$f":"UPPER(TEXT(B45,\"dddd\"))","v":"MONDAY"},{"$f":"UPPER(TEXT(C45,\"dddd\"))","v":"TUESDAY"},"WEDNESDAY","THURSDAY","FRIDAY","SATURDAY","SUNDAY"]
[null,"2019-04-01","2019-04-02","2019-04-03","2019-04-04","2019-04-05","2019-04-06","2019-04-07"]
[]
[null,"2019-04-08","2019-04-09","2019-04-10","2019-04-11","2019-04-12","2019-04-13","2019-04-14"]
[]
[null,"2019-04-15","2019-04-16","2019-04-17","2019-04-18","2019-04-19","2019-04-20","2019-04-21"]
[]
[null,"2019-04-22","2019-04-23","2019-04-24","2019-04-25","2019-04-26","2019-04-27","2019-04-28"]
[]
[null,"2019-04-29","2019-04-30","2019-05-01","2019-05-02","2019-05-03","2019-05-04","2019-05-05"]
[]
[null,null,null,"Notes:"]
[]
[null,{"$f":"Calendar1Year","v":2020},"May"]
[null,{"$f":"UPPER(TEXT(B59,\"dddd\"))","v":"MONDAY"},{"$f":"UPPER(TEXT(C59,\"dddd\"))","v":"TUESDAY"},"WEDNESDAY","THURSDAY","FRIDAY","SATURDAY","SUNDAY"]
[null,"2019-04-29","2019-04-30","2019-05-01","2019-05-02","2019-05-03","2019-05-04","2019-05-05"]
[]
[null,"2019-05-06","2019-05-07","2019-05-08","2019-05-09","2019-05-10","2019-05-11","2019-05-12"]
[]
[null,"2019-05-13","2019-05-14","2019-05-15","2019-05-16","2019-05-17","2019-05-18","2019-05-19"]
[]
[null,"2019-05-20","2019-05-21","2019-05-22","2019-05-23","2019-05-24","2019-05-25","2019-05-26"]
[]
[null,"2019-05-27","2019-05-28","2019-05-29","2019-05-30","2019-05-31","2019-06-01","2019-06-02"]
[null,"Market Closed"]
[null,null,null,"Notes:"]
[]
[null,{"$f":"Calendar1Year","v":2020},"June"]
[null,{"$f":"UPPER(TEXT(B73,\"dddd\"))","v":"MONDAY"},{"$f":"UPPER(TEXT(C73,\"dddd\"))","v":"TUESDAY"},"WEDNESDAY","THURSDAY","FRIDAY","SATURDAY","SUNDAY"]
[null,"2019-05-27","2019-05-28","2019-05-29","2019-05-30","2019-05-31","2019-06-01","2019-06-02"]
[]
[null,"2019-06-03","2019-06-04","2019-06-05","2019-06-06","2019-06-07","2019-06-08","2019-06-09"]
[]
[null,"2019-06-10","2019-06-11","2019-06-12","2019-06-13","2019-06-14","2019-06-15","2019-06-16"]
[]
[null,"2019-06-17","2019-06-18","2019-06-19","2019-06-20","2019-06-21","2019-06-22","2019-06-23"]
[]
[null,"2019-06-24","2019-06-25","2019-06-26","2019-06-27","2019-06-28","2019-06-29","2019-06-30"]
[]
[null,null,null,"Notes:"]
[]
[null,{"$f":"Calendar1Year","v":2020},"July"]
[null,{"$f":"UPPER(TEXT(B87,\"dddd\"))","v":"MONDAY"},{"$f":"UPPER(TEXT(C87,\"dddd\"))","v":"TUESDAY"},"WEDNESDAY","THURSDAY","FRIDAY","SATURDAY","SUNDAY"]
[null,"2019-07-01","2019-07-02","2019-07-03","2019-07-04","2019-07-05","2019-07-06","2019-07-07"]
[]
[null,"2019-07-08","2019-07-09","2019-07-10","2019-07-11","2019-07-12","2019-07-13","2019-07-14"]
[]
[null,"2019-07-15","2019-07-16","2019-07-17","2019-07-18","2019-07-19","2019-07-20","2019-07-21"]
[]
[null,"2019-07-22","2019-07-23","2019-07-24","2019-07-25","2019-07-26","2019-07-27","2019-07-28"]
[]
[null,"2019-07-29","2019-07-30","2019-07-31","2019-08-01","2019-08-02","2019-08-03","2019-08-04"]
[]
[null,null,null,"Notes:"]
[]
[null,{"$f":"Calendar1Year","v":2020},"August"]
[null,{"$f":"UPPER(TEXT(B101,\"dddd\"))","v":"MONDAY"},{"$f":"UPPER(TEXT(C101,\"dddd\"))","v":"TUESDAY"},"WEDNESDAY","THURSDAY","FRIDAY","SATURDAY","SUNDAY"]
[null,"2019-07-29","2019-07-30","2019-07-31","2019-08-01","2019-08-02","2019-08-03","2019-08-04"]
[]
[null,"2019-08-05","2019-08-06","2019-08-07","2019-08-08","2019-08-09","2019-08-10","2019-08-11"]
[]
[null,"2019-08-12","2019-08-13","2019-08-14","2019-08-15","2019-08-16","2019-08-17","2019-08-18"]
[]
[null,"2019-08-19","2019-08-20","2019-08-21","2019-08-22","2019-08-23","2019-08-24","2019-08-25"]
[]
[null,"2019-08-26","2019-08-27","2019-08-28","2019-08-29","2019-08-30","2019-08-31","2019-09-01"]
[]
[null,null,null,"Notes:"]
[]
[null,{"$f":"Calendar1Year","v":2020},"September"]
[null,{"$f":"UPPER(TEXT(B115,\"dddd\"))","v":"MONDAY"},{"$f":"UPPER(TEXT(C115,\"dddd\"))","v":"TUESDAY"},"WEDNESDAY","THURSDAY","FRIDAY","SATURDAY","SUNDAY"]
[null,"2019-08-26","2019-08-27","2019-08-28","2019-08-29","2019-08-30","2019-08-31","2019-09-01"]
[]
[null,"2019-09-02","2019-09-03","2019-09-04","2019-09-05","2019-09-06","2019-09-07","2019-09-08"]
[]
[null,"2019-09-09","2019-09-10","2019-09-11","2019-09-12","2019-09-13","2019-09-14","2019-09-15"]
[]
[null,"2019-09-16","2019-09-17","2019-09-18","2019-09-19","2019-09-20","2019-09-21","2019-09-22"]
[]
[null,"2019-09-23","2019-09-24","2019-09-25","2019-09-26","2019-09-27","2019-09-28","2019-09-29"]
[]
[null,"2019-09-30",null,"Notes:"]
[]
[null,{"$f":"Calendar1Year","v":2020},"October"]
[null,{"$f":"UPPER(TEXT(B129,\"dddd\"))","v":"MONDAY"},{"$f":"UPPER(TEXT(C129,\"dddd\"))","v":"TUESDAY"},"WEDNESDAY","THURSDAY","FRIDAY","SATURDAY","SUNDAY"]
[null,"2019-09-30","2019-10-01","2019-10-02","2019-10-03","2019-10-04","2019-10-05","2019-10-06"]
[]
[null,"2019-10-07","2019-10-08","2019-10-09","2019-10-10","2019-10-11","2019-10-12","2019-10-13"]
[]
[null,"2019-10-14","2019-10-15","2019-10-16","2019-10-17","2019-10-18","2019-10-19","2019-10-20"]
[]
[null,"2019-10-21","2019-10-22","2019-10-23","2019-10-24","2019-10-25","2019-10-26","2019-10-27"]
[]
[null,"2019-10-28","2019-10-29","2019-10-30","2019-10-31","2019-11-01","2019-11-02","2019-11-03"]
[]
[null,null,null,"Notes:"]
[]
[null,{"$f":"Calendar1Year","v":2020},"November"]
[null,{"$f":"UPPER(TEXT(B143,\"dddd\"))","v":"MONDAY"},{"$f":"UPPER(TEXT(C143,\"dddd\"))","v":"TUESDAY"},"WEDNESDAY","THURSDAY","FRIDAY","SATURDAY","SUNDAY"]
[null,"2019-10-28","2019-10-29","2019-10-30","2019-10-31","2019-11-01","2019-11-02","2019-11-03"]
[]
[null,"2019-11-04","2019-11-05","2019-11-06","2019-11-07","2019-11-08","2019-11-09","2019-11-10"]
[]
[null,"2019-11-11","2019-11-12","2019-11-13","2019-11-14","2019-11-15","2019-11-16","2019-11-17"]
[]
[null,"2019-11-18","2019-11-19","2019-11-20","2019-11-21","2019-11-22","2019-11-23","2019-11-24"]
[]
[null,"2019-11-25","2019-11-26","2019-11-27","2019-11-28","2019-11-29","2019-11-30","2019-12-01"]
[]
[null,null,null,"Notes:"]
[]
[null,{"$f":"Calendar1Year","v":2020},"December"]
[null,{"$f":"UPPER(TEXT(B157,\"dddd\"))","v":"MONDAY"},{"$f":"UPPER(TEXT(C157,\"dddd\"))","v":"TUESDAY"},"WEDNESDAY","THURSDAY","FRIDAY","SATURDAY","SUNDAY"]
[null,"2019-11-25","2019-11-26","2019-11-27","2019-11-28","2019-11-29","2019-11-30","2019-12-01"]
[]
[null,"2019-12-02","2019-12-03","2019-12-04","2019-12-05","2019-12-06","2019-12-07","2019-12-08"]
[]
[null,"2019-12-09","2019-12-10","2019-12-11","2019-12-12","2019-12-13","2019-12-14","2019-12-15"]
[]
[null,"2019-12-16","2019-12-17","1900-01-18","2019-12-19","2019-12-20","2019-12-21","2019-12-22"]
[]
[null,"2019-12-23","2019-12-24","2019-12-25","2019-12-26","2019-12-27","2019-12-28","2019-12-29"]
[]
[null,"2019-12-30","2019-12-31","Notes:"]

{"sheet":"Trades","index":11,"n_rows":24,"n_cols":20,"rows_kept":24,"cut":false,"hidden":false,"merged":[[0,0,0,6],[0,7,0,13],[0,14,0,20]]}
["January",null,null,null,null,null,null,"February",null,null,null,null,null,null,"March"]
["Day",null,"# Trade ","G/R","Edge G/R","Daily Goal",null,"Day",null,"# Trade ","G/R","Edge G/R","Daily Goal",null,"Day",null,"# Trade ","G/R","Edge G/R","Daily Goal"]
["2018-01-02","Wednesday"]
["2018-01-03","Thursday"]
["2018-01-04","Friday"]
["2018-01-07","Monday"]
["2018-01-08","Tuesday"]
["2018-01-09","Wednesday"]
["2018-01-10","Thursday"]
["2018-01-11","Friday"]
["2018-01-14","Monday"]
["2018-01-15","Tuesday"]
["2018-01-16","Wednesday"]
["2018-01-17","Thursday"]
["2018-01-18","Friday"]
["2018-01-21","Monday"]
["2018-01-22","Tuesday"]
["2018-01-23","Wednesday"]
["2018-01-24","Thursday"]
["2018-01-25","Friday"]
["2018-01-28","Monday"]
["2018-01-29","Tuesday"]
["2018-01-30","Wednesday"]
["2018-01-31","Thursday",null,null,null,null,null," "]

{"sheet":"Trade Analysis","index":12,"n_rows":33,"n_cols":35,"rows_kept":33,"cut":false,"hidden":false,"merged":[[0,30,0,34],[26,0,26,4],[26,6,26,10],[26,12,26,16],[26,18,26,22],[26,24,26,28],[0,0,0,4],[0,6,0,10],[0,12,0,16],[0,18,0,22],[0,24,0,28]]}
["For: Indicators",null,null,null,null,null,"For: Confirmation",null,null,null,null,null,"For: Risk",null,null,null,null,null,"For: Profit Target",null,null,null,null,null,"For Stop Loss",null,null,null,null,null,"For: Trade Plan"]
[null,"Week","Month","Year","Total",null,null,"Week","Month","Year","Total",null,null,"Week","Month","Year","Total",null,null,"Week","Month","Year","Total",null,null,"Week","Month","Year","Total",null,null,"Week","Month","Year","Total"]
["Great",{"$f":"COUNTIF('Daily Snapshot'!$J$2:$J$4142,\"Great\")","v":1},{"$f":"COUNTIF('Daily Snapshot'!$J$2:$J$4142,\"Great\")","v":1},{"$f":"COUNTIF('Daily Snapshot'!$J$2:$J$4142,\"Great\")","v":1},{"$f":"COUNTIF('Daily Snapshot'!$J$1:$J$4142,\"Great\")","v":1},null,"Great",{"$f":"COUNTIF('Daily Snapshot'!$K$2:$K$4142,\"Great\")","v":1},{"$f":"COUNTIF('Daily Snapshot'!$K$2:$K$4142,\"Great\")","v":1},{"$f":"COUNTIF('Daily Snapshot'!$K$2:$K$4142,\"Great\")","v":1},{"$f":"COUNTIF('Daily Snapshot'!$K$1:$K$4142,\"Great\")","v":1},null,"Great",{"$f":"COUNTIF('Daily Snapshot'!$L$2:$L$4142,\"Great\")","v":1},{"$f":"COUNTIF('Daily Snapshot'!$L$2:$L$4142,\"Great\")","v":1},{"$f":"COUNTIF('Daily Snapshot'!$L$2:$L$4142,\"Great\")","v":1},{"$f":"COUNTIF('Daily Snapshot'!$L$1:$L$4142,\"Great\")","v":1},null,"Great",{"$f":"COUNTIF('Daily Snapshot'!$M$2:$M$4142,\"Great\")","v":1},{"$f":"COUNTIF('Daily Snapshot'!$M$2:$M$4142,\"Great\")","v":1},{"$f":"COUNTIF('Daily Snapshot'!$M$2:$M$4142,\"Great\")","v":1},{"$f":"COUNTIF('Daily Snapshot'!$M$1:$M$4142,\"Great\")","v":1},null,"Great",{"$f":"COUNTIF('Daily Snapshot'!$N$2:$N$4142,\"Great\")","v":1},{"$f":"COUNTIF('Daily Snapshot'!$N$2:$N$4142,\"Great\")","v":1},{"$f":"COUNTIF('Daily Snapshot'!$N$2:$N$4142,\"Great\")","v":1},{"$f":"COUNTIF('Daily Snapshot'!$N$1:$N$4142,\"Great\")","v":1},null,"Yes",{"$f":"COUNTIF('Daily Snapshot'!$I$2:$I$4142,\"Yes\")","v":1},{"$f":"COUNTIF('Daily Snapshot'!$I$2:$I$4142,\"Yes\")","v":1},{"$f":"COUNTIF('Daily Snapshot'!$I$2:$I$4142,\"Yes\")","v":1},{"$f":"COUNTIF('Daily Snapshot'!$I$1:$I$4142,\"Yes\")","v":1}]
["Good",{"$f":"COUNTIF('Daily Snapshot'!$J$2:$J$4142,\"Good\")","v":1},{"$f":"COUNTIF('Daily Snapshot'!$J$2:$J$4142,\"Good\")","v":1},{"$f":"COUNTIF('Daily Snapshot'!$J$2:$J$4142,\"Good\")","v":1},{"$f":"COUNTIF('Daily Snapshot'!$J$1:$J$4142,\"Good\")","v":1},null,"Good",{"$f":"COUNTIF('Daily Snapshot'!$K$2:$K$4142,\"Good\")","v":1},{"$f":"COUNTIF('Daily Snapshot'!$K$2:$K$4142,\"Good\")","v":1},{"$f":"COUNTIF('Daily Snapshot'!$K$2:$K$4142,\"Good\")","v":1},{"$f":"COUNTIF('Daily Snapshot'!$K$1:$K$4142,\"Good\")","v":1},null,"Good",{"$f":"COUNTIF('Daily Snapshot'!$L$2:$L$4142,\"Good\")","v":1},{"$f":"COUNTIF('Daily Snapshot'!$L$2:$L$4142,\"Good\")","v":1},{"$f":"COUNTIF('Daily Snapshot'!$L$2:$L$4142,\"Good\")","v":1},{"$f":"COUNTIF('Daily Snapshot'!$L$1:$L$4142,\"Good\")","v":1},null,"Good",{"$f":"COUNTIF('Daily Snapshot'!$M$2:$M$4142,\"Good\")","v":1},{"$f":"COUNTIF('Daily Snapshot'!$M$2:$M$4142,\"Good\")","v":1},{"$f":"COUNTIF('Daily Snapshot'!$M$2:$M$4142,\"Good\")","v":1},{"$f":"COUNTIF('Daily Snapshot'!$M$1:$M$4142,\"Good\")","v":1},null,"Good",{"$f":"COUNTIF('Daily Snapshot'!$N$2:$N$4142,\"Good\")","v":1},{"$f":"COUNTIF('Daily Snapshot'!$N$2:$N$4142,\"Good\")","v":1},{"$f":"COUNTIF('Daily Snapshot'!$N$2:$N$4142,\"Good\")","v":1},{"$f":"COUNTIF('Daily Snapshot'!$N$1:$N$4142,\"Good\")","v":1},null,"No",{"$f":"COUNTIF('Daily Snapshot'!$I$2:$I$4142,\"No\")","v":1},{"$f":"COUNTIF('Daily Snapshot'!$I$2:$I$4142,\"No\")","v":1},{"$f":"COUNTIF('Daily Snapshot'!$I$2:$I$4142,\"No\")","v":1},{"$f":"COUNTIF('Daily Snapshot'!$I$1:$I$4142,\"No\")","v":1}]
["Alright",{"$f":"COUNTIF('Daily Snapshot'!$J$2:$J$4142,\"Alright\")","v":1},{"$f":"COUNTIF('Daily Snapshot'!$J$2:$J$4142,\"Alright\")","v":1},{"$f":"COUNTIF('Daily Snapshot'!$J$2:$J$4142,\"Alright\")","v":1},{"$f":"COUNTIF('Daily Snapshot'!$J$1:$J$4142,\"Alright\")","v":1},null,"Alright",{"$f":"COUNTIF('Daily Snapshot'!$K$2:$K$4142,\"Alright\")","v":1},{"$f":"COUNTIF('Daily Snapshot'!$K$2:$K$4142,\"Alright\")","v":1},{"$f":"COUNTIF('Daily Snapshot'!$K$2:$K$4142,\"Alright\")","v":1},{"$f":"COUNTIF('Daily Snapshot'!$K$1:$K$4142,\"Alright\")","v":1},null,"Alright",{"$f":"COUNTIF('Daily Snapshot'!$L$2:$L$4142,\"Alright\")","v":1},{"$f":"COUNTIF('Daily Snapshot'!$L$2:$L$4142,\"Alright\")","v":1},{"$f":"COUNTIF('Daily Snapshot'!$L$2:$L$4142,\"Alright\")","v":1},{"$f":"COUNTIF('Daily Snapshot'!$L$1:$L$4142,\"Alright\")","v":1},null,"Alright",{"$f":"COUNTIF('Daily Snapshot'!$M$2:$M$4142,\"Alright\")","v":1},{"$f":"COUNTIF('Daily Snapshot'!$M$2:$M$4142,\"Alright\")","v":1},{"$f":"COUNTIF('Daily Snapshot'!$M$2:$M$4142,\"Alright\")","v":1},{"$f":"COUNTIF('Daily Snapshot'!$M$1:$M$4142,\"Alright\")","v":1},null,"Alright",{"$f":"COUNTIF('Daily Snapshot'!$N$2:$N$4142,\"Alright\")","v":1},{"$f":"COUNTIF('Daily Snapshot'!$N$2:$N$4142,\"Alright\")","v":1},{"$f":"COUNTIF('Daily Snapshot'!$N$2:$N$4142,\"Alright\")","v":1},{"$f":"COUNTIF('Daily Snapshot'!$N$1:$N$4142,\"Alright\")","v":1}]
["Bad",{"$f":"COUNTIF('Daily Snapshot'!$J$2:$J$4142,\"Bad\")","v":1},{"$f":"COUNTIF('Daily Snapshot'!$J$2:$J$4142,\"Bad\")","v":1},{"$f":"COUNTIF('Daily Snapshot'!$J$2:$J$4142,\"Bad\")","v":1},{"$f":"COUNTIF('Daily Snapshot'!$J$1:$J$4142,\"Bad\")","v":1},null,"Bad",{"$f":"COUNTIF('Daily Snapshot'!$K$2:$K$4142,\"Bad\")","v":1},{"$f":"COUNTIF('Daily Snapshot'!$K$2:$K$4142,\"Bad\")","v":1},{"$f":"COUNTIF('Daily Snapshot'!$K$2:$K$4142,\"Bad\")","v":1},{"$f":"COUNTIF('Daily Snapshot'!$K$1:$K$4142,\"Bad\")","v":1},null,"Bad",{"$f":"COUNTIF('Daily Snapshot'!$L$2:$L$4142,\"Bad\")","v":1},{"$f":"COUNTIF('Daily Snapshot'!$L$2:$L$4142,\"Bad\")","v":1},{"$f":"COUNTIF('Daily Snapshot'!$L$2:$L$4142,\"Bad\")","v":1},{"$f":"COUNTIF('Daily Snapshot'!$L$1:$L$4142,\"Bad\")","v":1},null,"Bad",{"$f":"COUNTIF('Daily Snapshot'!$M$2:$M$4142,\"Bad\")","v":1},{"$f":"COUNTIF('Daily Snapshot'!$M$2:$M$4142,\"Bad\")","v":1},{"$f":"COUNTIF('Daily Snapshot'!$M$2:$M$4142,\"Bad\")","v":1},{"$f":"COUNTIF('Daily Snapshot'!$M$1:$M$4142,\"Bad\")","v":1},null,"Bad",{"$f":"COUNTIF('Daily Snapshot'!$N$2:$N$4142,\"Bad\")","v":1},{"$f":"COUNTIF('Daily Snapshot'!$N$2:$N$4142,\"Bad\")","v":1},{"$f":"COUNTIF('Daily Snapshot'!$N$2:$N$4142,\"Bad\")","v":1},{"$f":"COUNTIF('Daily Snapshot'!$N$1:$N$4142,\"Bad\")","v":1}]
["Terriable",{"$f":"COUNTIF('Daily Snapshot'!$J$2:$J$4142,\"Terrible\")","v":1},{"$f":"COUNTIF('Daily Snapshot'!$J$2:$J$4142,\"Terrible\")","v":1},{"$f":"COUNTIF('Daily Snapshot'!$J$2:$J$4142,\"Terrible\")","v":1},{"$f":"COUNTIF('Daily Snapshot'!$J$1:$J$4142,\"Terrible\")","v":1},null,"Terriable",{"$f":"COUNTIF('Daily Snapshot'!$K$2:$K$4142,\"Terrible\")","v":1},{"$f":"COUNTIF('Daily Snapshot'!$K$2:$K$4142,\"Terrible\")","v":1},{"$f":"COUNTIF('Daily Snapshot'!$K$2:$K$4142,\"Terrible\")","v":1},{"$f":"COUNTIF('Daily Snapshot'!$K$1:$K$4142,\"Terrible\")","v":1},null,"Terriable",{"$f":"COUNTIF('Daily Snapshot'!$L$2:$L$4142,\"Terrible\")","v":1},{"$f":"COUNTIF('Daily Snapshot'!$L$2:$L$4142,\"Terrible\")","v":1},{"$f":"COUNTIF('Daily Snapshot'!$L$2:$L$4142,\"Terrible\")","v":1},{"$f":"COUNTIF('Daily Snapshot'!$L$1:$L$4142,\"Terrible\")","v":1},null,"Terriable",{"$f":"COUNTIF('Daily Snapshot'!$M$2:$M$4142,\"Terrible\")","v":1},{"$f":"COUNTIF('Daily Snapshot'!$M$2:$M$4142,\"Terrible\")","v":1},{"$f":"COUNTIF('Daily Snapshot'!$M$2:$M$4142,\"Terrible\")","v":1},{"$f":"COUNTIF('Daily Snapshot'!$M$1:$M$4142,\"Terrible\")","v":1},null,"Terriable",{"$f":"COUNTIF('Daily Snapshot'!$N$2:$N$4142,\"Terrible\")","v":1},{"$f":"COUNTIF('Daily Snapshot'!$N$2:$N$4142,\"Terrible\")","v":1},{"$f":"COUNTIF('Daily Snapshot'!$N$2:$N$4142,\"Terrible\")","v":1},{"$f":"COUNTIF('Daily Snapshot'!$N$1:$N$4142,\"Terrible\")","v":1}]
[]
[]
[]
[null,null,null,null,null,null,null,null,null,null,null,null,null,null,null,null,null,null,null,null,null,null,null,null,null,null,null,null,null," "]
[]
[]
[]
[]
[]
[]
[]
[]
[]
[]
[]
[]
[]
[]
[]
["For: Entry",null,null,null,null,null,"For: Profit Taking",null,null,null,null,null,"For: If-Then",null,null,null,null,null,"For: Psychology",null,null,null,null,null,"For: Overall"]
[null,"Week","Month","Year","Total",null,null,"Week","Month","Year","Total",null,null,"Week","Month","Year","Total",null,null,"Week","Month","Year","Total",null,null,"Week","Month","Year","Total"]
["Great",{"$f":"COUNTIF('Daily Snapshot'!$O$2:$O$4142,\"Great\")","v":1},{"$f":"COUNTIF('Daily Snapshot'!$O$2:$O$4142,\"Great\")","v":1},{"$f":"COUNTIF('Daily Snapshot'!$O$2:$O$4142,\"Great\")","v":1},{"$f":"COUNTIF('Daily Snapshot'!$O$1:$O$4142,\"Great\")","v":1},null,"Great",{"$f":"COUNTIF('Daily Snapshot'!$P$2:$P$4142,\"Great\")","v":1},{"$f":"COUNTIF('Daily Snapshot'!$P$2:$P$4142,\"Great\")","v":1},{"$f":"COUNTIF('Daily Snapshot'!$P$2:$P$4142,\"Great\")","v":1},{"$f":"COUNTIF('Daily Snapshot'!$P$1:$P$4142,\"Great\")","v":1},null,"Great",{"$f":"COUNTIF('Daily Snapshot'!$Q$2:$Q$4142,\"Great\")","v":1},{"$f":"COUNTIF('Daily Snapshot'!$Q$2:$Q$4142,\"Great\")","v":1},{"$f":"COUNTIF('Daily Snapshot'!$Q$2:$Q$4142,\"Great\")","v":1},{"$f":"COUNTIF('Daily Snapshot'!$Q$1:$Q$4142,\"Great\")","v":1},null,"Great",{"$f":"COUNTIF('Daily Snapshot'!$R$2:$R$4142,\"Great\")","v":1},{"$f":"COUNTIF('Daily Snapshot'!$R$2:$R$4142,\"Great\")","v":1},{"$f":"COUNTIF('Daily Snapshot'!$R$2:$R$4142,\"Great\")","v":1},{"$f":"COUNTIF('Daily Snapshot'!$R$1:$R$4142,\"Great\")","v":1},null,"Great",{"$f":"COUNTIF('Daily Snapshot'!$S$2:$S$4142,\"Great\")","v":1},{"$f":"COUNTIF('Daily Snapshot'!$S$2:$S$4142,\"Great\")","v":1},{"$f":"COUNTIF('Daily Snapshot'!$S$2:$S$4142,\"Great\")","v":1},{"$f":"COUNTIF('Daily Snapshot'!$S$1:$S$4142,\"Great\")","v":1}]
["Good",{"$f":"COUNTIF('Daily Snapshot'!$O$2:$O$4142,\"Good\")","v":1},{"$f":"COUNTIF('Daily Snapshot'!$O$2:$O$4142,\"Good\")","v":1},{"$f":"COUNTIF('Daily Snapshot'!$O$2:$O$4142,\"Good\")","v":1},{"$f":"COUNTIF('Daily Snapshot'!$O$1:$O$4142,\"Good\")","v":1},null,"Good",{"$f":"COUNTIF('Daily Snapshot'!$P$2:$P$4142,\"Good\")","v":1},{"$f":"COUNTIF('Daily Snapshot'!$P$2:$P$4142,\"Good\")","v":1},{"$f":"COUNTIF('Daily Snapshot'!$P$2:$P$4142,\"Good\")","v":1},{"$f":"COUNTIF('Daily Snapshot'!$P$1:$P$4142,\"Good\")","v":1},null,"Good",{"$f":"COUNTIF('Daily Snapshot'!$Q$2:$Q$4142,\"Good\")","v":1},{"$f":"COUNTIF('Daily Snapshot'!$Q$2:$Q$4142,\"Good\")","v":1},{"$f":"COUNTIF('Daily Snapshot'!$Q$2:$Q$4142,\"Good\")","v":1},{"$f":"COUNTIF('Daily Snapshot'!$Q$1:$Q$4142,\"Good\")","v":1},null,"Good",{"$f":"COUNTIF('Daily Snapshot'!$R$2:$R$4142,\"Good\")","v":1},{"$f":"COUNTIF('Daily Snapshot'!$R$2:$R$4142,\"Good\")","v":1},{"$f":"COUNTIF('Daily Snapshot'!$R$2:$R$4142,\"Good\")","v":1},{"$f":"COUNTIF('Daily Snapshot'!$R$1:$R$4142,\"Good\")","v":1},null,"Good",{"$f":"COUNTIF('Daily Snapshot'!$S$2:$S$4142,\"Good\")","v":1},{"$f":"COUNTIF('Daily Snapshot'!$S$2:$S$4142,\"Good\")","v":1},{"$f":"COUNTIF('Daily Snapshot'!$S$2:$S$4142,\"Good\")","v":1},{"$f":"COUNTIF('Daily Snapshot'!$S$1:$S$4142,\"Good\")","v":1}]
["Alright",{"$f":"COUNTIF('Daily Snapshot'!$O$2:$O$4142,\"Alright\")","v":1},{"$f":"COUNTIF('Daily Snapshot'!$O$2:$O$4142,\"Alright\")","v":1},{"$f":"COUNTIF('Daily Snapshot'!$O$2:$O$4142,\"Alright\")","v":1},{"$f":"COUNTIF('Daily Snapshot'!$O$1:$O$4142,\"Alright\")","v":1},null,"Alright",{"$f":"COUNTIF('Daily Snapshot'!$P$2:$P$4142,\"Alright\")","v":1},{"$f":"COUNTIF('Daily Snapshot'!$P$2:$P$4142,\"Alright\")","v":1},{"$f":"COUNTIF('Daily Snapshot'!$P$2:$P$4142,\"Alright\")","v":1},{"$f":"COUNTIF('Daily Snapshot'!$P$1:$P$4142,\"Alright\")","v":1},null,"Alright",{"$f":"COUNTIF('Daily Snapshot'!$Q$2:$Q$4142,\"Alright\")","v":1},{"$f":"COUNTIF('Daily Snapshot'!$Q$2:$Q$4142,\"Alright\")","v":1},{"$f":"COUNTIF('Daily Snapshot'!$Q$2:$Q$4142,\"Alright\")","v":1},{"$f":"COUNTIF('Daily Snapshot'!$Q$1:$Q$4142,\"Alright\")","v":1},null,"Alright",{"$f":"COUNTIF('Daily Snapshot'!$R$2:$R$4142,\"Alright\")","v":1},{"$f":"COUNTIF('Daily Snapshot'!$R$2:$R$4142,\"Alright\")","v":1},{"$f":"COUNTIF('Daily Snapshot'!$R$2:$R$4142,\"Alright\")","v":1},{"$f":"COUNTIF('Daily Snapshot'!$R$1:$R$4142,\"Alright\")","v":1},null,"Alright",{"$f":"COUNTIF('Daily Snapshot'!$S$2:$S$4142,\"Alright\")","v":1},{"$f":"COUNTIF('Daily Snapshot'!$S$2:$S$4142,\"Alright\")","v":1},{"$f":"COUNTIF('Daily Snapshot'!$S$2:$S$4142,\"Alright\")","v":1},{"$f":"COUNTIF('Daily Snapshot'!$S$1:$S$4142,\"Alright\")","v":1}]
["Bad",{"$f":"COUNTIF('Daily Snapshot'!$O$2:$O$4142,\"Bad\")","v":1},{"$f":"COUNTIF('Daily Snapshot'!$O$2:$O$4142,\"Bad\")","v":1},{"$f":"COUNTIF('Daily Snapshot'!$O$2:$O$4142,\"Bad\")","v":1},{"$f":"COUNTIF('Daily Snapshot'!$O$1:$O$4142,\"Bad\")","v":1},null,"Bad",{"$f":"COUNTIF('Daily Snapshot'!$P$2:$P$4142,\"Bad\")","v":1},{"$f":"COUNTIF('Daily Snapshot'!$P$2:$P$4142,\"Bad\")","v":1},{"$f":"COUNTIF('Daily Snapshot'!$P$2:$P$4142,\"Bad\")","v":1},{"$f":"COUNTIF('Daily Snapshot'!$P$1:$P$4142,\"Bad\")","v":1},null,"Bad",{"$f":"COUNTIF('Daily Snapshot'!$Q$2:$Q$4142,\"Bad\")","v":1},{"$f":"COUNTIF('Daily Snapshot'!$Q$2:$Q$4142,\"Bad\")","v":1},{"$f":"COUNTIF('Daily Snapshot'!$Q$2:$Q$4142,\"Bad\")","v":1},{"$f":"COUNTIF('Daily Snapshot'!$Q$1:$Q$4142,\"Bad\")","v":1},null,"Bad",{"$f":"COUNTIF('Daily Snapshot'!$R$2:$R$4142,\"Bad\")","v":1},{"$f":"COUNTIF('Daily Snapshot'!$R$2:$R$4142,\"Bad\")","v":1},{"$f":"COUNTIF('Daily Snapshot'!$R$2:$R$4142,\"Bad\")","v":1},{"$f":"COUNTIF('Daily Snapshot'!$R$1:$R$4142,\"Bad\")","v":1},null,"Bad",{"$f":"COUNTIF('Daily Snapshot'!$S$2:$S$4142,\"Bad\")","v":1},{"$f":"COUNTIF('Daily Snapshot'!$S$2:$S$4142,\"Bad\")","v":1},{"$f":"COUNTIF('Daily Snapshot'!$S$2:$S$4142,\"Bad\")","v":1},{"$f":"COUNTIF('Daily Snapshot'!$S$1:$S$4142,\"Bad\")","v":1}]
["Terriable",{"$f":"COUNTIF('Daily Snapshot'!$O$2:$O$4142,\"Terrible\")","v":1},{"$f":"COUNTIF('Daily Snapshot'!$O$2:$O$4142,\"Terrible\")","v":1},{"$f":"COUNTIF('Daily Snapshot'!$O$2:$O$4142,\"Terrible\")","v":1},{"$f":"COUNTIF('Daily Snapshot'!$O$1:$O$4142,\"Terrible\")","v":1},null,"Terriable",{"$f":"COUNTIF('Daily Snapshot'!$P$2:$P$4142,\"Terrible\")","v":1},{"$f":"COUNTIF('Daily Snapshot'!$P$2:$P$4142,\"Terrible\")","v":1},{"$f":"COUNTIF('Daily Snapshot'!$P$2:$P$4142,\"Terrible\")","v":1},{"$f":"COUNTIF('Daily Snapshot'!$P$1:$P$4142,\"Terrible\")","v":1},null,"Terriable",{"$f":"COUNTIF('Daily Snapshot'!$Q$2:$Q$4142,\"Terrible\")","v":1},{"$f":"COUNTIF('Daily Snapshot'!$Q$2:$Q$4142,\"Terrible\")","v":1},{"$f":"COUNTIF('Daily Snapshot'!$Q$2:$Q$4142,\"Terrible\")","v":1},{"$f":"COUNTIF('Daily Snapshot'!$Q$1:$Q$4142,\"Terrible\")","v":1},null,"Terriable",{"$f":"COUNTIF('Daily Snapshot'!$R$2:$R$4142,\"Terrible\")","v":1},{"$f":"COUNTIF('Daily Snapshot'!$R$2:$R$4142,\"Terrible\")","v":1},{"$f":"COUNTIF('Daily Snapshot'!$R$2:$R$4142,\"Terrible\")","v":1},{"$f":"COUNTIF('Daily Snapshot'!$R$1:$R$4142,\"Terrible\")","v":1},null,"Terriable",{"$f":"COUNTIF('Daily Snapshot'!$S$2:$S$4142,\"Terrible\")","v":1},{"$f":"COUNTIF('Daily Snapshot'!$S$2:$S$4142,\"Terrible\")","v":1},{"$f":"COUNTIF('Daily Snapshot'!$S$2:$S$4142,\"Terrible\")","v":1},{"$f":"COUNTIF('Daily Snapshot'!$S$1:$S$4142,\"Terrible\")","v":1}]

{"sheet":"Psychology Analysis","index":13,"n_rows":59,"n_cols":41,"rows_kept":59,"cut":false,"hidden":false,"merged":[[0,36,0,40],[26,30,26,34],[26,36,26,40],[52,0,52,4],[52,6,52,10],[52,12,52,16],[52,18,52,22],[52,24,52,28],[52,30,52,34],[52,36,52,40],[26,0,26,4],[26,6,26,10],[26,12,26,16],[26,18,26,22],[26,24,26,28],[0,30,0,34],[0,0,0,4],[0,6,0,10],[0,12,0,16],[0,18,0,22],[0,24,0,28]]}
["Prior Focus",null,null,null,null,null,"Prior Confidence",null,null,null,null,null,"Prior Anxiety",null,null,null,null,null,"Prior Calmness",null,null,null,null,null,"Prior FOBW",null,null,null,null,null,"Prior Hesitation",null,null,null,null,null,"Prior Overall"]
[null,"Week","Month","Year","Total",null,null,"Week","Month","Year","Total",null,null,"Week","Month","Year","Total",null,null,"Week","Month","Year","Total",null,null,"Week","Month","Year","Total",null,null,"Week","Month","Year","Total",null,null,"Week","Month","Year","Total"]
["Great",{"$f":"COUNTIF('Daily Snapshot'!$T$2:$T$4142,\"Great\")","v":1},{"$f":"COUNTIF('Daily Snapshot'!$T$2:$T$4142,\"Great\")","v":1},{"$f":"COUNTIF('Daily Snapshot'!$T$2:$T$4142,\"Great\")","v":1},{"$f":"COUNTIF('Daily Snapshot'!$T$2:$T$4142,\"Great\")","v":1},null,"Great",{"$f":"COUNTIF('Daily Snapshot'!$U$2:$U$4142,\"Great\")","v":1},{"$f":"COUNTIF('Daily Snapshot'!$U$2:$U$4142,\"Great\")","v":1},{"$f":"COUNTIF('Daily Snapshot'!$U$2:$U$4142,\"Great\")","v":1},{"$f":"COUNTIF('Daily Snapshot'!$U$2:$U$4142,\"Great\")","v":1},null,"Great",{"$f":"COUNTIF('Daily Snapshot'!$V$2:$V$4142,\"Great\")","v":1},{"$f":"COUNTIF('Daily Snapshot'!$V$2:$V$4142,\"Great\")","v":1},{"$f":"COUNTIF('Daily Snapshot'!$V$2:$V$4142,\"Great\")","v":1},{"$f":"COUNTIF('Daily Snapshot'!$V$2:$V$4142,\"Great\")","v":1},null,"Great",{"$f":"COUNTIF('Daily Snapshot'!$W$2:$W$4142,\"Great\")","v":1},{"$f":"COUNTIF('Daily Snapshot'!$W$2:$W$4142,\"Great\")","v":1},{"$f":"COUNTIF('Daily Snapshot'!$W$2:$W$4142,\"Great\")","v":1},{"$f":"COUNTIF('Daily Snapshot'!$W$2:$W$4142,\"Great\")","v":1},null,"Great",{"$f":"COUNTIF('Daily Snapshot'!$X$2:$X$4142,\"Great\")","v":1},{"$f":"COUNTIF('Daily Snapshot'!$X$2:$X$4142,\"Great\")","v":1},{"$f":"COUNTIF('Daily Snapshot'!$X$2:$X$4142,\"Great\")","v":1},{"$f":"COUNTIF('Daily Snapshot'!$X$2:$X$4142,\"Great\")","v":1},null,"Great",{"$f":"COUNTIF('Daily Snapshot'!$Y$2:$Y$4142,\"Great\")","v":1},{"$f":"COUNTIF('Daily Snapshot'!$Y$2:$Y$4142,\"Great\")","v":1},{"$f":"COUNTIF('Daily Snapshot'!$Y$2:$Y$4142,\"Great\")","v":1},{"$f":"COUNTIF('Daily Snapshot'!$Y$2:$Y$4142,\"Great\")","v":1},null,"Great",{"$f":"COUNTIF('Daily Snapshot'!$Z$2:$Z$4142,\"Great\")","v":1},{"$f":"COUNTIF('Daily Snapshot'!$Z$2:$Z$4142,\"Great\")","v":1},{"$f":"COUNTIF('Daily Snapshot'!$Z$2:$Z$4142,\"Great\")","v":1},{"$f":"COUNTIF('Daily Snapshot'!$Z$2:$Z$4142,\"Great\")","v":1}]
["Good",{"$f":"COUNTIF('Daily Snapshot'!$T$2:$T$4142,\"Good\")","v":1},{"$f":"COUNTIF('Daily Snapshot'!$T$2:$T$4142,\"Good\")","v":1},{"$f":"COUNTIF('Daily Snapshot'!$T$2:$T$4142,\"Good\")","v":1},{"$f":"COUNTIF('Daily Snapshot'!$T$2:$T$4142,\"Good\")","v":1},null,"Good",{"$f":"COUNTIF('Daily Snapshot'!$U$2:$U$4142,\"Good\")","v":1},{"$f":"COUNTIF('Daily Snapshot'!$U$2:$U$4142,\"Good\")","v":1},{"$f":"COUNTIF('Daily Snapshot'!$U$2:$U$4142,\"Good\")","v":1},{"$f":"COUNTIF('Daily Snapshot'!$U$2:$U$4142,\"Good\")","v":1},null,"Good",{"$f":"COUNTIF('Daily Snapshot'!$V$2:$V$4142,\"Good\")","v":1},{"$f":"COUNTIF('Daily Snapshot'!$V$2:$V$4142,\"Good\")","v":1},{"$f":"COUNTIF('Daily Snapshot'!$V$2:$V$4142,\"Good\")","v":1},{"$f":"COUNTIF('Daily Snapshot'!$V$2:$V$4142,\"Good\")","v":1},null,"Good",{"$f":"COUNTIF('Daily Snapshot'!$W$2:$W$4142,\"Good\")","v":1},{"$f":"COUNTIF('Daily Snapshot'!$W$2:$W$4142,\"Good\")","v":1},{"$f":"COUNTIF('Daily Snapshot'!$W$2:$W$4142,\"Good\")","v":1},{"$f":"COUNTIF('Daily Snapshot'!$W$2:$W$4142,\"Good\")","v":1},null,"Good",{"$f":"COUNTIF('Daily Snapshot'!$X$2:$X$4142,\"Good\")","v":1},{"$f":"COUNTIF('Daily Snapshot'!$X$2:$X$4142,\"Good\")","v":1},{"$f":"COUNTIF('Daily Snapshot'!$X$2:$X$4142,\"Good\")","v":1},{"$f":"COUNTIF('Daily Snapshot'!$X$2:$X$4142,\"Good\")","v":1},null,"Good",{"$f":"COUNTIF('Daily Snapshot'!$Y$2:$Y$4142,\"Good\")","v":1},{"$f":"COUNTIF('Daily Snapshot'!$Y$2:$Y$4142,\"Good\")","v":1},{"$f":"COUNTIF('Daily Snapshot'!$Y$2:$Y$4142,\"Good\")","v":1},{"$f":"COUNTIF('Daily Snapshot'!$Y$2:$Y$4142,\"Good\")","v":1},null,"Good",{"$f":"COUNTIF('Daily Snapshot'!$Z$2:$Z$4142,\"Good\")","v":1},{"$f":"COUNTIF('Daily Snapshot'!$Z$2:$Z$4142,\"Good\")","v":1},{"$f":"COUNTIF('Daily Snapshot'!$Z$2:$Z$4142,\"Good\")","v":1},{"$f":"COUNTIF('Daily Snapshot'!$Z$2:$Z$4142,\"Good\")","v":1}]
["Alright",{"$f":"COUNTIF('Daily Snapshot'!$T$2:$T$4142,\"Alright\")","v":1},{"$f":"COUNTIF('Daily Snapshot'!$T$2:$T$4142,\"Alright\")","v":1},{"$f":"COUNTIF('Daily Snapshot'!$T$2:$T$4142,\"Alright\")","v":1},{"$f":"COUNTIF('Daily Snapshot'!$T$2:$T$4142,\"Alright\")","v":1},null,"Alright",{"$f":"COUNTIF('Daily Snapshot'!$U$2:$U$4142,\"Alright\")","v":1},{"$f":"COUNTIF('Daily Snapshot'!$U$2:$U$4142,\"Alright\")","v":1},{"$f":"COUNTIF('Daily Snapshot'!$U$2:$U$4142,\"Alright\")","v":1},{"$f":"COUNTIF('Daily Snapshot'!$U$2:$U$4142,\"Alright\")","v":1},null,"Alright",{"$f":"COUNTIF('Daily Snapshot'!$V$2:$V$4142,\"Alright\")","v":1},{"$f":"COUNTIF('Daily Snapshot'!$V$2:$V$4142,\"Alright\")","v":1},{"$f":"COUNTIF('Daily Snapshot'!$V$2:$V$4142,\"Alright\")","v":1},{"$f":"COUNTIF('Daily Snapshot'!$V$2:$V$4142,\"Alright\")","v":1},null,"Alright",{"$f":"COUNTIF('Daily Snapshot'!$W$2:$W$4142,\"Alright\")","v":1},{"$f":"COUNTIF('Daily Snapshot'!$W$2:$W$4142,\"Alright\")","v":1},{"$f":"COUNTIF('Daily Snapshot'!$W$2:$W$4142,\"Alright\")","v":1},{"$f":"COUNTIF('Daily Snapshot'!$W$2:$W$4142,\"Alright\")","v":1},null,"Alright",{"$f":"COUNTIF('Daily Snapshot'!$X$2:$X$4142,\"Alright\")","v":1},{"$f":"COUNTIF('Daily Snapshot'!$X$2:$X$4142,\"Alright\")","v":1},{"$f":"COUNTIF('Daily Snapshot'!$X$2:$X$4142,\"Alright\")","v":1},{"$f":"COUNTIF('Daily Snapshot'!$X$2:$X$4142,\"Alright\")","v":1},null,"Alright",{"$f":"COUNTIF('Daily Snapshot'!$Y$2:$Y$4142,\"Alright\")","v":1},{"$f":"COUNTIF('Daily Snapshot'!$Y$2:$Y$4142,\"Alright\")","v":1},{"$f":"COUNTIF('Daily Snapshot'!$Y$2:$Y$4142,\"Alright\")","v":1},{"$f":"COUNTIF('Daily Snapshot'!$Y$2:$Y$4142,\"Alright\")","v":1},null,"Alright",{"$f":"COUNTIF('Daily Snapshot'!$Z$2:$Z$4142,\"Alright\")","v":1},{"$f":"COUNTIF('Daily Snapshot'!$Z$2:$Z$4142,\"Alright\")","v":1},{"$f":"COUNTIF('Daily Snapshot'!$Z$2:$Z$4142,\"Alright\")","v":1},{"$f":"COUNTIF('Daily Snapshot'!$Z$2:$Z$4142,\"Alright\")","v":1}]
["Bad",{"$f":"COUNTIF('Daily Snapshot'!$T$2:$T$4142,\"Bad\")","v":1},{"$f":"COUNTIF('Daily Snapshot'!$T$2:$T$4142,\"Bad\")","v":1},{"$f":"COUNTIF('Daily Snapshot'!$T$2:$T$4142,\"Bad\")","v":1},{"$f":"COUNTIF('Daily Snapshot'!$T$2:$T$4142,\"Bad\")","v":1},null,"Bad",{"$f":"COUNTIF('Daily Snapshot'!$U$2:$U$4142,\"Bad\")","v":1},{"$f":"COUNTIF('Daily Snapshot'!$U$2:$U$4142,\"Bad\")","v":1},{"$f":"COUNTIF('Daily Snapshot'!$U$2:$U$4142,\"Bad\")","v":1},{"$f":"COUNTIF('Daily Snapshot'!$U$2:$U$4142,\"Bad\")","v":1},null,"Bad",{"$f":"COUNTIF('Daily Snapshot'!$V$2:$V$4142,\"Bad\")","v":1},{"$f":"COUNTIF('Daily Snapshot'!$V$2:$V$4142,\"Bad\")","v":1},{"$f":"COUNTIF('Daily Snapshot'!$V$2:$V$4142,\"Bad\")","v":1},{"$f":"COUNTIF('Daily Snapshot'!$V$2:$V$4142,\"Bad\")","v":1},null,"Bad",{"$f":"COUNTIF('Daily Snapshot'!$W$2:$W$4142,\"Bad\")","v":1},{"$f":"COUNTIF('Daily Snapshot'!$W$2:$W$4142,\"Bad\")","v":1},{"$f":"COUNTIF('Daily Snapshot'!$W$2:$W$4142,\"Bad\")","v":1},{"$f":"COUNTIF('Daily Snapshot'!$W$2:$W$4142,\"Bad\")","v":1},null,"Bad",{"$f":"COUNTIF('Daily Snapshot'!$X$2:$X$4142,\"Bad\")","v":1},{"$f":"COUNTIF('Daily Snapshot'!$X$2:$X$4142,\"Bad\")","v":1},{"$f":"COUNTIF('Daily Snapshot'!$X$2:$X$4142,\"Bad\")","v":1},{"$f":"COUNTIF('Daily Snapshot'!$X$2:$X$4142,\"Bad\")","v":1},null,"Bad",{"$f":"COUNTIF('Daily Snapshot'!$Y$2:$Y$4142,\"Bad\")","v":1},{"$f":"COUNTIF('Daily Snapshot'!$Y$2:$Y$4142,\"Bad\")","v":1},{"$f":"COUNTIF('Daily Snapshot'!$Y$2:$Y$4142,\"Bad\")","v":1},{"$f":"COUNTIF('Daily Snapshot'!$Y$2:$Y$4142,\"Bad\")","v":1},null,"Bad",{"$f":"COUNTIF('Daily Snapshot'!$Z$2:$Z$4142,\"Bad\")","v":1},{"$f":"COUNTIF('Daily Snapshot'!$Z$2:$Z$4142,\"Bad\")","v":1},{"$f":"COUNTIF('Daily Snapshot'!$Z$2:$Z$4142,\"Bad\")","v":1},{"$f":"COUNTIF('Daily Snapshot'!$Z$2:$Z$4142,\"Bad\")","v":1}]
["Terriable",{"$f":"COUNTIF('Daily Snapshot'!$T$2:$T$4142,\"Terrible\")","v":1},{"$f":"COUNTIF('Daily Snapshot'!$T$2:$T$4142,\"Terrible\")","v":1},{"$f":"COUNTIF('Daily Snapshot'!$T$2:$T$4142,\"Terrible\")","v":1},{"$f":"COUNTIF('Daily Snapshot'!$T$2:$T$4142,\"Terrible\")","v":1},null,"Terriable",{"$f":"COUNTIF('Daily Snapshot'!$U$2:$U$4142,\"Terrible\")","v":1},{"$f":"COUNTIF('Daily Snapshot'!$U$2:$U$4142,\"Terrible\")","v":1},{"$f":"COUNTIF('Daily Snapshot'!$U$2:$U$4142,\"Terrible\")","v":1},{"$f":"COUNTIF('Daily Snapshot'!$U$2:$U$4142,\"Terrible\")","v":1},null,"Terriable",{"$f":"COUNTIF('Daily Snapshot'!$V$2:$V$4142,\"Terrible\")","v":1},{"$f":"COUNTIF('Daily Snapshot'!$V$2:$V$4142,\"Terrible\")","v":1},{"$f":"COUNTIF('Daily Snapshot'!$V$2:$V$4142,\"Terrible\")","v":1},{"$f":"COUNTIF('Daily Snapshot'!$V$2:$V$4142,\"Terrible\")","v":1},null,"Terriable",{"$f":"COUNTIF('Daily Snapshot'!$W$2:$W$4142,\"Terrible\")","v":1},{"$f":"COUNTIF('Daily Snapshot'!$W$2:$W$4142,\"Terrible\")","v":1},{"$f":"COUNTIF('Daily Snapshot'!$W$2:$W$4142,\"Terrible\")","v":1},{"$f":"COUNTIF('Daily Snapshot'!$W$2:$W$4142,\"Terrible\")","v":1},null,"Terriable",{"$f":"COUNTIF('Daily Snapshot'!$X$2:$X$4142,\"Terrible\")","v":1},{"$f":"COUNTIF('Daily Snapshot'!$X$2:$X$4142,\"Terrible\")","v":1},{"$f":"COUNTIF('Daily Snapshot'!$X$2:$X$4142,\"Terrible\")","v":1},{"$f":"COUNTIF('Daily Snapshot'!$X$2:$X$4142,\"Terrible\")","v":1},null,"Terriable",{"$f":"COUNTIF('Daily Snapshot'!$Y$2:$Y$4142,\"Terrible\")","v":1},{"$f":"COUNTIF('Daily Snapshot'!$Y$2:$Y$4142,\"Terrible\")","v":1},{"$f":"COUNTIF('Daily Snapshot'!$Y$2:$Y$4142,\"Terrible\")","v":1},{"$f":"COUNTIF('Daily Snapshot'!$Y$2:$Y$4142,\"Terrible\")","v":1},null,"Terriable",{"$f":"COUNTIF('Daily Snapshot'!$Z$2:$Z$4142,\"Terrible\")","v":1},{"$f":"COUNTIF('Daily Snapshot'!$Z$2:$Z$4142,\"Terrible\")","v":1},{"$f":"COUNTIF('Daily Snapshot'!$Z$2:$Z$4142,\"Terrible\")","v":1},{"$f":"COUNTIF('Daily Snapshot'!$Z$2:$Z$4142,\"Terrible\")","v":1}]
[]
[]
[]
[null,null,null,null,null,null,null,null,null,null,null,null,null,null,null,null,null,null,null,null,null,null,null,null,null,null,null,null,null," "]
[]
[]
[]
[]
[]
[]
[]
[]
[]
[]
[]
[]
[]
[]
[]
["During Focus",null,null,null,null,null,"During Confidence",null,null,null,null,null,"During Anxiety",null,null,null,null,null,"During Calmness",null,null,null,null,null,"During FOBW",null,null,null,null,null,"During Self-Sabotage",null,null,null,null,null,"During Overall"]
[null,"Week","Month","Year","Total",null,null,"Week","Month","Year","Total",null,null,"Week","Month","Year","Total",null,null,"Week","Month","Year","Total",null,null,"Week","Month","Year","Total",null,null,"Week","Month","Year","Total",null,null,"Week","Month","Year","Total"]
["Great",{"$f":"COUNTIF('Daily Snapshot'!$AA$2:$AA$4142,\"Great\")","v":1},{"$f":"COUNTIF('Daily Snapshot'!$AA$2:$AA$4142,\"Great\")","v":1},{"$f":"COUNTIF('Daily Snapshot'!$AA$2:$AA$4142,\"Great\")","v":1},{"$f":"COUNTIF('Daily Snapshot'!$AA$2:$AA$4142,\"Great\")","v":1},null,"Great",{"$f":"COUNTIF('Daily Snapshot'!$AB$2:$AB$4142,\"Great\")","v":1},{"$f":"COUNTIF('Daily Snapshot'!$AB$2:$AB$4142,\"Great\")","v":1},{"$f":"COUNTIF('Daily Snapshot'!$AB$2:$AB$4142,\"Great\")","v":1},{"$f":"COUNTIF('Daily Snapshot'!$AB$2:$AB$4142,\"Great\")","v":1},null,"Great",{"$f":"COUNTIF('Daily Snapshot'!$AC$2:$AC$4142,\"Great\")","v":1},{"$f":"COUNTIF('Daily Snapshot'!$AC$2:$AC$4142,\"Great\")","v":1},{"$f":"COUNTIF('Daily Snapshot'!$AC$2:$AC$4142,\"Great\")","v":1},{"$f":"COUNTIF('Daily Snapshot'!$AC$2:$AC$4142,\"Great\")","v":1},null,"Great",{"$f":"COUNTIF('Daily Snapshot'!$AD$2:$AD$4142,\"Great\")","v":1},{"$f":"COUNTIF('Daily Snapshot'!$AD$2:$AD$4142,\"Great\")","v":1},{"$f":"COUNTIF('Daily Snapshot'!$AD$2:$AD$4142,\"Great\")","v":1},{"$f":"COUNTIF('Daily Snapshot'!$AD$2:$AD$4142,\"Great\")","v":1},null,"Great",{"$f":"COUNTIF('Daily Snapshot'!$AE$2:$AE$4142,\"Great\")","v":1},{"$f":"COUNTIF('Daily Snapshot'!$AE$2:$AE$4142,\"Great\")","v":1},{"$f":"COUNTIF('Daily Snapshot'!$AE$2:$AE$4142,\"Great\")","v":1},{"$f":"COUNTIF('Daily Snapshot'!$AE$2:$AE$4142,\"Great\")","v":1},null,"Great",{"$f":"COUNTIF('Daily Snapshot'!$AF$2:$AF$4142,\"Great\")","v":1},{"$f":"COUNTIF('Daily Snapshot'!$AF$2:$AF$4142,\"Great\")","v":1},{"$f":"COUNTIF('Daily Snapshot'!$AF$2:$AF$4142,\"Great\")","v":1},{"$f":"COUNTIF('Daily Snapshot'!$AF$2:$AF$4142,\"Great\")","v":1},null,"Great",{"$f":"COUNTIF('Daily Snapshot'!$AG$2:$AG$4142,\"Great\")","v":1},{"$f":"COUNTIF('Daily Snapshot'!$AG$2:$AG$4142,\"Great\")","v":1},{"$f":"COUNTIF('Daily Snapshot'!$AG$2:$AG$4142,\"Great\")","v":1},{"$f":"COUNTIF('Daily Snapshot'!$AG$2:$AG$4142,\"Great\")","v":1}]
["Good",{"$f":"COUNTIF('Daily Snapshot'!$AA$2:$AA$4142,\"Good\")","v":1},{"$f":"COUNTIF('Daily Snapshot'!$AA$2:$AA$4142,\"Good\")","v":1},{"$f":"COUNTIF('Daily Snapshot'!$AA$2:$AA$4142,\"Good\")","v":1},{"$f":"COUNTIF('Daily Snapshot'!$AA$2:$AA$4142,\"Good\")","v":1},null,"Good",{"$f":"COUNTIF('Daily Snapshot'!$AB$2:$AB$4142,\"Good\")","v":1},{"$f":"COUNTIF('Daily Snapshot'!$AB$2:$AB$4142,\"Good\")","v":1},{"$f":"COUNTIF('Daily Snapshot'!$AB$2:$AB$4142,\"Good\")","v":1},{"$f":"COUNTIF('Daily Snapshot'!$AB$2:$AB$4142,\"Good\")","v":1},null,"Good",{"$f":"COUNTIF('Daily Snapshot'!$AC$2:$AC$4142,\"Good\")","v":1},{"$f":"COUNTIF('Daily Snapshot'!$AC$2:$AC$4142,\"Good\")","v":1},{"$f":"COUNTIF('Daily Snapshot'!$AC$2:$AC$4142,\"Good\")","v":1},{"$f":"COUNTIF('Daily Snapshot'!$AC$2:$AC$4142,\"Good\")","v":1},null,"Good",{"$f":"COUNTIF('Daily Snapshot'!$AD$2:$AD$4142,\"Good\")","v":1},{"$f":"COUNTIF('Daily Snapshot'!$AD$2:$AD$4142,\"Good\")","v":1},{"$f":"COUNTIF('Daily Snapshot'!$AD$2:$AD$4142,\"Good\")","v":1},{"$f":"COUNTIF('Daily Snapshot'!$AD$2:$AD$4142,\"Good\")","v":1},null,"Good",{"$f":"COUNTIF('Daily Snapshot'!$AE$2:$AE$4142,\"Good\")","v":1},{"$f":"COUNTIF('Daily Snapshot'!$AE$2:$AE$4142,\"Good\")","v":1},{"$f":"COUNTIF('Daily Snapshot'!$AE$2:$AE$4142,\"Good\")","v":1},{"$f":"COUNTIF('Daily Snapshot'!$AE$2:$AE$4142,\"Good\")","v":1},null,"Good",{"$f":"COUNTIF('Daily Snapshot'!$AF$2:$AF$4142,\"Good\")","v":1},{"$f":"COUNTIF('Daily Snapshot'!$AF$2:$AF$4142,\"Good\")","v":1},{"$f":"COUNTIF('Daily Snapshot'!$AF$2:$AF$4142,\"Good\")","v":1},{"$f":"COUNTIF('Daily Snapshot'!$AF$2:$AF$4142,\"Good\")","v":1},null,"Good",{"$f":"COUNTIF('Daily Snapshot'!$AG$2:$AG$4142,\"Good\")","v":1},{"$f":"COUNTIF('Daily Snapshot'!$AG$2:$AG$4142,\"Good\")","v":1},{"$f":"COUNTIF('Daily Snapshot'!$AG$2:$AG$4142,\"Good\")","v":1},{"$f":"COUNTIF('Daily Snapshot'!$AG$2:$AG$4142,\"Good\")","v":1}]
["Alright",{"$f":"COUNTIF('Daily Snapshot'!$AA$2:$AA$4142,\"Alright\")","v":1},{"$f":"COUNTIF('Daily Snapshot'!$AA$2:$AA$4142,\"Alright\")","v":1},{"$f":"COUNTIF('Daily Snapshot'!$AA$2:$AA$4142,\"Alright\")","v":1},{"$f":"COUNTIF('Daily Snapshot'!$AA$2:$AA$4142,\"Alright\")","v":1},null,"Alright",{"$f":"COUNTIF('Daily Snapshot'!$AB$2:$AB$4142,\"Alright\")","v":1},{"$f":"COUNTIF('Daily Snapshot'!$AB$2:$AB$4142,\"Alright\")","v":1},{"$f":"COUNTIF('Daily Snapshot'!$AB$2:$AB$4142,\"Alright\")","v":1},{"$f":"COUNTIF('Daily Snapshot'!$AB$2:$AB$4142,\"Alright\")","v":1},null,"Alright",{"$f":"COUNTIF('Daily Snapshot'!$AC$2:$AC$4142,\"Alright\")","v":1},{"$f":"COUNTIF('Daily Snapshot'!$AC$2:$AC$4142,\"Alright\")","v":1},{"$f":"COUNTIF('Daily Snapshot'!$AC$2:$AC$4142,\"Alright\")","v":1},{"$f":"COUNTIF('Daily Snapshot'!$AC$2:$AC$4142,\"Alright\")","v":1},null,"Alright",{"$f":"COUNTIF('Daily Snapshot'!$AD$2:$AD$4142,\"Alright\")","v":1},{"$f":"COUNTIF('Daily Snapshot'!$AD$2:$AD$4142,\"Alright\")","v":1},{"$f":"COUNTIF('Daily Snapshot'!$AD$2:$AD$4142,\"Alright\")","v":1},{"$f":"COUNTIF('Daily Snapshot'!$AD$2:$AD$4142,\"Alright\")","v":1},null,"Alright",{"$f":"COUNTIF('Daily Snapshot'!$AE$2:$AE$4142,\"Alright\")","v":1},{"$f":"COUNTIF('Daily Snapshot'!$AE$2:$AE$4142,\"Alright\")","v":1},{"$f":"COUNTIF('Daily Snapshot'!$AE$2:$AE$4142,\"Alright\")","v":1},{"$f":"COUNTIF('Daily Snapshot'!$AE$2:$AE$4142,\"Alright\")","v":1},null,"Alright",{"$f":"COUNTIF('Daily Snapshot'!$AF$2:$AF$4142,\"Alright\")","v":1},{"$f":"COUNTIF('Daily Snapshot'!$AF$2:$AF$4142,\"Alright\")","v":1},{"$f":"COUNTIF('Daily Snapshot'!$AF$2:$AF$4142,\"Alright\")","v":1},{"$f":"COUNTIF('Daily Snapshot'!$AF$2:$AF$4142,\"Alright\")","v":1},null,"Alright",{"$f":"COUNTIF('Daily Snapshot'!$AG$2:$AG$4142,\"Alright\")","v":1},{"$f":"COUNTIF('Daily Snapshot'!$AG$2:$AG$4142,\"Alright\")","v":1},{"$f":"COUNTIF('Daily Snapshot'!$AG$2:$AG$4142,\"Alright\")","v":1},{"$f":"COUNTIF('Daily Snapshot'!$AG$2:$AG$4142,\"Alright\")","v":1}]
["Bad",{"$f":"COUNTIF('Daily Snapshot'!$AA$2:$AA$4142,\"Bad\")","v":1},{"$f":"COUNTIF('Daily Snapshot'!$AA$2:$AA$4142,\"Bad\")","v":1},{"$f":"COUNTIF('Daily Snapshot'!$AA$2:$AA$4142,\"Bad\")","v":1},{"$f":"COUNTIF('Daily Snapshot'!$AA$2:$AA$4142,\"Bad\")","v":1},null,"Bad",{"$f":"COUNTIF('Daily Snapshot'!$AB$2:$AB$4142,\"Bad\")","v":1},{"$f":"COUNTIF('Daily Snapshot'!$AB$2:$AB$4142,\"Bad\")","v":1},{"$f":"COUNTIF('Daily Snapshot'!$AB$2:$AB$4142,\"Bad\")","v":1},{"$f":"COUNTIF('Daily Snapshot'!$AB$2:$AB$4142,\"Bad\")","v":1},null,"Bad",{"$f":"COUNTIF('Daily Snapshot'!$AC$2:$AC$4142,\"Bad\")","v":1},{"$f":"COUNTIF('Daily Snapshot'!$AC$2:$AC$4142,\"Bad\")","v":1},{"$f":"COUNTIF('Daily Snapshot'!$AC$2:$AC$4142,\"Bad\")","v":1},{"$f":"COUNTIF('Daily Snapshot'!$AC$2:$AC$4142,\"Bad\")","v":1},null,"Bad",{"$f":"COUNTIF('Daily Snapshot'!$AD$2:$AD$4142,\"Bad\")","v":1},{"$f":"COUNTIF('Daily Snapshot'!$AD$2:$AD$4142,\"Bad\")","v":1},{"$f":"COUNTIF('Daily Snapshot'!$AD$2:$AD$4142,\"Bad\")","v":1},{"$f":"COUNTIF('Daily Snapshot'!$AD$2:$AD$4142,\"Bad\")","v":1},null,"Bad",{"$f":"COUNTIF('Daily Snapshot'!$AE$2:$AE$4142,\"Bad\")","v":1},{"$f":"COUNTIF('Daily Snapshot'!$AE$2:$AE$4142,\"Bad\")","v":1},{"$f":"COUNTIF('Daily Snapshot'!$AE$2:$AE$4142,\"Bad\")","v":1},{"$f":"COUNTIF('Daily Snapshot'!$AE$2:$AE$4142,\"Bad\")","v":1},null,"Bad",{"$f":"COUNTIF('Daily Snapshot'!$AF$2:$AF$4142,\"Bad\")","v":1},{"$f":"COUNTIF('Daily Snapshot'!$AF$2:$AF$4142,\"Bad\")","v":1},{"$f":"COUNTIF('Daily Snapshot'!$AF$2:$AF$4142,\"Bad\")","v":1},{"$f":"COUNTIF('Daily Snapshot'!$AF$2:$AF$4142,\"Bad\")","v":1},null,"Bad",{"$f":"COUNTIF('Daily Snapshot'!$AG$2:$AG$4142,\"Bad\")","v":1},{"$f":"COUNTIF('Daily Snapshot'!$AG$2:$AG$4142,\"Bad\")","v":1},{"$f":"COUNTIF('Daily Snapshot'!$AG$2:$AG$4142,\"Bad\")","v":1},{"$f":"COUNTIF('Daily Snapshot'!$AG$2:$AG$4142,\"Bad\")","v":1}]
["Terriable",{"$f":"COUNTIF('Daily Snapshot'!$AA$2:$AA$4142,\"Terrible\")","v":1},{"$f":"COUNTIF('Daily Snapshot'!$AA$2:$AA$4142,\"Terrible\")","v":1},{"$f":"COUNTIF('Daily Snapshot'!$AA$2:$AA$4142,\"Terrible\")","v":1},{"$f":"COUNTIF('Daily Snapshot'!$AA$2:$AA$4142,\"Terrible\")","v":1},null,"Terriable",{"$f":"COUNTIF('Daily Snapshot'!$AB$2:$AB$4142,\"Terrible\")","v":1},{"$f":"COUNTIF('Daily Snapshot'!$AB$2:$AB$4142,\"Terrible\")","v":1},{"$f":"COUNTIF('Daily Snapshot'!$AB$2:$AB$4142,\"Terrible\")","v":1},{"$f":"COUNTIF('Daily Snapshot'!$AB$2:$AB$4142,\"Terrible\")","v":1},null,"Terriable",{"$f":"COUNTIF('Daily Snapshot'!$AC$2:$AC$4142,\"Terrible\")","v":1},{"$f":"COUNTIF('Daily Snapshot'!$AC$2:$AC$4142,\"Terrible\")","v":1},{"$f":"COUNTIF('Daily Snapshot'!$AC$2:$AC$4142,\"Terrible\")","v":1},{"$f":"COUNTIF('Daily Snapshot'!$AC$2:$AC$4142,\"Terrible\")","v":1},null,"Terriable",{"$f":"COUNTIF('Daily Snapshot'!$AD$2:$AD$4142,\"Terrible\")","v":1},{"$f":"COUNTIF('Daily Snapshot'!$AD$2:$AD$4142,\"Terrible\")","v":1},{"$f":"COUNTIF('Daily Snapshot'!$AD$2:$AD$4142,\"Terrible\")","v":1},{"$f":"COUNTIF('Daily Snapshot'!$AD$2:$AD$4142,\"Terrible\")","v":1},null,"Terriable",{"$f":"COUNTIF('Daily Snapshot'!$AE$2:$AE$4142,\"Terrible\")","v":1},{"$f":"COUNTIF('Daily Snapshot'!$AE$2:$AE$4142,\"Terrible\")","v":1},{"$f":"COUNTIF('Daily Snapshot'!$AE$2:$AE$4142,\"Terrible\")","v":1},{"$f":"COUNTIF('Daily Snapshot'!$AE$2:$AE$4142,\"Terrible\")","v":1},null,"Terriable",{"$f":"COUNTIF('Daily Snapshot'!$AF$2:$AF$4142,\"Terrible\")","v":1},{"$f":"COUNTIF('Daily Snapshot'!$AF$2:$AF$4142,\"Terrible\")","v":1},{"$f":"COUNTIF('Daily Snapshot'!$AF$2:$AF$4142,\"Terrible\")","v":1},{"$f":"COUNTIF('Daily Snapshot'!$AF$2:$AF$4142,\"Terrible\")","v":1},null,"Terriable",{"$f":"COUNTIF('Daily Snapshot'!$AG$2:$AG$4142,\"Terrible\")","v":1},{"$f":"COUNTIF('Daily Snapshot'!$AG$2:$AG$4142,\"Terrible\")","v":1},{"$f":"COUNTIF('Daily Snapshot'!$AG$2:$AG$4142,\"Terrible\")","v":1},{"$f":"COUNTIF('Daily Snapshot'!$AG$2:$AG$4142,\"Terrible\")","v":1}]
[]
[]
[]
[]
[]
[]
[]
[]
[]
[]
[]
[]
[]
[]
[]
[]
[]
[]
[]
["Discipline",null,null,null,null,null,"Courage",null,null,null,null,null,"Patience",null,null,null,null,null,"Impartiality",null,null,null,null,null,"Satisfaction",null,null,null,null,null,"Competent",null,null,null,null,null,"Overall"]
[null,"Week","Month","Year","Total",null,null,"Week","Month","Year","Total",null,null,"Week","Month","Year","Total",null,null,"Week","Month","Year","Total",null,null,"Week","Month","Year","Total",null,null,"Week","Month","Year","Total",null,null,"Week","Month","Year","Total"]
["Great",{"$f":"COUNTIF('Daily Snapshot'!$AH$2:$AH$4142,\"Great\")","v":1},{"$f":"COUNTIF('Daily Snapshot'!$AH$2:$AH$4142,\"Great\")","v":1},{"$f":"COUNTIF('Daily Snapshot'!$AH$2:$AH$4142,\"Great\")","v":1},{"$f":"COUNTIF('Daily Snapshot'!$AH$2:$AH$4142,\"Great\")","v":1},null,"Great",{"$f":"COUNTIF('Daily Snapshot'!$AI$2:$AI$4142,\"Great\")","v":1},{"$f":"COUNTIF('Daily Snapshot'!$AI$2:$AI$4142,\"Great\")","v":1},{"$f":"COUNTIF('Daily Snapshot'!$AI$2:$AI$4142,\"Great\")","v":1},{"$f":"COUNTIF('Daily Snapshot'!$AI$2:$AI$4142,\"Great\")","v":1},null,"Great",{"$f":"COUNTIF('Daily Snapshot'!$AJ$2:$AJ$4142,\"Great\")","v":1},{"$f":"COUNTIF('Daily Snapshot'!$AJ$2:$AJ$4142,\"Great\")","v":1},{"$f":"COUNTIF('Daily Snapshot'!$AJ$2:$AJ$4142,\"Great\")","v":1},{"$f":"COUNTIF('Daily Snapshot'!$AJ$2:$AJ$4142,\"Great\")","v":1},null,"Great",{"$f":"COUNTIF('Daily Snapshot'!$AK$2:$AK$4142,\"Great\")","v":1},{"$f":"COUNTIF('Daily Snapshot'!$AK$2:$AK$4142,\"Great\")","v":1},{"$f":"COUNTIF('Daily Snapshot'!$AK$2:$AK$4142,\"Great\")","v":1},{"$f":"COUNTIF('Daily Snapshot'!$AK$2:$AK$4142,\"Great\")","v":1},null,"Great",{"$f":"COUNTIF('Daily Snapshot'!$AL$2:$AL$4142,\"Great\")","v":1},{"$f":"COUNTIF('Daily Snapshot'!$AL$2:$AL$4142,\"Great\")","v":1},{"$f":"COUNTIF('Daily Snapshot'!$AL$2:$AL$4142,\"Great\")","v":1},{"$f":"COUNTIF('Daily Snapshot'!$AL$2:$AL$4142,\"Great\")","v":1},null,"Great",{"$f":"COUNTIF('Daily Snapshot'!$AM$2:$AM$4142,\"Great\")","v":1},{"$f":"COUNTIF('Daily Snapshot'!$AM$2:$AM$4142,\"Great\")","v":1},{"$f":"COUNTIF('Daily Snapshot'!$AM$2:$AM$4142,\"Great\")","v":1},{"$f":"COUNTIF('Daily Snapshot'!$AM$2:$AM$4142,\"Great\")","v":1},null,"Great",{"$f":"COUNTIF('Daily Snapshot'!$AN$2:$AN$4142,\"Great\")","v":1},{"$f":"COUNTIF('Daily Snapshot'!$AN$2:$AN$4142,\"Great\")","v":1},{"$f":"COUNTIF('Daily Snapshot'!$AN$2:$AN$4142,\"Great\")","v":1},{"$f":"COUNTIF('Daily Snapshot'!$AN$2:$AN$4142,\"Great\")","v":1}]
["Good",{"$f":"COUNTIF('Daily Snapshot'!$AH$2:$AH$4142,\"Good\")","v":1},{"$f":"COUNTIF('Daily Snapshot'!$AH$2:$AH$4142,\"Good\")","v":1},{"$f":"COUNTIF('Daily Snapshot'!$AH$2:$AH$4142,\"Good\")","v":1},{"$f":"COUNTIF('Daily Snapshot'!$AH$2:$AH$4142,\"Good\")","v":1},null,"Good",{"$f":"COUNTIF('Daily Snapshot'!$AI$2:$AI$4142,\"Good\")","v":1},{"$f":"COUNTIF('Daily Snapshot'!$AI$2:$AI$4142,\"Good\")","v":1},{"$f":"COUNTIF('Daily Snapshot'!$AI$2:$AI$4142,\"Good\")","v":1},{"$f":"COUNTIF('Daily Snapshot'!$AI$2:$AI$4142,\"Good\")","v":1},null,"Good",{"$f":"COUNTIF('Daily Snapshot'!$AJ$2:$AJ$4142,\"Good\")","v":1},{"$f":"COUNTIF('Daily Snapshot'!$AJ$2:$AJ$4142,\"Good\")","v":1},{"$f":"COUNTIF('Daily Snapshot'!$AJ$2:$AJ$4142,\"Good\")","v":1},{"$f":"COUNTIF('Daily Snapshot'!$AJ$2:$AJ$4142,\"Good\")","v":1},null,"Good",{"$f":"COUNTIF('Daily Snapshot'!$AK$2:$AK$4142,\"Good\")","v":1},{"$f":"COUNTIF('Daily Snapshot'!$AK$2:$AK$4142,\"Good\")","v":1},{"$f":"COUNTIF('Daily Snapshot'!$AK$2:$AK$4142,\"Good\")","v":1},{"$f":"COUNTIF('Daily Snapshot'!$AK$2:$AK$4142,\"Good\")","v":1},null,"Good",{"$f":"COUNTIF('Daily Snapshot'!$AL$2:$AL$4142,\"Good\")","v":1},{"$f":"COUNTIF('Daily Snapshot'!$AL$2:$AL$4142,\"Good\")","v":1},{"$f":"COUNTIF('Daily Snapshot'!$AL$2:$AL$4142,\"Good\")","v":1},{"$f":"COUNTIF('Daily Snapshot'!$AL$2:$AL$4142,\"Good\")","v":1},null,"Good",{"$f":"COUNTIF('Daily Snapshot'!$AM$2:$AM$4142,\"Good\")","v":1},{"$f":"COUNTIF('Daily Snapshot'!$AM$2:$AM$4142,\"Good\")","v":1},{"$f":"COUNTIF('Daily Snapshot'!$AM$2:$AM$4142,\"Good\")","v":1},{"$f":"COUNTIF('Daily Snapshot'!$AM$2:$AM$4142,\"Good\")","v":1},null,"Good",{"$f":"COUNTIF('Daily Snapshot'!$AN$2:$AN$4142,\"Good\")","v":1},{"$f":"COUNTIF('Daily Snapshot'!$AN$2:$AN$4142,\"Good\")","v":1},{"$f":"COUNTIF('Daily Snapshot'!$AN$2:$AN$4142,\"Good\")","v":1},{"$f":"COUNTIF('Daily Snapshot'!$AN$2:$AN$4142,\"Good\")","v":1}]
["Alright",{"$f":"COUNTIF('Daily Snapshot'!$AH$2:$AH$4142,\"Alright\")","v":1},{"$f":"COUNTIF('Daily Snapshot'!$AH$2:$AH$4142,\"Alright\")","v":1},{"$f":"COUNTIF('Daily Snapshot'!$AH$2:$AH$4142,\"Alright\")","v":1},{"$f":"COUNTIF('Daily Snapshot'!$AH$2:$AH$4142,\"Alright\")","v":1},null,"Alright",{"$f":"COUNTIF('Daily Snapshot'!$AI$2:$AI$4142,\"Alright\")","v":1},{"$f":"COUNTIF('Daily Snapshot'!$AI$2:$AI$4142,\"Alright\")","v":1},{"$f":"COUNTIF('Daily Snapshot'!$AI$2:$AI$4142,\"Alright\")","v":1},{"$f":"COUNTIF('Daily Snapshot'!$AI$2:$AI$4142,\"Alright\")","v":1},null,"Alright",{"$f":"COUNTIF('Daily Snapshot'!$AJ$2:$AJ$4142,\"Alright\")","v":1},{"$f":"COUNTIF('Daily Snapshot'!$AJ$2:$AJ$4142,\"Alright\")","v":1},{"$f":"COUNTIF('Daily Snapshot'!$AJ$2:$AJ$4142,\"Alright\")","v":1},{"$f":"COUNTIF('Daily Snapshot'!$AJ$2:$AJ$4142,\"Alright\")","v":1},null,"Alright",{"$f":"COUNTIF('Daily Snapshot'!$AK$2:$AK$4142,\"Alright\")","v":1},{"$f":"COUNTIF('Daily Snapshot'!$AK$2:$AK$4142,\"Alright\")","v":1},{"$f":"COUNTIF('Daily Snapshot'!$AK$2:$AK$4142,\"Alright\")","v":1},{"$f":"COUNTIF('Daily Snapshot'!$AK$2:$AK$4142,\"Alright\")","v":1},null,"Alright",{"$f":"COUNTIF('Daily Snapshot'!$AL$2:$AL$4142,\"Alright\")","v":1},{"$f":"COUNTIF('Daily Snapshot'!$AL$2:$AL$4142,\"Alright\")","v":1},{"$f":"COUNTIF('Daily Snapshot'!$AL$2:$AL$4142,\"Alright\")","v":1},{"$f":"COUNTIF('Daily Snapshot'!$AL$2:$AL$4142,\"Alright\")","v":1},null,"Alright",{"$f":"COUNTIF('Daily Snapshot'!$AM$2:$AM$4142,\"Alright\")","v":1},{"$f":"COUNTIF('Daily Snapshot'!$AM$2:$AM$4142,\"Alright\")","v":1},{"$f":"COUNTIF('Daily Snapshot'!$AM$2:$AM$4142,\"Alright\")","v":1},{"$f":"COUNTIF('Daily Snapshot'!$AM$2:$AM$4142,\"Alright\")","v":1},null,"Alright",{"$f":"COUNTIF('Daily Snapshot'!$AN$2:$AN$4142,\"Alright\")","v":1},{"$f":"COUNTIF('Daily Snapshot'!$AN$2:$AN$4142,\"Alright\")","v":1},{"$f":"COUNTIF('Daily Snapshot'!$AN$2:$AN$4142,\"Alright\")","v":1},{"$f":"COUNTIF('Daily Snapshot'!$AN$2:$AN$4142,\"Alright\")","v":1}]
["Bad",{"$f":"COUNTIF('Daily Snapshot'!$AH$2:$AH$4142,\"Bad\")","v":1},{"$f":"COUNTIF('Daily Snapshot'!$AH$2:$AH$4142,\"Bad\")","v":1},{"$f":"COUNTIF('Daily Snapshot'!$AH$2:$AH$4142,\"Bad\")","v":1},{"$f":"COUNTIF('Daily Snapshot'!$AH$2:$AH$4142,\"Bad\")","v":1},null,"Bad",{"$f":"COUNTIF('Daily Snapshot'!$AI$2:$AI$4142,\"Bad\")","v":1},{"$f":"COUNTIF('Daily Snapshot'!$AI$2:$AI$4142,\"Bad\")","v":1},{"$f":"COUNTIF('Daily Snapshot'!$AI$2:$AI$4142,\"Bad\")","v":1},{"$f":"COUNTIF('Daily Snapshot'!$AI$2:$AI$4142,\"Bad\")","v":1},null,"Bad",{"$f":"COUNTIF('Daily Snapshot'!$AJ$2:$AJ$4142,\"Bad\")","v":1},{"$f":"COUNTIF('Daily Snapshot'!$AJ$2:$AJ$4142,\"Bad\")","v":1},{"$f":"COUNTIF('Daily Snapshot'!$AJ$2:$AJ$4142,\"Bad\")","v":1},{"$f":"COUNTIF('Daily Snapshot'!$AJ$2:$AJ$4142,\"Bad\")","v":1},null,"Bad",{"$f":"COUNTIF('Daily Snapshot'!$AK$2:$AK$4142,\"Bad\")","v":1},{"$f":"COUNTIF('Daily Snapshot'!$AK$2:$AK$4142,\"Bad\")","v":1},{"$f":"COUNTIF('Daily Snapshot'!$AK$2:$AK$4142,\"Bad\")","v":1},{"$f":"COUNTIF('Daily Snapshot'!$AK$2:$AK$4142,\"Bad\")","v":1},null,"Bad",{"$f":"COUNTIF('Daily Snapshot'!$AL$2:$AL$4142,\"Bad\")","v":1},{"$f":"COUNTIF('Daily Snapshot'!$AL$2:$AL$4142,\"Bad\")","v":1},{"$f":"COUNTIF('Daily Snapshot'!$AL$2:$AL$4142,\"Bad\")","v":1},{"$f":"COUNTIF('Daily Snapshot'!$AL$2:$AL$4142,\"Bad\")","v":1},null,"Bad",{"$f":"COUNTIF('Daily Snapshot'!$AM$2:$AM$4142,\"Bad\")","v":1},{"$f":"COUNTIF('Daily Snapshot'!$AM$2:$AM$4142,\"Bad\")","v":1},{"$f":"COUNTIF('Daily Snapshot'!$AM$2:$AM$4142,\"Bad\")","v":1},{"$f":"COUNTIF('Daily Snapshot'!$AM$2:$AM$4142,\"Bad\")","v":1},null,"Bad",{"$f":"COUNTIF('Daily Snapshot'!$AN$2:$AN$4142,\"Bad\")","v":1},{"$f":"COUNTIF('Daily Snapshot'!$AN$2:$AN$4142,\"Bad\")","v":1},{"$f":"COUNTIF('Daily Snapshot'!$AN$2:$AN$4142,\"Bad\")","v":1},{"$f":"COUNTIF('Daily Snapshot'!$AN$2:$AN$4142,\"Bad\")","v":1}]
["Terriable",{"$f":"COUNTIF('Daily Snapshot'!$AH$2:$AH$4142,\"Terrible\")","v":1},{"$f":"COUNTIF('Daily Snapshot'!$AH$2:$AH$4142,\"Terrible\")","v":1},{"$f":"COUNTIF('Daily Snapshot'!$AH$2:$AH$4142,\"Terrible\")","v":1},{"$f":"COUNTIF('Daily Snapshot'!$AH$2:$AH$4142,\"Terrible\")","v":1},null,"Terriable",{"$f":"COUNTIF('Daily Snapshot'!$AI$2:$AI$4142,\"Terrible\")","v":1},{"$f":"COUNTIF('Daily Snapshot'!$AI$2:$AI$4142,\"Terrible\")","v":1},{"$f":"COUNTIF('Daily Snapshot'!$AI$2:$AI$4142,\"Terrible\")","v":1},{"$f":"COUNTIF('Daily Snapshot'!$AI$2:$AI$4142,\"Terrible\")","v":1},null,"Terriable",{"$f":"COUNTIF('Daily Snapshot'!$AJ$2:$AJ$4142,\"Terrible\")","v":1},{"$f":"COUNTIF('Daily Snapshot'!$AJ$2:$AJ$4142,\"Terrible\")","v":1},{"$f":"COUNTIF('Daily Snapshot'!$AJ$2:$AJ$4142,\"Terrible\")","v":1},{"$f":"COUNTIF('Daily Snapshot'!$AJ$2:$AJ$4142,\"Terrible\")","v":1},null,"Terriable",{"$f":"COUNTIF('Daily Snapshot'!$AK$2:$AK$4142,\"Terrible\")","v":1},{"$f":"COUNTIF('Daily Snapshot'!$AK$2:$AK$4142,\"Terrible\")","v":1},{"$f":"COUNTIF('Daily Snapshot'!$AK$2:$AK$4142,\"Terrible\")","v":1},{"$f":"COUNTIF('Daily Snapshot'!$AK$2:$AK$4142,\"Terrible\")","v":1},null,"Terriable",{"$f":"COUNTIF('Daily Snapshot'!$AL$2:$AL$4142,\"Terrible\")","v":1},{"$f":"COUNTIF('Daily Snapshot'!$AL$2:$AL$4142,\"Terrible\")","v":1},{"$f":"COUNTIF('Daily Snapshot'!$AL$2:$AL$4142,\"Terrible\")","v":1},{"$f":"COUNTIF('Daily Snapshot'!$AL$2:$AL$4142,\"Terrible\")","v":1},null,"Terriable",{"$f":"COUNTIF('Daily Snapshot'!$AM$2:$AM$4142,\"Terrible\")","v":1},{"$f":"COUNTIF('Daily Snapshot'!$AM$2:$AM$4142,\"Terrible\")","v":1},{"$f":"COUNTIF('Daily Snapshot'!$AM$2:$AM$4142,\"Terrible\")","v":1},{"$f":"COUNTIF('Daily Snapshot'!$AM$2:$AM$4142,\"Terrible\")","v":1},null,"Terriable",{"$f":"COUNTIF('Daily Snapshot'!$AN$2:$AN$4142,\"Terrible\")","v":1},{"$f":"COUNTIF('Daily Snapshot'!$AN$2:$AN$4142,\"Terrible\")","v":1},{"$f":"COUNTIF('Daily Snapshot'!$AN$2:$AN$4142,\"Terrible\")","v":1},{"$f":"COUNTIF('Daily Snapshot'!$AN$2:$AN$4142,\"Terrible\")","v":1}]

{"sheet":"Sample Set","index":14,"n_rows":33,"n_cols":24,"rows_kept":33,"cut":false,"hidden":false,"merged":[]}
["20 Trade Exercise"]
["Directions:","Enter a G for a green trade or an R for a red trade.  The cell will automatically change to the appropriate color. (If you click on one of the cells, you'll notice the letter in the formula bar.)"]
[null,"Enter a V if you had a violation for that trade."]
[null,"The \"win %\" and \"# of violations\" will automatically calculate based on your inputs."]
[null,"To get started, highlight all of the green and red cells and press Delete on your keyboard to clear out the cells.  They should all turn white.  Also, highlight all of the V cells and press Delete."]
[]
["Sample 9 (Profit)",1,2,3,4,5,6,7,8,9,10,11,12,13,14,15,16,17,18,19,20,null,"Win %",{"$f":"(COUNTIF(B8:U8,\"G\"))/(COUNTIF(B8:U8,\"G\")+COUNTIF(B8:U8,\"R\"))","v":0.66666666666666663}]
["Trade","G","g","R","G","R","G",null,null,null,null,null,null,null,null,null,null,null,null,null,null,null,"# of Violations",{"$f":"COUNTIF(B9:U9,\"V\")","v":0}]
["violation"]
["Sample 1 (5 Min)",1,2,3,4,5,6,7,8,9,10,11,12,13,14,15,16,17,18,19,20,null,"Win %",{"$f":"(COUNTIF(B11:U11,\"G\"))/(COUNTIF(B11:U11,\"G\")+COUNTIF(B11:U11,\"R\"))","v":0.625}]
["Trade","g","r","r","g","g","g","r","G",null,null,null,null,null,null,null,null,null,null,null,null,null,"# of Violations",{"$f":"COUNTIF(B12:U12,\"V\")","v":1}]
["violation",null,null,null,null,null,null,null,"V"]
["Sample 1 (15 min)",1,2,3,4,5,6,7,8,9,10,11,12,13,14,15,16,17,18,19,20,null,"Win %",{"$f":"(COUNTIF(B14:U14,\"G\"))/(COUNTIF(B14:U14,\"G\")+COUNTIF(B14:U14,\"R\"))","v":1}]
["Trade","g","g","g","g","g",null,null,null,null,null,null,null,null,null,null,null,null,null,null,null,null,"# of Violations",{"$f":"COUNTIF(B15:U15,\"V\")","v":0}]
["violation"]
["Sample 2 (MA-X/PBLO)",1,2,3,4,5,6,7,8,9,10,11,12,13,14,15,16,17,18,19,20,null,"Win %",{"$f":"(COUNTIF(B17:U17,\"G\"))/(COUNTIF(B17:U17,\"G\")+COUNTIF(B17:U17,\"R\"))","v":0.72727272727272729}]
["Trade","r","g","G","g","G","G","g","R","G","R","G",null,null,null,null,null,null,null,null,null,null,"# of Violations",{"$f":"COUNTIF(B18:U18,\"V\")","v":1}]
["violation","V"]
[null,null,null,null,null," ",null,null,null,null,null,null,null,null,null,null,null,null,null,null,null,null,"Overall Win",{"$f":"SUM(X10+X13+X16)/3","v":0.78409090909090917}]
[]
[]
[]
[]
[null,null,null,null,null,null,null,null,null," "]
[]
[]
[]
[]
[]
[]
[]
[]
[null," "]

{"sheet":"Rule Following","index":15,"n_rows":3,"n_cols":19,"rows_kept":3,"cut":false,"hidden":false,"merged":[]}
["DATE",1,2,3,4,5,6,7,8,9,10,11,12,"13a","13b",14,15,16,17]
["2019-07-23","Yes","Yes","Yes","Yes","Yes","Yes","Yes","Yes","Yes","Yes","Yes","Yes","Yes","Yes","Yes","Yes","Yes","Yes"]
["2020-01-31","No","No","No","No","No","No","No","No","No","No","No","No","No","No","No","No","No","No"]

{"sheet":"Weekly Report","index":16,"n_rows":63,"n_cols":40,"rows_kept":63,"cut":false,"hidden":false,"merged":[[24,20,24,23],[24,27,24,30],[24,34,24,37],[1,16,1,19],[27,0,27,19],[18,20,18,24],[18,27,18,31],[18,34,18,38],[20,20,20,23],[20,27,20,30],[20,34,20,37],[21,20,21,23],[21,27,21,30],[21,34,21,37],[22,20,22,23],[22,27,22,30],[22,34,22,37],[23,20,23,23],[23,27,23,30],[23,34,23,37]]}
[]
[null,null,null,null,null,null,null,null,null,null,null,null,null,null,null,null,{"$f":"TODAY()","v":"2020-05-12"}]
[]
[]
["Total Trades ----------------------------------",null,null,null,null,{"$f":"Calculations!BQ25","v":0},null,"Total Gain/Loss --------------------------",null,null,null,{"$f":"'Scatter Plot'!U30","v":1.4726666666666457},"R",null,"Sample Set Rate ----------------------",null,null,null,null,{"$f":"L33","v":0.66666666666666663}]
["Average Trades per day ----------------",null,null,null,null,{"$f":"Calculations!BQ26","v":0},null,"Average Daily Gain/Loss -------------------",null,null,null,{"$f":"'Scatter Plot'!U31","v":1.4726666666666457},"R",null,"5 Min Win %----------------------------",null,null,null,null,{"$f":"'5 ORB Edge'!AQ2","v":0}]
["Trades outside Edge ------------------",null,null,null,null,{"$f":"Calculations!BQ30","v":0},null,"Profit Factor ---------------------------",null,null,null,{"$f":"'Scatter Plot'!U37","v":0},"R",null,"15 Min ORB Win % --------------------------",null,null,null,null,{"$f":"'15 ORB Edge'!AQ2","v":0}]
["Winning Trades -------------------------",null,null,null,null,{"$f":"Calculations!BQ27","v":0},null,"Average Win -----------------------------",null,null,null,{"$f":"'Scatter Plot'!U32","v":1.4726666666666457},"R",null,"MA-X-PLBO Win % ---------------------",null,null,null,null,{"$f":"'MA Edge'!AU2","v":0}]
["Losing Trades ----------------------------",null,null,null,null,{"$f":"Calculations!BQ28","v":0},null,"Average Loss ------------------------",null,null,null,{"$f":"'Scatter Plot'!U33","v":"0.00"},"R",null,"% of 1R -------------------------------------",null,null,null,null,{"$f":"'Profitability R''s'!O3","v":1}]
["Percent Profitable -------------------",null,null,null,null,{"$f":"'Scatter Plot'!U38","v":0.25},null,"Largest Gain -------------------------------",null,null,null,{"$f":"'Scatter Plot'!U34","v":1.4726666666666457},"R",null,"% of 2R ----------------------------------------",null,null,null,null,{"$f":"'Profitability R''s'!O4","v":1}]
["Overall Trade Plan Accuracy -----------------------",null,null,null,null,{"$f":"SUM('Sample Set'!X10+'Sample Set'!X13+'Sample Set'!X16)/3","v":0.78409090909090917},null,"Largest Loss --------------------------------",null,null,null,{"$f":"'Scatter Plot'!U35","v":1.4726666666666457},"R",null,"% of 2+R -------------------------------------",null,null,null,null,{"$f":"'Profitability R''s'!O5","v":0}]
["Rule Violations -------------------------------",null,null,null,null,{"$f":"Calculations!BQ29","v":-18},null,"Average Trade expectation -------------",null,null,null,{"$f":"'Scatter Plot'!U36","v":1.1547045454545291},"R",null,"Faithfulness % ------------------------------",null,null,null,null,{"$f":"'Profitability R''s'!O6","v":"0%"}]
[]
[]
[]
[]
[]
[]
[]
[]
[null,null,null,null,null,null,null,null,null,null,null,null,null,null,null,null,null,null,null,null,"Total Stocks Anlayzed",null,null,null,{"$f":"'5 ORB Edge'!Y5","v":0},null,null,"Total Stocks Anlayzed",null,null,null,{"$f":"'15 ORB Edge'!Y5","v":0},null,null,"Total Stocks Anlayzed",null,null,null,{"$f":"'MA Edge'!AC5","v":0}]
[null,null,null,null,null,null,null,null,null,null,null,null,null,null,null,null,null,null,null,null,"Met Edge Critera",null,null,null,{"$f":"'5 ORB Edge'!AE5","v":0},null,null,"Met Edge Critera",null,null,null,{"$f":"'15 ORB Edge'!AE5","v":0},null,null,"Met Edge Critera",null,null,null,{"$f":"'MA Edge'!AI5","v":0}]
[null,null,null,null,null,null,null,null,null,null,null,null,null,null,null,null,null,null,null,null,"Edge Critera Worked",null,null,null,{"$f":"'5 ORB Edge'!AK5","v":0},null,null,"Edge Critera Worked",null,null,null,{"$f":"'15 ORB Edge'!AK5","v":0},null,null,"Edge Critera Worked",null,null,null,{"$f":"'MA Edge'!AO5","v":0}]
[null,null,null,null,null,null,null,null,null,null,null,null,null,null,null,null,null,null,null,null,"I Traded within Edge",null,null,null,{"$f":"SUM('Scatter Plot'!U43:U44)","v":0},null,null,"I Traded within Edge",null,null,null,{"$f":"SUM('Scatter Plot'!U45:U46)","v":0},null,null,"I Traded within Edge",null,null,null,{"$f":"SUM('Scatter Plot'!U47:U48)","v":0}]
[null,null,null,null,null,null,null,null,null,null,null,null,null,null,null,null,null,null,null,null,"I Traded Outside Edge",null,null,null,{"$f":"SUM('Scatter Plot'!U53:U54)","v":0},null,null,"I Traded Outside Edge",null,null,null,{"$f":"SUM('Scatter Plot'!U55:U56)","v":1},null,null,"I Traded Outside Edge",null,null,null,{"$f":"SUM('Scatter Plot'!U57:U58)","v":0}]
[]
[]
[]
[]
[1,2,3,4,5,6,7,8,9,10,11,12,13,14,15,16,17,18,19,20]
[{"$f":"'Sample Set'!B8","v":"G"},{"$f":"'Sample Set'!C8","v":"g"},{"$f":"'Sample Set'!D8","v":"R"},{"$f":"'Sample Set'!E8","v":"G"},{"$f":"'Sample Set'!F8","v":"R"},{"$f":"'Sample Set'!G8","v":"G"},{"$f":"'Sample Set'!H8","v":0},{"$f":"'Sample Set'!I8","v":0},{"$f":"'Sample Set'!J8","v":0},{"$f":"'Sample Set'!K8","v":0},{"$f":"'Sample Set'!L8","v":0},{"$f":"'Sample Set'!M8","v":0},{"$f":"'Sample Set'!N8","v":0},{"$f":"'Sample Set'!O8","v":0},{"$f":"'Sample Set'!P8","v":0},{"$f":"'Sample Set'!Q8","v":0},{"$f":"'Sample Set'!R8","v":0},{"$f":"'Sample Set'!S8","v":0},{"$f":"'Sample Set'!T8","v":0},{"$f":"'Sample Set'!U8","v":0}]
[{"$f":"'Sample Set'!B9","v":0},{"$f":"'Sample Set'!C9","v":0},{"$f":"'Sample Set'!D9","v":0},{"$f":"'Sample Set'!E9","v":0},{"$f":"'Sample Set'!F9","v":0},{"$f":"'Sample Set'!G9","v":0},{"$f":"'Sample Set'!H9","v":0},{"$f":"'Sample Set'!I9","v":0},{"$f":"'Sample Set'!J9","v":0},{"$f":"'Sample Set'!K9","v":0},{"$f":"'Sample Set'!L9","v":0},{"$f":"'Sample Set'!M9","v":0},{"$f":"'Sample Set'!N9","v":0},{"$f":"'Sample Set'!O9","v":0},{"$f":"'Sample Set'!P9","v":0},{"$f":"'Sample Set'!Q9","v":0},{"$f":"'Sample Set'!R9","v":0},{"$f":"'Sample Set'!S9","v":0},{"$f":"'Sample Set'!T9","v":0},{"$f":"'Sample Set'!U9","v":0}]
[null,null,null,null,null,null,null,null,null,null,"win %",{"$f":"(COUNTIF(A31:T31,\"G\"))/(COUNTIF(A31:T31,\"G\")+COUNTIF(A31:T31,\"R\"))","v":0.66666666666666663}]
[null,null,null,null,null,null,null,null,"# of Rule Violations",null,null,{"$f":"COUNTIF(A32:T32,\"V\")","v":0},null,null,null,null,null,null,null,null,null,null,null,null,null,null,null,null,null,null,null,null,null,null,null,null,null,null,null," "]
[]
[]
[]
[]
[]
[]
[]
[]
[]
[]
[]
[]
[]
[]
[]
[]
[]
[]
[]
[]
[]
[]
[]
[]
[]
[]
[]
[null,null,null,null,null,null,null,null,null," "]
[null,null,null," "]

{"sheet":"Monthly Report","index":17,"n_rows":63,"n_cols":40,"rows_kept":63,"cut":false,"hidden":false,"merged":[[1,16,1,19],[18,20,18,24],[18,27,18,31],[18,34,18,38],[20,20,20,23],[20,27,20,30],[20,34,20,37],[21,20,21,23],[21,27,21,30],[21,34,21,37],[22,20,22,23],[22,27,22,30],[22,34,22,37],[27,0,27,19],[23,20,23,23],[23,27,23,30],[23,34,23,37],[24,20,24,23],[24,27,24,30],[24,34,24,37]]}
[]
[null,null,null,null,null,null,null,null,null,null,null,null,null,null,null,null,{"$f":"TODAY()","v":"2020-05-12"}]
[]
[]
["Total Trades ----------------------------------",null,null,null,null,{"$f":"Calculations!BP25","v":1},null,"Total Gain/Loss --------------------------",null,null,null,{"$f":"'Scatter Plot'!V30","v":1.4726666666666457},"R",null,"Sample Set Rate ----------------------",null,null,null,null,{"$f":"L33","v":0.66666666666666663}]
["Average Trades per day ----------------",null,null,null,null,{"$f":"Calculations!BP26","v":4.3478260869565216E-2},null,"Average Daily Gain/Loss -------------------",null,null,null,{"$f":"'Scatter Plot'!V31","v":1.4726666666666457},"R",null,"5 Min Win%----------------------------",null,null,null,null,{"$f":"'5 ORB Edge'!AR2","v":0}]
["Trades outside Edge ------------------",null,null,null,null,{"$f":"Calculations!BP30","v":0},null,"Profit Factor ---------------------------",null,null,null,{"$f":"'Scatter Plot'!V37","v":0},"R",null,"15 Min ORB Win % --------------------------",null,null,null,null,{"$f":"'15 ORB Edge'!AR2","v":0}]
["Winning Trades -------------------------",null,null,null,null,{"$f":"Calculations!BP27","v":1},null,"Average Win -----------------------------",null,null,null,{"$f":"'Scatter Plot'!V32","v":1.4726666666666457},"R",null,"MA-X-PLBO Win % ---------------------",null,null,null,null,{"$f":"'MA Edge'!AV2","v":0}]
["Losing Trades ----------------------------",null,null,null,null,{"$f":"Calculations!BP28","v":0},null,"Average Loss ------------------------",null,null,null,{"$f":"'Scatter Plot'!V33","v":"0.00"},"R",null,"% of 1R -------------------------------------",null,null,null,null,{"$f":"'Profitability R''s'!P3","v":1}]
["Percent Profitable -------------------",null,null,null,null,{"$f":"'Scatter Plot'!V38","v":0.5},null,"Largest Gain -------------------------------",null,null,null,{"$f":"'Scatter Plot'!V34","v":1.4726666666666457},"R",null,"% of 2R ----------------------------------------",null,null,null,null,{"$f":"'Profitability R''s'!P4","v":"0%"}]
["Overall Trade Plan Accuracy -----------------------",null,null,null,null,{"$f":"SUM('Sample Set'!X10+'Sample Set'!X13+'Sample Set'!X16)/3","v":0.78409090909090917},null,"Largest Loss --------------------------------",null,null,null,{"$f":"'Scatter Plot'!V35","v":1.4726666666666457},"R",null,"% of 2+R -------------------------------------",null,null,null,null,{"$f":"'Profitability R''s'!P5","v":0}]
["Rule Violations -------------------------------",null,null,null,null,{"$f":"Calculations!BP29","v":-18},null,"Average Trade expectation -------------",null,null,null,{"$f":"'Scatter Plot'!V36","v":1.1547045454545291},"R",null,"Faithfulness % ------------------------------",null,null,null,null,{"$f":"'Profitability R''s'!P6","v":"0%"}]
[]
[]
[]
[]
[]
[]
[]
[]
[null,null,null,null,null,null,null,null,null,null,null,null,null,null,null,null,null,null,null,null,"Total Stocks Anlayzed",null,null,null,{"$f":"'5 ORB Edge'!Z5","v":0},null,null,"Total Stocks Anlayzed",null,null,null,{"$f":"'15 ORB Edge'!Z5","v":0},null,null,"Total Stocks Anlayzed",null,null,null,{"$f":"'MA Edge'!AD5","v":0}]
[null,null,null,null,null,null,null,null,null,null,null,null,null,null,null,null,null,null,null,null,"Met Edge Critera",null,null,null,{"$f":"'5 ORB Edge'!AF5","v":0},null,null,"Met Edge Critera",null,null,null,{"$f":"'15 ORB Edge'!AF5","v":0},null,null,"Met Edge Critera",null,null,null,{"$f":"'MA Edge'!AJ5","v":0}]
[null,null,null,null,null,null,null,null,null,null,null,null,null,null,null,null,null,null,null,null,"Edge Critera Worked",null,null,null,{"$f":"'5 ORB Edge'!AL5","v":0},null,null,"Edge Critera Worked",null,null,null,{"$f":"'15 ORB Edge'!AL5","v":0},null,null,"Edge Critera Worked",null,null,null,{"$f":"'MA Edge'!AP5","v":0}]
[null,null,null,null,null,null,null,null,null,null,null,null,null,null,null,null,null,null,null,null,"I Traded within Edge",null,null,null,{"$f":"SUM('Scatter Plot'!V43:V44)","v":0},null,null,"I Traded within Edge",null,null,null,{"$f":"SUM('Scatter Plot'!V45:V46)","v":0},null,null,"I Traded within Edge",null,null,null,{"$f":"SUM('Scatter Plot'!V47:V48)","v":0}]
[null,null,null,null,null,null,null,null,null,null,null,null,null,null,null,null,null,null,null,null,"I Traded Outside Edge",null,null,null,{"$f":"SUM('Scatter Plot'!V53:V54)","v":0},null,null,"I Traded Outside Edge",null,null,null,{"$f":"SUM('Scatter Plot'!V55:V56)","v":1},null,null,"I Traded Outside Edge",null,null,null,{"$f":"SUM('Scatter Plot'!V57:V58)","v":0}]
[]
[]
[]
[]
[1,2,3,4,5,6,7,8,9,10,11,12,13,14,15,16,17,18,19,20]
[{"$f":"'Sample Set'!B8","v":"G"},{"$f":"'Sample Set'!C8","v":"g"},{"$f":"'Sample Set'!D8","v":"R"},{"$f":"'Sample Set'!E8","v":"G"},{"$f":"'Sample Set'!F8","v":"R"},{"$f":"'Sample Set'!G8","v":"G"},{"$f":"'Sample Set'!H8","v":0},{"$f":"'Sample Set'!I8","v":0},{"$f":"'Sample Set'!J8","v":0},{"$f":"'Sample Set'!K8","v":0},{"$f":"'Sample Set'!L8","v":0},{"$f":"'Sample Set'!M8","v":0},{"$f":"'Sample Set'!N8","v":0},{"$f":"'Sample Set'!O8","v":0},{"$f":"'Sample Set'!P8","v":0},{"$f":"'Sample Set'!Q8","v":0},{"$f":"'Sample Set'!R8","v":0},{"$f":"'Sample Set'!S8","v":0},{"$f":"'Sample Set'!T8","v":0},{"$f":"'Sample Set'!U8","v":0}]
[{"$f":"'Sample Set'!B9","v":0},{"$f":"'Sample Set'!C9","v":0},{"$f":"'Sample Set'!D9","v":0},{"$f":"'Sample Set'!E9","v":0},{"$f":"'Sample Set'!F9","v":0},{"$f":"'Sample Set'!G9","v":0},{"$f":"'Sample Set'!H9","v":0},{"$f":"'Sample Set'!I9","v":0},{"$f":"'Sample Set'!J9","v":0},{"$f":"'Sample Set'!K9","v":0},{"$f":"'Sample Set'!L9","v":0},{"$f":"'Sample Set'!M9","v":0},{"$f":"'Sample Set'!N9","v":0},{"$f":"'Sample Set'!O9","v":0},{"$f":"'Sample Set'!P9","v":0},{"$f":"'Sample Set'!Q9","v":0},{"$f":"'Sample Set'!R9","v":0},{"$f":"'Sample Set'!S9","v":0},{"$f":"'Sample Set'!T9","v":0},{"$f":"'Sample Set'!U9","v":0}]
[null,null,null,null,null,null,null,null,null,null,"win %",{"$f":"(COUNTIF(A31:T31,\"G\"))/(COUNTIF(A31:T31,\"G\")+COUNTIF(A31:T31,\"R\"))","v":0.66666666666666663}]
[null,null,null,null,null,null,null,null,"# of Rule Violations",null,null,{"$f":"COUNTIF(A32:T32,\"V\")","v":0},null,null,null,null,null,null,null,null,null,null,null,null,null,null,null,null,null,null,null,null,null,null,null,null,null,null,null," "]
[]
[]
[]
[]
[]
[]
[]
[]
[]
[]
[]
[]
[]
[]
[]
[]
[]
[]
[]
[]
[]
[]
[]
[]
[]
[]
[]
[null,null,null,null,null,null,null,null,null," "]
[null,null,null," "]

{"sheet":"Yearly Report","index":18,"n_rows":63,"n_cols":40,"rows_kept":63,"cut":false,"hidden":false,"merged":[[1,16,1,19],[18,20,18,24],[18,27,18,31],[18,34,18,38],[20,20,20,23],[20,27,20,30],[20,34,20,37],[21,20,21,23],[21,27,21,30],[21,34,21,37],[22,20,22,23],[22,27,22,30],[22,34,22,37],[27,0,27,19],[23,20,23,23],[23,27,23,30],[23,34,23,37],[24,20,24,23],[24,27,24,30],[24,34,24,37]]}
[]
[null,null,null,null,null,null,null,null,null,null,null,null,null,null,null,null,{"$f":"TODAY()","v":"2020-05-12"}]
[]
[]
["Total Trades ----------------------------------",null,null,null,null,{"$f":"Calculations!BO25","v":1},null,"Total Gain/Loss --------------------------",null,null,null,{"$f":"'Scatter Plot'!W30","v":1.4726666666666457},"R",null,"Sample Set Rate ----------------------",null,null,null,null,{"$f":"L33","v":0.66666666666666663}]
["Average Trades per day ----------------",null,null,null,null,{"$f":"Calculations!BO26","v":3.8461538461538464E-3},null,"Average Daily Gain/Loss -------------------",null,null,null,{"$f":"'Scatter Plot'!W31","v":1.4726666666666457},"R",null,"5 Min Win%----------------------------",null,null,null,null,{"$f":"'5 ORB Edge'!AS2","v":0}]
["Trades outside Edge ------------------",null,null,null,null,{"$f":"Calculations!BO30","v":0},null,"Profit Factor ---------------------------",null,null,null,{"$f":"'Scatter Plot'!W37","v":0},"R",null,"15 Min ORB Win % --------------------------",null,null,null,null,{"$f":"'15 ORB Edge'!AS2","v":0}]
["Winning Trades -------------------------",null,null,null,null,{"$f":"Calculations!BO27","v":1},null,"Average Win -----------------------------",null,null,null,{"$f":"'Scatter Plot'!W32","v":1.4726666666666457},"R",null,"MA-X-PLBO Win % ---------------------",null,null,null,null,{"$f":"'MA Edge'!AW2","v":0}]
["Losing Trades ----------------------------",null,null,null,null,{"$f":"Calculations!BO28","v":0},null,"Average Loss ------------------------",null,null,null,{"$f":"'Scatter Plot'!W33","v":"0.00"},"R",null,"% of 1R -------------------------------------",null,null,null,null,{"$f":"'Profitability R''s'!Q3","v":1}]
["Percent Profitable -------------------",null,null,null,null,{"$f":"'Scatter Plot'!W38","v":5.2631578947368418E-2},null,"Largest Gain -------------------------------",null,null,null,{"$f":"'Scatter Plot'!W34","v":1.4726666666666457},"R",null,"% of 2R ----------------------------------------",null,null,null,null,{"$f":"'Profitability R''s'!Q4","v":1}]
["Overall Trade Plan Accuracy -----------------------",null,null,null,null,{"$f":"SUM('Sample Set'!X10+'Sample Set'!X13+'Sample Set'!X16)/3","v":0.78409090909090917},null,"Largest Loss --------------------------------",null,null,null,{"$f":"'Scatter Plot'!W35","v":1.4726666666666457},"R",null,"% of 2+R -------------------------------------",null,null,null,null,{"$f":"'Profitability R''s'!Q5","v":0}]
["Rule Violations -------------------------------",null,null,null,null,{"$f":"Calculations!BO29","v":-18},null,"Average Trade expectation -------------",null,null,null,{"$f":"'Scatter Plot'!W36","v":1.1547045454545291},"R",null,"Faithfulness % ------------------------------",null,null,null,null,{"$f":"'Profitability R''s'!R6","v":"0%"}]
[]
[]
[]
[]
[]
[]
[]
[]
[null,null,null,null,null,null,null,null,null,null,null,null,null,null,null,null,null,null,null,null,"Total Stocks Anlayzed",null,null,null,{"$f":"'5 ORB Edge'!AA5","v":0},null,null,"Total Stocks Anlayzed",null,null,null,{"$f":"'15 ORB Edge'!AA5","v":0},null,null,"Total Stocks Anlayzed",null,null,null,{"$f":"'MA Edge'!AE5","v":0}]
[null,null,null,null,null,null,null,null,null,null,null,null,null,null,null,null,null,null,null,null,"Met Edge Critera",null,null,null,{"$f":"'5 ORB Edge'!AG5","v":0},null,null,"Met Edge Critera",null,null,null,{"$f":"'15 ORB Edge'!AG5","v":0},null,null,"Met Edge Critera",null,null,null,{"$f":"'MA Edge'!AK5","v":0}]
[null,null,null,null,null,null,null,null,null,null,null,null,null,null,null,null,null,null,null,null,"Edge Critera Worked",null,null,null,{"$f":"'5 ORB Edge'!AM5","v":0},null,null,"Edge Critera Worked",null,null,null,{"$f":"'15 ORB Edge'!AM5","v":0},null,null,"Edge Critera Worked",null,null,null,{"$f":"'MA Edge'!AQ5","v":0}]
[null,null,null,null,null,null,null,null,null,null,null,null,null,null,null,null,null,null,null,null,"I Traded within Edge",null,null,null,{"$f":"SUM('Scatter Plot'!W43:W44)","v":0},null,null,"I Traded within Edge",null,null,null,{"$f":"SUM('Scatter Plot'!W45:W46)","v":0},null,null,"I Traded within Edge",null,null,null,{"$f":"SUM('Scatter Plot'!W47:W48)","v":0}]
[null,null,null,null,null,null,null,null,null,null,null,null,null,null,null,null,null,null,null,null,"I Traded Outside Edge",null,null,null,{"$f":"SUM('Scatter Plot'!W53:W54)","v":0},null,null,"I Traded Outside Edge",null,null,null,{"$f":"SUM('Scatter Plot'!W55:W56)","v":1},null,null,"I Traded Outside Edge",null,null,null,{"$f":"SUM('Scatter Plot'!W57:W58)","v":0}]
[]
[]
[]
[]
[1,2,3,4,5,6,7,8,9,10,11,12,13,14,15,16,17,18,19,20]
[{"$f":"'Sample Set'!B8","v":"G"},{"$f":"'Sample Set'!C8","v":"g"},{"$f":"'Sample Set'!D8","v":"R"},{"$f":"'Sample Set'!E8","v":"G"},{"$f":"'Sample Set'!F8","v":"R"},{"$f":"'Sample Set'!G8","v":"G"},{"$f":"'Sample Set'!H8","v":0},{"$f":"'Sample Set'!I8","v":0},{"$f":"'Sample Set'!J8","v":0},{"$f":"'Sample Set'!K8","v":0},{"$f":"'Sample Set'!L8","v":0},{"$f":"'Sample Set'!M8","v":0},{"$f":"'Sample Set'!N8","v":0},{"$f":"'Sample Set'!O8","v":0},{"$f":"'Sample Set'!P8","v":0},{"$f":"'Sample Set'!Q8","v":0},{"$f":"'Sample Set'!R8","v":0},{"$f":"'Sample Set'!S8","v":0},{"$f":"'Sample Set'!T8","v":0},{"$f":"'Sample Set'!U8","v":0}]
[{"$f":"'Sample Set'!B9","v":0},{"$f":"'Sample Set'!C9","v":0},{"$f":"'Sample Set'!D9","v":0},{"$f":"'Sample Set'!E9","v":0},{"$f":"'Sample Set'!F9","v":0},{"$f":"'Sample Set'!G9","v":0},{"$f":"'Sample Set'!H9","v":0},{"$f":"'Sample Set'!I9","v":0},{"$f":"'Sample Set'!J9","v":0},{"$f":"'Sample Set'!K9","v":0},{"$f":"'Sample Set'!L9","v":0},{"$f":"'Sample Set'!M9","v":0},{"$f":"'Sample Set'!N9","v":0},{"$f":"'Sample Set'!O9","v":0},{"$f":"'Sample Set'!P9","v":0},{"$f":"'Sample Set'!Q9","v":0},{"$f":"'Sample Set'!R9","v":0},{"$f":"'Sample Set'!S9","v":0},{"$f":"'Sample Set'!T9","v":0},{"$f":"'Sample Set'!U9","v":0}]
[null,null,null,null,null,null,null,null,null,null,"win %",{"$f":"(COUNTIF(A31:T31,\"G\"))/(COUNTIF(A31:T31,\"G\")+COUNTIF(A31:T31,\"R\"))","v":0.66666666666666663}]
[null,null,null,null,null,null,null,null,"# of Rule Violations",null,null,{"$f":"COUNTIF(A32:T32,\"V\")","v":0},null,null,null,null,null,null,null,null,null,null,null,null,null,null,null,null,null,null,null,null,null,null,null,null,null,null,null," "]
[]
[]
[]
[]
[]
[]
[]
[]
[]
[]
[]
[]
[]
[]
[]
[]
[]
[]
[]
[]
[]
[]
[]
[]
[]
[]
[]
[null,null,null,null,null,null,null,null,null," "]
[null,null,null," "]

{"sheet":"Total Report","index":19,"n_rows":63,"n_cols":40,"rows_kept":63,"cut":false,"hidden":false,"merged":[[1,16,1,19],[18,20,18,24],[18,27,18,31],[18,34,18,38],[20,20,20,23],[20,27,20,30],[20,34,20,37],[21,20,21,23],[21,27,21,30],[21,34,21,37],[22,20,22,23],[22,27,22,30],[22,34,22,37],[27,0,27,19],[23,20,23,23],[23,27,23,30],[23,34,23,37],[24,20,24,23],[24,27,24,30],[24,34,24,37]]}
[]
[null,null,null,null,null,null,null,null,null,null,null,null,null,null,null,null,{"$f":"TODAY()","v":"2020-05-12"}]
[]
[]
["Total Trades ----------------------------------",null,null,null,null,{"$f":"Calculations!BO25","v":1},null,"Total Gain/Loss --------------------------",null,null,null,{"$f":"'Scatter Plot'!X30","v":1.4726666666666457},"R",null,"Sample Set Rate ----------------------",null,null,null,null,{"$f":"L33","v":0.66666666666666663}]
["Average Trades per day ----------------",null,null,null,null,{"$f":"Calculations!BO26","v":3.8461538461538464E-3},null,"Average Daily Gain/Loss -------------------",null,null,null,{"$f":"'Scatter Plot'!X31","v":1.4726666666666457},"R",null,"5 Min Win%----------------------------",null,null,null,null,{"$f":"'5 ORB Edge'!AT2","v":1}]
["Trades outside Edge ------------------",null,null,null,null,{"$f":"Calculations!BO30","v":0},null,"Profit Factor ---------------------------",null,null,null,{"$f":"'Scatter Plot'!X37","v":{"$error":"#DIV/0!"}},"R",null,"15 Min ORB Win % --------------------------",null,null,null,null,{"$f":"'15 ORB Edge'!AT2","v":0.8}]
["Winning Trades -------------------------",null,null,null,null,{"$f":"Calculations!BO27","v":1},null,"Average Win -----------------------------",null,null,null,{"$f":"'Scatter Plot'!X32","v":1.4726666666666457},"R",null,"MA-X-PLBO Win % ---------------------",null,null,null,null,{"$f":"'MA Edge'!AX2","v":0.66666666666666663}]
["Losing Trades ----------------------------",null,null,null,null,{"$f":"Calculations!BO28","v":0},null,"Average Loss ------------------------",null,null,null,{"$f":"'Scatter Plot'!X33","v":{"$error":"#DIV/0!"}},"R",null,"% of 1R -------------------------------------",null,null,null,null,{"$f":"'Profitability R''s'!R3","v":1}]
["Percent Profitable -------------------",null,null,null,null,{"$f":"'Scatter Plot'!X38","v":5.5555555555555552E-2},null,"Largest Gain -------------------------------",null,null,null,{"$f":"'Scatter Plot'!X34","v":1.4726666666666457},"R",null,"% of 2R ----------------------------------------",null,null,null,null,{"$f":"'Profitability R''s'!R4","v":1}]
["Overall Trade Plan Accuracy -----------------------",null,null,null,null,{"$f":"SUM('Sample Set'!X10+'Sample Set'!X13+'Sample Set'!X16)/3","v":0.78409090909090917},null,"Largest Loss --------------------------------",null,null,null,{"$f":"'Scatter Plot'!X35","v":1.4726666666666457},"R",null,"% of 2+R -------------------------------------",null,null,null,null,{"$f":"'Profitability R''s'!R5","v":0}]
["Rule Violations -------------------------------",null,null,null,null,{"$f":"Calculations!BN29","v":-18},null,"Average Trade expectation -------------",null,null,null,{"$f":"'Scatter Plot'!X36","v":{"$error":"#DIV/0!"}},"R",null,"Faithfulness % ------------------------------",null,null,null,null,{"$f":"'Profitability R''s'!R6","v":"0%"}]
[]
[]
[]
[]
[]
[]
[]
[]
[null,null,null,null,null,null,null,null,null,null,null,null,null,null,null,null,null,null,null,null,"Total Stocks Anlayzed",null,null,null,{"$f":"'5 ORB Edge'!AB5","v":8},null,null,"Total Stocks Anlayzed",null,null,null,{"$f":"'15 ORB Edge'!AB5","v":14},null,null,"Total Stocks Anlayzed",null,null,null,{"$f":"'MA Edge'!AF5","v":9}]
[null,null,null,null,null,null,null,null,null,null,null,null,null,null,null,null,null,null,null,null,"Met Edge Critera",null,null,null,{"$f":"'5 ORB Edge'!AH5","v":1},null,null,"Met Edge Critera",null,null,null,{"$f":"'15 ORB Edge'!AH5","v":5},null,null,"Met Edge Critera",null,null,null,{"$f":"'MA Edge'!AL5","v":3}]
[null,null,null,null,null,null,null,null,null,null,null,null,null,null,null,null,null,null,null,null,"Edge Critera Worked",null,null,null,{"$f":"'5 ORB Edge'!AN5","v":1},null,null,"Edge Critera Worked",null,null,null,{"$f":"'15 ORB Edge'!AN5","v":4},null,null,"Edge Critera Worked",null,null,null,{"$f":"'MA Edge'!AR5","v":2}]
[null,null,null,null,null,null,null,null,null,null,null,null,null,null,null,null,null,null,null,null,"I Traded within Edge",null,null,null,{"$f":"SUM('Scatter Plot'!X43:X44)","v":0},null,null,"I Traded within Edge",null,null,null,{"$f":"SUM('Scatter Plot'!X45:X46)","v":0},null,null,"I Traded within Edge",null,null,null,{"$f":"SUM('Scatter Plot'!X47:X48)","v":0}]
[null,null,null,null,null,null,null,null,null,null,null,null,null,null,null,null,null,null,null,null,"I Traded Outside Edge",null,null,null,{"$f":"SUM('Scatter Plot'!X53:X54)","v":0},null,null,"I Traded Outside Edge",null,null,null,{"$f":"SUM('Scatter Plot'!X55:X56)","v":1},null,null,"I Traded Outside Edge",null,null,null,{"$f":"SUM('Scatter Plot'!X57:X58)","v":0}]
[]
[]
[]
[]
[1,2,3,4,5,6,7,8,9,10,11,12,13,14,15,16,17,18,19,20]
[{"$f":"'Sample Set'!B8","v":"G"},{"$f":"'Sample Set'!C8","v":"g"},{"$f":"'Sample Set'!D8","v":"R"},{"$f":"'Sample Set'!E8","v":"G"},{"$f":"'Sample Set'!F8","v":"R"},{"$f":"'Sample Set'!G8","v":"G"},{"$f":"'Sample Set'!H8","v":0},{"$f":"'Sample Set'!I8","v":0},{"$f":"'Sample Set'!J8","v":0},{"$f":"'Sample Set'!K8","v":0},{"$f":"'Sample Set'!L8","v":0},{"$f":"'Sample Set'!M8","v":0},{"$f":"'Sample Set'!N8","v":0},{"$f":"'Sample Set'!O8","v":0},{"$f":"'Sample Set'!P8","v":0},{"$f":"'Sample Set'!Q8","v":0},{"$f":"'Sample Set'!R8","v":0},{"$f":"'Sample Set'!S8","v":0},{"$f":"'Sample Set'!T8","v":0},{"$f":"'Sample Set'!U8","v":0}]
[{"$f":"'Sample Set'!B9","v":0},{"$f":"'Sample Set'!C9","v":0},{"$f":"'Sample Set'!D9","v":0},{"$f":"'Sample Set'!E9","v":0},{"$f":"'Sample Set'!F9","v":0},{"$f":"'Sample Set'!G9","v":0},{"$f":"'Sample Set'!H9","v":0},{"$f":"'Sample Set'!I9","v":0},{"$f":"'Sample Set'!J9","v":0},{"$f":"'Sample Set'!K9","v":0},{"$f":"'Sample Set'!L9","v":0},{"$f":"'Sample Set'!M9","v":0},{"$f":"'Sample Set'!N9","v":0},{"$f":"'Sample Set'!O9","v":0},{"$f":"'Sample Set'!P9","v":0},{"$f":"'Sample Set'!Q9","v":0},{"$f":"'Sample Set'!R9","v":0},{"$f":"'Sample Set'!S9","v":0},{"$f":"'Sample Set'!T9","v":0},{"$f":"'Sample Set'!U9","v":0}]
[null,null,null,null,null,null,null,null,null,null,"win %",{"$f":"(COUNTIF(A31:T31,\"G\"))/(COUNTIF(A31:T31,\"G\")+COUNTIF(A31:T31,\"R\"))","v":0.66666666666666663}]
[null,null,null,null,null,null,null,null,"# of Rule Violations",null,null,{"$f":"COUNTIF(A32:T32,\"V\")","v":0},null,null,null,null,null,null,null,null,null,null,null,null,null,null,null,null,null,null,null,null,null,null,null,null,null,null,null," "]
[]
[]
[null,null,null,null,null,null,null,null,null,null,null,null,null,null,null,null,null,null,null,null,null,null,null,null,null,null,null,null,null,null,null,null,null,null,null,null,null,null,null,1]
[]
[]
[]
[]
[]
[]
[]
[]
[]
[]
[]
[]
[]
[]
[]
[]
[]
[]
[]
[]
[]
[]
[]
[]
[null,null,null,null,null,null,null,null,null," "]
[null,null,null," "]

{"sheet":"Dashboard","index":20,"n_rows":11,"n_cols":20,"rows_kept":11,"cut":false,"hidden":false,"merged":[[7,16,9,16],[7,19,9,19],[7,13,9,14],[10,13,10,14],[1,19,3,19],[1,16,3,16],[1,13,3,14],[4,13,4,14]]}
[]
[null,null,null,null,null,null,null,null,null,null,null,null,null,{"$f":"Calculations!AV265","v":1},null,null,{"$f":"Calculations!L24","v":25023.63},null,null,{"$f":"'Overall Stats'!B33","v":0}]
[]
[]
[null,null,null,null,null,null,null,null,null,null,null,null,null,"Win Rate %",null,null,"Account Size",null,null,"Growth last 30 days"]
[]
[]
[null,null,null,null,null,null,null,null,null,null,null,null,null,{"$f":"'Overall Stats'!B16","v":25.380000000000003},null,null,{"$f":"'Overall Stats'!B17","v":{"$error":"#DIV/0!"}},null,null,{"$f":"'Overall Stats'!B10","v":22.19}]
[]
[]
[null,null,null,null,null,null,null,null,null,null,null,null,null,"Average Win",null,null,"Average Loss",null,null,"Net Profit"]

{"sheet":"Performance","index":21,"n_rows":0,"n_cols":0,"rows_kept":0,"cut":false,"hidden":false,"merged":[]}

{"sheet":"Overall Stats","index":22,"n_rows":38,"n_cols":22,"rows_kept":38,"cut":false,"hidden":false,"merged":[[0,7,1,7],[0,19,1,19],[0,0,1,0],[0,2,1,2],[0,3,1,3],[0,1,1,1],[0,6,1,6],[0,4,1,4],[0,5,1,5],[0,21,1,21],[0,20,1,20],[0,8,1,8],[0,10,1,10],[0,9,1,9],[0,16,1,16],[0,17,1,17],[0,18,1,18],[0,14,1,14],[0,15,1,15],[0,11,1,11],[0,12,1,12],[0,13,1,13]]}
["Strategy Name / Metrics","Totals / Averages","5 Min ORBO","5 Min ORBD","15 Min ORBO","15 Min ORBD","MA-X-L","MA-X-S","FOMO","Revenge","Hot Key Mistake","VWAP Reversal Long","VWAP Reversal Short","VWAP False Breakout Long","VWAP False Breakout Short","S&R Long","S&R Short","Moving Average Long","Moving Average Short","Bearish Engulfing Crack","Top  Reversal","ABCD"]
[null,null,null,null,null,null,null,null,null,null,null,"ABCD"]
["Long",{"$f":"SUM(C3:V3)","v":1},{"$f":"COUNTIFS(Journal!$L:$L, C1,Journal!$M:$M, \"Long\")","v":0},{"$f":"COUNTIFS(Journal!$L:$L, D1,Journal!$M:$M, \"Long\")","v":0},{"$f":"COUNTIFS(Journal!$L:$L,E1, Journal!$M:$M, \"Long\")","v":0},{"$f":"COUNTIFS(Journal!$L:$L,F1, Journal!$M:$M, \"Long\")","v":0},{"$f":"COUNTIFS(Journal!$L:$L,G1, Journal!$M:$M, \"Long\")","v":1},{"$f":"COUNTIFS(Journal!$L:$L,H1, Journal!$M:$M, \"Long\")","v":0},{"$f":"COUNTIFS(Journal!$L:$L,I1, Journal!$M:$M, \"Long\")","v":0},{"$f":"COUNTIFS(Journal!$L:$L,J1, Journal!$M:$M, \"Long\")","v":0},{"$f":"COUNTIFS(Journal!$L:$L,K1, Journal!$M:$M, \"Long\")","v":0},{"$f":"COUNTIFS(Journal!$L:$L,L1, Journal!$M:$M, \"Long\")","v":0},{"$f":"COUNTIFS(Journal!$L:$L,M1, Journal!$M:$M, \"Long\")","v":0},{"$f":"COUNTIFS(Journal!$L:$L,N1, Journal!$M:$M, \"Long\")","v":0},{"$f":"COUNTIFS(Journal!$L:$L,O1, Journal!$M:$M, \"Long\")","v":0},{"$f":"COUNTIFS(Journal!$L:$L,P1, Journal!$M:$M, \"Long\")","v":0},{"$f":"COUNTIFS(Journal!$L:$L,Q1, Journal!$M:$M, \"Long\")","v":0},{"$f":"COUNTIFS(Journal!$L:$L,R1, Journal!$M:$M, \"Long\")","v":0},{"$f":"COUNTIFS(Journal!$L:$L,S1, Journal!$M:$M, \"Long\")","v":0},{"$f":"COUNTIFS(Journal!$L:$L,T1, Journal!$M:$M, \"Long\")","v":0},{"$f":"COUNTIFS(Journal!$L:$L,U1, Journal!$M:$M, \"Long\")","v":0},{"$f":"COUNTIFS(Journal!$L:$L,V1, Journal!$M:$M, \"Long\")","v":0}]
["Short",{"$f":"SUM(C4:V4)","v":0},{"$f":"COUNTIFS(Journal!$L:$L, C1,Journal!$M:$M, \"Short\")","v":0},{"$f":"COUNTIFS(Journal!$L:$L, D1,Journal!$M:$M, \"Short\")","v":0},{"$f":"COUNTIFS(Journal!$L:$L,E1, Journal!$M:$M, \"Short\")","v":0},{"$f":"COUNTIFS(Journal!$L:$L,F1, Journal!$M:$M, \"Short\")","v":0},{"$f":"COUNTIFS(Journal!$L:$L,G1, Journal!$M:$M, \"Short\")","v":0},{"$f":"COUNTIFS(Journal!$L:$L,H1, Journal!$M:$M, \"Short\")","v":0},{"$f":"COUNTIFS(Journal!$L:$L,I1, Journal!$M:$M, \"Short\")","v":0},{"$f":"COUNTIFS(Journal!$L:$L,J1, Journal!$M:$M, \"Short\")","v":0},{"$f":"COUNTIFS(Journal!$L:$L,K1, Journal!$M:$M, \"Short\")","v":0},{"$f":"COUNTIFS(Journal!$L:$L,L1, Journal!$M:$M, \"Short\")","v":0},{"$f":"COUNTIFS(Journal!$L:$L,M1, Journal!$M:$M, \"Short\")","v":0},{"$f":"COUNTIFS(Journal!$L:$L,N1, Journal!$M:$M, \"Short\")","v":0},{"$f":"COUNTIFS(Journal!$L:$L,O1, Journal!$M:$M, \"Short\")","v":0},{"$f":"COUNTIFS(Journal!$L:$L,P1, Journal!$M:$M, \"Short\")","v":0},{"$f":"COUNTIFS(Journal!$L:$L,Q1, Journal!$M:$M, \"Short\")","v":0},{"$f":"COUNTIFS(Journal!$L:$L,R1, Journal!$M:$M, \"Short\")","v":0},{"$f":"COUNTIFS(Journal!$L:$L,S1, Journal!$M:$M, \"Short\")","v":0},{"$f":"COUNTIFS(Journal!$L:$L,T1, Journal!$M:$M, \"Short\")","v":0},{"$f":"COUNTIFS(Journal!$L:$L,U1, Journal!$M:$M, \"Short\")","v":0},{"$f":"COUNTIFS(Journal!$L:$L,V1, Journal!$M:$M, \"Short\")","v":0}]
["Total Trades",{"$f":"SUM(C5:V5)","v":1},{"$f":"SUM(C3:C4)","v":0},{"$f":"SUM(D3:D4)","v":0},0,0,1,0,0,0,0,0,{"$f":"SUM(M3:M4)","v":0},0,0,0,0,0,0,0,0,0]
["Winners",{"$f":"SUM(C6:V6)","v":1},{"$f":"COUNTIFS(Journal!$L:$L, C1,Journal!$N:$N, \">0\")","v":0},{"$f":"COUNTIFS(Journal!$L:$L, D1,Journal!$N:$N, \">0\")","v":0},{"$f":"COUNTIFS(Journal!$L:$L, E1, Journal!$N:$N, \">0\")","v":0},{"$f":"COUNTIFS(Journal!$L:$L, F1, Journal!$N:$N, \">0\")","v":0},{"$f":"COUNTIFS(Journal!$L:$L, G1, Journal!$N:$N, \">0\")","v":1},{"$f":"COUNTIFS(Journal!$L:$L, H1, Journal!$N:$N, \">0\")","v":0},{"$f":"COUNTIFS(Journal!$L:$L, I1, Journal!$N:$N, \">0\")","v":0},{"$f":"COUNTIFS(Journal!$L:$L, J1, Journal!$N:$N, \">0\")","v":0},{"$f":"COUNTIFS(Journal!$L:$L, K1, Journal!$N:$N, \">0\")","v":0},{"$f":"COUNTIFS(Journal!$L:$L, L1, Journal!$N:$N, \">0\")","v":0},{"$f":"COUNTIFS(Journal!$L:$L, M1, Journal!$N:$N, \">0\")","v":0},{"$f":"COUNTIFS(Journal!$L:$L, N1, Journal!$N:$N, \">0\")","v":0},{"$f":"COUNTIFS(Journal!$L:$L, O1, Journal!$N:$N, \">0\")","v":0},{"$f":"COUNTIFS(Journal!$L:$L, P1, Journal!$N:$N, \">0\")","v":0},{"$f":"COUNTIFS(Journal!$L:$L, Q1, Journal!$N:$N, \">0\")","v":0},{"$f":"COUNTIFS(Journal!$L:$L, R1, Journal!$N:$N, \">0\")","v":0},{"$f":"COUNTIFS(Journal!$L:$L, S1, Journal!$N:$N, \">0\")","v":0},{"$f":"COUNTIFS(Journal!$L:$L, T1, Journal!$N:$N, \">0\")","v":0},{"$f":"COUNTIFS(Journal!$L:$L, U1, Journal!$N:$N, \">0\")","v":0},{"$f":"COUNTIFS(Journal!$L:$L, V1, Journal!$N:$N, \">0\")","v":0}]
["Losers",{"$f":"SUM(C7:V7)","v":0},{"$f":"COUNTIFS(Journal!$L:$L, C1,Journal!$N:$N, \"<0\")","v":0},{"$f":"COUNTIFS(Journal!$L:$L, D1,Journal!$N:$N, \"<0\")","v":0},{"$f":"COUNTIFS(Journal!$L:$L, E1,Journal!$N:$N, \"<0\")","v":0},{"$f":"COUNTIFS(Journal!$L:$L, F1,Journal!$N:$N, \"<0\")","v":0},{"$f":"COUNTIFS(Journal!$L:$L, G1,Journal!$N:$N, \"<0\")","v":0},{"$f":"COUNTIFS(Journal!$L:$L, H1,Journal!$N:$N, \"<0\")","v":0},{"$f":"COUNTIFS(Journal!$L:$L, I1,Journal!$N:$N, \"<0\")","v":0},{"$f":"COUNTIFS(Journal!$L:$L, J1,Journal!$N:$N, \"<0\")","v":0},{"$f":"COUNTIFS(Journal!$L:$L, K1,Journal!$N:$N, \"<0\")","v":0},{"$f":"COUNTIFS(Journal!$L:$L, L1,Journal!$N:$N, \"<0\")","v":0},{"$f":"COUNTIFS(Journal!$L:$L, M1,Journal!$N:$N, \"<0\")","v":0},{"$f":"COUNTIFS(Journal!$L:$L, N1,Journal!$N:$N, \"<0\")","v":0},{"$f":"COUNTIFS(Journal!$L:$L, O1,Journal!$N:$N, \"<0\")","v":0},{"$f":"COUNTIFS(Journal!$L:$L, P1,Journal!$N:$N, \"<0\")","v":0},{"$f":"COUNTIFS(Journal!$L:$L, Q1,Journal!$N:$N, \"<0\")","v":0},{"$f":"COUNTIFS(Journal!$L:$L, R1,Journal!$N:$N, \"<0\")","v":0},{"$f":"COUNTIFS(Journal!$L:$L, S1,Journal!$N:$N, \"<0\")","v":0},{"$f":"COUNTIFS(Journal!$L:$L, T1,Journal!$N:$N, \"<0\")","v":0},{"$f":"COUNTIFS(Journal!$L:$L, U1,Journal!$N:$N, \"<0\")","v":0},{"$f":"COUNTIFS(Journal!$L:$L, V1,Journal!$N:$N, \"<0\")","v":0}]
["Win Rate",{"$f":"AVERAGE(C8:V8)","v":1},{"$f":"IFERROR((C6/C5),\"\")","v":""},{"$f":"IFERROR((D6/D5),\"\")","v":""},"","",1,"","","","","",{"$f":"IFERROR((M6/M5),\"\")","v":""},"","","","","","","","",""]
["Loss Rate",{"$f":"AVERAGE(C9:V9)","v":0},{"$f":"IFERROR((C7/C5),\"\")","v":""},{"$f":"IFERROR((D7/D5),\"\")","v":""},"","",0,"","","","","",{"$f":"IFERROR((M7/M5),\"\")","v":""},"","","","","","","","",""]
["Net Profit",{"$f":"SUM(C10:V10)+Calculations!B92","v":22.19},{"$f":"C12-C11","v":0},{"$f":"D12-D11","v":0},{"$f":"E12-E11","v":0},0,23.630000000000003,0,0,0,0,0,{"$f":"M12-M11","v":0},0,0,0,0,0,0,0,0,0]
["Commissions",{"$f":"SUM(C11:V11)","v":1.75},{"$f":"SUMIFS(Journal!$Q:$Q, Journal!$L:$L, C1)","v":0},{"$f":"SUMIFS(Journal!$Q:$Q, Journal!$L:$L, D1)","v":0},{"$f":"SUMIFS(Journal!$Q:$Q, Journal!$L:$L, E1)","v":0},{"$f":"SUMIFS(Journal!$Q:$Q, Journal!$L:$L, F1)","v":0},{"$f":"SUMIFS(Journal!$Q:$Q, Journal!$L:$L, G1)","v":1.75},{"$f":"SUMIFS(Journal!$Q:$Q, Journal!$L:$L, H1)","v":0},{"$f":"SUMIFS(Journal!$Q:$Q, Journal!$L:$L, I1)","v":0},{"$f":"SUMIFS(Journal!$Q:$Q, Journal!$L:$L, J1)","v":0},{"$f":"SUMIFS(Journal!$Q:$Q, Journal!$L:$L, K1)","v":0},{"$f":"SUMIFS(Journal!$Q:$Q, Journal!$L:$L, L1)","v":0},{"$f":"SUMIFS(Journal!$Q:$Q, Journal!$L:$L, M1)","v":0},{"$f":"SUMIFS(Journal!$Q:$Q, Journal!$L:$L, N1)","v":0},{"$f":"SUMIFS(Journal!$Q:$Q, Journal!$L:$L, O1)","v":0},{"$f":"SUMIFS(Journal!$Q:$Q, Journal!$L:$L, P1)","v":0},{"$f":"SUMIFS(Journal!$Q:$Q, Journal!$L:$L, Q1)","v":0},{"$f":"SUMIFS(Journal!$Q:$Q, Journal!$L:$L, R1)","v":0},{"$f":"SUMIFS(Journal!$Q:$Q, Journal!$L:$L, S1)","v":0},{"$f":"SUMIFS(Journal!$Q:$Q, Journal!$L:$L, T1)","v":0},{"$f":"SUMIFS(Journal!$Q:$Q, Journal!$L:$L, U1)","v":0},{"$f":"SUMIFS(Journal!$Q:$Q, Journal!$L:$L, V1)","v":0}]
["Gross Profits",{"$f":"SUM(C12:V12)","v":25.380000000000003},{"$f":"SUMIFS(Journal!$N:$N, Journal!$L:$L, C1)","v":0},{"$f":"SUMIFS(Journal!$N:$N, Journal!$L:$L, D1)","v":0},{"$f":"SUMIFS(Journal!$N:$N, Journal!$L:$L, E1)","v":0},{"$f":"SUMIFS(Journal!$N:$N, Journal!$L:$L, F1)","v":0},{"$f":"SUMIFS(Journal!$N:$N, Journal!$L:$L, G1)","v":25.380000000000003},{"$f":"SUMIFS(Journal!$N:$N, Journal!$L:$L, H1)","v":0},{"$f":"SUMIFS(Journal!$N:$N, Journal!$L:$L, I1)","v":0},{"$f":"SUMIFS(Journal!$N:$N, Journal!$L:$L, J1)","v":0},{"$f":"SUMIFS(Journal!$N:$N, Journal!$L:$L, K1)","v":0},{"$f":"SUMIFS(Journal!$N:$N, Journal!$L:$L, L1)","v":0},{"$f":"SUMIFS(Journal!$N:$N, Journal!$L:$L, M1)","v":0},{"$f":"SUMIFS(Journal!$N:$N, Journal!$L:$L, N1)","v":0},{"$f":"SUMIFS(Journal!$N:$N, Journal!$L:$L, O1)","v":0},{"$f":"SUMIFS(Journal!$N:$N, Journal!$L:$L, P1)","v":0},{"$f":"SUMIFS(Journal!$N:$N, Journal!$L:$L, Q1)","v":0},{"$f":"SUMIFS(Journal!$N:$N, Journal!$L:$L, R1)","v":0},{"$f":"SUMIFS(Journal!$N:$N, Journal!$L:$L, S1)","v":0},{"$f":"SUMIFS(Journal!$N:$N, Journal!$L:$L, T1)","v":0},{"$f":"SUMIFS(Journal!$N:$N, Journal!$L:$L, U1)","v":0},{"$f":"SUMIFS(Journal!$N:$N, Journal!$L:$L, V1)","v":0}]
["Total $ win",{"$f":"SUM(C13:V13)","v":25.380000000000003},{"$f":"SUMIFS(Journal!$N:$N, Journal!$L:$L, C1,Journal!$N:$N, \">0\")","v":0},{"$f":"SUMIFS(Journal!$N:$N, Journal!$L:$L, D1,Journal!$N:$N, \">0\")","v":0},{"$f":"SUMIFS(Journal!$N:$N, Journal!$L:$L, E1,Journal!$N:$N, \">0\")","v":0},{"$f":"SUMIFS(Journal!$N:$N, Journal!$L:$L, F1,Journal!$N:$N, \">0\")","v":0},{"$f":"SUMIFS(Journal!$N:$N, Journal!$L:$L, G1,Journal!$N:$N, \">0\")","v":25.380000000000003},{"$f":"SUMIFS(Journal!$N:$N, Journal!$L:$L, H1,Journal!$N:$N, \">0\")","v":0},{"$f":"SUMIFS(Journal!$N:$N, Journal!$L:$L, I1,Journal!$N:$N, \">0\")","v":0},{"$f":"SUMIFS(Journal!$N:$N, Journal!$L:$L, J1,Journal!$N:$N, \">0\")","v":0},{"$f":"SUMIFS(Journal!$N:$N, Journal!$L:$L, K1,Journal!$N:$N, \">0\")","v":0},{"$f":"SUMIFS(Journal!$N:$N, Journal!$L:$L, L1,Journal!$N:$N, \">0\")","v":0},{"$f":"SUMIFS(Journal!$N:$N, Journal!$L:$L, M1,Journal!$N:$N, \">0\")","v":0},{"$f":"SUMIFS(Journal!$N:$N, Journal!$L:$L, N1,Journal!$N:$N, \">0\")","v":0},{"$f":"SUMIFS(Journal!$N:$N, Journal!$L:$L, O1,Journal!$N:$N, \">0\")","v":0},{"$f":"SUMIFS(Journal!$N:$N, Journal!$L:$L, P1,Journal!$N:$N, \">0\")","v":0},{"$f":"SUMIFS(Journal!$N:$N, Journal!$L:$L, Q1,Journal!$N:$N, \">0\")","v":0},{"$f":"SUMIFS(Journal!$N:$N, Journal!$L:$L, R1,Journal!$N:$N, \">0\")","v":0},{"$f":"SUMIFS(Journal!$N:$N, Journal!$L:$L, S1,Journal!$N:$N, \">0\")","v":0},{"$f":"SUMIFS(Journal!$N:$N, Journal!$L:$L, T1,Journal!$N:$N, \">0\")","v":0},{"$f":"SUMIFS(Journal!$N:$N, Journal!$L:$L, U1,Journal!$N:$N, \">0\")","v":0},{"$f":"SUMIFS(Journal!$N:$N, Journal!$L:$L, V1,Journal!$N:$N, \">0\")","v":0}]
["Total $ loss",{"$f":"SUM(C14:V14)","v":0},{"$f":"ABS(SUMIFS(Journal!$N:$N, Journal!$L:$L, C1,Journal!$N:$N, \"<0\"))","v":0},{"$f":"ABS(SUMIFS(Journal!$N:$N, Journal!$L:$L, D1,Journal!$N:$N, \"<0\"))","v":0},{"$f":"ABS(SUMIFS(Journal!$N:$N, Journal!$L:$L, E1,Journal!$N:$N, \"<0\"))","v":0},{"$f":"ABS(SUMIFS(Journal!$N:$N, Journal!$L:$L, F1,Journal!$N:$N, \"<0\"))","v":0},{"$f":"ABS(SUMIFS(Journal!$N:$N, Journal!$L:$L, G1,Journal!$N:$N, \"<0\"))","v":0},{"$f":"ABS(SUMIFS(Journal!$N:$N, Journal!$L:$L, H1,Journal!$N:$N, \"<0\"))","v":0},{"$f":"ABS(SUMIFS(Journal!$N:$N, Journal!$L:$L, I1,Journal!$N:$N, \"<0\"))","v":0},{"$f":"ABS(SUMIFS(Journal!$N:$N, Journal!$L:$L, J1,Journal!$N:$N, \"<0\"))","v":0},{"$f":"ABS(SUMIFS(Journal!$N:$N, Journal!$L:$L, K1,Journal!$N:$N, \"<0\"))","v":0},{"$f":"ABS(SUMIFS(Journal!$N:$N, Journal!$L:$L, L1,Journal!$N:$N, \"<0\"))","v":0},{"$f":"ABS(SUMIFS(Journal!$N:$N, Journal!$L:$L, M1,Journal!$N:$N, \"<0\"))","v":0},{"$f":"ABS(SUMIFS(Journal!$N:$N, Journal!$L:$L, N1,Journal!$N:$N, \"<0\"))","v":0},{"$f":"ABS(SUMIFS(Journal!$N:$N, Journal!$L:$L, O1,Journal!$N:$N, \"<0\"))","v":0},{"$f":"ABS(SUMIFS(Journal!$N:$N, Journal!$L:$L, P1,Journal!$N:$N, \"<0\"))","v":0},{"$f":"ABS(SUMIFS(Journal!$N:$N, Journal!$L:$L, Q1,Journal!$N:$N, \"<0\"))","v":0},{"$f":"ABS(SUMIFS(Journal!$N:$N, Journal!$L:$L, R1,Journal!$N:$N, \"<0\"))","v":0},{"$f":"ABS(SUMIFS(Journal!$N:$N, Journal!$L:$L, S1,Journal!$N:$N, \"<0\"))","v":0},{"$f":"ABS(SUMIFS(Journal!$N:$N, Journal!$L:$L, T1,Journal!$N:$N, \"<0\"))","v":0},{"$f":"ABS(SUMIFS(Journal!$N:$N, Journal!$L:$L, U1,Journal!$N:$N, \"<0\"))","v":0},{"$f":"ABS(SUMIFS(Journal!$N:$N, Journal!$L:$L, V1,Journal!$N:$N, \"<0\"))","v":0}]
[]
["Avg winning trade",{"$f":"AVERAGE(C16:V16)","v":25.380000000000003},{"$f":"IFERROR((C13/C6), \"\")","v":""},{"$f":"IFERROR((D13/D6), \"\")","v":""},{"$f":"IFERROR((E13/E6), \"\")","v":""},"",25.380000000000003,"","","","","",{"$f":"IFERROR((M13/M6), \"\")","v":""},"","","","","","","","",""]
["Avg losing trade",{"$f":"AVERAGE(C17:V17)","v":{"$error":"#DIV/0!"}},{"$f":"IFERROR((C14/C7), \"\")","v":""},{"$f":"IFERROR((D14/D7), \"\")","v":""},{"$f":"IFERROR((E14/E7), \"\")","v":""},"","","","","","","",{"$f":"IFERROR((M14/M7), \"\")","v":""},"","","","","","","","",""]
["ratio Avg win to Avg Loss",{"$f":"AVERAGE(C18:V18)","v":{"$error":"#DIV/0!"}},{"$f":"IFERROR((C16/C17), \"\")","v":""},{"$f":"IFERROR((D16/D17), \"\")","v":""},"","","","","","","","",{"$f":"IFERROR((M16/M17), \"\")","v":""},"","","","","","","","",""]
["Largest winning trade",{"$f":"MAX(Journal!$N:$N)","v":25.380000000000003},{"$f":"MAX(IF(Journal!$L:$L=C1,Journal!$N:$N))","v":0},{"$f":"MAX(IF(Journal!$L:$L=D1,Journal!$N:$N))","v":0},{"$f":"MAX(IF(Journal!$L:$L=E1,Journal!$N:$N))","v":0},{"$f":"MAX(IF(Journal!$L:$L=F1,Journal!$N:$N))","v":0},{"$f":"MAX(IF(Journal!$L:$L=G1,Journal!$N:$N))","v":25.380000000000003},{"$f":"MAX(IF(Journal!$L:$L=H1,Journal!$N:$N))","v":0},{"$f":"MAX(IF(Journal!$L:$L=I1,Journal!$N:$N))","v":0},{"$f":"MAX(IF(Journal!$L:$L=J1,Journal!$N:$N))","v":0},{"$f":"MAX(IF(Journal!$L:$L=K1,Journal!$N:$N))","v":0},{"$f":"MAX(IF(Journal!$L:$L=L1,Journal!$N:$N))","v":0},{"$f":"MAX(IF(Journal!$L:$L=M1,Journal!$N:$N))","v":0},{"$f":"MAX(IF(Journal!$L:$L=N1,Journal!$N:$N))","v":0},{"$f":"MAX(IF(Journal!$L:$L=O1,Journal!$N:$N))","v":0},{"$f":"MAX(IF(Journal!$L:$L=P1,Journal!$N:$N))","v":0},{"$f":"MAX(IF(Journal!$L:$L=Q1,Journal!$N:$N))","v":0},{"$f":"MAX(IF(Journal!$L:$L=R1,Journal!$N:$N))","v":0},{"$f":"MAX(IF(Journal!$L:$L=S1,Journal!$N:$N))","v":0},{"$f":"MAX(IF(Journal!$L:$L=T1,Journal!$N:$N))","v":0},{"$f":"MAX(IF(Journal!$L:$L=U1,Journal!$N:$N))","v":0},{"$f":"MAX(IF(Journal!$L:$L=V1,Journal!$N:$N))","v":0}]
["Largest losing trade",{"$f":"MIN(Journal!$N:$N)","v":25.380000000000003},{"$f":"MIN(IF(Journal!$L:$L=C1,Journal!$N:$N))","v":0},{"$f":"MIN(IF(Journal!$L:$L=D1,Journal!$N:$N))","v":0},{"$f":"MIN(IF(Journal!$L:$L=E1,Journal!$N:$N))","v":0},{"$f":"MIN(IF(Journal!$L:$L=F1,Journal!$N:$N))","v":0},{"$f":"MIN(IF(Journal!$L:$L=G1,Journal!$N:$N))","v":25.380000000000003},{"$f":"MIN(IF(Journal!$L:$L=H1,Journal!$N:$N))","v":0},{"$f":"MIN(IF(Journal!$L:$L=I1,Journal!$N:$N))","v":0},{"$f":"MIN(IF(Journal!$L:$L=J1,Journal!$N:$N))","v":0},{"$f":"MIN(IF(Journal!$L:$L=K1,Journal!$N:$N))","v":0},{"$f":"MIN(IF(Journal!$L:$L=L1,Journal!$N:$N))","v":0},{"$f":"MIN(IF(Journal!$L:$L=M1,Journal!$N:$N))","v":0},{"$f":"MIN(IF(Journal!$L:$L=N1,Journal!$N:$N))","v":0},{"$f":"MIN(IF(Journal!$L:$L=O1,Journal!$N:$N))","v":0},{"$f":"MIN(IF(Journal!$L:$L=P1,Journal!$N:$N))","v":0},{"$f":"MIN(IF(Journal!$L:$L=Q1,Journal!$N:$N))","v":0},{"$f":"MIN(IF(Journal!$L:$L=R1,Journal!$N:$N))","v":0},{"$f":"MIN(IF(Journal!$L:$L=S1,Journal!$N:$N))","v":0},{"$f":"MIN(IF(Journal!$L:$L=T1,Journal!$N:$N))","v":0},{"$f":"MIN(IF(Journal!$L:$L=U1,Journal!$N:$N))","v":0},{"$f":"MIN(IF(Journal!$L:$L=V1,Journal!$N:$N))","v":0}]
["Largest winner as % gross profit",{"$f":"B19/Calculations!$H$25","v":1.0152000000000002E-3},"Overall only","Overall only","Overall only","Overall only","Overall only","Overall only","Overall only","Overall only","Overall only","Overall only","Overall only","Overall only","Overall only","Overall only","Overall only","Overall only","Overall only","Overall only","Overall only","Overall only"]
["Largest loser as % gross profit",{"$f":"B20/Calculations!$H$25","v":1.0152000000000002E-3},"Overall only","Overall only","Overall only","Overall only","Overall only","Overall only","Overall only","Overall only","Overall only","Overall only","Overall only","Overall only","Overall only","Overall only","Overall only","Overall only","Overall only","Overall only","Overall only","Overall only"]
["Max consec winning trades",{"$f":"MAX(FREQUENCY(IF(Journal!$S:$S=\"w\",Journal!$R:$R),IF(Journal!$S:$S=\"w\",0,Journal!$R:$R)))","v":1},"Overall only","Overall only","Overall only","Overall only","Overall only","Overall only","Overall only","Overall only","Overall only","Overall only","Overall only","Overall only","Overall only","Overall only","Overall only","Overall only","Overall only","Overall only","Overall only","Overall only"]
["Max consecutive losing trades",{"$f":"MAX(FREQUENCY(IF(Journal!$S:$S=\"L\",Journal!$R:$R),IF(Journal!$S:$S=\"L\",0,Journal!$R:$R)))","v":0},"Overall only","Overall only","Overall only","Overall only","Overall only","Overall only","Overall only","Overall only","Overall only","Overall only","Overall only","Overall only","Overall only","Overall only","Overall only","Overall only","Overall only","Overall only","Overall only","Overall only"]
[]
["R (profit factor per strategy)",{"$f":"AVERAGE(C26:V26)","v":{"$error":"#DIV/0!"}},{"$f":"IFERROR((C13/C14), \"\")","v":""},{"$f":"IFERROR((D13/D14), \"\")","v":""},"","","","","","","","",{"$f":"IFERROR((M13/M14), \"\")","v":""},"","","","","","","","",""]
["ExpectancyGross",{"$f":"AVERAGE(C27:V27)","v":25.380000000000003},{"$f":"IFERROR((C12/C5), \"\")","v":""},{"$f":"IFERROR((D12/D5), \"\")","v":""},"","",25.380000000000003,"","","","","",{"$f":"IFERROR((M12/M5), \"\")","v":""},"","","","","","","","",""]
["ExpectancyNET",{"$f":"AVERAGE(C28:V28)","v":23.630000000000003},{"$f":"IFERROR((C10/C5), \"\")","v":""},{"$f":"IFERROR((D10/D5), \"\")","v":""},"","",23.630000000000003,"","","","","",{"$f":"IFERROR((M10/M5), \"\")","v":""},"","","","","","","","",""]
["ExpectationGROSS",{"$f":"AVERAGE(C29:V29)","v":{"$error":"#DIV/0!"}},{"$f":"IFERROR((C27/C17), \"\")","v":""},"","","","","","","","","",{"$f":"IFERROR((M27/M17), \"\")","v":""},"","","","","","","","",""]
["ExpectationNET",{"$f":"AVERAGE(C30:V30)","v":{"$error":"#DIV/0!"}},{"$f":"IFERROR((C28/C17), \"\")","v":""},"","","","","","","","","",{"$f":"IFERROR((M28/M17), \"\")","v":""},"","","","","","","","",""]
["Maximum drawdown",{"$f":"Calculations!$AF$25","v":0},"Overall only","Overall only","Overall only","Overall only","Overall only","Overall only","Overall only","Overall only","Overall only","Overall only","Overall only","Overall only","Overall only","Overall only","Overall only","Overall only","Overall only","Overall only","Overall only","Overall only"]
["Account Growth last 30 daysGROSS",{"$f":"AVERAGE(C32:V32)","v":0},{"$f":"SUMIFS(Journal!$N:$N,Journal!$L:$L,C1,Journal!$B:$B,\">=\"&Calculations!$J$23,Journal!$B:$B, \"<=\"&Calculations!$J$24)/Calculations!$H$25","v":0},{"$f":"SUMIFS(Journal!$N:$N,Journal!$L:$L,D1,Journal!$B:$B,\">=\"&Calculations!$J$23,Journal!$B:$B, \"<=\"&Calculations!$J$24)/Calculations!$H$25","v":0},{"$f":"SUMIFS(Journal!$N:$N,Journal!$L:$L,E1,Journal!$B:$B,\">=\"&Calculations!$J$23,Journal!$B:$B, \"<=\"&Calculations!$J$24)/Calculations!$H$25","v":0},{"$f":"SUMIFS(Journal!$N:$N,Journal!$L:$L,F1,Journal!$B:$B,\">=\"&Calculations!$J$23,Journal!$B:$B, \"<=\"&Calculations!$J$24)/Calculations!$H$25","v":0},{"$f":"SUMIFS(Journal!$N:$N,Journal!$L:$L,G1,Journal!$B:$B,\">=\"&Calculations!$J$23,Journal!$B:$B, \"<=\"&Calculations!$J$24)/Calculations!$H$25","v":0},{"$f":"SUMIFS(Journal!$N:$N,Journal!$L:$L,H1,Journal!$B:$B,\">=\"&Calculations!$J$23,Journal!$B:$B, \"<=\"&Calculations!$J$24)/Calculations!$H$25","v":0},{"$f":"SUMIFS(Journal!$N:$N,Journal!$L:$L,I1,Journal!$B:$B,\">=\"&Calculations!$J$23,Journal!$B:$B, \"<=\"&Calculations!$J$24)/Calculations!$H$25","v":0},{"$f":"SUMIFS(Journal!$N:$N,Journal!$L:$L,J1,Journal!$B:$B,\">=\"&Calculations!$J$23,Journal!$B:$B, \"<=\"&Calculations!$J$24)/Calculations!$H$25","v":0},{"$f":"SUMIFS(Journal!$N:$N,Journal!$L:$L,K1,Journal!$B:$B,\">=\"&Calculations!$J$23,Journal!$B:$B, \"<=\"&Calculations!$J$24)/Calculations!$H$25","v":0},{"$f":"SUMIFS(Journal!$N:$N,Journal!$L:$L,L1,Journal!$B:$B,\">=\"&Calculations!$J$23,Journal!$B:$B, \"<=\"&Calculations!$J$24)/Calculations!$H$25","v":0},{"$f":"SUMIFS(Journal!$N:$N,Journal!$L:$L,M1,Journal!$B:$B,\">=\"&Calculations!$J$23,Journal!$B:$B, \"<=\"&Calculations!$J$24)/Calculations!$H$25","v":0},{"$f":"SUMIFS(Journal!$N:$N,Journal!$L:$L,N1,Journal!$B:$B,\">=\"&Calculations!$J$23,Journal!$B:$B, \"<=\"&Calculations!$J$24)/Calculations!$H$25","v":0},{"$f":"SUMIFS(Journal!$N:$N,Journal!$L:$L,O1,Journal!$B:$B,\">=\"&Calculations!$J$23,Journal!$B:$B, \"<=\"&Calculations!$J$24)/Calculations!$H$25","v":0},{"$f":"SUMIFS(Journal!$N:$N,Journal!$L:$L,P1,Journal!$B:$B,\">=\"&Calculations!$J$23,Journal!$B:$B, \"<=\"&Calculations!$J$24)/Calculations!$H$25","v":0},{"$f":"SUMIFS(Journal!$N:$N,Journal!$L:$L,Q1,Journal!$B:$B,\">=\"&Calculations!$J$23,Journal!$B:$B, \"<=\"&Calculations!$J$24)/Calculations!$H$25","v":0},{"$f":"SUMIFS(Journal!$N:$N,Journal!$L:$L,R1,Journal!$B:$B,\">=\"&Calculations!$J$23,Journal!$B:$B, \"<=\"&Calculations!$J$24)/Calculations!$H$25","v":0},{"$f":"SUMIFS(Journal!$N:$N,Journal!$L:$L,S1,Journal!$B:$B,\">=\"&Calculations!$J$23,Journal!$B:$B, \"<=\"&Calculations!$J$24)/Calculations!$H$25","v":0},{"$f":"SUMIFS(Journal!$N:$N,Journal!$L:$L,T1,Journal!$B:$B,\">=\"&Calculations!$J$23,Journal!$B:$B, \"<=\"&Calculations!$J$24)/Calculations!$H$25","v":0},{"$f":"SUMIFS(Journal!$N:$N,Journal!$L:$L,U1,Journal!$B:$B,\">=\"&Calculations!$J$23,Journal!$B:$B, \"<=\"&Calculations!$J$24)/Calculations!$H$25","v":0},{"$f":"SUMIFS(Journal!$N:$N,Journal!$L:$L,V1,Journal!$B:$B,\">=\"&Calculations!$J$23,Journal!$B:$B, \"<=\"&Calculations!$J$24)/Calculations!$H$25","v":0}]
["Account Growth last 30 daysNET",{"$f":"AVERAGE(C33:V33)","v":0},{"$f":"C32-(C34/Calculations!$H$25)","v":0},{"$f":"D32-(D34/Calculations!$H$25)","v":0},{"$f":"E32-(E34/Calculations!$H$25)","v":0},{"$f":"F32-(F34/Calculations!$H$25)","v":0},{"$f":"G32-(G34/Calculations!$H$25)","v":0},{"$f":"H32-(H34/Calculations!$H$25)","v":0},{"$f":"I32-(I34/Calculations!$H$25)","v":0},{"$f":"J32-(J34/Calculations!$H$25)","v":0},{"$f":"K32-(K34/Calculations!$H$25)","v":0},{"$f":"L32-(L34/Calculations!$H$25)","v":0},{"$f":"M32-(M34/Calculations!$H$25)","v":0},{"$f":"N32-(N34/Calculations!$H$25)","v":0},{"$f":"O32-(O34/Calculations!$H$25)","v":0},{"$f":"P32-(P34/Calculations!$H$25)","v":0},{"$f":"Q32-(Q34/Calculations!$H$25)","v":0},{"$f":"R32-(R34/Calculations!$H$25)","v":0},{"$f":"S32-(S34/Calculations!$H$25)","v":0},{"$f":"T32-(T34/Calculations!$H$25)","v":0},{"$f":"U32-(U34/Calculations!$H$25)","v":0},{"$f":"V32-(V34/Calculations!$H$25)","v":0}]
["Commissions last 30 days",{"$f":"SUM(C34:V34)","v":0},{"$f":"SUMIFS(Journal!$Q:$Q,Journal!$L:$L,C1,Journal!$B:$B,\">=\"&Calculations!$J$23,Journal!$B:$B, \"<=\"&Calculations!$J$24)","v":0},{"$f":"SUMIFS(Journal!$Q:$Q,Journal!$L:$L,D1,Journal!$B:$B,\">=\"&Calculations!$J$23,Journal!$B:$B, \"<=\"&Calculations!$J$24)","v":0},{"$f":"SUMIFS(Journal!$Q:$Q,Journal!$L:$L,E1,Journal!$B:$B,\">=\"&Calculations!$J$23,Journal!$B:$B, \"<=\"&Calculations!$J$24)","v":0},{"$f":"SUMIFS(Journal!$Q:$Q,Journal!$L:$L,F1,Journal!$B:$B,\">=\"&Calculations!$J$23,Journal!$B:$B, \"<=\"&Calculations!$J$24)","v":0},{"$f":"SUMIFS(Journal!$Q:$Q,Journal!$L:$L,G1,Journal!$B:$B,\">=\"&Calculations!$J$23,Journal!$B:$B, \"<=\"&Calculations!$J$24)","v":0},{"$f":"SUMIFS(Journal!$Q:$Q,Journal!$L:$L,H1,Journal!$B:$B,\">=\"&Calculations!$J$23,Journal!$B:$B, \"<=\"&Calculations!$J$24)","v":0},{"$f":"SUMIFS(Journal!$Q:$Q,Journal!$L:$L,I1,Journal!$B:$B,\">=\"&Calculations!$J$23,Journal!$B:$B, \"<=\"&Calculations!$J$24)","v":0},{"$f":"SUMIFS(Journal!$Q:$Q,Journal!$L:$L,J1,Journal!$B:$B,\">=\"&Calculations!$J$23,Journal!$B:$B, \"<=\"&Calculations!$J$24)","v":0},{"$f":"SUMIFS(Journal!$Q:$Q,Journal!$L:$L,K1,Journal!$B:$B,\">=\"&Calculations!$J$23,Journal!$B:$B, \"<=\"&Calculations!$J$24)","v":0},{"$f":"SUMIFS(Journal!$Q:$Q,Journal!$L:$L,L1,Journal!$B:$B,\">=\"&Calculations!$J$23,Journal!$B:$B, \"<=\"&Calculations!$J$24)","v":0},{"$f":"SUMIFS(Journal!$Q:$Q,Journal!$L:$L,M1,Journal!$B:$B,\">=\"&Calculations!$J$23,Journal!$B:$B, \"<=\"&Calculations!$J$24)","v":0},{"$f":"SUMIFS(Journal!$Q:$Q,Journal!$L:$L,N1,Journal!$B:$B,\">=\"&Calculations!$J$23,Journal!$B:$B, \"<=\"&Calculations!$J$24)","v":0},{"$f":"SUMIFS(Journal!$Q:$Q,Journal!$L:$L,O1,Journal!$B:$B,\">=\"&Calculations!$J$23,Journal!$B:$B, \"<=\"&Calculations!$J$24)","v":0},{"$f":"SUMIFS(Journal!$Q:$Q,Journal!$L:$L,P1,Journal!$B:$B,\">=\"&Calculations!$J$23,Journal!$B:$B, \"<=\"&Calculations!$J$24)","v":0},{"$f":"SUMIFS(Journal!$Q:$Q,Journal!$L:$L,Q1,Journal!$B:$B,\">=\"&Calculations!$J$23,Journal!$B:$B, \"<=\"&Calculations!$J$24)","v":0},{"$f":"SUMIFS(Journal!$Q:$Q,Journal!$L:$L,R1,Journal!$B:$B,\">=\"&Calculations!$J$23,Journal!$B:$B, \"<=\"&Calculations!$J$24)","v":0},{"$f":"SUMIFS(Journal!$Q:$Q,Journal!$L:$L,S1,Journal!$B:$B,\">=\"&Calculations!$J$23,Journal!$B:$B, \"<=\"&Calculations!$J$24)","v":0},{"$f":"SUMIFS(Journal!$Q:$Q,Journal!$L:$L,T1,Journal!$B:$B,\">=\"&Calculations!$J$23,Journal!$B:$B, \"<=\"&Calculations!$J$24)","v":0},{"$f":"SUMIFS(Journal!$Q:$Q,Journal!$L:$L,U1,Journal!$B:$B,\">=\"&Calculations!$J$23,Journal!$B:$B, \"<=\"&Calculations!$J$24)","v":0},{"$f":"SUMIFS(Journal!$Q:$Q,Journal!$L:$L,V1,Journal!$B:$B,\">=\"&Calculations!$J$23,Journal!$B:$B, \"<=\"&Calculations!$J$24)","v":0}]
["Avg % return on trade",{"$f":"AVERAGE(C35:V35)","v":{"$error":"#DIV/0!"}},{"$f":"IFERROR((AVERAGEIFS(Calculations!$W$24:$W$5023,Calculations!$X$24:$X$5023,'Overall Stats'!C1)),\"\")","v":""},{"$f":"IFERROR((AVERAGEIFS(Calculations!$W$24:$W$5023,Calculations!$X$24:$X$5023,'Overall Stats'!D1)),\"\")","v":""},{"$f":"IFERROR((AVERAGEIFS(Calculations!$W$24:$W$5023,Calculations!$X$24:$X$5023,'Overall Stats'!E1)),\"\")","v":""},{"$f":"IFERROR((AVERAGEIFS(Calculations!$W$24:$W$5023,Calculations!$X$24:$X$5023,'Overall Stats'!F1)),\"\")","v":""},{"$f":"IFERROR((AVERAGEIFS(Calculations!$W$24:$W$5023,Calculations!$X$24:$X$5023,'Overall Stats'!G1)),\"\")","v":""},{"$f":"IFERROR((AVERAGEIFS(Calculations!$W$24:$W$5023,Calculations!$X$24:$X$5023,'Overall Stats'!H1)),\"\")","v":""},{"$f":"IFERROR((AVERAGEIFS(Calculations!$W$24:$W$5023,Calculations!$X$24:$X$5023,'Overall Stats'!I1)),\"\")","v":""},{"$f":"IFERROR((AVERAGEIFS(Calculations!$W$24:$W$5023,Calculations!$X$24:$X$5023,'Overall Stats'!J1)),\"\")","v":""},{"$f":"IFERROR((AVERAGEIFS(Calculations!$W$24:$W$5023,Calculations!$X$24:$X$5023,'Overall Stats'!K1)),\"\")","v":""},{"$f":"IFERROR((AVERAGEIFS(Calculations!$W$24:$W$5023,Calculations!$X$24:$X$5023,'Overall Stats'!L1)),\"\")","v":""},{"$f":"IFERROR((AVERAGEIFS(Calculations!$W$24:$W$5023,Calculations!$X$24:$X$5023,'Overall Stats'!M1)),\"\")","v":""},{"$f":"IFERROR((AVERAGEIFS(Calculations!$W$24:$W$5023,Calculations!$X$24:$X$5023,'Overall Stats'!N1)),\"\")","v":""},{"$f":"IFERROR((AVERAGEIFS(Calculations!$W$24:$W$5023,Calculations!$X$24:$X$5023,'Overall Stats'!O1)),\"\")","v":""},{"$f":"IFERROR((AVERAGEIFS(Calculations!$W$24:$W$5023,Calculations!$X$24:$X$5023,'Overall Stats'!P1)),\"\")","v":""},{"$f":"IFERROR((AVERAGEIFS(Calculations!$W$24:$W$5023,Calculations!$X$24:$X$5023,'Overall Stats'!Q1)),\"\")","v":""},{"$f":"IFERROR((AVERAGEIFS(Calculations!$W$24:$W$5023,Calculations!$X$24:$X$5023,'Overall Stats'!R1)),\"\")","v":""},{"$f":"IFERROR((AVERAGEIFS(Calculations!$W$24:$W$5023,Calculations!$X$24:$X$5023,'Overall Stats'!S1)),\"\")","v":""},{"$f":"IFERROR((AVERAGEIFS(Calculations!$W$24:$W$5023,Calculations!$X$24:$X$5023,'Overall Stats'!T1)),\"\")","v":""},{"$f":"IFERROR((AVERAGEIFS(Calculations!$W$24:$W$5023,Calculations!$X$24:$X$5023,'Overall Stats'!U1)),\"\")","v":""},{"$f":"IFERROR((AVERAGEIFS(Calculations!$W$24:$W$5023,Calculations!$X$24:$X$5023,'Overall Stats'!V1)),\"\")","v":""}]
["Avg % win per trade",{"$f":"AVERAGE(C36:D36)","v":{"$error":"#DIV/0!"}},{"$f":"IFERROR((C16/Calculations!$H$25),\"\")","v":""},{"$f":"IFERROR((D16/Calculations!$H$25),\"\")","v":""},{"$f":"IFERROR((E16/Calculations!$H$25),\"\")","v":""},{"$f":"IFERROR((F16/Calculations!$H$25),\"\")","v":""},{"$f":"IFERROR((G16/Calculations!$H$25),\"\")","v":1.0152000000000002E-3},{"$f":"IFERROR((H16/Calculations!$H$25),\"\")","v":""},{"$f":"IFERROR((I16/Calculations!$H$25),\"\")","v":""},{"$f":"IFERROR((J16/Calculations!$H$25),\"\")","v":""},{"$f":"IFERROR((K16/Calculations!$H$25),\"\")","v":""},{"$f":"IFERROR((L16/Calculations!$H$25),\"\")","v":""},{"$f":"IFERROR((M16/Calculations!$H$25),\"\")","v":""},{"$f":"IFERROR((N16/Calculations!$H$25),\"\")","v":""},{"$f":"IFERROR((O16/Calculations!$H$25),\"\")","v":""},{"$f":"IFERROR((P16/Calculations!$H$25),\"\")","v":""},{"$f":"IFERROR((Q16/Calculations!$H$25),\"\")","v":""},{"$f":"IFERROR((R16/Calculations!$H$25),\"\")","v":""},{"$f":"IFERROR((S16/Calculations!$H$25),\"\")","v":""},{"$f":"IFERROR((T16/Calculations!$H$25),\"\")","v":""},{"$f":"IFERROR((U16/Calculations!$H$25),\"\")","v":""},{"$f":"IFERROR((V16/Calculations!$H$25),\"\")","v":""}]
["Avg %loss per trade",{"$f":"AVERAGE(C37:D37)","v":{"$error":"#DIV/0!"}},{"$f":"IFERROR((C17/Calculations!$H$25),\"\")","v":""},{"$f":"IFERROR((D17/Calculations!$H$25),\"\")","v":""},{"$f":"IFERROR((E17/Calculations!$H$25),\"\")","v":""},{"$f":"IFERROR((F17/Calculations!$H$25),\"\")","v":""},{"$f":"IFERROR((G17/Calculations!$H$25),\"\")","v":""},{"$f":"IFERROR((H17/Calculations!$H$25),\"\")","v":""},{"$f":"IFERROR((I17/Calculations!$H$25),\"\")","v":""},{"$f":"IFERROR((J17/Calculations!$H$25),\"\")","v":""},{"$f":"IFERROR((K17/Calculations!$H$25),\"\")","v":""},{"$f":"IFERROR((L17/Calculations!$H$25),\"\")","v":""},{"$f":"IFERROR((M17/Calculations!$H$25),\"\")","v":""},{"$f":"IFERROR((N17/Calculations!$H$25),\"\")","v":""},{"$f":"IFERROR((O17/Calculations!$H$25),\"\")","v":""},{"$f":"IFERROR((P17/Calculations!$H$25),\"\")","v":""},{"$f":"IFERROR((Q17/Calculations!$H$25),\"\")","v":""},{"$f":"IFERROR((R17/Calculations!$H$25),\"\")","v":""},{"$f":"IFERROR((S17/Calculations!$H$25),\"\")","v":""},{"$f":"IFERROR((T17/Calculations!$H$25),\"\")","v":""},{"$f":"IFERROR((U17/Calculations!$H$25),\"\")","v":""},{"$f":"IFERROR((V17/Calculations!$H$25),\"\")","v":""}]
["Avg capital $ per trade",{"$f":"AVERAGE(C38:V38)","v":9127.4},{"$f":"IFERROR(AVERAGEIFS(Journal!$U:$U,Journal!$L:$L,C1),\"\")","v":""},{"$f":"IFERROR(AVERAGEIFS(Journal!$U:$U,Journal!$L:$L,D1),\"\")","v":""},{"$f":"IFERROR(AVERAGEIFS(Journal!$U:$U,Journal!$L:$L,E1),\"\")","v":""},{"$f":"IFERROR(AVERAGEIFS(Journal!$U:$U,Journal!$L:$L,F1),\"\")","v":""},{"$f":"IFERROR(AVERAGEIFS(Journal!$U:$U,Journal!$L:$L,G1),\"\")","v":9127.4},{"$f":"IFERROR(AVERAGEIFS(Journal!$U:$U,Journal!$L:$L,H1),\"\")","v":""},{"$f":"IFERROR(AVERAGEIFS(Journal!$U:$U,Journal!$L:$L,I1),\"\")","v":""},{"$f":"IFERROR(AVERAGEIFS(Journal!$U:$U,Journal!$L:$L,J1),\"\")","v":""},{"$f":"IFERROR(AVERAGEIFS(Journal!$U:$U,Journal!$L:$L,K1),\"\")","v":""},{"$f":"IFERROR(AVERAGEIFS(Journal!$U:$U,Journal!$L:$L,L1),\"\")","v":""},{"$f":"IFERROR(AVERAGEIFS(Journal!$U:$U,Journal!$L:$L,M1),\"\")","v":""},{"$f":"IFERROR(AVERAGEIFS(Journal!$U:$U,Journal!$L:$L,N1),\"\")","v":""},{"$f":"IFERROR(AVERAGEIFS(Journal!$U:$U,Journal!$L:$L,O1),\"\")","v":""},{"$f":"IFERROR(AVERAGEIFS(Journal!$U:$U,Journal!$L:$L,P1),\"\")","v":""},{"$f":"IFERROR(AVERAGEIFS(Journal!$U:$U,Journal!$L:$L,Q1),\"\")","v":""},{"$f":"IFERROR(AVERAGEIFS(Journal!$U:$U,Journal!$L:$L,R1),\"\")","v":""},{"$f":"IFERROR(AVERAGEIFS(Journal!$U:$U,Journal!$L:$L,S1),\"\")","v":""},{"$f":"IFERROR(AVERAGEIFS(Journal!$U:$U,Journal!$L:$L,T1),\"\")","v":""},{"$f":"IFERROR(AVERAGEIFS(Journal!$U:$U,Journal!$L:$L,U1),\"\")","v":""},{"$f":"IFERROR(AVERAGEIFS(Journal!$U:$U,Journal!$L:$L,V1),\"\")","v":""}]

{"sheet":"Detailed Stats","index":23,"n_rows":59,"n_cols":57,"rows_kept":59,"cut":false,"hidden":false,"merged":[[31,0,38,0],[41,0,47,0],[3,0,18,0],[21,0,28,0],[51,0,57,0]]}
[]
[null,null,null,null,"start date:","2019-01-01",{"$f":"F3+3","v":"2019-01-07"},{"$f":"G3+3","v":"2019-01-14"},"2019-01-21","2019-01-28","2019-02-04","2019-02-11","2019-02-18","2019-02-25","2019-03-04","2019-03-11","2019-03-18","2019-03-25","2019-04-01","2019-04-08","2019-04-15","2019-04-22","2019-04-29","2019-05-06","2019-05-13","2019-05-20","2019-05-27","2019-06-03","2019-06-10","2019-06-17","2019-06-24","2019-07-01","2019-07-08","2019-07-15","2019-07-22","2019-07-29","2019-08-05","2019-08-12","2019-08-19","2019-08-26","2019-09-02","2019-09-09","2019-09-16","2019-09-23","2019-09-30","2019-10-07","2019-10-14","2019-10-21","2019-10-28","2019-11-04","2019-11-11","2019-11-18","2019-11-25","2019-12-02","2019-12-09","2019-12-16","2019-12-23"]
[null,null,null,null,"end date:","2019-01-04",{"$f":"G2+4","v":"2019-01-11"},{"$f":"H2+4","v":"2019-01-18"},"2019-01-25","2019-02-01","2019-02-08","2019-02-15","2019-02-22","2019-03-01","2019-03-08","2019-03-15","2019-03-22","2019-03-29","2019-04-05","2019-04-12","2019-04-19","2019-04-26","2019-05-03","2019-05-10","2019-05-17","2019-05-24","2019-05-31","2019-06-07","2019-06-14","2019-06-21","2019-06-28","2019-07-05","2019-07-12","2019-07-19","2019-07-26","2019-08-02","2019-08-09","2019-08-16","2019-08-23","2019-08-30","2019-09-06","2019-09-13","2019-09-20","2019-09-27","2019-10-04","2019-10-11","2019-10-18","2019-10-25","2019-11-01","2019-11-08","2019-11-15","2019-11-22","2019-11-29","2019-12-06","2019-12-13","2019-12-20","2019-12-27"]
["DAILY PROFIT (GROSS)","No. of trades per weekday (overall)",null,null,null,"Week_1","Week_2","Week_3","Week_4","Week_5","Week_6","Week_7","Week_8","Week_9","Week_10","Week_11","Week_12","Week_13","Week_14","Week_15","Week_16","Week_17","Week_18","Week_19","Week_20","Week_21","Week_22","Week_23","Week_24","Week_25","Week_26","Week_27","Week_28","Week_29","Week_30","Week_31","Week_32","Week_33","Week_34","Week_35","Week_36","Week_37","Week_38","Week_39","Week_40","Week_41","Week_42","Week_43","Week_44","Week_45","Week_46","Week_47","Week_48","Week_49","Week_50","Week_51","Week_52"]
[null,"Mon",{"$f":"COUNTIFS(Journal!$S:$S,\"?\", Journal!$A:$A, 'Detailed Stats'!B5)","v":1},null,{"$f":"B5","v":"Mon"},{"$f":"COUNTIFS(Journal!$S:$S,\"?\", Journal!$A:$A, 'Detailed Stats'!$B$5,Journal!$B:$B,\">=\"&'Detailed Stats'!F$2,Journal!$B:$B, \"<=\"&'Detailed Stats'!F$3)","v":0},{"$f":"COUNTIFS(Journal!$S:$S,\"?\", Journal!$A:$A, 'Detailed Stats'!$B$5,Journal!$B:$B,\">=\"&'Detailed Stats'!G$2,Journal!$B:$B, \"<=\"&'Detailed Stats'!G$3)","v":0},{"$f":"COUNTIFS(Journal!$S:$S,\"?\", Journal!$A:$A, 'Detailed Stats'!$B$5,Journal!$B:$B,\">=\"&'Detailed Stats'!H$2,Journal!$B:$B, \"<=\"&'Detailed Stats'!H$3)","v":0},{"$f":"COUNTIFS(Journal!$S:$S,\"?\", Journal!$A:$A, 'Detailed Stats'!$B$5,Journal!$B:$B,\">=\"&'Detailed Stats'!I$2,Journal!$B:$B, \"<=\"&'Detailed Stats'!I$3)","v":0},{"$f":"COUNTIFS(Journal!$S:$S,\"?\", Journal!$A:$A, 'Detailed Stats'!$B$5,Journal!$B:$B,\">=\"&'Detailed Stats'!J$2,Journal!$B:$B, \"<=\"&'Detailed Stats'!J$3)","v":0},{"$f":"COUNTIFS(Journal!$S:$S,\"?\", Journal!$A:$A, 'Detailed Stats'!$B$5,Journal!$B:$B,\">=\"&'Detailed Stats'!K$2,Journal!$B:$B, \"<=\"&'Detailed Stats'!K$3)","v":0},{"$f":"COUNTIFS(Journal!$S:$S,\"?\", Journal!$A:$A, 'Detailed Stats'!$B$5,Journal!$B:$B,\">=\"&'Detailed Stats'!L$2,Journal!$B:$B, \"<=\"&'Detailed Stats'!L$3)","v":0},{"$f":"COUNTIFS(Journal!$S:$S,\"?\", Journal!$A:$A, 'Detailed Stats'!$B$5,Journal!$B:$B,\">=\"&'Detailed Stats'!M$2,Journal!$B:$B, \"<=\"&'Detailed Stats'!M$3)","v":0},{"$f":"COUNTIFS(Journal!$S:$S,\"?\", Journal!$A:$A, 'Detailed Stats'!$B$5,Journal!$B:$B,\">=\"&'Detailed Stats'!N$2,Journal!$B:$B, \"<=\"&'Detailed Stats'!N$3)","v":0},{"$f":"COUNTIFS(Journal!$S:$S,\"?\", Journal!$A:$A, 'Detailed Stats'!$B$5,Journal!$B:$B,\">=\"&'Detailed Stats'!O$2,Journal!$B:$B, \"<=\"&'Detailed Stats'!O$3)","v":0},{"$f":"COUNTIFS(Journal!$S:$S,\"?\", Journal!$A:$A, 'Detailed Stats'!$B$5,Journal!$B:$B,\">=\"&'Detailed Stats'!P$2,Journal!$B:$B, \"<=\"&'Detailed Stats'!P$3)","v":0},{"$f":"COUNTIFS(Journal!$S:$S,\"?\", Journal!$A:$A, 'Detailed Stats'!$B$5,Journal!$B:$B,\">=\"&'Detailed Stats'!Q$2,Journal!$B:$B, \"<=\"&'Detailed Stats'!Q$3)","v":0},{"$f":"COUNTIFS(Journal!$S:$S,\"?\", Journal!$A:$A, 'Detailed Stats'!$B$5,Journal!$B:$B,\">=\"&'Detailed Stats'!R$2,Journal!$B:$B, \"<=\"&'Detailed Stats'!R$3)","v":0},{"$f":"COUNTIFS(Journal!$S:$S,\"?\", Journal!$A:$A, 'Detailed Stats'!$B$5,Journal!$B:$B,\">=\"&'Detailed Stats'!S$2,Journal!$B:$B, \"<=\"&'Detailed Stats'!S$3)","v":0},{"$f":"COUNTIFS(Journal!$S:$S,\"?\", Journal!$A:$A, 'Detailed Stats'!$B$5,Journal!$B:$B,\">=\"&'Detailed Stats'!T$2,Journal!$B:$B, \"<=\"&'Detailed Stats'!T$3)","v":0},{"$f":"COUNTIFS(Journal!$S:$S,\"?\", Journal!$A:$A, 'Detailed Stats'!$B$5,Journal!$B:$B,\">=\"&'Detailed Stats'!U$2,Journal!$B:$B, \"<=\"&'Detailed Stats'!U$3)","v":0},{"$f":"COUNTIFS(Journal!$S:$S,\"?\", Journal!$A:$A, 'Detailed Stats'!$B$5,Journal!$B:$B,\">=\"&'Detailed Stats'!V$2,Journal!$B:$B, \"<=\"&'Detailed Stats'!V$3)","v":0},{"$f":"COUNTIFS(Journal!$S:$S,\"?\", Journal!$A:$A, 'Detailed Stats'!$B$5,Journal!$B:$B,\">=\"&'Detailed Stats'!W$2,Journal!$B:$B, \"<=\"&'Detailed Stats'!W$3)","v":0},{"$f":"COUNTIFS(Journal!$S:$S,\"?\", Journal!$A:$A, 'Detailed Stats'!$B$5,Journal!$B:$B,\">=\"&'Detailed Stats'!X$2,Journal!$B:$B, \"<=\"&'Detailed Stats'!X$3)","v":0},{"$f":"COUNTIFS(Journal!$S:$S,\"?\", Journal!$A:$A, 'Detailed Stats'!$B$5,Journal!$B:$B,\">=\"&'Detailed Stats'!Y$2,Journal!$B:$B, \"<=\"&'Detailed Stats'!Y$3)","v":0},{"$f":"COUNTIFS(Journal!$S:$S,\"?\", Journal!$A:$A, 'Detailed Stats'!$B$5,Journal!$B:$B,\">=\"&'Detailed Stats'!Z$2,Journal!$B:$B, \"<=\"&'Detailed Stats'!Z$3)","v":0},{"$f":"COUNTIFS(Journal!$S:$S,\"?\", Journal!$A:$A, 'Detailed Stats'!$B$5,Journal!$B:$B,\">=\"&'Detailed Stats'!AA$2,Journal!$B:$B, \"<=\"&'Detailed Stats'!AA$3)","v":0},{"$f":"COUNTIFS(Journal!$S:$S,\"?\", Journal!$A:$A, 'Detailed Stats'!$B$5,Journal!$B:$B,\">=\"&'Detailed Stats'!AB$2,Journal!$B:$B, \"<=\"&'Detailed Stats'!AB$3)","v":0},{"$f":"COUNTIFS(Journal!$S:$S,\"?\", Journal!$A:$A, 'Detailed Stats'!$B$5,Journal!$B:$B,\">=\"&'Detailed Stats'!AC$2,Journal!$B:$B, \"<=\"&'Detailed Stats'!AC$3)","v":0},{"$f":"COUNTIFS(Journal!$S:$S,\"?\", Journal!$A:$A, 'Detailed Stats'!$B$5,Journal!$B:$B,\">=\"&'Detailed Stats'!AD$2,Journal!$B:$B, \"<=\"&'Detailed Stats'!AD$3)","v":0},{"$f":"COUNTIFS(Journal!$S:$S,\"?\", Journal!$A:$A, 'Detailed Stats'!$B$5,Journal!$B:$B,\">=\"&'Detailed Stats'!AE$2,Journal!$B:$B, \"<=\"&'Detailed Stats'!AE$3)","v":0},{"$f":"COUNTIFS(Journal!$S:$S,\"?\", Journal!$A:$A, 'Detailed Stats'!$B$5,Journal!$B:$B,\">=\"&'Detailed Stats'!AF$2,Journal!$B:$B, \"<=\"&'Detailed Stats'!AF$3)","v":0},{"$f":"COUNTIFS(Journal!$S:$S,\"?\", Journal!$A:$A, 'Detailed Stats'!$B$5,Journal!$B:$B,\">=\"&'Detailed Stats'!AG$2,Journal!$B:$B, \"<=\"&'Detailed Stats'!AG$3)","v":0},{"$f":"COUNTIFS(Journal!$S:$S,\"?\", Journal!$A:$A, 'Detailed Stats'!$B$5,Journal!$B:$B,\">=\"&'Detailed Stats'!AH$2,Journal!$B:$B, \"<=\"&'Detailed Stats'!AH$3)","v":0},{"$f":"COUNTIFS(Journal!$S:$S,\"?\", Journal!$A:$A, 'Detailed Stats'!$B$5,Journal!$B:$B,\">=\"&'Detailed Stats'!AI$2,Journal!$B:$B, \"<=\"&'Detailed Stats'!AI$3)","v":0},{"$f":"COUNTIFS(Journal!$S:$S,\"?\", Journal!$A:$A, 'Detailed Stats'!$B$5,Journal!$B:$B,\">=\"&'Detailed Stats'!AJ$2,Journal!$B:$B, \"<=\"&'Detailed Stats'!AJ$3)","v":0},{"$f":"COUNTIFS(Journal!$S:$S,\"?\", Journal!$A:$A, 'Detailed Stats'!$B$5,Journal!$B:$B,\">=\"&'Detailed Stats'!AK$2,Journal!$B:$B, \"<=\"&'Detailed Stats'!AK$3)","v":0},{"$f":"COUNTIFS(Journal!$S:$S,\"?\", Journal!$A:$A, 'Detailed Stats'!$B$5,Journal!$B:$B,\">=\"&'Detailed Stats'!AL$2,Journal!$B:$B, \"<=\"&'Detailed Stats'!AL$3)","v":0},{"$f":"COUNTIFS(Journal!$S:$S,\"?\", Journal!$A:$A, 'Detailed Stats'!$B$5,Journal!$B:$B,\">=\"&'Detailed Stats'!AM$2,Journal!$B:$B, \"<=\"&'Detailed Stats'!AM$3)","v":0},{"$f":"COUNTIFS(Journal!$S:$S,\"?\", Journal!$A:$A, 'Detailed Stats'!$B$5,Journal!$B:$B,\">=\"&'Detailed Stats'!AN$2,Journal!$B:$B, \"<=\"&'Detailed Stats'!AN$3)","v":0},{"$f":"COUNTIFS(Journal!$S:$S,\"?\", Journal!$A:$A, 'Detailed Stats'!$B$5,Journal!$B:$B,\">=\"&'Detailed Stats'!AO$2,Journal!$B:$B, \"<=\"&'Detailed Stats'!AO$3)","v":0},{"$f":"COUNTIFS(Journal!$S:$S,\"?\", Journal!$A:$A, 'Detailed Stats'!$B$5,Journal!$B:$B,\">=\"&'Detailed Stats'!AP$2,Journal!$B:$B, \"<=\"&'Detailed Stats'!AP$3)","v":0},{"$f":"COUNTIFS(Journal!$S:$S,\"?\", Journal!$A:$A, 'Detailed Stats'!$B$5,Journal!$B:$B,\">=\"&'Detailed Stats'!AQ$2,Journal!$B:$B, \"<=\"&'Detailed Stats'!AQ$3)","v":0},{"$f":"COUNTIFS(Journal!$S:$S,\"?\", Journal!$A:$A, 'Detailed Stats'!$B$5,Journal!$B:$B,\">=\"&'Detailed Stats'!AR$2,Journal!$B:$B, \"<=\"&'Detailed Stats'!AR$3)","v":0},{"$f":"COUNTIFS(Journal!$S:$S,\"?\", Journal!$A:$A, 'Detailed Stats'!$B$5,Journal!$B:$B,\">=\"&'Detailed Stats'!AS$2,Journal!$B:$B, \"<=\"&'Detailed Stats'!AS$3)","v":0},{"$f":"COUNTIFS(Journal!$S:$S,\"?\", Journal!$A:$A, 'Detailed Stats'!$B$5,Journal!$B:$B,\">=\"&'Detailed Stats'!AT$2,Journal!$B:$B, \"<=\"&'Detailed Stats'!AT$3)","v":0},{"$f":"COUNTIFS(Journal!$S:$S,\"?\", Journal!$A:$A, 'Detailed Stats'!$B$5,Journal!$B:$B,\">=\"&'Detailed Stats'!AU$2,Journal!$B:$B, \"<=\"&'Detailed Stats'!AU$3)","v":0},{"$f":"COUNTIFS(Journal!$S:$S,\"?\", Journal!$A:$A, 'Detailed Stats'!$B$5,Journal!$B:$B,\">=\"&'Detailed Stats'!AV$2,Journal!$B:$B, \"<=\"&'Detailed Stats'!AV$3)","v":0},{"$f":"COUNTIFS(Journal!$S:$S,\"?\", Journal!$A:$A, 'Detailed Stats'!$B$5,Journal!$B:$B,\">=\"&'Detailed Stats'!AW$2,Journal!$B:$B, \"<=\"&'Detailed Stats'!AW$3)","v":0},{"$f":"COUNTIFS(Journal!$S:$S,\"?\", Journal!$A:$A, 'Detailed Stats'!$B$5,Journal!$B:$B,\">=\"&'Detailed Stats'!AX$2,Journal!$B:$B, \"<=\"&'Detailed Stats'!AX$3)","v":0},{"$f":"COUNTIFS(Journal!$S:$S,\"?\", Journal!$A:$A, 'Detailed Stats'!$B$5,Journal!$B:$B,\">=\"&'Detailed Stats'!AY$2,Journal!$B:$B, \"<=\"&'Detailed Stats'!AY$3)","v":0},{"$f":"COUNTIFS(Journal!$S:$S,\"?\", Journal!$A:$A, 'Detailed Stats'!$B$5,Journal!$B:$B,\">=\"&'Detailed Stats'!AZ$2,Journal!$B:$B, \"<=\"&'Detailed Stats'!AZ$3)","v":0},{"$f":"COUNTIFS(Journal!$S:$S,\"?\", Journal!$A:$A, 'Detailed Stats'!$B$5,Journal!$B:$B,\">=\"&'Detailed Stats'!BA$2,Journal!$B:$B, \"<=\"&'Detailed Stats'!BA$3)","v":0},{"$f":"COUNTIFS(Journal!$S:$S,\"?\", Journal!$A:$A, 'Detailed Stats'!$B$5,Journal!$B:$B,\">=\"&'Detailed Stats'!BB$2,Journal!$B:$B, \"<=\"&'Detailed Stats'!BB$3)","v":0},{"$f":"COUNTIFS(Journal!$S:$S,\"?\", Journal!$A:$A, 'Detailed Stats'!$B$5,Journal!$B:$B,\">=\"&'Detailed Stats'!BC$2,Journal!$B:$B, \"<=\"&'Detailed Stats'!BC$3)","v":0},{"$f":"COUNTIFS(Journal!$S:$S,\"?\", Journal!$A:$A, 'Detailed Stats'!$B$5,Journal!$B:$B,\">=\"&'Detailed Stats'!BD$2,Journal!$B:$B, \"<=\"&'Detailed Stats'!BD$3)","v":0},{"$f":"COUNTIFS(Journal!$S:$S,\"?\", Journal!$A:$A, 'Detailed Stats'!$B$5,Journal!$B:$B,\">=\"&'Detailed Stats'!BE$2,Journal!$B:$B, \"<=\"&'Detailed Stats'!BE$3)","v":0}]
[null,"Tue",{"$f":"COUNTIFS(Journal!$S:$S,\"?\", Journal!$A:$A, 'Detailed Stats'!B6)","v":0},null,{"$f":"B6","v":"Tue"},{"$f":"COUNTIFS(Journal!$S:$S,\"?\", Journal!$A:$A, 'Detailed Stats'!$B$6,Journal!$B:$B,\">=\"&'Detailed Stats'!F$2,Journal!$B:$B, \"<=\"&'Detailed Stats'!F$3)","v":0},{"$f":"COUNTIFS(Journal!$S:$S,\"?\", Journal!$A:$A, 'Detailed Stats'!$B$6,Journal!$B:$B,\">=\"&'Detailed Stats'!G$2,Journal!$B:$B, \"<=\"&'Detailed Stats'!G$3)","v":0},{"$f":"COUNTIFS(Journal!$S:$S,\"?\", Journal!$A:$A, 'Detailed Stats'!$B$6,Journal!$B:$B,\">=\"&'Detailed Stats'!H$2,Journal!$B:$B, \"<=\"&'Detailed Stats'!H$3)","v":0},{"$f":"COUNTIFS(Journal!$S:$S,\"?\", Journal!$A:$A, 'Detailed Stats'!$B$6,Journal!$B:$B,\">=\"&'Detailed Stats'!I$2,Journal!$B:$B, \"<=\"&'Detailed Stats'!I$3)","v":0},{"$f":"COUNTIFS(Journal!$S:$S,\"?\", Journal!$A:$A, 'Detailed Stats'!$B$6,Journal!$B:$B,\">=\"&'Detailed Stats'!J$2,Journal!$B:$B, \"<=\"&'Detailed Stats'!J$3)","v":0},{"$f":"COUNTIFS(Journal!$S:$S,\"?\", Journal!$A:$A, 'Detailed Stats'!$B$6,Journal!$B:$B,\">=\"&'Detailed Stats'!K$2,Journal!$B:$B, \"<=\"&'Detailed Stats'!K$3)","v":0},{"$f":"COUNTIFS(Journal!$S:$S,\"?\", Journal!$A:$A, 'Detailed Stats'!$B$6,Journal!$B:$B,\">=\"&'Detailed Stats'!L$2,Journal!$B:$B, \"<=\"&'Detailed Stats'!L$3)","v":0},{"$f":"COUNTIFS(Journal!$S:$S,\"?\", Journal!$A:$A, 'Detailed Stats'!$B$6,Journal!$B:$B,\">=\"&'Detailed Stats'!M$2,Journal!$B:$B, \"<=\"&'Detailed Stats'!M$3)","v":0},{"$f":"COUNTIFS(Journal!$S:$S,\"?\", Journal!$A:$A, 'Detailed Stats'!$B$6,Journal!$B:$B,\">=\"&'Detailed Stats'!N$2,Journal!$B:$B, \"<=\"&'Detailed Stats'!N$3)","v":0},{"$f":"COUNTIFS(Journal!$S:$S,\"?\", Journal!$A:$A, 'Detailed Stats'!$B$6,Journal!$B:$B,\">=\"&'Detailed Stats'!O$2,Journal!$B:$B, \"<=\"&'Detailed Stats'!O$3)","v":0},{"$f":"COUNTIFS(Journal!$S:$S,\"?\", Journal!$A:$A, 'Detailed Stats'!$B$6,Journal!$B:$B,\">=\"&'Detailed Stats'!P$2,Journal!$B:$B, \"<=\"&'Detailed Stats'!P$3)","v":0},{"$f":"COUNTIFS(Journal!$S:$S,\"?\", Journal!$A:$A, 'Detailed Stats'!$B$6,Journal!$B:$B,\">=\"&'Detailed Stats'!Q$2,Journal!$B:$B, \"<=\"&'Detailed Stats'!Q$3)","v":0},{"$f":"COUNTIFS(Journal!$S:$S,\"?\", Journal!$A:$A, 'Detailed Stats'!$B$6,Journal!$B:$B,\">=\"&'Detailed Stats'!R$2,Journal!$B:$B, \"<=\"&'Detailed Stats'!R$3)","v":0},{"$f":"COUNTIFS(Journal!$S:$S,\"?\", Journal!$A:$A, 'Detailed Stats'!$B$6,Journal!$B:$B,\">=\"&'Detailed Stats'!S$2,Journal!$B:$B, \"<=\"&'Detailed Stats'!S$3)","v":0},{"$f":"COUNTIFS(Journal!$S:$S,\"?\", Journal!$A:$A, 'Detailed Stats'!$B$6,Journal!$B:$B,\">=\"&'Detailed Stats'!T$2,Journal!$B:$B, \"<=\"&'Detailed Stats'!T$3)","v":0},{"$f":"COUNTIFS(Journal!$S:$S,\"?\", Journal!$A:$A, 'Detailed Stats'!$B$6,Journal!$B:$B,\">=\"&'Detailed Stats'!U$2,Journal!$B:$B, \"<=\"&'Detailed Stats'!U$3)","v":0},{"$f":"COUNTIFS(Journal!$S:$S,\"?\", Journal!$A:$A, 'Detailed Stats'!$B$6,Journal!$B:$B,\">=\"&'Detailed Stats'!V$2,Journal!$B:$B, \"<=\"&'Detailed Stats'!V$3)","v":0},{"$f":"COUNTIFS(Journal!$S:$S,\"?\", Journal!$A:$A, 'Detailed Stats'!$B$6,Journal!$B:$B,\">=\"&'Detailed Stats'!W$2,Journal!$B:$B, \"<=\"&'Detailed Stats'!W$3)","v":0},{"$f":"COUNTIFS(Journal!$S:$S,\"?\", Journal!$A:$A, 'Detailed Stats'!$B$6,Journal!$B:$B,\">=\"&'Detailed Stats'!X$2,Journal!$B:$B, \"<=\"&'Detailed Stats'!X$3)","v":0},{"$f":"COUNTIFS(Journal!$S:$S,\"?\", Journal!$A:$A, 'Detailed Stats'!$B$6,Journal!$B:$B,\">=\"&'Detailed Stats'!Y$2,Journal!$B:$B, \"<=\"&'Detailed Stats'!Y$3)","v":0},{"$f":"COUNTIFS(Journal!$S:$S,\"?\", Journal!$A:$A, 'Detailed Stats'!$B$6,Journal!$B:$B,\">=\"&'Detailed Stats'!Z$2,Journal!$B:$B, \"<=\"&'Detailed Stats'!Z$3)","v":0},{"$f":"COUNTIFS(Journal!$S:$S,\"?\", Journal!$A:$A, 'Detailed Stats'!$B$6,Journal!$B:$B,\">=\"&'Detailed Stats'!AA$2,Journal!$B:$B, \"<=\"&'Detailed Stats'!AA$3)","v":0},{"$f":"COUNTIFS(Journal!$S:$S,\"?\", Journal!$A:$A, 'Detailed Stats'!$B$6,Journal!$B:$B,\">=\"&'Detailed Stats'!AB$2,Journal!$B:$B, \"<=\"&'Detailed Stats'!AB$3)","v":0},{"$f":"COUNTIFS(Journal!$S:$S,\"?\", Journal!$A:$A, 'Detailed Stats'!$B$6,Journal!$B:$B,\">=\"&'Detailed Stats'!AC$2,Journal!$B:$B, \"<=\"&'Detailed Stats'!AC$3)","v":0},{"$f":"COUNTIFS(Journal!$S:$S,\"?\", Journal!$A:$A, 'Detailed Stats'!$B$6,Journal!$B:$B,\">=\"&'Detailed Stats'!AD$2,Journal!$B:$B, \"<=\"&'Detailed Stats'!AD$3)","v":0},{"$f":"COUNTIFS(Journal!$S:$S,\"?\", Journal!$A:$A, 'Detailed Stats'!$B$6,Journal!$B:$B,\">=\"&'Detailed Stats'!AE$2,Journal!$B:$B, \"<=\"&'Detailed Stats'!AE$3)","v":0},{"$f":"COUNTIFS(Journal!$S:$S,\"?\", Journal!$A:$A, 'Detailed Stats'!$B$6,Journal!$B:$B,\">=\"&'Detailed Stats'!AF$2,Journal!$B:$B, \"<=\"&'Detailed Stats'!AF$3)","v":0},{"$f":"COUNTIFS(Journal!$S:$S,\"?\", Journal!$A:$A, 'Detailed Stats'!$B$6,Journal!$B:$B,\">=\"&'Detailed Stats'!AG$2,Journal!$B:$B, \"<=\"&'Detailed Stats'!AG$3)","v":0},{"$f":"COUNTIFS(Journal!$S:$S,\"?\", Journal!$A:$A, 'Detailed Stats'!$B$6,Journal!$B:$B,\">=\"&'Detailed Stats'!AH$2,Journal!$B:$B, \"<=\"&'Detailed Stats'!AH$3)","v":0},{"$f":"COUNTIFS(Journal!$S:$S,\"?\", Journal!$A:$A, 'Detailed Stats'!$B$6,Journal!$B:$B,\">=\"&'Detailed Stats'!AI$2,Journal!$B:$B, \"<=\"&'Detailed Stats'!AI$3)","v":0},{"$f":"COUNTIFS(Journal!$S:$S,\"?\", Journal!$A:$A, 'Detailed Stats'!$B$6,Journal!$B:$B,\">=\"&'Detailed Stats'!AJ$2,Journal!$B:$B, \"<=\"&'Detailed Stats'!AJ$3)","v":0},{"$f":"COUNTIFS(Journal!$S:$S,\"?\", Journal!$A:$A, 'Detailed Stats'!$B$6,Journal!$B:$B,\">=\"&'Detailed Stats'!AK$2,Journal!$B:$B, \"<=\"&'Detailed Stats'!AK$3)","v":0},{"$f":"COUNTIFS(Journal!$S:$S,\"?\", Journal!$A:$A, 'Detailed Stats'!$B$6,Journal!$B:$B,\">=\"&'Detailed Stats'!AL$2,Journal!$B:$B, \"<=\"&'Detailed Stats'!AL$3)","v":0},{"$f":"COUNTIFS(Journal!$S:$S,\"?\", Journal!$A:$A, 'Detailed Stats'!$B$6,Journal!$B:$B,\">=\"&'Detailed Stats'!AM$2,Journal!$B:$B, \"<=\"&'Detailed Stats'!AM$3)","v":0},{"$f":"COUNTIFS(Journal!$S:$S,\"?\", Journal!$A:$A, 'Detailed Stats'!$B$6,Journal!$B:$B,\">=\"&'Detailed Stats'!AN$2,Journal!$B:$B, \"<=\"&'Detailed Stats'!AN$3)","v":0},{"$f":"COUNTIFS(Journal!$S:$S,\"?\", Journal!$A:$A, 'Detailed Stats'!$B$6,Journal!$B:$B,\">=\"&'Detailed Stats'!AO$2,Journal!$B:$B, \"<=\"&'Detailed Stats'!AO$3)","v":0},{"$f":"COUNTIFS(Journal!$S:$S,\"?\", Journal!$A:$A, 'Detailed Stats'!$B$6,Journal!$B:$B,\">=\"&'Detailed Stats'!AP$2,Journal!$B:$B, \"<=\"&'Detailed Stats'!AP$3)","v":0},{"$f":"COUNTIFS(Journal!$S:$S,\"?\", Journal!$A:$A, 'Detailed Stats'!$B$6,Journal!$B:$B,\">=\"&'Detailed Stats'!AQ$2,Journal!$B:$B, \"<=\"&'Detailed Stats'!AQ$3)","v":0},{"$f":"COUNTIFS(Journal!$S:$S,\"?\", Journal!$A:$A, 'Detailed Stats'!$B$6,Journal!$B:$B,\">=\"&'Detailed Stats'!AR$2,Journal!$B:$B, \"<=\"&'Detailed Stats'!AR$3)","v":0},{"$f":"COUNTIFS(Journal!$S:$S,\"?\", Journal!$A:$A, 'Detailed Stats'!$B$6,Journal!$B:$B,\">=\"&'Detailed Stats'!AS$2,Journal!$B:$B, \"<=\"&'Detailed Stats'!AS$3)","v":0},{"$f":"COUNTIFS(Journal!$S:$S,\"?\", Journal!$A:$A, 'Detailed Stats'!$B$6,Journal!$B:$B,\">=\"&'Detailed Stats'!AT$2,Journal!$B:$B, \"<=\"&'Detailed Stats'!AT$3)","v":0},{"$f":"COUNTIFS(Journal!$S:$S,\"?\", Journal!$A:$A, 'Detailed Stats'!$B$6,Journal!$B:$B,\">=\"&'Detailed Stats'!AU$2,Journal!$B:$B, \"<=\"&'Detailed Stats'!AU$3)","v":0},{"$f":"COUNTIFS(Journal!$S:$S,\"?\", Journal!$A:$A, 'Detailed Stats'!$B$6,Journal!$B:$B,\">=\"&'Detailed Stats'!AV$2,Journal!$B:$B, \"<=\"&'Detailed Stats'!AV$3)","v":0},{"$f":"COUNTIFS(Journal!$S:$S,\"?\", Journal!$A:$A, 'Detailed Stats'!$B$6,Journal!$B:$B,\">=\"&'Detailed Stats'!AW$2,Journal!$B:$B, \"<=\"&'Detailed Stats'!AW$3)","v":0},{"$f":"COUNTIFS(Journal!$S:$S,\"?\", Journal!$A:$A, 'Detailed Stats'!$B$6,Journal!$B:$B,\">=\"&'Detailed Stats'!AX$2,Journal!$B:$B, \"<=\"&'Detailed Stats'!AX$3)","v":0},{"$f":"COUNTIFS(Journal!$S:$S,\"?\", Journal!$A:$A, 'Detailed Stats'!$B$6,Journal!$B:$B,\">=\"&'Detailed Stats'!AY$2,Journal!$B:$B, \"<=\"&'Detailed Stats'!AY$3)","v":0},{"$f":"COUNTIFS(Journal!$S:$S,\"?\", Journal!$A:$A, 'Detailed Stats'!$B$6,Journal!$B:$B,\">=\"&'Detailed Stats'!AZ$2,Journal!$B:$B, \"<=\"&'Detailed Stats'!AZ$3)","v":0},{"$f":"COUNTIFS(Journal!$S:$S,\"?\", Journal!$A:$A, 'Detailed Stats'!$B$6,Journal!$B:$B,\">=\"&'Detailed Stats'!BA$2,Journal!$B:$B, \"<=\"&'Detailed Stats'!BA$3)","v":0},{"$f":"COUNTIFS(Journal!$S:$S,\"?\", Journal!$A:$A, 'Detailed Stats'!$B$6,Journal!$B:$B,\">=\"&'Detailed Stats'!BB$2,Journal!$B:$B, \"<=\"&'Detailed Stats'!BB$3)","v":0},{"$f":"COUNTIFS(Journal!$S:$S,\"?\", Journal!$A:$A, 'Detailed Stats'!$B$6,Journal!$B:$B,\">=\"&'Detailed Stats'!BC$2,Journal!$B:$B, \"<=\"&'Detailed Stats'!BC$3)","v":0},{"$f":"COUNTIFS(Journal!$S:$S,\"?\", Journal!$A:$A, 'Detailed Stats'!$B$6,Journal!$B:$B,\">=\"&'Detailed Stats'!BD$2,Journal!$B:$B, \"<=\"&'Detailed Stats'!BD$3)","v":0},{"$f":"COUNTIFS(Journal!$S:$S,\"?\", Journal!$A:$A, 'Detailed Stats'!$B$6,Journal!$B:$B,\">=\"&'Detailed Stats'!BE$2,Journal!$B:$B, \"<=\"&'Detailed Stats'!BE$3)","v":0}]
[null,"Wed",{"$f":"COUNTIFS(Journal!$S:$S,\"?\", Journal!$A:$A, 'Detailed Stats'!B7)","v":0},null,{"$f":"B7","v":"Wed"},{"$f":"COUNTIFS(Journal!$S:$S,\"?\", Journal!$A:$A, 'Detailed Stats'!$B$7,Journal!$B:$B,\">=\"&'Detailed Stats'!F$2,Journal!$B:$B, \"<=\"&'Detailed Stats'!F$3)","v":0},{"$f":"COUNTIFS(Journal!$S:$S,\"?\", Journal!$A:$A, 'Detailed Stats'!$B$7,Journal!$B:$B,\">=\"&'Detailed Stats'!G$2,Journal!$B:$B, \"<=\"&'Detailed Stats'!G$3)","v":0},{"$f":"COUNTIFS(Journal!$S:$S,\"?\", Journal!$A:$A, 'Detailed Stats'!$B$7,Journal!$B:$B,\">=\"&'Detailed Stats'!H$2,Journal!$B:$B, \"<=\"&'Detailed Stats'!H$3)","v":0},{"$f":"COUNTIFS(Journal!$S:$S,\"?\", Journal!$A:$A, 'Detailed Stats'!$B$7,Journal!$B:$B,\">=\"&'Detailed Stats'!I$2,Journal!$B:$B, \"<=\"&'Detailed Stats'!I$3)","v":0},{"$f":"COUNTIFS(Journal!$S:$S,\"?\", Journal!$A:$A, 'Detailed Stats'!$B$7,Journal!$B:$B,\">=\"&'Detailed Stats'!J$2,Journal!$B:$B, \"<=\"&'Detailed Stats'!J$3)","v":0},{"$f":"COUNTIFS(Journal!$S:$S,\"?\", Journal!$A:$A, 'Detailed Stats'!$B$7,Journal!$B:$B,\">=\"&'Detailed Stats'!K$2,Journal!$B:$B, \"<=\"&'Detailed Stats'!K$3)","v":0},{"$f":"COUNTIFS(Journal!$S:$S,\"?\", Journal!$A:$A, 'Detailed Stats'!$B$7,Journal!$B:$B,\">=\"&'Detailed Stats'!L$2,Journal!$B:$B, \"<=\"&'Detailed Stats'!L$3)","v":0},{"$f":"COUNTIFS(Journal!$S:$S,\"?\", Journal!$A:$A, 'Detailed Stats'!$B$7,Journal!$B:$B,\">=\"&'Detailed Stats'!M$2,Journal!$B:$B, \"<=\"&'Detailed Stats'!M$3)","v":0},{"$f":"COUNTIFS(Journal!$S:$S,\"?\", Journal!$A:$A, 'Detailed Stats'!$B$7,Journal!$B:$B,\">=\"&'Detailed Stats'!N$2,Journal!$B:$B, \"<=\"&'Detailed Stats'!N$3)","v":0},{"$f":"COUNTIFS(Journal!$S:$S,\"?\", Journal!$A:$A, 'Detailed Stats'!$B$7,Journal!$B:$B,\">=\"&'Detailed Stats'!O$2,Journal!$B:$B, \"<=\"&'Detailed Stats'!O$3)","v":0},{"$f":"COUNTIFS(Journal!$S:$S,\"?\", Journal!$A:$A, 'Detailed Stats'!$B$7,Journal!$B:$B,\">=\"&'Detailed Stats'!P$2,Journal!$B:$B, \"<=\"&'Detailed Stats'!P$3)","v":0},{"$f":"COUNTIFS(Journal!$S:$S,\"?\", Journal!$A:$A, 'Detailed Stats'!$B$7,Journal!$B:$B,\">=\"&'Detailed Stats'!Q$2,Journal!$B:$B, \"<=\"&'Detailed Stats'!Q$3)","v":0},{"$f":"COUNTIFS(Journal!$S:$S,\"?\", Journal!$A:$A, 'Detailed Stats'!$B$7,Journal!$B:$B,\">=\"&'Detailed Stats'!R$2,Journal!$B:$B, \"<=\"&'Detailed Stats'!R$3)","v":0},{"$f":"COUNTIFS(Journal!$S:$S,\"?\", Journal!$A:$A, 'Detailed Stats'!$B$7,Journal!$B:$B,\">=\"&'Detailed Stats'!S$2,Journal!$B:$B, \"<=\"&'Detailed Stats'!S$3)","v":0},{"$f":"COUNTIFS(Journal!$S:$S,\"?\", Journal!$A:$A, 'Detailed Stats'!$B$7,Journal!$B:$B,\">=\"&'Detailed Stats'!T$2,Journal!$B:$B, \"<=\"&'Detailed Stats'!T$3)","v":0},{"$f":"COUNTIFS(Journal!$S:$S,\"?\", Journal!$A:$A, 'Detailed Stats'!$B$7,Journal!$B:$B,\">=\"&'Detailed Stats'!U$2,Journal!$B:$B, \"<=\"&'Detailed Stats'!U$3)","v":0},{"$f":"COUNTIFS(Journal!$S:$S,\"?\", Journal!$A:$A, 'Detailed Stats'!$B$7,Journal!$B:$B,\">=\"&'Detailed Stats'!V$2,Journal!$B:$B, \"<=\"&'Detailed Stats'!V$3)","v":0},{"$f":"COUNTIFS(Journal!$S:$S,\"?\", Journal!$A:$A, 'Detailed Stats'!$B$7,Journal!$B:$B,\">=\"&'Detailed Stats'!W$2,Journal!$B:$B, \"<=\"&'Detailed Stats'!W$3)","v":0},{"$f":"COUNTIFS(Journal!$S:$S,\"?\", Journal!$A:$A, 'Detailed Stats'!$B$7,Journal!$B:$B,\">=\"&'Detailed Stats'!X$2,Journal!$B:$B, \"<=\"&'Detailed Stats'!X$3)","v":0},{"$f":"COUNTIFS(Journal!$S:$S,\"?\", Journal!$A:$A, 'Detailed Stats'!$B$7,Journal!$B:$B,\">=\"&'Detailed Stats'!Y$2,Journal!$B:$B, \"<=\"&'Detailed Stats'!Y$3)","v":0},{"$f":"COUNTIFS(Journal!$S:$S,\"?\", Journal!$A:$A, 'Detailed Stats'!$B$7,Journal!$B:$B,\">=\"&'Detailed Stats'!Z$2,Journal!$B:$B, \"<=\"&'Detailed Stats'!Z$3)","v":0},{"$f":"COUNTIFS(Journal!$S:$S,\"?\", Journal!$A:$A, 'Detailed Stats'!$B$7,Journal!$B:$B,\">=\"&'Detailed Stats'!AA$2,Journal!$B:$B, \"<=\"&'Detailed Stats'!AA$3)","v":0},{"$f":"COUNTIFS(Journal!$S:$S,\"?\", Journal!$A:$A, 'Detailed Stats'!$B$7,Journal!$B:$B,\">=\"&'Detailed Stats'!AB$2,Journal!$B:$B, \"<=\"&'Detailed Stats'!AB$3)","v":0},{"$f":"COUNTIFS(Journal!$S:$S,\"?\", Journal!$A:$A, 'Detailed Stats'!$B$7,Journal!$B:$B,\">=\"&'Detailed Stats'!AC$2,Journal!$B:$B, \"<=\"&'Detailed Stats'!AC$3)","v":0},{"$f":"COUNTIFS(Journal!$S:$S,\"?\", Journal!$A:$A, 'Detailed Stats'!$B$7,Journal!$B:$B,\">=\"&'Detailed Stats'!AD$2,Journal!$B:$B, \"<=\"&'Detailed Stats'!AD$3)","v":0},{"$f":"COUNTIFS(Journal!$S:$S,\"?\", Journal!$A:$A, 'Detailed Stats'!$B$7,Journal!$B:$B,\">=\"&'Detailed Stats'!AE$2,Journal!$B:$B, \"<=\"&'Detailed Stats'!AE$3)","v":0},{"$f":"COUNTIFS(Journal!$S:$S,\"?\", Journal!$A:$A, 'Detailed Stats'!$B$7,Journal!$B:$B,\">=\"&'Detailed Stats'!AF$2,Journal!$B:$B, \"<=\"&'Detailed Stats'!AF$3)","v":0},{"$f":"COUNTIFS(Journal!$S:$S,\"?\", Journal!$A:$A, 'Detailed Stats'!$B$7,Journal!$B:$B,\">=\"&'Detailed Stats'!AG$2,Journal!$B:$B, \"<=\"&'Detailed Stats'!AG$3)","v":0},{"$f":"COUNTIFS(Journal!$S:$S,\"?\", Journal!$A:$A, 'Detailed Stats'!$B$7,Journal!$B:$B,\">=\"&'Detailed Stats'!AH$2,Journal!$B:$B, \"<=\"&'Detailed Stats'!AH$3)","v":0},{"$f":"COUNTIFS(Journal!$S:$S,\"?\", Journal!$A:$A, 'Detailed Stats'!$B$7,Journal!$B:$B,\">=\"&'Detailed Stats'!AI$2,Journal!$B:$B, \"<=\"&'Detailed Stats'!AI$3)","v":0},{"$f":"COUNTIFS(Journal!$S:$S,\"?\", Journal!$A:$A, 'Detailed Stats'!$B$7,Journal!$B:$B,\">=\"&'Detailed Stats'!AJ$2,Journal!$B:$B, \"<=\"&'Detailed Stats'!AJ$3)","v":0},{"$f":"COUNTIFS(Journal!$S:$S,\"?\", Journal!$A:$A, 'Detailed Stats'!$B$7,Journal!$B:$B,\">=\"&'Detailed Stats'!AK$2,Journal!$B:$B, \"<=\"&'Detailed Stats'!AK$3)","v":0},{"$f":"COUNTIFS(Journal!$S:$S,\"?\", Journal!$A:$A, 'Detailed Stats'!$B$7,Journal!$B:$B,\">=\"&'Detailed Stats'!AL$2,Journal!$B:$B, \"<=\"&'Detailed Stats'!AL$3)","v":0},{"$f":"COUNTIFS(Journal!$S:$S,\"?\", Journal!$A:$A, 'Detailed Stats'!$B$7,Journal!$B:$B,\">=\"&'Detailed Stats'!AM$2,Journal!$B:$B, \"<=\"&'Detailed Stats'!AM$3)","v":0},{"$f":"COUNTIFS(Journal!$S:$S,\"?\", Journal!$A:$A, 'Detailed Stats'!$B$7,Journal!$B:$B,\">=\"&'Detailed Stats'!AN$2,Journal!$B:$B, \"<=\"&'Detailed Stats'!AN$3)","v":0},{"$f":"COUNTIFS(Journal!$S:$S,\"?\", Journal!$A:$A, 'Detailed Stats'!$B$7,Journal!$B:$B,\">=\"&'Detailed Stats'!AO$2,Journal!$B:$B, \"<=\"&'Detailed Stats'!AO$3)","v":0},{"$f":"COUNTIFS(Journal!$S:$S,\"?\", Journal!$A:$A, 'Detailed Stats'!$B$7,Journal!$B:$B,\">=\"&'Detailed Stats'!AP$2,Journal!$B:$B, \"<=\"&'Detailed Stats'!AP$3)","v":0},{"$f":"COUNTIFS(Journal!$S:$S,\"?\", Journal!$A:$A, 'Detailed Stats'!$B$7,Journal!$B:$B,\">=\"&'Detailed Stats'!AQ$2,Journal!$B:$B, \"<=\"&'Detailed Stats'!AQ$3)","v":0},{"$f":"COUNTIFS(Journal!$S:$S,\"?\", Journal!$A:$A, 'Detailed Stats'!$B$7,Journal!$B:$B,\">=\"&'Detailed Stats'!AR$2,Journal!$B:$B, \"<=\"&'Detailed Stats'!AR$3)","v":0},{"$f":"COUNTIFS(Journal!$S:$S,\"?\", Journal!$A:$A, 'Detailed Stats'!$B$7,Journal!$B:$B,\">=\"&'Detailed Stats'!AS$2,Journal!$B:$B, \"<=\"&'Detailed Stats'!AS$3)","v":0},{"$f":"COUNTIFS(Journal!$S:$S,\"?\", Journal!$A:$A, 'Detailed Stats'!$B$7,Journal!$B:$B,\">=\"&'Detailed Stats'!AT$2,Journal!$B:$B, \"<=\"&'Detailed Stats'!AT$3)","v":0},{"$f":"COUNTIFS(Journal!$S:$S,\"?\", Journal!$A:$A, 'Detailed Stats'!$B$7,Journal!$B:$B,\">=\"&'Detailed Stats'!AU$2,Journal!$B:$B, \"<=\"&'Detailed Stats'!AU$3)","v":0},{"$f":"COUNTIFS(Journal!$S:$S,\"?\", Journal!$A:$A, 'Detailed Stats'!$B$7,Journal!$B:$B,\">=\"&'Detailed Stats'!AV$2,Journal!$B:$B, \"<=\"&'Detailed Stats'!AV$3)","v":0},{"$f":"COUNTIFS(Journal!$S:$S,\"?\", Journal!$A:$A, 'Detailed Stats'!$B$7,Journal!$B:$B,\">=\"&'Detailed Stats'!AW$2,Journal!$B:$B, \"<=\"&'Detailed Stats'!AW$3)","v":0},{"$f":"COUNTIFS(Journal!$S:$S,\"?\", Journal!$A:$A, 'Detailed Stats'!$B$7,Journal!$B:$B,\">=\"&'Detailed Stats'!AX$2,Journal!$B:$B, \"<=\"&'Detailed Stats'!AX$3)","v":0},{"$f":"COUNTIFS(Journal!$S:$S,\"?\", Journal!$A:$A, 'Detailed Stats'!$B$7,Journal!$B:$B,\">=\"&'Detailed Stats'!AY$2,Journal!$B:$B, \"<=\"&'Detailed Stats'!AY$3)","v":0},{"$f":"COUNTIFS(Journal!$S:$S,\"?\", Journal!$A:$A, 'Detailed Stats'!$B$7,Journal!$B:$B,\">=\"&'Detailed Stats'!AZ$2,Journal!$B:$B, \"<=\"&'Detailed Stats'!AZ$3)","v":0},{"$f":"COUNTIFS(Journal!$S:$S,\"?\", Journal!$A:$A, 'Detailed Stats'!$B$7,Journal!$B:$B,\">=\"&'Detailed Stats'!BA$2,Journal!$B:$B, \"<=\"&'Detailed Stats'!BA$3)","v":0},{"$f":"COUNTIFS(Journal!$S:$S,\"?\", Journal!$A:$A, 'Detailed Stats'!$B$7,Journal!$B:$B,\">=\"&'Detailed Stats'!BB$2,Journal!$B:$B, \"<=\"&'Detailed Stats'!BB$3)","v":0},{"$f":"COUNTIFS(Journal!$S:$S,\"?\", Journal!$A:$A, 'Detailed Stats'!$B$7,Journal!$B:$B,\">=\"&'Detailed Stats'!BC$2,Journal!$B:$B, \"<=\"&'Detailed Stats'!BC$3)","v":0},{"$f":"COUNTIFS(Journal!$S:$S,\"?\", Journal!$A:$A, 'Detailed Stats'!$B$7,Journal!$B:$B,\">=\"&'Detailed Stats'!BD$2,Journal!$B:$B, \"<=\"&'Detailed Stats'!BD$3)","v":0},{"$f":"COUNTIFS(Journal!$S:$S,\"?\", Journal!$A:$A, 'Detailed Stats'!$B$7,Journal!$B:$B,\">=\"&'Detailed Stats'!BE$2,Journal!$B:$B, \"<=\"&'Detailed Stats'!BE$3)","v":0}]
[null,"Thu",{"$f":"COUNTIFS(Journal!$S:$S,\"?\", Journal!$A:$A, 'Detailed Stats'!B8)","v":0},null,{"$f":"B8","v":"Thu"},{"$f":"COUNTIFS(Journal!$S:$S,\"?\", Journal!$A:$A, 'Detailed Stats'!$B$8,Journal!$B:$B,\">=\"&'Detailed Stats'!F$2,Journal!$B:$B, \"<=\"&'Detailed Stats'!F$3)","v":0},{"$f":"COUNTIFS(Journal!$S:$S,\"?\", Journal!$A:$A, 'Detailed Stats'!$B$8,Journal!$B:$B,\">=\"&'Detailed Stats'!G$2,Journal!$B:$B, \"<=\"&'Detailed Stats'!G$3)","v":0},{"$f":"COUNTIFS(Journal!$S:$S,\"?\", Journal!$A:$A, 'Detailed Stats'!$B$8,Journal!$B:$B,\">=\"&'Detailed Stats'!H$2,Journal!$B:$B, \"<=\"&'Detailed Stats'!H$3)","v":0},{"$f":"COUNTIFS(Journal!$S:$S,\"?\", Journal!$A:$A, 'Detailed Stats'!$B$8,Journal!$B:$B,\">=\"&'Detailed Stats'!I$2,Journal!$B:$B, \"<=\"&'Detailed Stats'!I$3)","v":0},{"$f":"COUNTIFS(Journal!$S:$S,\"?\", Journal!$A:$A, 'Detailed Stats'!$B$8,Journal!$B:$B,\">=\"&'Detailed Stats'!J$2,Journal!$B:$B, \"<=\"&'Detailed Stats'!J$3)","v":0},{"$f":"COUNTIFS(Journal!$S:$S,\"?\", Journal!$A:$A, 'Detailed Stats'!$B$8,Journal!$B:$B,\">=\"&'Detailed Stats'!K$2,Journal!$B:$B, \"<=\"&'Detailed Stats'!K$3)","v":0},{"$f":"COUNTIFS(Journal!$S:$S,\"?\", Journal!$A:$A, 'Detailed Stats'!$B$8,Journal!$B:$B,\">=\"&'Detailed Stats'!L$2,Journal!$B:$B, \"<=\"&'Detailed Stats'!L$3)","v":0},{"$f":"COUNTIFS(Journal!$S:$S,\"?\", Journal!$A:$A, 'Detailed Stats'!$B$8,Journal!$B:$B,\">=\"&'Detailed Stats'!M$2,Journal!$B:$B, \"<=\"&'Detailed Stats'!M$3)","v":0},{"$f":"COUNTIFS(Journal!$S:$S,\"?\", Journal!$A:$A, 'Detailed Stats'!$B$8,Journal!$B:$B,\">=\"&'Detailed Stats'!N$2,Journal!$B:$B, \"<=\"&'Detailed Stats'!N$3)","v":0},{"$f":"COUNTIFS(Journal!$S:$S,\"?\", Journal!$A:$A, 'Detailed Stats'!$B$8,Journal!$B:$B,\">=\"&'Detailed Stats'!O$2,Journal!$B:$B, \"<=\"&'Detailed Stats'!O$3)","v":0},{"$f":"COUNTIFS(Journal!$S:$S,\"?\", Journal!$A:$A, 'Detailed Stats'!$B$8,Journal!$B:$B,\">=\"&'Detailed Stats'!P$2,Journal!$B:$B, \"<=\"&'Detailed Stats'!P$3)","v":0},{"$f":"COUNTIFS(Journal!$S:$S,\"?\", Journal!$A:$A, 'Detailed Stats'!$B$8,Journal!$B:$B,\">=\"&'Detailed Stats'!Q$2,Journal!$B:$B, \"<=\"&'Detailed Stats'!Q$3)","v":0},{"$f":"COUNTIFS(Journal!$S:$S,\"?\", Journal!$A:$A, 'Detailed Stats'!$B$8,Journal!$B:$B,\">=\"&'Detailed Stats'!R$2,Journal!$B:$B, \"<=\"&'Detailed Stats'!R$3)","v":0},{"$f":"COUNTIFS(Journal!$S:$S,\"?\", Journal!$A:$A, 'Detailed Stats'!$B$8,Journal!$B:$B,\">=\"&'Detailed Stats'!S$2,Journal!$B:$B, \"<=\"&'Detailed Stats'!S$3)","v":0},{"$f":"COUNTIFS(Journal!$S:$S,\"?\", Journal!$A:$A, 'Detailed Stats'!$B$8,Journal!$B:$B,\">=\"&'Detailed Stats'!T$2,Journal!$B:$B, \"<=\"&'Detailed Stats'!T$3)","v":0},{"$f":"COUNTIFS(Journal!$S:$S,\"?\", Journal!$A:$A, 'Detailed Stats'!$B$8,Journal!$B:$B,\">=\"&'Detailed Stats'!U$2,Journal!$B:$B, \"<=\"&'Detailed Stats'!U$3)","v":0},{"$f":"COUNTIFS(Journal!$S:$S,\"?\", Journal!$A:$A, 'Detailed Stats'!$B$8,Journal!$B:$B,\">=\"&'Detailed Stats'!V$2,Journal!$B:$B, \"<=\"&'Detailed Stats'!V$3)","v":0},{"$f":"COUNTIFS(Journal!$S:$S,\"?\", Journal!$A:$A, 'Detailed Stats'!$B$8,Journal!$B:$B,\">=\"&'Detailed Stats'!W$2,Journal!$B:$B, \"<=\"&'Detailed Stats'!W$3)","v":0},{"$f":"COUNTIFS(Journal!$S:$S,\"?\", Journal!$A:$A, 'Detailed Stats'!$B$8,Journal!$B:$B,\">=\"&'Detailed Stats'!X$2,Journal!$B:$B, \"<=\"&'Detailed Stats'!X$3)","v":0},{"$f":"COUNTIFS(Journal!$S:$S,\"?\", Journal!$A:$A, 'Detailed Stats'!$B$8,Journal!$B:$B,\">=\"&'Detailed Stats'!Y$2,Journal!$B:$B, \"<=\"&'Detailed Stats'!Y$3)","v":0},{"$f":"COUNTIFS(Journal!$S:$S,\"?\", Journal!$A:$A, 'Detailed Stats'!$B$8,Journal!$B:$B,\">=\"&'Detailed Stats'!Z$2,Journal!$B:$B, \"<=\"&'Detailed Stats'!Z$3)","v":0},{"$f":"COUNTIFS(Journal!$S:$S,\"?\", Journal!$A:$A, 'Detailed Stats'!$B$8,Journal!$B:$B,\">=\"&'Detailed Stats'!AA$2,Journal!$B:$B, \"<=\"&'Detailed Stats'!AA$3)","v":0},{"$f":"COUNTIFS(Journal!$S:$S,\"?\", Journal!$A:$A, 'Detailed Stats'!$B$8,Journal!$B:$B,\">=\"&'Detailed Stats'!AB$2,Journal!$B:$B, \"<=\"&'Detailed Stats'!AB$3)","v":0},{"$f":"COUNTIFS(Journal!$S:$S,\"?\", Journal!$A:$A, 'Detailed Stats'!$B$8,Journal!$B:$B,\">=\"&'Detailed Stats'!AC$2,Journal!$B:$B, \"<=\"&'Detailed Stats'!AC$3)","v":0},{"$f":"COUNTIFS(Journal!$S:$S,\"?\", Journal!$A:$A, 'Detailed Stats'!$B$8,Journal!$B:$B,\">=\"&'Detailed Stats'!AD$2,Journal!$B:$B, \"<=\"&'Detailed Stats'!AD$3)","v":0},{"$f":"COUNTIFS(Journal!$S:$S,\"?\", Journal!$A:$A, 'Detailed Stats'!$B$8,Journal!$B:$B,\">=\"&'Detailed Stats'!AE$2,Journal!$B:$B, \"<=\"&'Detailed Stats'!AE$3)","v":0},{"$f":"COUNTIFS(Journal!$S:$S,\"?\", Journal!$A:$A, 'Detailed Stats'!$B$8,Journal!$B:$B,\">=\"&'Detailed Stats'!AF$2,Journal!$B:$B, \"<=\"&'Detailed Stats'!AF$3)","v":0},{"$f":"COUNTIFS(Journal!$S:$S,\"?\", Journal!$A:$A, 'Detailed Stats'!$B$8,Journal!$B:$B,\">=\"&'Detailed Stats'!AG$2,Journal!$B:$B, \"<=\"&'Detailed Stats'!AG$3)","v":0},{"$f":"COUNTIFS(Journal!$S:$S,\"?\", Journal!$A:$A, 'Detailed Stats'!$B$8,Journal!$B:$B,\">=\"&'Detailed Stats'!AH$2,Journal!$B:$B, \"<=\"&'Detailed Stats'!AH$3)","v":0},{"$f":"COUNTIFS(Journal!$S:$S,\"?\", Journal!$A:$A, 'Detailed Stats'!$B$8,Journal!$B:$B,\">=\"&'Detailed Stats'!AI$2,Journal!$B:$B, \"<=\"&'Detailed Stats'!AI$3)","v":0},{"$f":"COUNTIFS(Journal!$S:$S,\"?\", Journal!$A:$A, 'Detailed Stats'!$B$8,Journal!$B:$B,\">=\"&'Detailed Stats'!AJ$2,Journal!$B:$B, \"<=\"&'Detailed Stats'!AJ$3)","v":0},{"$f":"COUNTIFS(Journal!$S:$S,\"?\", Journal!$A:$A, 'Detailed Stats'!$B$8,Journal!$B:$B,\">=\"&'Detailed Stats'!AK$2,Journal!$B:$B, \"<=\"&'Detailed Stats'!AK$3)","v":0},{"$f":"COUNTIFS(Journal!$S:$S,\"?\", Journal!$A:$A, 'Detailed Stats'!$B$8,Journal!$B:$B,\">=\"&'Detailed Stats'!AL$2,Journal!$B:$B, \"<=\"&'Detailed Stats'!AL$3)","v":0},{"$f":"COUNTIFS(Journal!$S:$S,\"?\", Journal!$A:$A, 'Detailed Stats'!$B$8,Journal!$B:$B,\">=\"&'Detailed Stats'!AM$2,Journal!$B:$B, \"<=\"&'Detailed Stats'!AM$3)","v":0},{"$f":"COUNTIFS(Journal!$S:$S,\"?\", Journal!$A:$A, 'Detailed Stats'!$B$8,Journal!$B:$B,\">=\"&'Detailed Stats'!AN$2,Journal!$B:$B, \"<=\"&'Detailed Stats'!AN$3)","v":0},{"$f":"COUNTIFS(Journal!$S:$S,\"?\", Journal!$A:$A, 'Detailed Stats'!$B$8,Journal!$B:$B,\">=\"&'Detailed Stats'!AO$2,Journal!$B:$B, \"<=\"&'Detailed Stats'!AO$3)","v":0},{"$f":"COUNTIFS(Journal!$S:$S,\"?\", Journal!$A:$A, 'Detailed Stats'!$B$8,Journal!$B:$B,\">=\"&'Detailed Stats'!AP$2,Journal!$B:$B, \"<=\"&'Detailed Stats'!AP$3)","v":0},{"$f":"COUNTIFS(Journal!$S:$S,\"?\", Journal!$A:$A, 'Detailed Stats'!$B$8,Journal!$B:$B,\">=\"&'Detailed Stats'!AQ$2,Journal!$B:$B, \"<=\"&'Detailed Stats'!AQ$3)","v":0},{"$f":"COUNTIFS(Journal!$S:$S,\"?\", Journal!$A:$A, 'Detailed Stats'!$B$8,Journal!$B:$B,\">=\"&'Detailed Stats'!AR$2,Journal!$B:$B, \"<=\"&'Detailed Stats'!AR$3)","v":0},{"$f":"COUNTIFS(Journal!$S:$S,\"?\", Journal!$A:$A, 'Detailed Stats'!$B$8,Journal!$B:$B,\">=\"&'Detailed Stats'!AS$2,Journal!$B:$B, \"<=\"&'Detailed Stats'!AS$3)","v":0},{"$f":"COUNTIFS(Journal!$S:$S,\"?\", Journal!$A:$A, 'Detailed Stats'!$B$8,Journal!$B:$B,\">=\"&'Detailed Stats'!AT$2,Journal!$B:$B, \"<=\"&'Detailed Stats'!AT$3)","v":0},{"$f":"COUNTIFS(Journal!$S:$S,\"?\", Journal!$A:$A, 'Detailed Stats'!$B$8,Journal!$B:$B,\">=\"&'Detailed Stats'!AU$2,Journal!$B:$B, \"<=\"&'Detailed Stats'!AU$3)","v":0},{"$f":"COUNTIFS(Journal!$S:$S,\"?\", Journal!$A:$A, 'Detailed Stats'!$B$8,Journal!$B:$B,\">=\"&'Detailed Stats'!AV$2,Journal!$B:$B, \"<=\"&'Detailed Stats'!AV$3)","v":0},{"$f":"COUNTIFS(Journal!$S:$S,\"?\", Journal!$A:$A, 'Detailed Stats'!$B$8,Journal!$B:$B,\">=\"&'Detailed Stats'!AW$2,Journal!$B:$B, \"<=\"&'Detailed Stats'!AW$3)","v":0},{"$f":"COUNTIFS(Journal!$S:$S,\"?\", Journal!$A:$A, 'Detailed Stats'!$B$8,Journal!$B:$B,\">=\"&'Detailed Stats'!AX$2,Journal!$B:$B, \"<=\"&'Detailed Stats'!AX$3)","v":0},{"$f":"COUNTIFS(Journal!$S:$S,\"?\", Journal!$A:$A, 'Detailed Stats'!$B$8,Journal!$B:$B,\">=\"&'Detailed Stats'!AY$2,Journal!$B:$B, \"<=\"&'Detailed Stats'!AY$3)","v":0},{"$f":"COUNTIFS(Journal!$S:$S,\"?\", Journal!$A:$A, 'Detailed Stats'!$B$8,Journal!$B:$B,\">=\"&'Detailed Stats'!AZ$2,Journal!$B:$B, \"<=\"&'Detailed Stats'!AZ$3)","v":0},{"$f":"COUNTIFS(Journal!$S:$S,\"?\", Journal!$A:$A, 'Detailed Stats'!$B$8,Journal!$B:$B,\">=\"&'Detailed Stats'!BA$2,Journal!$B:$B, \"<=\"&'Detailed Stats'!BA$3)","v":0},{"$f":"COUNTIFS(Journal!$S:$S,\"?\", Journal!$A:$A, 'Detailed Stats'!$B$8,Journal!$B:$B,\">=\"&'Detailed Stats'!BB$2,Journal!$B:$B, \"<=\"&'Detailed Stats'!BB$3)","v":0},{"$f":"COUNTIFS(Journal!$S:$S,\"?\", Journal!$A:$A, 'Detailed Stats'!$B$8,Journal!$B:$B,\">=\"&'Detailed Stats'!BC$2,Journal!$B:$B, \"<=\"&'Detailed Stats'!BC$3)","v":0},{"$f":"COUNTIFS(Journal!$S:$S,\"?\", Journal!$A:$A, 'Detailed Stats'!$B$8,Journal!$B:$B,\">=\"&'Detailed Stats'!BD$2,Journal!$B:$B, \"<=\"&'Detailed Stats'!BD$3)","v":0},{"$f":"COUNTIFS(Journal!$S:$S,\"?\", Journal!$A:$A, 'Detailed Stats'!$B$8,Journal!$B:$B,\">=\"&'Detailed Stats'!BE$2,Journal!$B:$B, \"<=\"&'Detailed Stats'!BE$3)","v":0}]
[null,"Fri",{"$f":"COUNTIFS(Journal!$S:$S,\"?\", Journal!$A:$A, 'Detailed Stats'!B9)","v":0},null,{"$f":"B9","v":"Fri"},{"$f":"COUNTIFS(Journal!$S:$S,\"?\", Journal!$A:$A, 'Detailed Stats'!$B$9,Journal!$B:$B,\">=\"&'Detailed Stats'!F$2,Journal!$B:$B, \"<=\"&'Detailed Stats'!F$3)","v":0},{"$f":"COUNTIFS(Journal!$S:$S,\"?\", Journal!$A:$A, 'Detailed Stats'!$B$9,Journal!$B:$B,\">=\"&'Detailed Stats'!G$2,Journal!$B:$B, \"<=\"&'Detailed Stats'!G$3)","v":0},{"$f":"COUNTIFS(Journal!$S:$S,\"?\", Journal!$A:$A, 'Detailed Stats'!$B$9,Journal!$B:$B,\">=\"&'Detailed Stats'!H$2,Journal!$B:$B, \"<=\"&'Detailed Stats'!H$3)","v":0},{"$f":"COUNTIFS(Journal!$S:$S,\"?\", Journal!$A:$A, 'Detailed Stats'!$B$9,Journal!$B:$B,\">=\"&'Detailed Stats'!I$2,Journal!$B:$B, \"<=\"&'Detailed Stats'!I$3)","v":0},{"$f":"COUNTIFS(Journal!$S:$S,\"?\", Journal!$A:$A, 'Detailed Stats'!$B$9,Journal!$B:$B,\">=\"&'Detailed Stats'!J$2,Journal!$B:$B, \"<=\"&'Detailed Stats'!J$3)","v":0},{"$f":"COUNTIFS(Journal!$S:$S,\"?\", Journal!$A:$A, 'Detailed Stats'!$B$9,Journal!$B:$B,\">=\"&'Detailed Stats'!K$2,Journal!$B:$B, \"<=\"&'Detailed Stats'!K$3)","v":0},{"$f":"COUNTIFS(Journal!$S:$S,\"?\", Journal!$A:$A, 'Detailed Stats'!$B$9,Journal!$B:$B,\">=\"&'Detailed Stats'!L$2,Journal!$B:$B, \"<=\"&'Detailed Stats'!L$3)","v":0},{"$f":"COUNTIFS(Journal!$S:$S,\"?\", Journal!$A:$A, 'Detailed Stats'!$B$9,Journal!$B:$B,\">=\"&'Detailed Stats'!M$2,Journal!$B:$B, \"<=\"&'Detailed Stats'!M$3)","v":0},{"$f":"COUNTIFS(Journal!$S:$S,\"?\", Journal!$A:$A, 'Detailed Stats'!$B$9,Journal!$B:$B,\">=\"&'Detailed Stats'!N$2,Journal!$B:$B, \"<=\"&'Detailed Stats'!N$3)","v":0},{"$f":"COUNTIFS(Journal!$S:$S,\"?\", Journal!$A:$A, 'Detailed Stats'!$B$9,Journal!$B:$B,\">=\"&'Detailed Stats'!O$2,Journal!$B:$B, \"<=\"&'Detailed Stats'!O$3)","v":0},{"$f":"COUNTIFS(Journal!$S:$S,\"?\", Journal!$A:$A, 'Detailed Stats'!$B$9,Journal!$B:$B,\">=\"&'Detailed Stats'!P$2,Journal!$B:$B, \"<=\"&'Detailed Stats'!P$3)","v":0},{"$f":"COUNTIFS(Journal!$S:$S,\"?\", Journal!$A:$A, 'Detailed Stats'!$B$9,Journal!$B:$B,\">=\"&'Detailed Stats'!Q$2,Journal!$B:$B, \"<=\"&'Detailed Stats'!Q$3)","v":0},{"$f":"COUNTIFS(Journal!$S:$S,\"?\", Journal!$A:$A, 'Detailed Stats'!$B$9,Journal!$B:$B,\">=\"&'Detailed Stats'!R$2,Journal!$B:$B, \"<=\"&'Detailed Stats'!R$3)","v":0},{"$f":"COUNTIFS(Journal!$S:$S,\"?\", Journal!$A:$A, 'Detailed Stats'!$B$9,Journal!$B:$B,\">=\"&'Detailed Stats'!S$2,Journal!$B:$B, \"<=\"&'Detailed Stats'!S$3)","v":0},{"$f":"COUNTIFS(Journal!$S:$S,\"?\", Journal!$A:$A, 'Detailed Stats'!$B$9,Journal!$B:$B,\">=\"&'Detailed Stats'!T$2,Journal!$B:$B, \"<=\"&'Detailed Stats'!T$3)","v":0},{"$f":"COUNTIFS(Journal!$S:$S,\"?\", Journal!$A:$A, 'Detailed Stats'!$B$9,Journal!$B:$B,\">=\"&'Detailed Stats'!U$2,Journal!$B:$B, \"<=\"&'Detailed Stats'!U$3)","v":0},{"$f":"COUNTIFS(Journal!$S:$S,\"?\", Journal!$A:$A, 'Detailed Stats'!$B$9,Journal!$B:$B,\">=\"&'Detailed Stats'!V$2,Journal!$B:$B, \"<=\"&'Detailed Stats'!V$3)","v":0},{"$f":"COUNTIFS(Journal!$S:$S,\"?\", Journal!$A:$A, 'Detailed Stats'!$B$9,Journal!$B:$B,\">=\"&'Detailed Stats'!W$2,Journal!$B:$B, \"<=\"&'Detailed Stats'!W$3)","v":0},{"$f":"COUNTIFS(Journal!$S:$S,\"?\", Journal!$A:$A, 'Detailed Stats'!$B$9,Journal!$B:$B,\">=\"&'Detailed Stats'!X$2,Journal!$B:$B, \"<=\"&'Detailed Stats'!X$3)","v":0},{"$f":"COUNTIFS(Journal!$S:$S,\"?\", Journal!$A:$A, 'Detailed Stats'!$B$9,Journal!$B:$B,\">=\"&'Detailed Stats'!Y$2,Journal!$B:$B, \"<=\"&'Detailed Stats'!Y$3)","v":0},{"$f":"COUNTIFS(Journal!$S:$S,\"?\", Journal!$A:$A, 'Detailed Stats'!$B$9,Journal!$B:$B,\">=\"&'Detailed Stats'!Z$2,Journal!$B:$B, \"<=\"&'Detailed Stats'!Z$3)","v":0},{"$f":"COUNTIFS(Journal!$S:$S,\"?\", Journal!$A:$A, 'Detailed Stats'!$B$9,Journal!$B:$B,\">=\"&'Detailed Stats'!AA$2,Journal!$B:$B, \"<=\"&'Detailed Stats'!AA$3)","v":0},{"$f":"COUNTIFS(Journal!$S:$S,\"?\", Journal!$A:$A, 'Detailed Stats'!$B$9,Journal!$B:$B,\">=\"&'Detailed Stats'!AB$2,Journal!$B:$B, \"<=\"&'Detailed Stats'!AB$3)","v":0},{"$f":"COUNTIFS(Journal!$S:$S,\"?\", Journal!$A:$A, 'Detailed Stats'!$B$9,Journal!$B:$B,\">=\"&'Detailed Stats'!AC$2,Journal!$B:$B, \"<=\"&'Detailed Stats'!AC$3)","v":0},{"$f":"COUNTIFS(Journal!$S:$S,\"?\", Journal!$A:$A, 'Detailed Stats'!$B$9,Journal!$B:$B,\">=\"&'Detailed Stats'!AD$2,Journal!$B:$B, \"<=\"&'Detailed Stats'!AD$3)","v":0},{"$f":"COUNTIFS(Journal!$S:$S,\"?\", Journal!$A:$A, 'Detailed Stats'!$B$9,Journal!$B:$B,\">=\"&'Detailed Stats'!AE$2,Journal!$B:$B, \"<=\"&'Detailed Stats'!AE$3)","v":0},{"$f":"COUNTIFS(Journal!$S:$S,\"?\", Journal!$A:$A, 'Detailed Stats'!$B$9,Journal!$B:$B,\">=\"&'Detailed Stats'!AF$2,Journal!$B:$B, \"<=\"&'Detailed Stats'!AF$3)","v":0},{"$f":"COUNTIFS(Journal!$S:$S,\"?\", Journal!$A:$A, 'Detailed Stats'!$B$9,Journal!$B:$B,\">=\"&'Detailed Stats'!AG$2,Journal!$B:$B, \"<=\"&'Detailed Stats'!AG$3)","v":0},{"$f":"COUNTIFS(Journal!$S:$S,\"?\", Journal!$A:$A, 'Detailed Stats'!$B$9,Journal!$B:$B,\">=\"&'Detailed Stats'!AH$2,Journal!$B:$B, \"<=\"&'Detailed Stats'!AH$3)","v":0},{"$f":"COUNTIFS(Journal!$S:$S,\"?\", Journal!$A:$A, 'Detailed Stats'!$B$9,Journal!$B:$B,\">=\"&'Detailed Stats'!AI$2,Journal!$B:$B, \"<=\"&'Detailed Stats'!AI$3)","v":0},{"$f":"COUNTIFS(Journal!$S:$S,\"?\", Journal!$A:$A, 'Detailed Stats'!$B$9,Journal!$B:$B,\">=\"&'Detailed Stats'!AJ$2,Journal!$B:$B, \"<=\"&'Detailed Stats'!AJ$3)","v":0},{"$f":"COUNTIFS(Journal!$S:$S,\"?\", Journal!$A:$A, 'Detailed Stats'!$B$9,Journal!$B:$B,\">=\"&'Detailed Stats'!AK$2,Journal!$B:$B, \"<=\"&'Detailed Stats'!AK$3)","v":0},{"$f":"COUNTIFS(Journal!$S:$S,\"?\", Journal!$A:$A, 'Detailed Stats'!$B$9,Journal!$B:$B,\">=\"&'Detailed Stats'!AL$2,Journal!$B:$B, \"<=\"&'Detailed Stats'!AL$3)","v":0},{"$f":"COUNTIFS(Journal!$S:$S,\"?\", Journal!$A:$A, 'Detailed Stats'!$B$9,Journal!$B:$B,\">=\"&'Detailed Stats'!AM$2,Journal!$B:$B, \"<=\"&'Detailed Stats'!AM$3)","v":0},{"$f":"COUNTIFS(Journal!$S:$S,\"?\", Journal!$A:$A, 'Detailed Stats'!$B$9,Journal!$B:$B,\">=\"&'Detailed Stats'!AN$2,Journal!$B:$B, \"<=\"&'Detailed Stats'!AN$3)","v":0},{"$f":"COUNTIFS(Journal!$S:$S,\"?\", Journal!$A:$A, 'Detailed Stats'!$B$9,Journal!$B:$B,\">=\"&'Detailed Stats'!AO$2,Journal!$B:$B, \"<=\"&'Detailed Stats'!AO$3)","v":0},{"$f":"COUNTIFS(Journal!$S:$S,\"?\", Journal!$A:$A, 'Detailed Stats'!$B$9,Journal!$B:$B,\">=\"&'Detailed Stats'!AP$2,Journal!$B:$B, \"<=\"&'Detailed Stats'!AP$3)","v":0},{"$f":"COUNTIFS(Journal!$S:$S,\"?\", Journal!$A:$A, 'Detailed Stats'!$B$9,Journal!$B:$B,\">=\"&'Detailed Stats'!AQ$2,Journal!$B:$B, \"<=\"&'Detailed Stats'!AQ$3)","v":0},{"$f":"COUNTIFS(Journal!$S:$S,\"?\", Journal!$A:$A, 'Detailed Stats'!$B$9,Journal!$B:$B,\">=\"&'Detailed Stats'!AR$2,Journal!$B:$B, \"<=\"&'Detailed Stats'!AR$3)","v":0},{"$f":"COUNTIFS(Journal!$S:$S,\"?\", Journal!$A:$A, 'Detailed Stats'!$B$9,Journal!$B:$B,\">=\"&'Detailed Stats'!AS$2,Journal!$B:$B, \"<=\"&'Detailed Stats'!AS$3)","v":0},{"$f":"COUNTIFS(Journal!$S:$S,\"?\", Journal!$A:$A, 'Detailed Stats'!$B$9,Journal!$B:$B,\">=\"&'Detailed Stats'!AT$2,Journal!$B:$B, \"<=\"&'Detailed Stats'!AT$3)","v":0},{"$f":"COUNTIFS(Journal!$S:$S,\"?\", Journal!$A:$A, 'Detailed Stats'!$B$9,Journal!$B:$B,\">=\"&'Detailed Stats'!AU$2,Journal!$B:$B, \"<=\"&'Detailed Stats'!AU$3)","v":0},{"$f":"COUNTIFS(Journal!$S:$S,\"?\", Journal!$A:$A, 'Detailed Stats'!$B$9,Journal!$B:$B,\">=\"&'Detailed Stats'!AV$2,Journal!$B:$B, \"<=\"&'Detailed Stats'!AV$3)","v":0},{"$f":"COUNTIFS(Journal!$S:$S,\"?\", Journal!$A:$A, 'Detailed Stats'!$B$9,Journal!$B:$B,\">=\"&'Detailed Stats'!AW$2,Journal!$B:$B, \"<=\"&'Detailed Stats'!AW$3)","v":0},{"$f":"COUNTIFS(Journal!$S:$S,\"?\", Journal!$A:$A, 'Detailed Stats'!$B$9,Journal!$B:$B,\">=\"&'Detailed Stats'!AX$2,Journal!$B:$B, \"<=\"&'Detailed Stats'!AX$3)","v":0},{"$f":"COUNTIFS(Journal!$S:$S,\"?\", Journal!$A:$A, 'Detailed Stats'!$B$9,Journal!$B:$B,\">=\"&'Detailed Stats'!AY$2,Journal!$B:$B, \"<=\"&'Detailed Stats'!AY$3)","v":0},{"$f":"COUNTIFS(Journal!$S:$S,\"?\", Journal!$A:$A, 'Detailed Stats'!$B$9,Journal!$B:$B,\">=\"&'Detailed Stats'!AZ$2,Journal!$B:$B, \"<=\"&'Detailed Stats'!AZ$3)","v":0},{"$f":"COUNTIFS(Journal!$S:$S,\"?\", Journal!$A:$A, 'Detailed Stats'!$B$9,Journal!$B:$B,\">=\"&'Detailed Stats'!BA$2,Journal!$B:$B, \"<=\"&'Detailed Stats'!BA$3)","v":0},{"$f":"COUNTIFS(Journal!$S:$S,\"?\", Journal!$A:$A, 'Detailed Stats'!$B$9,Journal!$B:$B,\">=\"&'Detailed Stats'!BB$2,Journal!$B:$B, \"<=\"&'Detailed Stats'!BB$3)","v":0},{"$f":"COUNTIFS(Journal!$S:$S,\"?\", Journal!$A:$A, 'Detailed Stats'!$B$9,Journal!$B:$B,\">=\"&'Detailed Stats'!BC$2,Journal!$B:$B, \"<=\"&'Detailed Stats'!BC$3)","v":0},{"$f":"COUNTIFS(Journal!$S:$S,\"?\", Journal!$A:$A, 'Detailed Stats'!$B$9,Journal!$B:$B,\">=\"&'Detailed Stats'!BD$2,Journal!$B:$B, \"<=\"&'Detailed Stats'!BD$3)","v":0},{"$f":"COUNTIFS(Journal!$S:$S,\"?\", Journal!$A:$A, 'Detailed Stats'!$B$9,Journal!$B:$B,\">=\"&'Detailed Stats'!BE$2,Journal!$B:$B, \"<=\"&'Detailed Stats'!BE$3)","v":0}]
[null,"TOTAL",{"$f":"SUM(C5:C9)","v":1},null,null,{"$f":"SUM(F5:F9)","v":0},0,0,0,0,0,0,0,0,0,0,0,0,0,0,0,0,0,0,0,0,0,0,0,0,0,0,0,0,0,0,0,0,0,0,0,0,0,0,0,0,0,0,0,0,0,0,0,0,0,0,0]
[null,null,null,null,"Avg daily",{"$f":"IFERROR(AVERAGEIF(F5:F9,\"<>0\"),\"\")","v":""},{"$f":"IFERROR(AVERAGEIF(G5:G9,\"<>0\"),\"\")","v":""},"","","","","","","","","","","","","","","","","","","","","","","","","","","","","","","","","","","","","","","","","","","","","","","","","",""]
[]
[null,"Gross profit per weekday (Overall)",null,null,null,"Week_1","Week_2","Week_3","Week_4","Week_5","Week_6","Week_7","Week_8","Week_9","Week_10","Week_11","Week_12","Week_13","Week_14","Week_15","Week_16","Week_17","Week_18","Week_19","Week_20","Week_21","Week_22","Week_23","Week_24","Week_25","Week_26","Week_27","Week_28","Week_29","Week_30","Week_31","Week_32","Week_33","Week_34","Week_35","Week_36","Week_37","Week_38","Week_39","Week_40","Week_41","Week_42","Week_43","Week_44","Week_45","Week_46","Week_47","Week_48","Week_49","Week_50","Week_51","Week_52"]
[null,"Mon",{"$f":"SUMIFS(Journal!$N:$N,Journal!$A:$A,'Detailed Stats'!B14,Journal!$N:$N,\">0\")","v":25.380000000000003},null,{"$f":"B14","v":"Mon"},{"$f":"SUMIFS(Journal!$N:$N,Journal!$A:$A,$B$5,Journal!$B:$B,\">=\"&'Detailed Stats'!F$2,Journal!$B:$B, \"<=\"&'Detailed Stats'!F$3,Journal!$N:$N,\">0\")","v":0},{"$f":"SUMIFS(Journal!$N:$N,Journal!$A:$A,$B$5,Journal!$B:$B,\">=\"&'Detailed Stats'!G$2,Journal!$B:$B, \"<=\"&'Detailed Stats'!G$3,Journal!$N:$N,\">0\")","v":0},{"$f":"SUMIFS(Journal!$N:$N,Journal!$A:$A,$B$5,Journal!$B:$B,\">=\"&'Detailed Stats'!H$2,Journal!$B:$B, \"<=\"&'Detailed Stats'!H$3,Journal!$N:$N,\">0\")","v":0},{"$f":"SUMIFS(Journal!$N:$N,Journal!$A:$A,$B$5,Journal!$B:$B,\">=\"&'Detailed Stats'!I$2,Journal!$B:$B, \"<=\"&'Detailed Stats'!I$3,Journal!$N:$N,\">0\")","v":0},{"$f":"SUMIFS(Journal!$N:$N,Journal!$A:$A,$B$5,Journal!$B:$B,\">=\"&'Detailed Stats'!J$2,Journal!$B:$B, \"<=\"&'Detailed Stats'!J$3,Journal!$N:$N,\">0\")","v":0},{"$f":"SUMIFS(Journal!$N:$N,Journal!$A:$A,$B$5,Journal!$B:$B,\">=\"&'Detailed Stats'!K$2,Journal!$B:$B, \"<=\"&'Detailed Stats'!K$3,Journal!$N:$N,\">0\")","v":0},{"$f":"SUMIFS(Journal!$N:$N,Journal!$A:$A,$B$5,Journal!$B:$B,\">=\"&'Detailed Stats'!L$2,Journal!$B:$B, \"<=\"&'Detailed Stats'!L$3,Journal!$N:$N,\">0\")","v":0},{"$f":"SUMIFS(Journal!$N:$N,Journal!$A:$A,$B$5,Journal!$B:$B,\">=\"&'Detailed Stats'!M$2,Journal!$B:$B, \"<=\"&'Detailed Stats'!M$3,Journal!$N:$N,\">0\")","v":0},{"$f":"SUMIFS(Journal!$N:$N,Journal!$A:$A,$B$5,Journal!$B:$B,\">=\"&'Detailed Stats'!N$2,Journal!$B:$B, \"<=\"&'Detailed Stats'!N$3,Journal!$N:$N,\">0\")","v":0},{"$f":"SUMIFS(Journal!$N:$N,Journal!$A:$A,$B$5,Journal!$B:$B,\">=\"&'Detailed Stats'!O$2,Journal!$B:$B, \"<=\"&'Detailed Stats'!O$3,Journal!$N:$N,\">0\")","v":0},{"$f":"SUMIFS(Journal!$N:$N,Journal!$A:$A,$B$5,Journal!$B:$B,\">=\"&'Detailed Stats'!P$2,Journal!$B:$B, \"<=\"&'Detailed Stats'!P$3,Journal!$N:$N,\">0\")","v":0},{"$f":"SUMIFS(Journal!$N:$N,Journal!$A:$A,$B$5,Journal!$B:$B,\">=\"&'Detailed Stats'!Q$2,Journal!$B:$B, \"<=\"&'Detailed Stats'!Q$3,Journal!$N:$N,\">0\")","v":0},{"$f":"SUMIFS(Journal!$N:$N,Journal!$A:$A,$B$5,Journal!$B:$B,\">=\"&'Detailed Stats'!R$2,Journal!$B:$B, \"<=\"&'Detailed Stats'!R$3,Journal!$N:$N,\">0\")","v":0},{"$f":"SUMIFS(Journal!$N:$N,Journal!$A:$A,$B$5,Journal!$B:$B,\">=\"&'Detailed Stats'!S$2,Journal!$B:$B, \"<=\"&'Detailed Stats'!S$3,Journal!$N:$N,\">0\")","v":0},{"$f":"SUMIFS(Journal!$N:$N,Journal!$A:$A,$B$5,Journal!$B:$B,\">=\"&'Detailed Stats'!T$2,Journal!$B:$B, \"<=\"&'Detailed Stats'!T$3,Journal!$N:$N,\">0\")","v":0},{"$f":"SUMIFS(Journal!$N:$N,Journal!$A:$A,$B$5,Journal!$B:$B,\">=\"&'Detailed Stats'!U$2,Journal!$B:$B, \"<=\"&'Detailed Stats'!U$3,Journal!$N:$N,\">0\")","v":0},{"$f":"SUMIFS(Journal!$N:$N,Journal!$A:$A,$B$5,Journal!$B:$B,\">=\"&'Detailed Stats'!V$2,Journal!$B:$B, \"<=\"&'Detailed Stats'!V$3,Journal!$N:$N,\">0\")","v":0},{"$f":"SUMIFS(Journal!$N:$N,Journal!$A:$A,$B$5,Journal!$B:$B,\">=\"&'Detailed Stats'!W$2,Journal!$B:$B, \"<=\"&'Detailed Stats'!W$3,Journal!$N:$N,\">0\")","v":0},{"$f":"SUMIFS(Journal!$N:$N,Journal!$A:$A,$B$5,Journal!$B:$B,\">=\"&'Detailed Stats'!X$2,Journal!$B:$B, \"<=\"&'Detailed Stats'!X$3,Journal!$N:$N,\">0\")","v":0},{"$f":"SUMIFS(Journal!$N:$N,Journal!$A:$A,$B$5,Journal!$B:$B,\">=\"&'Detailed Stats'!Y$2,Journal!$B:$B, \"<=\"&'Detailed Stats'!Y$3,Journal!$N:$N,\">0\")","v":0},{"$f":"SUMIFS(Journal!$N:$N,Journal!$A:$A,$B$5,Journal!$B:$B,\">=\"&'Detailed Stats'!Z$2,Journal!$B:$B, \"<=\"&'Detailed Stats'!Z$3,Journal!$N:$N,\">0\")","v":0},{"$f":"SUMIFS(Journal!$N:$N,Journal!$A:$A,$B$5,Journal!$B:$B,\">=\"&'Detailed Stats'!AA$2,Journal!$B:$B, \"<=\"&'Detailed Stats'!AA$3,Journal!$N:$N,\">0\")","v":0},{"$f":"SUMIFS(Journal!$N:$N,Journal!$A:$A,$B$5,Journal!$B:$B,\">=\"&'Detailed Stats'!AB$2,Journal!$B:$B, \"<=\"&'Detailed Stats'!AB$3,Journal!$N:$N,\">0\")","v":0},{"$f":"SUMIFS(Journal!$N:$N,Journal!$A:$A,$B$5,Journal!$B:$B,\">=\"&'Detailed Stats'!AC$2,Journal!$B:$B, \"<=\"&'Detailed Stats'!AC$3,Journal!$N:$N,\">0\")","v":0},{"$f":"SUMIFS(Journal!$N:$N,Journal!$A:$A,$B$5,Journal!$B:$B,\">=\"&'Detailed Stats'!AD$2,Journal!$B:$B, \"<=\"&'Detailed Stats'!AD$3,Journal!$N:$N,\">0\")","v":0},{"$f":"SUMIFS(Journal!$N:$N,Journal!$A:$A,$B$5,Journal!$B:$B,\">=\"&'Detailed Stats'!AE$2,Journal!$B:$B, \"<=\"&'Detailed Stats'!AE$3,Journal!$N:$N,\">0\")","v":0},{"$f":"SUMIFS(Journal!$N:$N,Journal!$A:$A,$B$5,Journal!$B:$B,\">=\"&'Detailed Stats'!AF$2,Journal!$B:$B, \"<=\"&'Detailed Stats'!AF$3,Journal!$N:$N,\">0\")","v":0},{"$f":"SUMIFS(Journal!$N:$N,Journal!$A:$A,$B$5,Journal!$B:$B,\">=\"&'Detailed Stats'!AG$2,Journal!$B:$B, \"<=\"&'Detailed Stats'!AG$3,Journal!$N:$N,\">0\")","v":0},{"$f":"SUMIFS(Journal!$N:$N,Journal!$A:$A,$B$5,Journal!$B:$B,\">=\"&'Detailed Stats'!AH$2,Journal!$B:$B, \"<=\"&'Detailed Stats'!AH$3,Journal!$N:$N,\">0\")","v":0},{"$f":"SUMIFS(Journal!$N:$N,Journal!$A:$A,$B$5,Journal!$B:$B,\">=\"&'Detailed Stats'!AI$2,Journal!$B:$B, \"<=\"&'Detailed Stats'!AI$3,Journal!$N:$N,\">0\")","v":0},{"$f":"SUMIFS(Journal!$N:$N,Journal!$A:$A,$B$5,Journal!$B:$B,\">=\"&'Detailed Stats'!AJ$2,Journal!$B:$B, \"<=\"&'Detailed Stats'!AJ$3,Journal!$N:$N,\">0\")","v":0},{"$f":"SUMIFS(Journal!$N:$N,Journal!$A:$A,$B$5,Journal!$B:$B,\">=\"&'Detailed Stats'!AK$2,Journal!$B:$B, \"<=\"&'Detailed Stats'!AK$3,Journal!$N:$N,\">0\")","v":0},{"$f":"SUMIFS(Journal!$N:$N,Journal!$A:$A,$B$5,Journal!$B:$B,\">=\"&'Detailed Stats'!AL$2,Journal!$B:$B, \"<=\"&'Detailed Stats'!AL$3,Journal!$N:$N,\">0\")","v":0},{"$f":"SUMIFS(Journal!$N:$N,Journal!$A:$A,$B$5,Journal!$B:$B,\">=\"&'Detailed Stats'!AM$2,Journal!$B:$B, \"<=\"&'Detailed Stats'!AM$3,Journal!$N:$N,\">0\")","v":0},{"$f":"SUMIFS(Journal!$N:$N,Journal!$A:$A,$B$5,Journal!$B:$B,\">=\"&'Detailed Stats'!AN$2,Journal!$B:$B, \"<=\"&'Detailed Stats'!AN$3,Journal!$N:$N,\">0\")","v":0},{"$f":"SUMIFS(Journal!$N:$N,Journal!$A:$A,$B$5,Journal!$B:$B,\">=\"&'Detailed Stats'!AO$2,Journal!$B:$B, \"<=\"&'Detailed Stats'!AO$3,Journal!$N:$N,\">0\")","v":0},{"$f":"SUMIFS(Journal!$N:$N,Journal!$A:$A,$B$5,Journal!$B:$B,\">=\"&'Detailed Stats'!AP$2,Journal!$B:$B, \"<=\"&'Detailed Stats'!AP$3,Journal!$N:$N,\">0\")","v":0},{"$f":"SUMIFS(Journal!$N:$N,Journal!$A:$A,$B$5,Journal!$B:$B,\">=\"&'Detailed Stats'!AQ$2,Journal!$B:$B, \"<=\"&'Detailed Stats'!AQ$3,Journal!$N:$N,\">0\")","v":0},{"$f":"SUMIFS(Journal!$N:$N,Journal!$A:$A,$B$5,Journal!$B:$B,\">=\"&'Detailed Stats'!AR$2,Journal!$B:$B, \"<=\"&'Detailed Stats'!AR$3,Journal!$N:$N,\">0\")","v":0},{"$f":"SUMIFS(Journal!$N:$N,Journal!$A:$A,$B$5,Journal!$B:$B,\">=\"&'Detailed Stats'!AS$2,Journal!$B:$B, \"<=\"&'Detailed Stats'!AS$3,Journal!$N:$N,\">0\")","v":0},{"$f":"SUMIFS(Journal!$N:$N,Journal!$A:$A,$B$5,Journal!$B:$B,\">=\"&'Detailed Stats'!AT$2,Journal!$B:$B, \"<=\"&'Detailed Stats'!AT$3,Journal!$N:$N,\">0\")","v":0},{"$f":"SUMIFS(Journal!$N:$N,Journal!$A:$A,$B$5,Journal!$B:$B,\">=\"&'Detailed Stats'!AU$2,Journal!$B:$B, \"<=\"&'Detailed Stats'!AU$3,Journal!$N:$N,\">0\")","v":0},{"$f":"SUMIFS(Journal!$N:$N,Journal!$A:$A,$B$5,Journal!$B:$B,\">=\"&'Detailed Stats'!AV$2,Journal!$B:$B, \"<=\"&'Detailed Stats'!AV$3,Journal!$N:$N,\">0\")","v":0},{"$f":"SUMIFS(Journal!$N:$N,Journal!$A:$A,$B$5,Journal!$B:$B,\">=\"&'Detailed Stats'!AW$2,Journal!$B:$B, \"<=\"&'Detailed Stats'!AW$3,Journal!$N:$N,\">0\")","v":0},{"$f":"SUMIFS(Journal!$N:$N,Journal!$A:$A,$B$5,Journal!$B:$B,\">=\"&'Detailed Stats'!AX$2,Journal!$B:$B, \"<=\"&'Detailed Stats'!AX$3,Journal!$N:$N,\">0\")","v":0},{"$f":"SUMIFS(Journal!$N:$N,Journal!$A:$A,$B$5,Journal!$B:$B,\">=\"&'Detailed Stats'!AY$2,Journal!$B:$B, \"<=\"&'Detailed Stats'!AY$3,Journal!$N:$N,\">0\")","v":0},{"$f":"SUMIFS(Journal!$N:$N,Journal!$A:$A,$B$5,Journal!$B:$B,\">=\"&'Detailed Stats'!AZ$2,Journal!$B:$B, \"<=\"&'Detailed Stats'!AZ$3,Journal!$N:$N,\">0\")","v":0},{"$f":"SUMIFS(Journal!$N:$N,Journal!$A:$A,$B$5,Journal!$B:$B,\">=\"&'Detailed Stats'!BA$2,Journal!$B:$B, \"<=\"&'Detailed Stats'!BA$3,Journal!$N:$N,\">0\")","v":0},{"$f":"SUMIFS(Journal!$N:$N,Journal!$A:$A,$B$5,Journal!$B:$B,\">=\"&'Detailed Stats'!BB$2,Journal!$B:$B, \"<=\"&'Detailed Stats'!BB$3,Journal!$N:$N,\">0\")","v":0},{"$f":"SUMIFS(Journal!$N:$N,Journal!$A:$A,$B$5,Journal!$B:$B,\">=\"&'Detailed Stats'!BC$2,Journal!$B:$B, \"<=\"&'Detailed Stats'!BC$3,Journal!$N:$N,\">0\")","v":0},{"$f":"SUMIFS(Journal!$N:$N,Journal!$A:$A,$B$5,Journal!$B:$B,\">=\"&'Detailed Stats'!BD$2,Journal!$B:$B, \"<=\"&'Detailed Stats'!BD$3,Journal!$N:$N,\">0\")","v":0},{"$f":"SUMIFS(Journal!$N:$N,Journal!$A:$A,$B$5,Journal!$B:$B,\">=\"&'Detailed Stats'!BE$2,Journal!$B:$B, \"<=\"&'Detailed Stats'!BE$3,Journal!$N:$N,\">0\")","v":0}]
[null,"Tue",{"$f":"SUMIFS(Journal!$N:$N,Journal!$A:$A,'Detailed Stats'!B15,Journal!$N:$N,\">0\")","v":0},null,{"$f":"B15","v":"Tue"},{"$f":"SUMIFS(Journal!$N:$N,Journal!$A:$A,$B$6,Journal!$B:$B,\">=\"&'Detailed Stats'!F$2,Journal!$B:$B, \"<=\"&'Detailed Stats'!F$3,Journal!$N:$N,\">0\")","v":0},{"$f":"SUMIFS(Journal!$N:$N,Journal!$A:$A,$B$6,Journal!$B:$B,\">=\"&'Detailed Stats'!G$2,Journal!$B:$B, \"<=\"&'Detailed Stats'!G$3,Journal!$N:$N,\">0\")","v":0},{"$f":"SUMIFS(Journal!$N:$N,Journal!$A:$A,$B$6,Journal!$B:$B,\">=\"&'Detailed Stats'!H$2,Journal!$B:$B, \"<=\"&'Detailed Stats'!H$3,Journal!$N:$N,\">0\")","v":0},{"$f":"SUMIFS(Journal!$N:$N,Journal!$A:$A,$B$6,Journal!$B:$B,\">=\"&'Detailed Stats'!I$2,Journal!$B:$B, \"<=\"&'Detailed Stats'!I$3,Journal!$N:$N,\">0\")","v":0},{"$f":"SUMIFS(Journal!$N:$N,Journal!$A:$A,$B$6,Journal!$B:$B,\">=\"&'Detailed Stats'!J$2,Journal!$B:$B, \"<=\"&'Detailed Stats'!J$3,Journal!$N:$N,\">0\")","v":0},{"$f":"SUMIFS(Journal!$N:$N,Journal!$A:$A,$B$6,Journal!$B:$B,\">=\"&'Detailed Stats'!K$2,Journal!$B:$B, \"<=\"&'Detailed Stats'!K$3,Journal!$N:$N,\">0\")","v":0},{"$f":"SUMIFS(Journal!$N:$N,Journal!$A:$A,$B$6,Journal!$B:$B,\">=\"&'Detailed Stats'!L$2,Journal!$B:$B, \"<=\"&'Detailed Stats'!L$3,Journal!$N:$N,\">0\")","v":0},{"$f":"SUMIFS(Journal!$N:$N,Journal!$A:$A,$B$6,Journal!$B:$B,\">=\"&'Detailed Stats'!M$2,Journal!$B:$B, \"<=\"&'Detailed Stats'!M$3,Journal!$N:$N,\">0\")","v":0},{"$f":"SUMIFS(Journal!$N:$N,Journal!$A:$A,$B$6,Journal!$B:$B,\">=\"&'Detailed Stats'!N$2,Journal!$B:$B, \"<=\"&'Detailed Stats'!N$3,Journal!$N:$N,\">0\")","v":0},{"$f":"SUMIFS(Journal!$N:$N,Journal!$A:$A,$B$6,Journal!$B:$B,\">=\"&'Detailed Stats'!O$2,Journal!$B:$B, \"<=\"&'Detailed Stats'!O$3,Journal!$N:$N,\">0\")","v":0},{"$f":"SUMIFS(Journal!$N:$N,Journal!$A:$A,$B$6,Journal!$B:$B,\">=\"&'Detailed Stats'!P$2,Journal!$B:$B, \"<=\"&'Detailed Stats'!P$3,Journal!$N:$N,\">0\")","v":0},{"$f":"SUMIFS(Journal!$N:$N,Journal!$A:$A,$B$6,Journal!$B:$B,\">=\"&'Detailed Stats'!Q$2,Journal!$B:$B, \"<=\"&'Detailed Stats'!Q$3,Journal!$N:$N,\">0\")","v":0},{"$f":"SUMIFS(Journal!$N:$N,Journal!$A:$A,$B$6,Journal!$B:$B,\">=\"&'Detailed Stats'!R$2,Journal!$B:$B, \"<=\"&'Detailed Stats'!R$3,Journal!$N:$N,\">0\")","v":0},{"$f":"SUMIFS(Journal!$N:$N,Journal!$A:$A,$B$6,Journal!$B:$B,\">=\"&'Detailed Stats'!S$2,Journal!$B:$B, \"<=\"&'Detailed Stats'!S$3,Journal!$N:$N,\">0\")","v":0},{"$f":"SUMIFS(Journal!$N:$N,Journal!$A:$A,$B$6,Journal!$B:$B,\">=\"&'Detailed Stats'!T$2,Journal!$B:$B, \"<=\"&'Detailed Stats'!T$3,Journal!$N:$N,\">0\")","v":0},{"$f":"SUMIFS(Journal!$N:$N,Journal!$A:$A,$B$6,Journal!$B:$B,\">=\"&'Detailed Stats'!U$2,Journal!$B:$B, \"<=\"&'Detailed Stats'!U$3,Journal!$N:$N,\">0\")","v":0},{"$f":"SUMIFS(Journal!$N:$N,Journal!$A:$A,$B$6,Journal!$B:$B,\">=\"&'Detailed Stats'!V$2,Journal!$B:$B, \"<=\"&'Detailed Stats'!V$3,Journal!$N:$N,\">0\")","v":0},{"$f":"SUMIFS(Journal!$N:$N,Journal!$A:$A,$B$6,Journal!$B:$B,\">=\"&'Detailed Stats'!W$2,Journal!$B:$B, \"<=\"&'Detailed Stats'!W$3,Journal!$N:$N,\">0\")","v":0},{"$f":"SUMIFS(Journal!$N:$N,Journal!$A:$A,$B$6,Journal!$B:$B,\">=\"&'Detailed Stats'!X$2,Journal!$B:$B, \"<=\"&'Detailed Stats'!X$3,Journal!$N:$N,\">0\")","v":0},{"$f":"SUMIFS(Journal!$N:$N,Journal!$A:$A,$B$6,Journal!$B:$B,\">=\"&'Detailed Stats'!Y$2,Journal!$B:$B, \"<=\"&'Detailed Stats'!Y$3,Journal!$N:$N,\">0\")","v":0},{"$f":"SUMIFS(Journal!$N:$N,Journal!$A:$A,$B$6,Journal!$B:$B,\">=\"&'Detailed Stats'!Z$2,Journal!$B:$B, \"<=\"&'Detailed Stats'!Z$3,Journal!$N:$N,\">0\")","v":0},{"$f":"SUMIFS(Journal!$N:$N,Journal!$A:$A,$B$6,Journal!$B:$B,\">=\"&'Detailed Stats'!AA$2,Journal!$B:$B, \"<=\"&'Detailed Stats'!AA$3,Journal!$N:$N,\">0\")","v":0},{"$f":"SUMIFS(Journal!$N:$N,Journal!$A:$A,$B$6,Journal!$B:$B,\">=\"&'Detailed Stats'!AB$2,Journal!$B:$B, \"<=\"&'Detailed Stats'!AB$3,Journal!$N:$N,\">0\")","v":0},{"$f":"SUMIFS(Journal!$N:$N,Journal!$A:$A,$B$6,Journal!$B:$B,\">=\"&'Detailed Stats'!AC$2,Journal!$B:$B, \"<=\"&'Detailed Stats'!AC$3,Journal!$N:$N,\">0\")","v":0},{"$f":"SUMIFS(Journal!$N:$N,Journal!$A:$A,$B$6,Journal!$B:$B,\">=\"&'Detailed Stats'!AD$2,Journal!$B:$B, \"<=\"&'Detailed Stats'!AD$3,Journal!$N:$N,\">0\")","v":0},{"$f":"SUMIFS(Journal!$N:$N,Journal!$A:$A,$B$6,Journal!$B:$B,\">=\"&'Detailed Stats'!AE$2,Journal!$B:$B, \"<=\"&'Detailed Stats'!AE$3,Journal!$N:$N,\">0\")","v":0},{"$f":"SUMIFS(Journal!$N:$N,Journal!$A:$A,$B$6,Journal!$B:$B,\">=\"&'Detailed Stats'!AF$2,Journal!$B:$B, \"<=\"&'Detailed Stats'!AF$3,Journal!$N:$N,\">0\")","v":0},{"$f":"SUMIFS(Journal!$N:$N,Journal!$A:$A,$B$6,Journal!$B:$B,\">=\"&'Detailed Stats'!AG$2,Journal!$B:$B, \"<=\"&'Detailed Stats'!AG$3,Journal!$N:$N,\">0\")","v":0},{"$f":"SUMIFS(Journal!$N:$N,Journal!$A:$A,$B$6,Journal!$B:$B,\">=\"&'Detailed Stats'!AH$2,Journal!$B:$B, \"<=\"&'Detailed Stats'!AH$3,Journal!$N:$N,\">0\")","v":0},{"$f":"SUMIFS(Journal!$N:$N,Journal!$A:$A,$B$6,Journal!$B:$B,\">=\"&'Detailed Stats'!AI$2,Journal!$B:$B, \"<=\"&'Detailed Stats'!AI$3,Journal!$N:$N,\">0\")","v":0},{"$f":"SUMIFS(Journal!$N:$N,Journal!$A:$A,$B$6,Journal!$B:$B,\">=\"&'Detailed Stats'!AJ$2,Journal!$B:$B, \"<=\"&'Detailed Stats'!AJ$3,Journal!$N:$N,\">0\")","v":0},{"$f":"SUMIFS(Journal!$N:$N,Journal!$A:$A,$B$6,Journal!$B:$B,\">=\"&'Detailed Stats'!AK$2,Journal!$B:$B, \"<=\"&'Detailed Stats'!AK$3,Journal!$N:$N,\">0\")","v":0},{"$f":"SUMIFS(Journal!$N:$N,Journal!$A:$A,$B$6,Journal!$B:$B,\">=\"&'Detailed Stats'!AL$2,Journal!$B:$B, \"<=\"&'Detailed Stats'!AL$3,Journal!$N:$N,\">0\")","v":0},{"$f":"SUMIFS(Journal!$N:$N,Journal!$A:$A,$B$6,Journal!$B:$B,\">=\"&'Detailed Stats'!AM$2,Journal!$B:$B, \"<=\"&'Detailed Stats'!AM$3,Journal!$N:$N,\">0\")","v":0},{"$f":"SUMIFS(Journal!$N:$N,Journal!$A:$A,$B$6,Journal!$B:$B,\">=\"&'Detailed Stats'!AN$2,Journal!$B:$B, \"<=\"&'Detailed Stats'!AN$3,Journal!$N:$N,\">0\")","v":0},{"$f":"SUMIFS(Journal!$N:$N,Journal!$A:$A,$B$6,Journal!$B:$B,\">=\"&'Detailed Stats'!AO$2,Journal!$B:$B, \"<=\"&'Detailed Stats'!AO$3,Journal!$N:$N,\">0\")","v":0},{"$f":"SUMIFS(Journal!$N:$N,Journal!$A:$A,$B$6,Journal!$B:$B,\">=\"&'Detailed Stats'!AP$2,Journal!$B:$B, \"<=\"&'Detailed Stats'!AP$3,Journal!$N:$N,\">0\")","v":0},{"$f":"SUMIFS(Journal!$N:$N,Journal!$A:$A,$B$6,Journal!$B:$B,\">=\"&'Detailed Stats'!AQ$2,Journal!$B:$B, \"<=\"&'Detailed Stats'!AQ$3,Journal!$N:$N,\">0\")","v":0},{"$f":"SUMIFS(Journal!$N:$N,Journal!$A:$A,$B$6,Journal!$B:$B,\">=\"&'Detailed Stats'!AR$2,Journal!$B:$B, \"<=\"&'Detailed Stats'!AR$3,Journal!$N:$N,\">0\")","v":0},{"$f":"SUMIFS(Journal!$N:$N,Journal!$A:$A,$B$6,Journal!$B:$B,\">=\"&'Detailed Stats'!AS$2,Journal!$B:$B, \"<=\"&'Detailed Stats'!AS$3,Journal!$N:$N,\">0\")","v":0},{"$f":"SUMIFS(Journal!$N:$N,Journal!$A:$A,$B$6,Journal!$B:$B,\">=\"&'Detailed Stats'!AT$2,Journal!$B:$B, \"<=\"&'Detailed Stats'!AT$3,Journal!$N:$N,\">0\")","v":0},{"$f":"SUMIFS(Journal!$N:$N,Journal!$A:$A,$B$6,Journal!$B:$B,\">=\"&'Detailed Stats'!AU$2,Journal!$B:$B, \"<=\"&'Detailed Stats'!AU$3,Journal!$N:$N,\">0\")","v":0},{"$f":"SUMIFS(Journal!$N:$N,Journal!$A:$A,$B$6,Journal!$B:$B,\">=\"&'Detailed Stats'!AV$2,Journal!$B:$B, \"<=\"&'Detailed Stats'!AV$3,Journal!$N:$N,\">0\")","v":0},{"$f":"SUMIFS(Journal!$N:$N,Journal!$A:$A,$B$6,Journal!$B:$B,\">=\"&'Detailed Stats'!AW$2,Journal!$B:$B, \"<=\"&'Detailed Stats'!AW$3,Journal!$N:$N,\">0\")","v":0},{"$f":"SUMIFS(Journal!$N:$N,Journal!$A:$A,$B$6,Journal!$B:$B,\">=\"&'Detailed Stats'!AX$2,Journal!$B:$B, \"<=\"&'Detailed Stats'!AX$3,Journal!$N:$N,\">0\")","v":0},{"$f":"SUMIFS(Journal!$N:$N,Journal!$A:$A,$B$6,Journal!$B:$B,\">=\"&'Detailed Stats'!AY$2,Journal!$B:$B, \"<=\"&'Detailed Stats'!AY$3,Journal!$N:$N,\">0\")","v":0},{"$f":"SUMIFS(Journal!$N:$N,Journal!$A:$A,$B$6,Journal!$B:$B,\">=\"&'Detailed Stats'!AZ$2,Journal!$B:$B, \"<=\"&'Detailed Stats'!AZ$3,Journal!$N:$N,\">0\")","v":0},{"$f":"SUMIFS(Journal!$N:$N,Journal!$A:$A,$B$6,Journal!$B:$B,\">=\"&'Detailed Stats'!BA$2,Journal!$B:$B, \"<=\"&'Detailed Stats'!BA$3,Journal!$N:$N,\">0\")","v":0},{"$f":"SUMIFS(Journal!$N:$N,Journal!$A:$A,$B$6,Journal!$B:$B,\">=\"&'Detailed Stats'!BB$2,Journal!$B:$B, \"<=\"&'Detailed Stats'!BB$3,Journal!$N:$N,\">0\")","v":0},{"$f":"SUMIFS(Journal!$N:$N,Journal!$A:$A,$B$6,Journal!$B:$B,\">=\"&'Detailed Stats'!BC$2,Journal!$B:$B, \"<=\"&'Detailed Stats'!BC$3,Journal!$N:$N,\">0\")","v":0},{"$f":"SUMIFS(Journal!$N:$N,Journal!$A:$A,$B$6,Journal!$B:$B,\">=\"&'Detailed Stats'!BD$2,Journal!$B:$B, \"<=\"&'Detailed Stats'!BD$3,Journal!$N:$N,\">0\")","v":0},{"$f":"SUMIFS(Journal!$N:$N,Journal!$A:$A,$B$6,Journal!$B:$B,\">=\"&'Detailed Stats'!BE$2,Journal!$B:$B, \"<=\"&'Detailed Stats'!BE$3,Journal!$N:$N,\">0\")","v":0}]
[null,"Wed",{"$f":"SUMIFS(Journal!$N:$N,Journal!$A:$A,'Detailed Stats'!B16,Journal!$N:$N,\">0\")","v":0},null,{"$f":"B16","v":"Wed"},{"$f":"SUMIFS(Journal!$N:$N,Journal!$A:$A,$B$7,Journal!$B:$B,\">=\"&'Detailed Stats'!F$2,Journal!$B:$B, \"<=\"&'Detailed Stats'!F$3,Journal!$N:$N,\">0\")","v":0},{"$f":"SUMIFS(Journal!$N:$N,Journal!$A:$A,$B$7,Journal!$B:$B,\">=\"&'Detailed Stats'!G$2,Journal!$B:$B, \"<=\"&'Detailed Stats'!G$3,Journal!$N:$N,\">0\")","v":0},{"$f":"SUMIFS(Journal!$N:$N,Journal!$A:$A,$B$7,Journal!$B:$B,\">=\"&'Detailed Stats'!H$2,Journal!$B:$B, \"<=\"&'Detailed Stats'!H$3,Journal!$N:$N,\">0\")","v":0},{"$f":"SUMIFS(Journal!$N:$N,Journal!$A:$A,$B$7,Journal!$B:$B,\">=\"&'Detailed Stats'!I$2,Journal!$B:$B, \"<=\"&'Detailed Stats'!I$3,Journal!$N:$N,\">0\")","v":0},{"$f":"SUMIFS(Journal!$N:$N,Journal!$A:$A,$B$7,Journal!$B:$B,\">=\"&'Detailed Stats'!J$2,Journal!$B:$B, \"<=\"&'Detailed Stats'!J$3,Journal!$N:$N,\">0\")","v":0},{"$f":"SUMIFS(Journal!$N:$N,Journal!$A:$A,$B$7,Journal!$B:$B,\">=\"&'Detailed Stats'!K$2,Journal!$B:$B, \"<=\"&'Detailed Stats'!K$3,Journal!$N:$N,\">0\")","v":0},{"$f":"SUMIFS(Journal!$N:$N,Journal!$A:$A,$B$7,Journal!$B:$B,\">=\"&'Detailed Stats'!L$2,Journal!$B:$B, \"<=\"&'Detailed Stats'!L$3,Journal!$N:$N,\">0\")","v":0},{"$f":"SUMIFS(Journal!$N:$N,Journal!$A:$A,$B$7,Journal!$B:$B,\">=\"&'Detailed Stats'!M$2,Journal!$B:$B, \"<=\"&'Detailed Stats'!M$3,Journal!$N:$N,\">0\")","v":0},{"$f":"SUMIFS(Journal!$N:$N,Journal!$A:$A,$B$7,Journal!$B:$B,\">=\"&'Detailed Stats'!N$2,Journal!$B:$B, \"<=\"&'Detailed Stats'!N$3,Journal!$N:$N,\">0\")","v":0},{"$f":"SUMIFS(Journal!$N:$N,Journal!$A:$A,$B$7,Journal!$B:$B,\">=\"&'Detailed Stats'!O$2,Journal!$B:$B, \"<=\"&'Detailed Stats'!O$3,Journal!$N:$N,\">0\")","v":0},{"$f":"SUMIFS(Journal!$N:$N,Journal!$A:$A,$B$7,Journal!$B:$B,\">=\"&'Detailed Stats'!P$2,Journal!$B:$B, \"<=\"&'Detailed Stats'!P$3,Journal!$N:$N,\">0\")","v":0},{"$f":"SUMIFS(Journal!$N:$N,Journal!$A:$A,$B$7,Journal!$B:$B,\">=\"&'Detailed Stats'!Q$2,Journal!$B:$B, \"<=\"&'Detailed Stats'!Q$3,Journal!$N:$N,\">0\")","v":0},{"$f":"SUMIFS(Journal!$N:$N,Journal!$A:$A,$B$7,Journal!$B:$B,\">=\"&'Detailed Stats'!R$2,Journal!$B:$B, \"<=\"&'Detailed Stats'!R$3,Journal!$N:$N,\">0\")","v":0},{"$f":"SUMIFS(Journal!$N:$N,Journal!$A:$A,$B$7,Journal!$B:$B,\">=\"&'Detailed Stats'!S$2,Journal!$B:$B, \"<=\"&'Detailed Stats'!S$3,Journal!$N:$N,\">0\")","v":0},{"$f":"SUMIFS(Journal!$N:$N,Journal!$A:$A,$B$7,Journal!$B:$B,\">=\"&'Detailed Stats'!T$2,Journal!$B:$B, \"<=\"&'Detailed Stats'!T$3,Journal!$N:$N,\">0\")","v":0},{"$f":"SUMIFS(Journal!$N:$N,Journal!$A:$A,$B$7,Journal!$B:$B,\">=\"&'Detailed Stats'!U$2,Journal!$B:$B, \"<=\"&'Detailed Stats'!U$3,Journal!$N:$N,\">0\")","v":0},{"$f":"SUMIFS(Journal!$N:$N,Journal!$A:$A,$B$7,Journal!$B:$B,\">=\"&'Detailed Stats'!V$2,Journal!$B:$B, \"<=\"&'Detailed Stats'!V$3,Journal!$N:$N,\">0\")","v":0},{"$f":"SUMIFS(Journal!$N:$N,Journal!$A:$A,$B$7,Journal!$B:$B,\">=\"&'Detailed Stats'!W$2,Journal!$B:$B, \"<=\"&'Detailed Stats'!W$3,Journal!$N:$N,\">0\")","v":0},{"$f":"SUMIFS(Journal!$N:$N,Journal!$A:$A,$B$7,Journal!$B:$B,\">=\"&'Detailed Stats'!X$2,Journal!$B:$B, \"<=\"&'Detailed Stats'!X$3,Journal!$N:$N,\">0\")","v":0},{"$f":"SUMIFS(Journal!$N:$N,Journal!$A:$A,$B$7,Journal!$B:$B,\">=\"&'Detailed Stats'!Y$2,Journal!$B:$B, \"<=\"&'Detailed Stats'!Y$3,Journal!$N:$N,\">0\")","v":0},{"$f":"SUMIFS(Journal!$N:$N,Journal!$A:$A,$B$7,Journal!$B:$B,\">=\"&'Detailed Stats'!Z$2,Journal!$B:$B, \"<=\"&'Detailed Stats'!Z$3,Journal!$N:$N,\">0\")","v":0},{"$f":"SUMIFS(Journal!$N:$N,Journal!$A:$A,$B$7,Journal!$B:$B,\">=\"&'Detailed Stats'!AA$2,Journal!$B:$B, \"<=\"&'Detailed Stats'!AA$3,Journal!$N:$N,\">0\")","v":0},{"$f":"SUMIFS(Journal!$N:$N,Journal!$A:$A,$B$7,Journal!$B:$B,\">=\"&'Detailed Stats'!AB$2,Journal!$B:$B, \"<=\"&'Detailed Stats'!AB$3,Journal!$N:$N,\">0\")","v":0},{"$f":"SUMIFS(Journal!$N:$N,Journal!$A:$A,$B$7,Journal!$B:$B,\">=\"&'Detailed Stats'!AC$2,Journal!$B:$B, \"<=\"&'Detailed Stats'!AC$3,Journal!$N:$N,\">0\")","v":0},{"$f":"SUMIFS(Journal!$N:$N,Journal!$A:$A,$B$7,Journal!$B:$B,\">=\"&'Detailed Stats'!AD$2,Journal!$B:$B, \"<=\"&'Detailed Stats'!AD$3,Journal!$N:$N,\">0\")","v":0},{"$f":"SUMIFS(Journal!$N:$N,Journal!$A:$A,$B$7,Journal!$B:$B,\">=\"&'Detailed Stats'!AE$2,Journal!$B:$B, \"<=\"&'Detailed Stats'!AE$3,Journal!$N:$N,\">0\")","v":0},{"$f":"SUMIFS(Journal!$N:$N,Journal!$A:$A,$B$7,Journal!$B:$B,\">=\"&'Detailed Stats'!AF$2,Journal!$B:$B, \"<=\"&'Detailed Stats'!AF$3,Journal!$N:$N,\">0\")","v":0},{"$f":"SUMIFS(Journal!$N:$N,Journal!$A:$A,$B$7,Journal!$B:$B,\">=\"&'Detailed Stats'!AG$2,Journal!$B:$B, \"<=\"&'Detailed Stats'!AG$3,Journal!$N:$N,\">0\")","v":0},{"$f":"SUMIFS(Journal!$N:$N,Journal!$A:$A,$B$7,Journal!$B:$B,\">=\"&'Detailed Stats'!AH$2,Journal!$B:$B, \"<=\"&'Detailed Stats'!AH$3,Journal!$N:$N,\">0\")","v":0},{"$f":"SUMIFS(Journal!$N:$N,Journal!$A:$A,$B$7,Journal!$B:$B,\">=\"&'Detailed Stats'!AI$2,Journal!$B:$B, \"<=\"&'Detailed Stats'!AI$3,Journal!$N:$N,\">0\")","v":0},{"$f":"SUMIFS(Journal!$N:$N,Journal!$A:$A,$B$7,Journal!$B:$B,\">=\"&'Detailed Stats'!AJ$2,Journal!$B:$B, \"<=\"&'Detailed Stats'!AJ$3,Journal!$N:$N,\">0\")","v":0},{"$f":"SUMIFS(Journal!$N:$N,Journal!$A:$A,$B$7,Journal!$B:$B,\">=\"&'Detailed Stats'!AK$2,Journal!$B:$B, \"<=\"&'Detailed Stats'!AK$3,Journal!$N:$N,\">0\")","v":0},{"$f":"SUMIFS(Journal!$N:$N,Journal!$A:$A,$B$7,Journal!$B:$B,\">=\"&'Detailed Stats'!AL$2,Journal!$B:$B, \"<=\"&'Detailed Stats'!AL$3,Journal!$N:$N,\">0\")","v":0},{"$f":"SUMIFS(Journal!$N:$N,Journal!$A:$A,$B$7,Journal!$B:$B,\">=\"&'Detailed Stats'!AM$2,Journal!$B:$B, \"<=\"&'Detailed Stats'!AM$3,Journal!$N:$N,\">0\")","v":0},{"$f":"SUMIFS(Journal!$N:$N,Journal!$A:$A,$B$7,Journal!$B:$B,\">=\"&'Detailed Stats'!AN$2,Journal!$B:$B, \"<=\"&'Detailed Stats'!AN$3,Journal!$N:$N,\">0\")","v":0},{"$f":"SUMIFS(Journal!$N:$N,Journal!$A:$A,$B$7,Journal!$B:$B,\">=\"&'Detailed Stats'!AO$2,Journal!$B:$B, \"<=\"&'Detailed Stats'!AO$3,Journal!$N:$N,\">0\")","v":0},{"$f":"SUMIFS(Journal!$N:$N,Journal!$A:$A,$B$7,Journal!$B:$B,\">=\"&'Detailed Stats'!AP$2,Journal!$B:$B, \"<=\"&'Detailed Stats'!AP$3,Journal!$N:$N,\">0\")","v":0},{"$f":"SUMIFS(Journal!$N:$N,Journal!$A:$A,$B$7,Journal!$B:$B,\">=\"&'Detailed Stats'!AQ$2,Journal!$B:$B, \"<=\"&'Detailed Stats'!AQ$3,Journal!$N:$N,\">0\")","v":0},{"$f":"SUMIFS(Journal!$N:$N,Journal!$A:$A,$B$7,Journal!$B:$B,\">=\"&'Detailed Stats'!AR$2,Journal!$B:$B, \"<=\"&'Detailed Stats'!AR$3,Journal!$N:$N,\">0\")","v":0},{"$f":"SUMIFS(Journal!$N:$N,Journal!$A:$A,$B$7,Journal!$B:$B,\">=\"&'Detailed Stats'!AS$2,Journal!$B:$B, \"<=\"&'Detailed Stats'!AS$3,Journal!$N:$N,\">0\")","v":0},{"$f":"SUMIFS(Journal!$N:$N,Journal!$A:$A,$B$7,Journal!$B:$B,\">=\"&'Detailed Stats'!AT$2,Journal!$B:$B, \"<=\"&'Detailed Stats'!AT$3,Journal!$N:$N,\">0\")","v":0},{"$f":"SUMIFS(Journal!$N:$N,Journal!$A:$A,$B$7,Journal!$B:$B,\">=\"&'Detailed Stats'!AU$2,Journal!$B:$B, \"<=\"&'Detailed Stats'!AU$3,Journal!$N:$N,\">0\")","v":0},{"$f":"SUMIFS(Journal!$N:$N,Journal!$A:$A,$B$7,Journal!$B:$B,\">=\"&'Detailed Stats'!AV$2,Journal!$B:$B, \"<=\"&'Detailed Stats'!AV$3,Journal!$N:$N,\">0\")","v":0},{"$f":"SUMIFS(Journal!$N:$N,Journal!$A:$A,$B$7,Journal!$B:$B,\">=\"&'Detailed Stats'!AW$2,Journal!$B:$B, \"<=\"&'Detailed Stats'!AW$3,Journal!$N:$N,\">0\")","v":0},{"$f":"SUMIFS(Journal!$N:$N,Journal!$A:$A,$B$7,Journal!$B:$B,\">=\"&'Detailed Stats'!AX$2,Journal!$B:$B, \"<=\"&'Detailed Stats'!AX$3,Journal!$N:$N,\">0\")","v":0},{"$f":"SUMIFS(Journal!$N:$N,Journal!$A:$A,$B$7,Journal!$B:$B,\">=\"&'Detailed Stats'!AY$2,Journal!$B:$B, \"<=\"&'Detailed Stats'!AY$3,Journal!$N:$N,\">0\")","v":0},{"$f":"SUMIFS(Journal!$N:$N,Journal!$A:$A,$B$7,Journal!$B:$B,\">=\"&'Detailed Stats'!AZ$2,Journal!$B:$B, \"<=\"&'Detailed Stats'!AZ$3,Journal!$N:$N,\">0\")","v":0},{"$f":"SUMIFS(Journal!$N:$N,Journal!$A:$A,$B$7,Journal!$B:$B,\">=\"&'Detailed Stats'!BA$2,Journal!$B:$B, \"<=\"&'Detailed Stats'!BA$3,Journal!$N:$N,\">0\")","v":0},{"$f":"SUMIFS(Journal!$N:$N,Journal!$A:$A,$B$7,Journal!$B:$B,\">=\"&'Detailed Stats'!BB$2,Journal!$B:$B, \"<=\"&'Detailed Stats'!BB$3,Journal!$N:$N,\">0\")","v":0},{"$f":"SUMIFS(Journal!$N:$N,Journal!$A:$A,$B$7,Journal!$B:$B,\">=\"&'Detailed Stats'!BC$2,Journal!$B:$B, \"<=\"&'Detailed Stats'!BC$3,Journal!$N:$N,\">0\")","v":0},{"$f":"SUMIFS(Journal!$N:$N,Journal!$A:$A,$B$7,Journal!$B:$B,\">=\"&'Detailed Stats'!BD$2,Journal!$B:$B, \"<=\"&'Detailed Stats'!BD$3,Journal!$N:$N,\">0\")","v":0},{"$f":"SUMIFS(Journal!$N:$N,Journal!$A:$A,$B$7,Journal!$B:$B,\">=\"&'Detailed Stats'!BE$2,Journal!$B:$B, \"<=\"&'Detailed Stats'!BE$3,Journal!$N:$N,\">0\")","v":0}]
[null,"Thu",{"$f":"SUMIFS(Journal!$N:$N,Journal!$A:$A,'Detailed Stats'!B17,Journal!$N:$N,\">0\")","v":0},null,{"$f":"B17","v":"Thu"},{"$f":"SUMIFS(Journal!$N:$N,Journal!$A:$A,$B$8,Journal!$B:$B,\">=\"&'Detailed Stats'!F$2,Journal!$B:$B, \"<=\"&'Detailed Stats'!F$3,Journal!$N:$N,\">0\")","v":0},{"$f":"SUMIFS(Journal!$N:$N,Journal!$A:$A,$B$8,Journal!$B:$B,\">=\"&'Detailed Stats'!G$2,Journal!$B:$B, \"<=\"&'Detailed Stats'!G$3,Journal!$N:$N,\">0\")","v":0},{"$f":"SUMIFS(Journal!$N:$N,Journal!$A:$A,$B$8,Journal!$B:$B,\">=\"&'Detailed Stats'!H$2,Journal!$B:$B, \"<=\"&'Detailed Stats'!H$3,Journal!$N:$N,\">0\")","v":0},{"$f":"SUMIFS(Journal!$N:$N,Journal!$A:$A,$B$8,Journal!$B:$B,\">=\"&'Detailed Stats'!I$2,Journal!$B:$B, \"<=\"&'Detailed Stats'!I$3,Journal!$N:$N,\">0\")","v":0},{"$f":"SUMIFS(Journal!$N:$N,Journal!$A:$A,$B$8,Journal!$B:$B,\">=\"&'Detailed Stats'!J$2,Journal!$B:$B, \"<=\"&'Detailed Stats'!J$3,Journal!$N:$N,\">0\")","v":0},{"$f":"SUMIFS(Journal!$N:$N,Journal!$A:$A,$B$8,Journal!$B:$B,\">=\"&'Detailed Stats'!K$2,Journal!$B:$B, \"<=\"&'Detailed Stats'!K$3,Journal!$N:$N,\">0\")","v":0},{"$f":"SUMIFS(Journal!$N:$N,Journal!$A:$A,$B$8,Journal!$B:$B,\">=\"&'Detailed Stats'!L$2,Journal!$B:$B, \"<=\"&'Detailed Stats'!L$3,Journal!$N:$N,\">0\")","v":0},{"$f":"SUMIFS(Journal!$N:$N,Journal!$A:$A,$B$8,Journal!$B:$B,\">=\"&'Detailed Stats'!M$2,Journal!$B:$B, \"<=\"&'Detailed Stats'!M$3,Journal!$N:$N,\">0\")","v":0},{"$f":"SUMIFS(Journal!$N:$N,Journal!$A:$A,$B$8,Journal!$B:$B,\">=\"&'Detailed Stats'!N$2,Journal!$B:$B, \"<=\"&'Detailed Stats'!N$3,Journal!$N:$N,\">0\")","v":0},{"$f":"SUMIFS(Journal!$N:$N,Journal!$A:$A,$B$8,Journal!$B:$B,\">=\"&'Detailed Stats'!O$2,Journal!$B:$B, \"<=\"&'Detailed Stats'!O$3,Journal!$N:$N,\">0\")","v":0},{"$f":"SUMIFS(Journal!$N:$N,Journal!$A:$A,$B$8,Journal!$B:$B,\">=\"&'Detailed Stats'!P$2,Journal!$B:$B, \"<=\"&'Detailed Stats'!P$3,Journal!$N:$N,\">0\")","v":0},{"$f":"SUMIFS(Journal!$N:$N,Journal!$A:$A,$B$8,Journal!$B:$B,\">=\"&'Detailed Stats'!Q$2,Journal!$B:$B, \"<=\"&'Detailed Stats'!Q$3,Journal!$N:$N,\">0\")","v":0},{"$f":"SUMIFS(Journal!$N:$N,Journal!$A:$A,$B$8,Journal!$B:$B,\">=\"&'Detailed Stats'!R$2,Journal!$B:$B, \"<=\"&'Detailed Stats'!R$3,Journal!$N:$N,\">0\")","v":0},{"$f":"SUMIFS(Journal!$N:$N,Journal!$A:$A,$B$8,Journal!$B:$B,\">=\"&'Detailed Stats'!S$2,Journal!$B:$B, \"<=\"&'Detailed Stats'!S$3,Journal!$N:$N,\">0\")","v":0},{"$f":"SUMIFS(Journal!$N:$N,Journal!$A:$A,$B$8,Journal!$B:$B,\">=\"&'Detailed Stats'!T$2,Journal!$B:$B, \"<=\"&'Detailed Stats'!T$3,Journal!$N:$N,\">0\")","v":0},{"$f":"SUMIFS(Journal!$N:$N,Journal!$A:$A,$B$8,Journal!$B:$B,\">=\"&'Detailed Stats'!U$2,Journal!$B:$B, \"<=\"&'Detailed Stats'!U$3,Journal!$N:$N,\">0\")","v":0},{"$f":"SUMIFS(Journal!$N:$N,Journal!$A:$A,$B$8,Journal!$B:$B,\">=\"&'Detailed Stats'!V$2,Journal!$B:$B, \"<=\"&'Detailed Stats'!V$3,Journal!$N:$N,\">0\")","v":0},{"$f":"SUMIFS(Journal!$N:$N,Journal!$A:$A,$B$8,Journal!$B:$B,\">=\"&'Detailed Stats'!W$2,Journal!$B:$B, \"<=\"&'Detailed Stats'!W$3,Journal!$N:$N,\">0\")","v":0},{"$f":"SUMIFS(Journal!$N:$N,Journal!$A:$A,$B$8,Journal!$B:$B,\">=\"&'Detailed Stats'!X$2,Journal!$B:$B, \"<=\"&'Detailed Stats'!X$3,Journal!$N:$N,\">0\")","v":0},{"$f":"SUMIFS(Journal!$N:$N,Journal!$A:$A,$B$8,Journal!$B:$B,\">=\"&'Detailed Stats'!Y$2,Journal!$B:$B, \"<=\"&'Detailed Stats'!Y$3,Journal!$N:$N,\">0\")","v":0},{"$f":"SUMIFS(Journal!$N:$N,Journal!$A:$A,$B$8,Journal!$B:$B,\">=\"&'Detailed Stats'!Z$2,Journal!$B:$B, \"<=\"&'Detailed Stats'!Z$3,Journal!$N:$N,\">0\")","v":0},{"$f":"SUMIFS(Journal!$N:$N,Journal!$A:$A,$B$8,Journal!$B:$B,\">=\"&'Detailed Stats'!AA$2,Journal!$B:$B, \"<=\"&'Detailed Stats'!AA$3,Journal!$N:$N,\">0\")","v":0},{"$f":"SUMIFS(Journal!$N:$N,Journal!$A:$A,$B$8,Journal!$B:$B,\">=\"&'Detailed Stats'!AB$2,Journal!$B:$B, \"<=\"&'Detailed Stats'!AB$3,Journal!$N:$N,\">0\")","v":0},{"$f":"SUMIFS(Journal!$N:$N,Journal!$A:$A,$B$8,Journal!$B:$B,\">=\"&'Detailed Stats'!AC$2,Journal!$B:$B, \"<=\"&'Detailed Stats'!AC$3,Journal!$N:$N,\">0\")","v":0},{"$f":"SUMIFS(Journal!$N:$N,Journal!$A:$A,$B$8,Journal!$B:$B,\">=\"&'Detailed Stats'!AD$2,Journal!$B:$B, \"<=\"&'Detailed Stats'!AD$3,Journal!$N:$N,\">0\")","v":0},{"$f":"SUMIFS(Journal!$N:$N,Journal!$A:$A,$B$8,Journal!$B:$B,\">=\"&'Detailed Stats'!AE$2,Journal!$B:$B, \"<=\"&'Detailed Stats'!AE$3,Journal!$N:$N,\">0\")","v":0},{"$f":"SUMIFS(Journal!$N:$N,Journal!$A:$A,$B$8,Journal!$B:$B,\">=\"&'Detailed Stats'!AF$2,Journal!$B:$B, \"<=\"&'Detailed Stats'!AF$3,Journal!$N:$N,\">0\")","v":0},{"$f":"SUMIFS(Journal!$N:$N,Journal!$A:$A,$B$8,Journal!$B:$B,\">=\"&'Detailed Stats'!AG$2,Journal!$B:$B, \"<=\"&'Detailed Stats'!AG$3,Journal!$N:$N,\">0\")","v":0},{"$f":"SUMIFS(Journal!$N:$N,Journal!$A:$A,$B$8,Journal!$B:$B,\">=\"&'Detailed Stats'!AH$2,Journal!$B:$B, \"<=\"&'Detailed Stats'!AH$3,Journal!$N:$N,\">0\")","v":0},{"$f":"SUMIFS(Journal!$N:$N,Journal!$A:$A,$B$8,Journal!$B:$B,\">=\"&'Detailed Stats'!AI$2,Journal!$B:$B, \"<=\"&'Detailed Stats'!AI$3,Journal!$N:$N,\">0\")","v":0},{"$f":"SUMIFS(Journal!$N:$N,Journal!$A:$A,$B$8,Journal!$B:$B,\">=\"&'Detailed Stats'!AJ$2,Journal!$B:$B, \"<=\"&'Detailed Stats'!AJ$3,Journal!$N:$N,\">0\")","v":0},{"$f":"SUMIFS(Journal!$N:$N,Journal!$A:$A,$B$8,Journal!$B:$B,\">=\"&'Detailed Stats'!AK$2,Journal!$B:$B, \"<=\"&'Detailed Stats'!AK$3,Journal!$N:$N,\">0\")","v":0},{"$f":"SUMIFS(Journal!$N:$N,Journal!$A:$A,$B$8,Journal!$B:$B,\">=\"&'Detailed Stats'!AL$2,Journal!$B:$B, \"<=\"&'Detailed Stats'!AL$3,Journal!$N:$N,\">0\")","v":0},{"$f":"SUMIFS(Journal!$N:$N,Journal!$A:$A,$B$8,Journal!$B:$B,\">=\"&'Detailed Stats'!AM$2,Journal!$B:$B, \"<=\"&'Detailed Stats'!AM$3,Journal!$N:$N,\">0\")","v":0},{"$f":"SUMIFS(Journal!$N:$N,Journal!$A:$A,$B$8,Journal!$B:$B,\">=\"&'Detailed Stats'!AN$2,Journal!$B:$B, \"<=\"&'Detailed Stats'!AN$3,Journal!$N:$N,\">0\")","v":0},{"$f":"SUMIFS(Journal!$N:$N,Journal!$A:$A,$B$8,Journal!$B:$B,\">=\"&'Detailed Stats'!AO$2,Journal!$B:$B, \"<=\"&'Detailed Stats'!AO$3,Journal!$N:$N,\">0\")","v":0},{"$f":"SUMIFS(Journal!$N:$N,Journal!$A:$A,$B$8,Journal!$B:$B,\">=\"&'Detailed Stats'!AP$2,Journal!$B:$B, \"<=\"&'Detailed Stats'!AP$3,Journal!$N:$N,\">0\")","v":0},{"$f":"SUMIFS(Journal!$N:$N,Journal!$A:$A,$B$8,Journal!$B:$B,\">=\"&'Detailed Stats'!AQ$2,Journal!$B:$B, \"<=\"&'Detailed Stats'!AQ$3,Journal!$N:$N,\">0\")","v":0},{"$f":"SUMIFS(Journal!$N:$N,Journal!$A:$A,$B$8,Journal!$B:$B,\">=\"&'Detailed Stats'!AR$2,Journal!$B:$B, \"<=\"&'Detailed Stats'!AR$3,Journal!$N:$N,\">0\")","v":0},{"$f":"SUMIFS(Journal!$N:$N,Journal!$A:$A,$B$8,Journal!$B:$B,\">=\"&'Detailed Stats'!AS$2,Journal!$B:$B, \"<=\"&'Detailed Stats'!AS$3,Journal!$N:$N,\">0\")","v":0},{"$f":"SUMIFS(Journal!$N:$N,Journal!$A:$A,$B$8,Journal!$B:$B,\">=\"&'Detailed Stats'!AT$2,Journal!$B:$B, \"<=\"&'Detailed Stats'!AT$3,Journal!$N:$N,\">0\")","v":0},{"$f":"SUMIFS(Journal!$N:$N,Journal!$A:$A,$B$8,Journal!$B:$B,\">=\"&'Detailed Stats'!AU$2,Journal!$B:$B, \"<=\"&'Detailed Stats'!AU$3,Journal!$N:$N,\">0\")","v":0},{"$f":"SUMIFS(Journal!$N:$N,Journal!$A:$A,$B$8,Journal!$B:$B,\">=\"&'Detailed Stats'!AV$2,Journal!$B:$B, \"<=\"&'Detailed Stats'!AV$3,Journal!$N:$N,\">0\")","v":0},{"$f":"SUMIFS(Journal!$N:$N,Journal!$A:$A,$B$8,Journal!$B:$B,\">=\"&'Detailed Stats'!AW$2,Journal!$B:$B, \"<=\"&'Detailed Stats'!AW$3,Journal!$N:$N,\">0\")","v":0},{"$f":"SUMIFS(Journal!$N:$N,Journal!$A:$A,$B$8,Journal!$B:$B,\">=\"&'Detailed Stats'!AX$2,Journal!$B:$B, \"<=\"&'Detailed Stats'!AX$3,Journal!$N:$N,\">0\")","v":0},{"$f":"SUMIFS(Journal!$N:$N,Journal!$A:$A,$B$8,Journal!$B:$B,\">=\"&'Detailed Stats'!AY$2,Journal!$B:$B, \"<=\"&'Detailed Stats'!AY$3,Journal!$N:$N,\">0\")","v":0},{"$f":"SUMIFS(Journal!$N:$N,Journal!$A:$A,$B$8,Journal!$B:$B,\">=\"&'Detailed Stats'!AZ$2,Journal!$B:$B, \"<=\"&'Detailed Stats'!AZ$3,Journal!$N:$N,\">0\")","v":0},{"$f":"SUMIFS(Journal!$N:$N,Journal!$A:$A,$B$8,Journal!$B:$B,\">=\"&'Detailed Stats'!BA$2,Journal!$B:$B, \"<=\"&'Detailed Stats'!BA$3,Journal!$N:$N,\">0\")","v":0},{"$f":"SUMIFS(Journal!$N:$N,Journal!$A:$A,$B$8,Journal!$B:$B,\">=\"&'Detailed Stats'!BB$2,Journal!$B:$B, \"<=\"&'Detailed Stats'!BB$3,Journal!$N:$N,\">0\")","v":0},{"$f":"SUMIFS(Journal!$N:$N,Journal!$A:$A,$B$8,Journal!$B:$B,\">=\"&'Detailed Stats'!BC$2,Journal!$B:$B, \"<=\"&'Detailed Stats'!BC$3,Journal!$N:$N,\">0\")","v":0},{"$f":"SUMIFS(Journal!$N:$N,Journal!$A:$A,$B$8,Journal!$B:$B,\">=\"&'Detailed Stats'!BD$2,Journal!$B:$B, \"<=\"&'Detailed Stats'!BD$3,Journal!$N:$N,\">0\")","v":0},{"$f":"SUMIFS(Journal!$N:$N,Journal!$A:$A,$B$8,Journal!$B:$B,\">=\"&'Detailed Stats'!BE$2,Journal!$B:$B, \"<=\"&'Detailed Stats'!BE$3,Journal!$N:$N,\">0\")","v":0}]
[null,"Fri",{"$f":"SUMIFS(Journal!$N:$N,Journal!$A:$A,'Detailed Stats'!B18,Journal!$N:$N,\">0\")","v":0},null,{"$f":"B18","v":"Fri"},{"$f":"SUMIFS(Journal!$N:$N,Journal!$A:$A,$B$9,Journal!$B:$B,\">=\"&'Detailed Stats'!F$2,Journal!$B:$B, \"<=\"&'Detailed Stats'!F$3,Journal!$N:$N,\">0\")","v":0},{"$f":"SUMIFS(Journal!$N:$N,Journal!$A:$A,$B$9,Journal!$B:$B,\">=\"&'Detailed Stats'!G$2,Journal!$B:$B, \"<=\"&'Detailed Stats'!G$3,Journal!$N:$N,\">0\")","v":0},{"$f":"SUMIFS(Journal!$N:$N,Journal!$A:$A,$B$9,Journal!$B:$B,\">=\"&'Detailed Stats'!H$2,Journal!$B:$B, \"<=\"&'Detailed Stats'!H$3,Journal!$N:$N,\">0\")","v":0},{"$f":"SUMIFS(Journal!$N:$N,Journal!$A:$A,$B$9,Journal!$B:$B,\">=\"&'Detailed Stats'!I$2,Journal!$B:$B, \"<=\"&'Detailed Stats'!I$3,Journal!$N:$N,\">0\")","v":0},{"$f":"SUMIFS(Journal!$N:$N,Journal!$A:$A,$B$9,Journal!$B:$B,\">=\"&'Detailed Stats'!J$2,Journal!$B:$B, \"<=\"&'Detailed Stats'!J$3,Journal!$N:$N,\">0\")","v":0},{"$f":"SUMIFS(Journal!$N:$N,Journal!$A:$A,$B$9,Journal!$B:$B,\">=\"&'Detailed Stats'!K$2,Journal!$B:$B, \"<=\"&'Detailed Stats'!K$3,Journal!$N:$N,\">0\")","v":0},{"$f":"SUMIFS(Journal!$N:$N,Journal!$A:$A,$B$9,Journal!$B:$B,\">=\"&'Detailed Stats'!L$2,Journal!$B:$B, \"<=\"&'Detailed Stats'!L$3,Journal!$N:$N,\">0\")","v":0},{"$f":"SUMIFS(Journal!$N:$N,Journal!$A:$A,$B$9,Journal!$B:$B,\">=\"&'Detailed Stats'!M$2,Journal!$B:$B, \"<=\"&'Detailed Stats'!M$3,Journal!$N:$N,\">0\")","v":0},{"$f":"SUMIFS(Journal!$N:$N,Journal!$A:$A,$B$9,Journal!$B:$B,\">=\"&'Detailed Stats'!N$2,Journal!$B:$B, \"<=\"&'Detailed Stats'!N$3,Journal!$N:$N,\">0\")","v":0},{"$f":"SUMIFS(Journal!$N:$N,Journal!$A:$A,$B$9,Journal!$B:$B,\">=\"&'Detailed Stats'!O$2,Journal!$B:$B, \"<=\"&'Detailed Stats'!O$3,Journal!$N:$N,\">0\")","v":0},{"$f":"SUMIFS(Journal!$N:$N,Journal!$A:$A,$B$9,Journal!$B:$B,\">=\"&'Detailed Stats'!P$2,Journal!$B:$B, \"<=\"&'Detailed Stats'!P$3,Journal!$N:$N,\">0\")","v":0},{"$f":"SUMIFS(Journal!$N:$N,Journal!$A:$A,$B$9,Journal!$B:$B,\">=\"&'Detailed Stats'!Q$2,Journal!$B:$B, \"<=\"&'Detailed Stats'!Q$3,Journal!$N:$N,\">0\")","v":0},{"$f":"SUMIFS(Journal!$N:$N,Journal!$A:$A,$B$9,Journal!$B:$B,\">=\"&'Detailed Stats'!R$2,Journal!$B:$B, \"<=\"&'Detailed Stats'!R$3,Journal!$N:$N,\">0\")","v":0},{"$f":"SUMIFS(Journal!$N:$N,Journal!$A:$A,$B$9,Journal!$B:$B,\">=\"&'Detailed Stats'!S$2,Journal!$B:$B, \"<=\"&'Detailed Stats'!S$3,Journal!$N:$N,\">0\")","v":0},{"$f":"SUMIFS(Journal!$N:$N,Journal!$A:$A,$B$9,Journal!$B:$B,\">=\"&'Detailed Stats'!T$2,Journal!$B:$B, \"<=\"&'Detailed Stats'!T$3,Journal!$N:$N,\">0\")","v":0},{"$f":"SUMIFS(Journal!$N:$N,Journal!$A:$A,$B$9,Journal!$B:$B,\">=\"&'Detailed Stats'!U$2,Journal!$B:$B, \"<=\"&'Detailed Stats'!U$3,Journal!$N:$N,\">0\")","v":0},{"$f":"SUMIFS(Journal!$N:$N,Journal!$A:$A,$B$9,Journal!$B:$B,\">=\"&'Detailed Stats'!V$2,Journal!$B:$B, \"<=\"&'Detailed Stats'!V$3,Journal!$N:$N,\">0\")","v":0},{"$f":"SUMIFS(Journal!$N:$N,Journal!$A:$A,$B$9,Journal!$B:$B,\">=\"&'Detailed Stats'!W$2,Journal!$B:$B, \"<=\"&'Detailed Stats'!W$3,Journal!$N:$N,\">0\")","v":0},{"$f":"SUMIFS(Journal!$N:$N,Journal!$A:$A,$B$9,Journal!$B:$B,\">=\"&'Detailed Stats'!X$2,Journal!$B:$B, \"<=\"&'Detailed Stats'!X$3,Journal!$N:$N,\">0\")","v":0},{"$f":"SUMIFS(Journal!$N:$N,Journal!$A:$A,$B$9,Journal!$B:$B,\">=\"&'Detailed Stats'!Y$2,Journal!$B:$B, \"<=\"&'Detailed Stats'!Y$3,Journal!$N:$N,\">0\")","v":0},{"$f":"SUMIFS(Journal!$N:$N,Journal!$A:$A,$B$9,Journal!$B:$B,\">=\"&'Detailed Stats'!Z$2,Journal!$B:$B, \"<=\"&'Detailed Stats'!Z$3,Journal!$N:$N,\">0\")","v":0},{"$f":"SUMIFS(Journal!$N:$N,Journal!$A:$A,$B$9,Journal!$B:$B,\">=\"&'Detailed Stats'!AA$2,Journal!$B:$B, \"<=\"&'Detailed Stats'!AA$3,Journal!$N:$N,\">0\")","v":0},{"$f":"SUMIFS(Journal!$N:$N,Journal!$A:$A,$B$9,Journal!$B:$B,\">=\"&'Detailed Stats'!AB$2,Journal!$B:$B, \"<=\"&'Detailed Stats'!AB$3,Journal!$N:$N,\">0\")","v":0},{"$f":"SUMIFS(Journal!$N:$N,Journal!$A:$A,$B$9,Journal!$B:$B,\">=\"&'Detailed Stats'!AC$2,Journal!$B:$B, \"<=\"&'Detailed Stats'!AC$3,Journal!$N:$N,\">0\")","v":0},{"$f":"SUMIFS(Journal!$N:$N,Journal!$A:$A,$B$9,Journal!$B:$B,\">=\"&'Detailed Stats'!AD$2,Journal!$B:$B, \"<=\"&'Detailed Stats'!AD$3,Journal!$N:$N,\">0\")","v":0},{"$f":"SUMIFS(Journal!$N:$N,Journal!$A:$A,$B$9,Journal!$B:$B,\">=\"&'Detailed Stats'!AE$2,Journal!$B:$B, \"<=\"&'Detailed Stats'!AE$3,Journal!$N:$N,\">0\")","v":0},{"$f":"SUMIFS(Journal!$N:$N,Journal!$A:$A,$B$9,Journal!$B:$B,\">=\"&'Detailed Stats'!AF$2,Journal!$B:$B, \"<=\"&'Detailed Stats'!AF$3,Journal!$N:$N,\">0\")","v":0},{"$f":"SUMIFS(Journal!$N:$N,Journal!$A:$A,$B$9,Journal!$B:$B,\">=\"&'Detailed Stats'!AG$2,Journal!$B:$B, \"<=\"&'Detailed Stats'!AG$3,Journal!$N:$N,\">0\")","v":0},{"$f":"SUMIFS(Journal!$N:$N,Journal!$A:$A,$B$9,Journal!$B:$B,\">=\"&'Detailed Stats'!AH$2,Journal!$B:$B, \"<=\"&'Detailed Stats'!AH$3,Journal!$N:$N,\">0\")","v":0},{"$f":"SUMIFS(Journal!$N:$N,Journal!$A:$A,$B$9,Journal!$B:$B,\">=\"&'Detailed Stats'!AI$2,Journal!$B:$B, \"<=\"&'Detailed Stats'!AI$3,Journal!$N:$N,\">0\")","v":0},{"$f":"SUMIFS(Journal!$N:$N,Journal!$A:$A,$B$9,Journal!$B:$B,\">=\"&'Detailed Stats'!AJ$2,Journal!$B:$B, \"<=\"&'Detailed Stats'!AJ$3,Journal!$N:$N,\">0\")","v":0},{"$f":"SUMIFS(Journal!$N:$N,Journal!$A:$A,$B$9,Journal!$B:$B,\">=\"&'Detailed Stats'!AK$2,Journal!$B:$B, \"<=\"&'Detailed Stats'!AK$3,Journal!$N:$N,\">0\")","v":0},{"$f":"SUMIFS(Journal!$N:$N,Journal!$A:$A,$B$9,Journal!$B:$B,\">=\"&'Detailed Stats'!AL$2,Journal!$B:$B, \"<=\"&'Detailed Stats'!AL$3,Journal!$N:$N,\">0\")","v":0},{"$f":"SUMIFS(Journal!$N:$N,Journal!$A:$A,$B$9,Journal!$B:$B,\">=\"&'Detailed Stats'!AM$2,Journal!$B:$B, \"<=\"&'Detailed Stats'!AM$3,Journal!$N:$N,\">0\")","v":0},{"$f":"SUMIFS(Journal!$N:$N,Journal!$A:$A,$B$9,Journal!$B:$B,\">=\"&'Detailed Stats'!AN$2,Journal!$B:$B, \"<=\"&'Detailed Stats'!AN$3,Journal!$N:$N,\">0\")","v":0},{"$f":"SUMIFS(Journal!$N:$N,Journal!$A:$A,$B$9,Journal!$B:$B,\">=\"&'Detailed Stats'!AO$2,Journal!$B:$B, \"<=\"&'Detailed Stats'!AO$3,Journal!$N:$N,\">0\")","v":0},{"$f":"SUMIFS(Journal!$N:$N,Journal!$A:$A,$B$9,Journal!$B:$B,\">=\"&'Detailed Stats'!AP$2,Journal!$B:$B, \"<=\"&'Detailed Stats'!AP$3,Journal!$N:$N,\">0\")","v":0},{"$f":"SUMIFS(Journal!$N:$N,Journal!$A:$A,$B$9,Journal!$B:$B,\">=\"&'Detailed Stats'!AQ$2,Journal!$B:$B, \"<=\"&'Detailed Stats'!AQ$3,Journal!$N:$N,\">0\")","v":0},{"$f":"SUMIFS(Journal!$N:$N,Journal!$A:$A,$B$9,Journal!$B:$B,\">=\"&'Detailed Stats'!AR$2,Journal!$B:$B, \"<=\"&'Detailed Stats'!AR$3,Journal!$N:$N,\">0\")","v":0},{"$f":"SUMIFS(Journal!$N:$N,Journal!$A:$A,$B$9,Journal!$B:$B,\">=\"&'Detailed Stats'!AS$2,Journal!$B:$B, \"<=\"&'Detailed Stats'!AS$3,Journal!$N:$N,\">0\")","v":0},{"$f":"SUMIFS(Journal!$N:$N,Journal!$A:$A,$B$9,Journal!$B:$B,\">=\"&'Detailed Stats'!AT$2,Journal!$B:$B, \"<=\"&'Detailed Stats'!AT$3,Journal!$N:$N,\">0\")","v":0},{"$f":"SUMIFS(Journal!$N:$N,Journal!$A:$A,$B$9,Journal!$B:$B,\">=\"&'Detailed Stats'!AU$2,Journal!$B:$B, \"<=\"&'Detailed Stats'!AU$3,Journal!$N:$N,\">0\")","v":0},{"$f":"SUMIFS(Journal!$N:$N,Journal!$A:$A,$B$9,Journal!$B:$B,\">=\"&'Detailed Stats'!AV$2,Journal!$B:$B, \"<=\"&'Detailed Stats'!AV$3,Journal!$N:$N,\">0\")","v":0},{"$f":"SUMIFS(Journal!$N:$N,Journal!$A:$A,$B$9,Journal!$B:$B,\">=\"&'Detailed Stats'!AW$2,Journal!$B:$B, \"<=\"&'Detailed Stats'!AW$3,Journal!$N:$N,\">0\")","v":0},{"$f":"SUMIFS(Journal!$N:$N,Journal!$A:$A,$B$9,Journal!$B:$B,\">=\"&'Detailed Stats'!AX$2,Journal!$B:$B, \"<=\"&'Detailed Stats'!AX$3,Journal!$N:$N,\">0\")","v":0},{"$f":"SUMIFS(Journal!$N:$N,Journal!$A:$A,$B$9,Journal!$B:$B,\">=\"&'Detailed Stats'!AY$2,Journal!$B:$B, \"<=\"&'Detailed Stats'!AY$3,Journal!$N:$N,\">0\")","v":0},{"$f":"SUMIFS(Journal!$N:$N,Journal!$A:$A,$B$9,Journal!$B:$B,\">=\"&'Detailed Stats'!AZ$2,Journal!$B:$B, \"<=\"&'Detailed Stats'!AZ$3,Journal!$N:$N,\">0\")","v":0},{"$f":"SUMIFS(Journal!$N:$N,Journal!$A:$A,$B$9,Journal!$B:$B,\">=\"&'Detailed Stats'!BA$2,Journal!$B:$B, \"<=\"&'Detailed Stats'!BA$3,Journal!$N:$N,\">0\")","v":0},{"$f":"SUMIFS(Journal!$N:$N,Journal!$A:$A,$B$9,Journal!$B:$B,\">=\"&'Detailed Stats'!BB$2,Journal!$B:$B, \"<=\"&'Detailed Stats'!BB$3,Journal!$N:$N,\">0\")","v":0},{"$f":"SUMIFS(Journal!$N:$N,Journal!$A:$A,$B$9,Journal!$B:$B,\">=\"&'Detailed Stats'!BC$2,Journal!$B:$B, \"<=\"&'Detailed Stats'!BC$3,Journal!$N:$N,\">0\")","v":0},{"$f":"SUMIFS(Journal!$N:$N,Journal!$A:$A,$B$9,Journal!$B:$B,\">=\"&'Detailed Stats'!BD$2,Journal!$B:$B, \"<=\"&'Detailed Stats'!BD$3,Journal!$N:$N,\">0\")","v":0},{"$f":"SUMIFS(Journal!$N:$N,Journal!$A:$A,$B$9,Journal!$B:$B,\">=\"&'Detailed Stats'!BE$2,Journal!$B:$B, \"<=\"&'Detailed Stats'!BE$3,Journal!$N:$N,\">0\")","v":0}]
[null,"TOTAL",{"$f":"SUM(C14:C18)","v":25.380000000000003},null,null,{"$f":"SUM(F14:F18)","v":0},0,0,0,0,0,0,0,0,0,0,0,0,0,0,0,0,0,0,0,0,0,0,0,0,0,0,0,0,0,0,0,0,0,0,0,0,0,0,0,0,0,0,0,0,0,0,0,0,0,0,0]
[null,null,null,null,"Avg daily",{"$f":"IFERROR(AVERAGEIF(F14:F18,\"<>0\"),\"\")","v":""},{"$f":"IFERROR(AVERAGEIF(G14:G18,\"<>0\"),\"\")","v":""},"","","","","","","","","","","","","","","","","","","","","","","","","","","","","","","","","","","","","","","","","","","","","","","","","",""]
[" "]
["DAILY LOSS (GROSS)"]
[null,"Gross loss per weekday (Overall)",null,null,null,"Week_1","Week_2","Week_3","Week_4","Week_5","Week_6","Week_7","Week_8","Week_9","Week_10","Week_11","Week_12","Week_13","Week_14","Week_15","Week_16","Week_17","Week_18","Week_19","Week_20","Week_21","Week_22","Week_23","Week_24","Week_25","Week_26","Week_27","Week_28","Week_29","Week_30","Week_31","Week_32","Week_33","Week_34","Week_35","Week_36","Week_37","Week_38","Week_39","Week_40","Week_41","Week_42","Week_43","Week_44","Week_45","Week_46","Week_47","Week_48","Week_49","Week_50","Week_51","Week_52"]
[null,"Mon",{"$f":"SUMIFS(Journal!$N:$N,Journal!$A:$A,'Detailed Stats'!B24,Journal!$N:$N,\"<0\")","v":0},null,{"$f":"B24","v":"Mon"},{"$f":"SUMIFS(Journal!$N:$N,Journal!$A:$A,$B$5,Journal!$B:$B,\">=\"&'Detailed Stats'!F$2,Journal!$B:$B, \"<=\"&'Detailed Stats'!F$3,Journal!$N:$N,\"<0\")","v":0},{"$f":"SUMIFS(Journal!$N:$N,Journal!$A:$A,$B$5,Journal!$B:$B,\">=\"&'Detailed Stats'!G$2,Journal!$B:$B, \"<=\"&'Detailed Stats'!G$3,Journal!$N:$N,\"<0\")","v":0},{"$f":"SUMIFS(Journal!$N:$N,Journal!$A:$A,$B$5,Journal!$B:$B,\">=\"&'Detailed Stats'!H$2,Journal!$B:$B, \"<=\"&'Detailed Stats'!H$3,Journal!$N:$N,\"<0\")","v":0},{"$f":"SUMIFS(Journal!$N:$N,Journal!$A:$A,$B$5,Journal!$B:$B,\">=\"&'Detailed Stats'!I$2,Journal!$B:$B, \"<=\"&'Detailed Stats'!I$3,Journal!$N:$N,\"<0\")","v":0},{"$f":"SUMIFS(Journal!$N:$N,Journal!$A:$A,$B$5,Journal!$B:$B,\">=\"&'Detailed Stats'!J$2,Journal!$B:$B, \"<=\"&'Detailed Stats'!J$3,Journal!$N:$N,\"<0\")","v":0},{"$f":"SUMIFS(Journal!$N:$N,Journal!$A:$A,$B$5,Journal!$B:$B,\">=\"&'Detailed Stats'!K$2,Journal!$B:$B, \"<=\"&'Detailed Stats'!K$3,Journal!$N:$N,\"<0\")","v":0},{"$f":"SUMIFS(Journal!$N:$N,Journal!$A:$A,$B$5,Journal!$B:$B,\">=\"&'Detailed Stats'!L$2,Journal!$B:$B, \"<=\"&'Detailed Stats'!L$3,Journal!$N:$N,\"<0\")","v":0},{"$f":"SUMIFS(Journal!$N:$N,Journal!$A:$A,$B$5,Journal!$B:$B,\">=\"&'Detailed Stats'!M$2,Journal!$B:$B, \"<=\"&'Detailed Stats'!M$3,Journal!$N:$N,\"<0\")","v":0},{"$f":"SUMIFS(Journal!$N:$N,Journal!$A:$A,$B$5,Journal!$B:$B,\">=\"&'Detailed Stats'!N$2,Journal!$B:$B, \"<=\"&'Detailed Stats'!N$3,Journal!$N:$N,\"<0\")","v":0},{"$f":"SUMIFS(Journal!$N:$N,Journal!$A:$A,$B$5,Journal!$B:$B,\">=\"&'Detailed Stats'!O$2,Journal!$B:$B, \"<=\"&'Detailed Stats'!O$3,Journal!$N:$N,\"<0\")","v":0},{"$f":"SUMIFS(Journal!$N:$N,Journal!$A:$A,$B$5,Journal!$B:$B,\">=\"&'Detailed Stats'!P$2,Journal!$B:$B, \"<=\"&'Detailed Stats'!P$3,Journal!$N:$N,\"<0\")","v":0},{"$f":"SUMIFS(Journal!$N:$N,Journal!$A:$A,$B$5,Journal!$B:$B,\">=\"&'Detailed Stats'!Q$2,Journal!$B:$B, \"<=\"&'Detailed Stats'!Q$3,Journal!$N:$N,\"<0\")","v":0},{"$f":"SUMIFS(Journal!$N:$N,Journal!$A:$A,$B$5,Journal!$B:$B,\">=\"&'Detailed Stats'!R$2,Journal!$B:$B, \"<=\"&'Detailed Stats'!R$3,Journal!$N:$N,\"<0\")","v":0},{"$f":"SUMIFS(Journal!$N:$N,Journal!$A:$A,$B$5,Journal!$B:$B,\">=\"&'Detailed Stats'!S$2,Journal!$B:$B, \"<=\"&'Detailed Stats'!S$3,Journal!$N:$N,\"<0\")","v":0},{"$f":"SUMIFS(Journal!$N:$N,Journal!$A:$A,$B$5,Journal!$B:$B,\">=\"&'Detailed Stats'!T$2,Journal!$B:$B, \"<=\"&'Detailed Stats'!T$3,Journal!$N:$N,\"<0\")","v":0},{"$f":"SUMIFS(Journal!$N:$N,Journal!$A:$A,$B$5,Journal!$B:$B,\">=\"&'Detailed Stats'!U$2,Journal!$B:$B, \"<=\"&'Detailed Stats'!U$3,Journal!$N:$N,\"<0\")","v":0},{"$f":"SUMIFS(Journal!$N:$N,Journal!$A:$A,$B$5,Journal!$B:$B,\">=\"&'Detailed Stats'!V$2,Journal!$B:$B, \"<=\"&'Detailed Stats'!V$3,Journal!$N:$N,\"<0\")","v":0},{"$f":"SUMIFS(Journal!$N:$N,Journal!$A:$A,$B$5,Journal!$B:$B,\">=\"&'Detailed Stats'!W$2,Journal!$B:$B, \"<=\"&'Detailed Stats'!W$3,Journal!$N:$N,\"<0\")","v":0},{"$f":"SUMIFS(Journal!$N:$N,Journal!$A:$A,$B$5,Journal!$B:$B,\">=\"&'Detailed Stats'!X$2,Journal!$B:$B, \"<=\"&'Detailed Stats'!X$3,Journal!$N:$N,\"<0\")","v":0},{"$f":"SUMIFS(Journal!$N:$N,Journal!$A:$A,$B$5,Journal!$B:$B,\">=\"&'Detailed Stats'!Y$2,Journal!$B:$B, \"<=\"&'Detailed Stats'!Y$3,Journal!$N:$N,\"<0\")","v":0},{"$f":"SUMIFS(Journal!$N:$N,Journal!$A:$A,$B$5,Journal!$B:$B,\">=\"&'Detailed Stats'!Z$2,Journal!$B:$B, \"<=\"&'Detailed Stats'!Z$3,Journal!$N:$N,\"<0\")","v":0},{"$f":"SUMIFS(Journal!$N:$N,Journal!$A:$A,$B$5,Journal!$B:$B,\">=\"&'Detailed Stats'!AA$2,Journal!$B:$B, \"<=\"&'Detailed Stats'!AA$3,Journal!$N:$N,\"<0\")","v":0},{"$f":"SUMIFS(Journal!$N:$N,Journal!$A:$A,$B$5,Journal!$B:$B,\">=\"&'Detailed Stats'!AB$2,Journal!$B:$B, \"<=\"&'Detailed Stats'!AB$3,Journal!$N:$N,\"<0\")","v":0},{"$f":"SUMIFS(Journal!$N:$N,Journal!$A:$A,$B$5,Journal!$B:$B,\">=\"&'Detailed Stats'!AC$2,Journal!$B:$B, \"<=\"&'Detailed Stats'!AC$3,Journal!$N:$N,\"<0\")","v":0},{"$f":"SUMIFS(Journal!$N:$N,Journal!$A:$A,$B$5,Journal!$B:$B,\">=\"&'Detailed Stats'!AD$2,Journal!$B:$B, \"<=\"&'Detailed Stats'!AD$3,Journal!$N:$N,\"<0\")","v":0},{"$f":"SUMIFS(Journal!$N:$N,Journal!$A:$A,$B$5,Journal!$B:$B,\">=\"&'Detailed Stats'!AE$2,Journal!$B:$B, \"<=\"&'Detailed Stats'!AE$3,Journal!$N:$N,\"<0\")","v":0},{"$f":"SUMIFS(Journal!$N:$N,Journal!$A:$A,$B$5,Journal!$B:$B,\">=\"&'Detailed Stats'!AF$2,Journal!$B:$B, \"<=\"&'Detailed Stats'!AF$3,Journal!$N:$N,\"<0\")","v":0},{"$f":"SUMIFS(Journal!$N:$N,Journal!$A:$A,$B$5,Journal!$B:$B,\">=\"&'Detailed Stats'!AG$2,Journal!$B:$B, \"<=\"&'Detailed Stats'!AG$3,Journal!$N:$N,\"<0\")","v":0},{"$f":"SUMIFS(Journal!$N:$N,Journal!$A:$A,$B$5,Journal!$B:$B,\">=\"&'Detailed Stats'!AH$2,Journal!$B:$B, \"<=\"&'Detailed Stats'!AH$3,Journal!$N:$N,\"<0\")","v":0},{"$f":"SUMIFS(Journal!$N:$N,Journal!$A:$A,$B$5,Journal!$B:$B,\">=\"&'Detailed Stats'!AI$2,Journal!$B:$B, \"<=\"&'Detailed Stats'!AI$3,Journal!$N:$N,\"<0\")","v":0},{"$f":"SUMIFS(Journal!$N:$N,Journal!$A:$A,$B$5,Journal!$B:$B,\">=\"&'Detailed Stats'!AJ$2,Journal!$B:$B, \"<=\"&'Detailed Stats'!AJ$3,Journal!$N:$N,\"<0\")","v":0},{"$f":"SUMIFS(Journal!$N:$N,Journal!$A:$A,$B$5,Journal!$B:$B,\">=\"&'Detailed Stats'!AK$2,Journal!$B:$B, \"<=\"&'Detailed Stats'!AK$3,Journal!$N:$N,\"<0\")","v":0},{"$f":"SUMIFS(Journal!$N:$N,Journal!$A:$A,$B$5,Journal!$B:$B,\">=\"&'Detailed Stats'!AL$2,Journal!$B:$B, \"<=\"&'Detailed Stats'!AL$3,Journal!$N:$N,\"<0\")","v":0},{"$f":"SUMIFS(Journal!$N:$N,Journal!$A:$A,$B$5,Journal!$B:$B,\">=\"&'Detailed Stats'!AM$2,Journal!$B:$B, \"<=\"&'Detailed Stats'!AM$3,Journal!$N:$N,\"<0\")","v":0},{"$f":"SUMIFS(Journal!$N:$N,Journal!$A:$A,$B$5,Journal!$B:$B,\">=\"&'Detailed Stats'!AN$2,Journal!$B:$B, \"<=\"&'Detailed Stats'!AN$3,Journal!$N:$N,\"<0\")","v":0},{"$f":"SUMIFS(Journal!$N:$N,Journal!$A:$A,$B$5,Journal!$B:$B,\">=\"&'Detailed Stats'!AO$2,Journal!$B:$B, \"<=\"&'Detailed Stats'!AO$3,Journal!$N:$N,\"<0\")","v":0},{"$f":"SUMIFS(Journal!$N:$N,Journal!$A:$A,$B$5,Journal!$B:$B,\">=\"&'Detailed Stats'!AP$2,Journal!$B:$B, \"<=\"&'Detailed Stats'!AP$3,Journal!$N:$N,\"<0\")","v":0},{"$f":"SUMIFS(Journal!$N:$N,Journal!$A:$A,$B$5,Journal!$B:$B,\">=\"&'Detailed Stats'!AQ$2,Journal!$B:$B, \"<=\"&'Detailed Stats'!AQ$3,Journal!$N:$N,\"<0\")","v":0},{"$f":"SUMIFS(Journal!$N:$N,Journal!$A:$A,$B$5,Journal!$B:$B,\">=\"&'Detailed Stats'!AR$2,Journal!$B:$B, \"<=\"&'Detailed Stats'!AR$3,Journal!$N:$N,\"<0\")","v":0},{"$f":"SUMIFS(Journal!$N:$N,Journal!$A:$A,$B$5,Journal!$B:$B,\">=\"&'Detailed Stats'!AS$2,Journal!$B:$B, \"<=\"&'Detailed Stats'!AS$3,Journal!$N:$N,\"<0\")","v":0},{"$f":"SUMIFS(Journal!$N:$N,Journal!$A:$A,$B$5,Journal!$B:$B,\">=\"&'Detailed Stats'!AT$2,Journal!$B:$B, \"<=\"&'Detailed Stats'!AT$3,Journal!$N:$N,\"<0\")","v":0},{"$f":"SUMIFS(Journal!$N:$N,Journal!$A:$A,$B$5,Journal!$B:$B,\">=\"&'Detailed Stats'!AU$2,Journal!$B:$B, \"<=\"&'Detailed Stats'!AU$3,Journal!$N:$N,\"<0\")","v":0},{"$f":"SUMIFS(Journal!$N:$N,Journal!$A:$A,$B$5,Journal!$B:$B,\">=\"&'Detailed Stats'!AV$2,Journal!$B:$B, \"<=\"&'Detailed Stats'!AV$3,Journal!$N:$N,\"<0\")","v":0},{"$f":"SUMIFS(Journal!$N:$N,Journal!$A:$A,$B$5,Journal!$B:$B,\">=\"&'Detailed Stats'!AW$2,Journal!$B:$B, \"<=\"&'Detailed Stats'!AW$3,Journal!$N:$N,\"<0\")","v":0},{"$f":"SUMIFS(Journal!$N:$N,Journal!$A:$A,$B$5,Journal!$B:$B,\">=\"&'Detailed Stats'!AX$2,Journal!$B:$B, \"<=\"&'Detailed Stats'!AX$3,Journal!$N:$N,\"<0\")","v":0},{"$f":"SUMIFS(Journal!$N:$N,Journal!$A:$A,$B$5,Journal!$B:$B,\">=\"&'Detailed Stats'!AY$2,Journal!$B:$B, \"<=\"&'Detailed Stats'!AY$3,Journal!$N:$N,\"<0\")","v":0},{"$f":"SUMIFS(Journal!$N:$N,Journal!$A:$A,$B$5,Journal!$B:$B,\">=\"&'Detailed Stats'!AZ$2,Journal!$B:$B, \"<=\"&'Detailed Stats'!AZ$3,Journal!$N:$N,\"<0\")","v":0},{"$f":"SUMIFS(Journal!$N:$N,Journal!$A:$A,$B$5,Journal!$B:$B,\">=\"&'Detailed Stats'!BA$2,Journal!$B:$B, \"<=\"&'Detailed Stats'!BA$3,Journal!$N:$N,\"<0\")","v":0},{"$f":"SUMIFS(Journal!$N:$N,Journal!$A:$A,$B$5,Journal!$B:$B,\">=\"&'Detailed Stats'!BB$2,Journal!$B:$B, \"<=\"&'Detailed Stats'!BB$3,Journal!$N:$N,\"<0\")","v":0},{"$f":"SUMIFS(Journal!$N:$N,Journal!$A:$A,$B$5,Journal!$B:$B,\">=\"&'Detailed Stats'!BC$2,Journal!$B:$B, \"<=\"&'Detailed Stats'!BC$3,Journal!$N:$N,\"<0\")","v":0},{"$f":"SUMIFS(Journal!$N:$N,Journal!$A:$A,$B$5,Journal!$B:$B,\">=\"&'Detailed Stats'!BD$2,Journal!$B:$B, \"<=\"&'Detailed Stats'!BD$3,Journal!$N:$N,\"<0\")","v":0},{"$f":"SUMIFS(Journal!$N:$N,Journal!$A:$A,$B$5,Journal!$B:$B,\">=\"&'Detailed Stats'!BE$2,Journal!$B:$B, \"<=\"&'Detailed Stats'!BE$3,Journal!$N:$N,\"<0\")","v":0}]
[null,"Tue",{"$f":"SUMIFS(Journal!$N:$N,Journal!$A:$A,'Detailed Stats'!B25,Journal!$N:$N,\"<0\")","v":0},null,{"$f":"B25","v":"Tue"},{"$f":"SUMIFS(Journal!$N:$N,Journal!$A:$A,$B$6,Journal!$B:$B,\">=\"&'Detailed Stats'!F$2,Journal!$B:$B, \"<=\"&'Detailed Stats'!F$3,Journal!$N:$N,\"<0\")","v":0},{"$f":"SUMIFS(Journal!$N:$N,Journal!$A:$A,$B$6,Journal!$B:$B,\">=\"&'Detailed Stats'!G$2,Journal!$B:$B, \"<=\"&'Detailed Stats'!G$3,Journal!$N:$N,\"<0\")","v":0},{"$f":"SUMIFS(Journal!$N:$N,Journal!$A:$A,$B$6,Journal!$B:$B,\">=\"&'Detailed Stats'!H$2,Journal!$B:$B, \"<=\"&'Detailed Stats'!H$3,Journal!$N:$N,\"<0\")","v":0},{"$f":"SUMIFS(Journal!$N:$N,Journal!$A:$A,$B$6,Journal!$B:$B,\">=\"&'Detailed Stats'!I$2,Journal!$B:$B, \"<=\"&'Detailed Stats'!I$3,Journal!$N:$N,\"<0\")","v":0},{"$f":"SUMIFS(Journal!$N:$N,Journal!$A:$A,$B$6,Journal!$B:$B,\">=\"&'Detailed Stats'!J$2,Journal!$B:$B, \"<=\"&'Detailed Stats'!J$3,Journal!$N:$N,\"<0\")","v":0},{"$f":"SUMIFS(Journal!$N:$N,Journal!$A:$A,$B$6,Journal!$B:$B,\">=\"&'Detailed Stats'!K$2,Journal!$B:$B, \"<=\"&'Detailed Stats'!K$3,Journal!$N:$N,\"<0\")","v":0},{"$f":"SUMIFS(Journal!$N:$N,Journal!$A:$A,$B$6,Journal!$B:$B,\">=\"&'Detailed Stats'!L$2,Journal!$B:$B, \"<=\"&'Detailed Stats'!L$3,Journal!$N:$N,\"<0\")","v":0},{"$f":"SUMIFS(Journal!$N:$N,Journal!$A:$A,$B$6,Journal!$B:$B,\">=\"&'Detailed Stats'!M$2,Journal!$B:$B, \"<=\"&'Detailed Stats'!M$3,Journal!$N:$N,\"<0\")","v":0},{"$f":"SUMIFS(Journal!$N:$N,Journal!$A:$A,$B$6,Journal!$B:$B,\">=\"&'Detailed Stats'!N$2,Journal!$B:$B, \"<=\"&'Detailed Stats'!N$3,Journal!$N:$N,\"<0\")","v":0},{"$f":"SUMIFS(Journal!$N:$N,Journal!$A:$A,$B$6,Journal!$B:$B,\">=\"&'Detailed Stats'!O$2,Journal!$B:$B, \"<=\"&'Detailed Stats'!O$3,Journal!$N:$N,\"<0\")","v":0},{"$f":"SUMIFS(Journal!$N:$N,Journal!$A:$A,$B$6,Journal!$B:$B,\">=\"&'Detailed Stats'!P$2,Journal!$B:$B, \"<=\"&'Detailed Stats'!P$3,Journal!$N:$N,\"<0\")","v":0},{"$f":"SUMIFS(Journal!$N:$N,Journal!$A:$A,$B$6,Journal!$B:$B,\">=\"&'Detailed Stats'!Q$2,Journal!$B:$B, \"<=\"&'Detailed Stats'!Q$3,Journal!$N:$N,\"<0\")","v":0},{"$f":"SUMIFS(Journal!$N:$N,Journal!$A:$A,$B$6,Journal!$B:$B,\">=\"&'Detailed Stats'!R$2,Journal!$B:$B, \"<=\"&'Detailed Stats'!R$3,Journal!$N:$N,\"<0\")","v":0},{"$f":"SUMIFS(Journal!$N:$N,Journal!$A:$A,$B$6,Journal!$B:$B,\">=\"&'Detailed Stats'!S$2,Journal!$B:$B, \"<=\"&'Detailed Stats'!S$3,Journal!$N:$N,\"<0\")","v":0},{"$f":"SUMIFS(Journal!$N:$N,Journal!$A:$A,$B$6,Journal!$B:$B,\">=\"&'Detailed Stats'!T$2,Journal!$B:$B, \"<=\"&'Detailed Stats'!T$3,Journal!$N:$N,\"<0\")","v":0},{"$f":"SUMIFS(Journal!$N:$N,Journal!$A:$A,$B$6,Journal!$B:$B,\">=\"&'Detailed Stats'!U$2,Journal!$B:$B, \"<=\"&'Detailed Stats'!U$3,Journal!$N:$N,\"<0\")","v":0},{"$f":"SUMIFS(Journal!$N:$N,Journal!$A:$A,$B$6,Journal!$B:$B,\">=\"&'Detailed Stats'!V$2,Journal!$B:$B, \"<=\"&'Detailed Stats'!V$3,Journal!$N:$N,\"<0\")","v":0},{"$f":"SUMIFS(Journal!$N:$N,Journal!$A:$A,$B$6,Journal!$B:$B,\">=\"&'Detailed Stats'!W$2,Journal!$B:$B, \"<=\"&'Detailed Stats'!W$3,Journal!$N:$N,\"<0\")","v":0},{"$f":"SUMIFS(Journal!$N:$N,Journal!$A:$A,$B$6,Journal!$B:$B,\">=\"&'Detailed Stats'!X$2,Journal!$B:$B, \"<=\"&'Detailed Stats'!X$3,Journal!$N:$N,\"<0\")","v":0},{"$f":"SUMIFS(Journal!$N:$N,Journal!$A:$A,$B$6,Journal!$B:$B,\">=\"&'Detailed Stats'!Y$2,Journal!$B:$B, \"<=\"&'Detailed Stats'!Y$3,Journal!$N:$N,\"<0\")","v":0},{"$f":"SUMIFS(Journal!$N:$N,Journal!$A:$A,$B$6,Journal!$B:$B,\">=\"&'Detailed Stats'!Z$2,Journal!$B:$B, \"<=\"&'Detailed Stats'!Z$3,Journal!$N:$N,\"<0\")","v":0},{"$f":"SUMIFS(Journal!$N:$N,Journal!$A:$A,$B$6,Journal!$B:$B,\">=\"&'Detailed Stats'!AA$2,Journal!$B:$B, \"<=\"&'Detailed Stats'!AA$3,Journal!$N:$N,\"<0\")","v":0},{"$f":"SUMIFS(Journal!$N:$N,Journal!$A:$A,$B$6,Journal!$B:$B,\">=\"&'Detailed Stats'!AB$2,Journal!$B:$B, \"<=\"&'Detailed Stats'!AB$3,Journal!$N:$N,\"<0\")","v":0},{"$f":"SUMIFS(Journal!$N:$N,Journal!$A:$A,$B$6,Journal!$B:$B,\">=\"&'Detailed Stats'!AC$2,Journal!$B:$B, \"<=\"&'Detailed Stats'!AC$3,Journal!$N:$N,\"<0\")","v":0},{"$f":"SUMIFS(Journal!$N:$N,Journal!$A:$A,$B$6,Journal!$B:$B,\">=\"&'Detailed Stats'!AD$2,Journal!$B:$B, \"<=\"&'Detailed Stats'!AD$3,Journal!$N:$N,\"<0\")","v":0},{"$f":"SUMIFS(Journal!$N:$N,Journal!$A:$A,$B$6,Journal!$B:$B,\">=\"&'Detailed Stats'!AE$2,Journal!$B:$B, \"<=\"&'Detailed Stats'!AE$3,Journal!$N:$N,\"<0\")","v":0},{"$f":"SUMIFS(Journal!$N:$N,Journal!$A:$A,$B$6,Journal!$B:$B,\">=\"&'Detailed Stats'!AF$2,Journal!$B:$B, \"<=\"&'Detailed Stats'!AF$3,Journal!$N:$N,\"<0\")","v":0},{"$f":"SUMIFS(Journal!$N:$N,Journal!$A:$A,$B$6,Journal!$B:$B,\">=\"&'Detailed Stats'!AG$2,Journal!$B:$B, \"<=\"&'Detailed Stats'!AG$3,Journal!$N:$N,\"<0\")","v":0},{"$f":"SUMIFS(Journal!$N:$N,Journal!$A:$A,$B$6,Journal!$B:$B,\">=\"&'Detailed Stats'!AH$2,Journal!$B:$B, \"<=\"&'Detailed Stats'!AH$3,Journal!$N:$N,\"<0\")","v":0},{"$f":"SUMIFS(Journal!$N:$N,Journal!$A:$A,$B$6,Journal!$B:$B,\">=\"&'Detailed Stats'!AI$2,Journal!$B:$B, \"<=\"&'Detailed Stats'!AI$3,Journal!$N:$N,\"<0\")","v":0},{"$f":"SUMIFS(Journal!$N:$N,Journal!$A:$A,$B$6,Journal!$B:$B,\">=\"&'Detailed Stats'!AJ$2,Journal!$B:$B, \"<=\"&'Detailed Stats'!AJ$3,Journal!$N:$N,\"<0\")","v":0},{"$f":"SUMIFS(Journal!$N:$N,Journal!$A:$A,$B$6,Journal!$B:$B,\">=\"&'Detailed Stats'!AK$2,Journal!$B:$B, \"<=\"&'Detailed Stats'!AK$3,Journal!$N:$N,\"<0\")","v":0},{"$f":"SUMIFS(Journal!$N:$N,Journal!$A:$A,$B$6,Journal!$B:$B,\">=\"&'Detailed Stats'!AL$2,Journal!$B:$B, \"<=\"&'Detailed Stats'!AL$3,Journal!$N:$N,\"<0\")","v":0},{"$f":"SUMIFS(Journal!$N:$N,Journal!$A:$A,$B$6,Journal!$B:$B,\">=\"&'Detailed Stats'!AM$2,Journal!$B:$B, \"<=\"&'Detailed Stats'!AM$3,Journal!$N:$N,\"<0\")","v":0},{"$f":"SUMIFS(Journal!$N:$N,Journal!$A:$A,$B$6,Journal!$B:$B,\">=\"&'Detailed Stats'!AN$2,Journal!$B:$B, \"<=\"&'Detailed Stats'!AN$3,Journal!$N:$N,\"<0\")","v":0},{"$f":"SUMIFS(Journal!$N:$N,Journal!$A:$A,$B$6,Journal!$B:$B,\">=\"&'Detailed Stats'!AO$2,Journal!$B:$B, \"<=\"&'Detailed Stats'!AO$3,Journal!$N:$N,\"<0\")","v":0},{"$f":"SUMIFS(Journal!$N:$N,Journal!$A:$A,$B$6,Journal!$B:$B,\">=\"&'Detailed Stats'!AP$2,Journal!$B:$B, \"<=\"&'Detailed Stats'!AP$3,Journal!$N:$N,\"<0\")","v":0},{"$f":"SUMIFS(Journal!$N:$N,Journal!$A:$A,$B$6,Journal!$B:$B,\">=\"&'Detailed Stats'!AQ$2,Journal!$B:$B, \"<=\"&'Detailed Stats'!AQ$3,Journal!$N:$N,\"<0\")","v":0},{"$f":"SUMIFS(Journal!$N:$N,Journal!$A:$A,$B$6,Journal!$B:$B,\">=\"&'Detailed Stats'!AR$2,Journal!$B:$B, \"<=\"&'Detailed Stats'!AR$3,Journal!$N:$N,\"<0\")","v":0},{"$f":"SUMIFS(Journal!$N:$N,Journal!$A:$A,$B$6,Journal!$B:$B,\">=\"&'Detailed Stats'!AS$2,Journal!$B:$B, \"<=\"&'Detailed Stats'!AS$3,Journal!$N:$N,\"<0\")","v":0},{"$f":"SUMIFS(Journal!$N:$N,Journal!$A:$A,$B$6,Journal!$B:$B,\">=\"&'Detailed Stats'!AT$2,Journal!$B:$B, \"<=\"&'Detailed Stats'!AT$3,Journal!$N:$N,\"<0\")","v":0},{"$f":"SUMIFS(Journal!$N:$N,Journal!$A:$A,$B$6,Journal!$B:$B,\">=\"&'Detailed Stats'!AU$2,Journal!$B:$B, \"<=\"&'Detailed Stats'!AU$3,Journal!$N:$N,\"<0\")","v":0},{"$f":"SUMIFS(Journal!$N:$N,Journal!$A:$A,$B$6,Journal!$B:$B,\">=\"&'Detailed Stats'!AV$2,Journal!$B:$B, \"<=\"&'Detailed Stats'!AV$3,Journal!$N:$N,\"<0\")","v":0},{"$f":"SUMIFS(Journal!$N:$N,Journal!$A:$A,$B$6,Journal!$B:$B,\">=\"&'Detailed Stats'!AW$2,Journal!$B:$B, \"<=\"&'Detailed Stats'!AW$3,Journal!$N:$N,\"<0\")","v":0},{"$f":"SUMIFS(Journal!$N:$N,Journal!$A:$A,$B$6,Journal!$B:$B,\">=\"&'Detailed Stats'!AX$2,Journal!$B:$B, \"<=\"&'Detailed Stats'!AX$3,Journal!$N:$N,\"<0\")","v":0},{"$f":"SUMIFS(Journal!$N:$N,Journal!$A:$A,$B$6,Journal!$B:$B,\">=\"&'Detailed Stats'!AY$2,Journal!$B:$B, \"<=\"&'Detailed Stats'!AY$3,Journal!$N:$N,\"<0\")","v":0},{"$f":"SUMIFS(Journal!$N:$N,Journal!$A:$A,$B$6,Journal!$B:$B,\">=\"&'Detailed Stats'!AZ$2,Journal!$B:$B, \"<=\"&'Detailed Stats'!AZ$3,Journal!$N:$N,\"<0\")","v":0},{"$f":"SUMIFS(Journal!$N:$N,Journal!$A:$A,$B$6,Journal!$B:$B,\">=\"&'Detailed Stats'!BA$2,Journal!$B:$B, \"<=\"&'Detailed Stats'!BA$3,Journal!$N:$N,\"<0\")","v":0},{"$f":"SUMIFS(Journal!$N:$N,Journal!$A:$A,$B$6,Journal!$B:$B,\">=\"&'Detailed Stats'!BB$2,Journal!$B:$B, \"<=\"&'Detailed Stats'!BB$3,Journal!$N:$N,\"<0\")","v":0},{"$f":"SUMIFS(Journal!$N:$N,Journal!$A:$A,$B$6,Journal!$B:$B,\">=\"&'Detailed Stats'!BC$2,Journal!$B:$B, \"<=\"&'Detailed Stats'!BC$3,Journal!$N:$N,\"<0\")","v":0},{"$f":"SUMIFS(Journal!$N:$N,Journal!$A:$A,$B$6,Journal!$B:$B,\">=\"&'Detailed Stats'!BD$2,Journal!$B:$B, \"<=\"&'Detailed Stats'!BD$3,Journal!$N:$N,\"<0\")","v":0},{"$f":"SUMIFS(Journal!$N:$N,Journal!$A:$A,$B$6,Journal!$B:$B,\">=\"&'Detailed Stats'!BE$2,Journal!$B:$B, \"<=\"&'Detailed Stats'!BE$3,Journal!$N:$N,\"<0\")","v":0}]
[null,"Wed",{"$f":"SUMIFS(Journal!$N:$N,Journal!$A:$A,'Detailed Stats'!B26,Journal!$N:$N,\"<0\")","v":0},null,{"$f":"B26","v":"Wed"},{"$f":"SUMIFS(Journal!$N:$N,Journal!$A:$A,$B$7,Journal!$B:$B,\">=\"&'Detailed Stats'!F$2,Journal!$B:$B, \"<=\"&'Detailed Stats'!F$3,Journal!$N:$N,\"<0\")","v":0},{"$f":"SUMIFS(Journal!$N:$N,Journal!$A:$A,$B$7,Journal!$B:$B,\">=\"&'Detailed Stats'!G$2,Journal!$B:$B, \"<=\"&'Detailed Stats'!G$3,Journal!$N:$N,\"<0\")","v":0},{"$f":"SUMIFS(Journal!$N:$N,Journal!$A:$A,$B$7,Journal!$B:$B,\">=\"&'Detailed Stats'!H$2,Journal!$B:$B, \"<=\"&'Detailed Stats'!H$3,Journal!$N:$N,\"<0\")","v":0},{"$f":"SUMIFS(Journal!$N:$N,Journal!$A:$A,$B$7,Journal!$B:$B,\">=\"&'Detailed Stats'!I$2,Journal!$B:$B, \"<=\"&'Detailed Stats'!I$3,Journal!$N:$N,\"<0\")","v":0},{"$f":"SUMIFS(Journal!$N:$N,Journal!$A:$A,$B$7,Journal!$B:$B,\">=\"&'Detailed Stats'!J$2,Journal!$B:$B, \"<=\"&'Detailed Stats'!J$3,Journal!$N:$N,\"<0\")","v":0},{"$f":"SUMIFS(Journal!$N:$N,Journal!$A:$A,$B$7,Journal!$B:$B,\">=\"&'Detailed Stats'!K$2,Journal!$B:$B, \"<=\"&'Detailed Stats'!K$3,Journal!$N:$N,\"<0\")","v":0},{"$f":"SUMIFS(Journal!$N:$N,Journal!$A:$A,$B$7,Journal!$B:$B,\">=\"&'Detailed Stats'!L$2,Journal!$B:$B, \"<=\"&'Detailed Stats'!L$3,Journal!$N:$N,\"<0\")","v":0},{"$f":"SUMIFS(Journal!$N:$N,Journal!$A:$A,$B$7,Journal!$B:$B,\">=\"&'Detailed Stats'!M$2,Journal!$B:$B, \"<=\"&'Detailed Stats'!M$3,Journal!$N:$N,\"<0\")","v":0},{"$f":"SUMIFS(Journal!$N:$N,Journal!$A:$A,$B$7,Journal!$B:$B,\">=\"&'Detailed Stats'!N$2,Journal!$B:$B, \"<=\"&'Detailed Stats'!N$3,Journal!$N:$N,\"<0\")","v":0},{"$f":"SUMIFS(Journal!$N:$N,Journal!$A:$A,$B$7,Journal!$B:$B,\">=\"&'Detailed Stats'!O$2,Journal!$B:$B, \"<=\"&'Detailed Stats'!O$3,Journal!$N:$N,\"<0\")","v":0},{"$f":"SUMIFS(Journal!$N:$N,Journal!$A:$A,$B$7,Journal!$B:$B,\">=\"&'Detailed Stats'!P$2,Journal!$B:$B, \"<=\"&'Detailed Stats'!P$3,Journal!$N:$N,\"<0\")","v":0},{"$f":"SUMIFS(Journal!$N:$N,Journal!$A:$A,$B$7,Journal!$B:$B,\">=\"&'Detailed Stats'!Q$2,Journal!$B:$B, \"<=\"&'Detailed Stats'!Q$3,Journal!$N:$N,\"<0\")","v":0},{"$f":"SUMIFS(Journal!$N:$N,Journal!$A:$A,$B$7,Journal!$B:$B,\">=\"&'Detailed Stats'!R$2,Journal!$B:$B, \"<=\"&'Detailed Stats'!R$3,Journal!$N:$N,\"<0\")","v":0},{"$f":"SUMIFS(Journal!$N:$N,Journal!$A:$A,$B$7,Journal!$B:$B,\">=\"&'Detailed Stats'!S$2,Journal!$B:$B, \"<=\"&'Detailed Stats'!S$3,Journal!$N:$N,\"<0\")","v":0},{"$f":"SUMIFS(Journal!$N:$N,Journal!$A:$A,$B$7,Journal!$B:$B,\">=\"&'Detailed Stats'!T$2,Journal!$B:$B, \"<=\"&'Detailed Stats'!T$3,Journal!$N:$N,\"<0\")","v":0},{"$f":"SUMIFS(Journal!$N:$N,Journal!$A:$A,$B$7,Journal!$B:$B,\">=\"&'Detailed Stats'!U$2,Journal!$B:$B, \"<=\"&'Detailed Stats'!U$3,Journal!$N:$N,\"<0\")","v":0},{"$f":"SUMIFS(Journal!$N:$N,Journal!$A:$A,$B$7,Journal!$B:$B,\">=\"&'Detailed Stats'!V$2,Journal!$B:$B, \"<=\"&'Detailed Stats'!V$3,Journal!$N:$N,\"<0\")","v":0},{"$f":"SUMIFS(Journal!$N:$N,Journal!$A:$A,$B$7,Journal!$B:$B,\">=\"&'Detailed Stats'!W$2,Journal!$B:$B, \"<=\"&'Detailed Stats'!W$3,Journal!$N:$N,\"<0\")","v":0},{"$f":"SUMIFS(Journal!$N:$N,Journal!$A:$A,$B$7,Journal!$B:$B,\">=\"&'Detailed Stats'!X$2,Journal!$B:$B, \"<=\"&'Detailed Stats'!X$3,Journal!$N:$N,\"<0\")","v":0},{"$f":"SUMIFS(Journal!$N:$N,Journal!$A:$A,$B$7,Journal!$B:$B,\">=\"&'Detailed Stats'!Y$2,Journal!$B:$B, \"<=\"&'Detailed Stats'!Y$3,Journal!$N:$N,\"<0\")","v":0},{"$f":"SUMIFS(Journal!$N:$N,Journal!$A:$A,$B$7,Journal!$B:$B,\">=\"&'Detailed Stats'!Z$2,Journal!$B:$B, \"<=\"&'Detailed Stats'!Z$3,Journal!$N:$N,\"<0\")","v":0},{"$f":"SUMIFS(Journal!$N:$N,Journal!$A:$A,$B$7,Journal!$B:$B,\">=\"&'Detailed Stats'!AA$2,Journal!$B:$B, \"<=\"&'Detailed Stats'!AA$3,Journal!$N:$N,\"<0\")","v":0},{"$f":"SUMIFS(Journal!$N:$N,Journal!$A:$A,$B$7,Journal!$B:$B,\">=\"&'Detailed Stats'!AB$2,Journal!$B:$B, \"<=\"&'Detailed Stats'!AB$3,Journal!$N:$N,\"<0\")","v":0},{"$f":"SUMIFS(Journal!$N:$N,Journal!$A:$A,$B$7,Journal!$B:$B,\">=\"&'Detailed Stats'!AC$2,Journal!$B:$B, \"<=\"&'Detailed Stats'!AC$3,Journal!$N:$N,\"<0\")","v":0},{"$f":"SUMIFS(Journal!$N:$N,Journal!$A:$A,$B$7,Journal!$B:$B,\">=\"&'Detailed Stats'!AD$2,Journal!$B:$B, \"<=\"&'Detailed Stats'!AD$3,Journal!$N:$N,\"<0\")","v":0},{"$f":"SUMIFS(Journal!$N:$N,Journal!$A:$A,$B$7,Journal!$B:$B,\">=\"&'Detailed Stats'!AE$2,Journal!$B:$B, \"<=\"&'Detailed Stats'!AE$3,Journal!$N:$N,\"<0\")","v":0},{"$f":"SUMIFS(Journal!$N:$N,Journal!$A:$A,$B$7,Journal!$B:$B,\">=\"&'Detailed Stats'!AF$2,Journal!$B:$B, \"<=\"&'Detailed Stats'!AF$3,Journal!$N:$N,\"<0\")","v":0},{"$f":"SUMIFS(Journal!$N:$N,Journal!$A:$A,$B$7,Journal!$B:$B,\">=\"&'Detailed Stats'!AG$2,Journal!$B:$B, \"<=\"&'Detailed Stats'!AG$3,Journal!$N:$N,\"<0\")","v":0},{"$f":"SUMIFS(Journal!$N:$N,Journal!$A:$A,$B$7,Journal!$B:$B,\">=\"&'Detailed Stats'!AH$2,Journal!$B:$B, \"<=\"&'Detailed Stats'!AH$3,Journal!$N:$N,\"<0\")","v":0},{"$f":"SUMIFS(Journal!$N:$N,Journal!$A:$A,$B$7,Journal!$B:$B,\">=\"&'Detailed Stats'!AI$2,Journal!$B:$B, \"<=\"&'Detailed Stats'!AI$3,Journal!$N:$N,\"<0\")","v":0},{"$f":"SUMIFS(Journal!$N:$N,Journal!$A:$A,$B$7,Journal!$B:$B,\">=\"&'Detailed Stats'!AJ$2,Journal!$B:$B, \"<=\"&'Detailed Stats'!AJ$3,Journal!$N:$N,\"<0\")","v":0},{"$f":"SUMIFS(Journal!$N:$N,Journal!$A:$A,$B$7,Journal!$B:$B,\">=\"&'Detailed Stats'!AK$2,Journal!$B:$B, \"<=\"&'Detailed Stats'!AK$3,Journal!$N:$N,\"<0\")","v":0},{"$f":"SUMIFS(Journal!$N:$N,Journal!$A:$A,$B$7,Journal!$B:$B,\">=\"&'Detailed Stats'!AL$2,Journal!$B:$B, \"<=\"&'Detailed Stats'!AL$3,Journal!$N:$N,\"<0\")","v":0},{"$f":"SUMIFS(Journal!$N:$N,Journal!$A:$A,$B$7,Journal!$B:$B,\">=\"&'Detailed Stats'!AM$2,Journal!$B:$B, \"<=\"&'Detailed Stats'!AM$3,Journal!$N:$N,\"<0\")","v":0},{"$f":"SUMIFS(Journal!$N:$N,Journal!$A:$A,$B$7,Journal!$B:$B,\">=\"&'Detailed Stats'!AN$2,Journal!$B:$B, \"<=\"&'Detailed Stats'!AN$3,Journal!$N:$N,\"<0\")","v":0},{"$f":"SUMIFS(Journal!$N:$N,Journal!$A:$A,$B$7,Journal!$B:$B,\">=\"&'Detailed Stats'!AO$2,Journal!$B:$B, \"<=\"&'Detailed Stats'!AO$3,Journal!$N:$N,\"<0\")","v":0},{"$f":"SUMIFS(Journal!$N:$N,Journal!$A:$A,$B$7,Journal!$B:$B,\">=\"&'Detailed Stats'!AP$2,Journal!$B:$B, \"<=\"&'Detailed Stats'!AP$3,Journal!$N:$N,\"<0\")","v":0},{"$f":"SUMIFS(Journal!$N:$N,Journal!$A:$A,$B$7,Journal!$B:$B,\">=\"&'Detailed Stats'!AQ$2,Journal!$B:$B, \"<=\"&'Detailed Stats'!AQ$3,Journal!$N:$N,\"<0\")","v":0},{"$f":"SUMIFS(Journal!$N:$N,Journal!$A:$A,$B$7,Journal!$B:$B,\">=\"&'Detailed Stats'!AR$2,Journal!$B:$B, \"<=\"&'Detailed Stats'!AR$3,Journal!$N:$N,\"<0\")","v":0},{"$f":"SUMIFS(Journal!$N:$N,Journal!$A:$A,$B$7,Journal!$B:$B,\">=\"&'Detailed Stats'!AS$2,Journal!$B:$B, \"<=\"&'Detailed Stats'!AS$3,Journal!$N:$N,\"<0\")","v":0},{"$f":"SUMIFS(Journal!$N:$N,Journal!$A:$A,$B$7,Journal!$B:$B,\">=\"&'Detailed Stats'!AT$2,Journal!$B:$B, \"<=\"&'Detailed Stats'!AT$3,Journal!$N:$N,\"<0\")","v":0},{"$f":"SUMIFS(Journal!$N:$N,Journal!$A:$A,$B$7,Journal!$B:$B,\">=\"&'Detailed Stats'!AU$2,Journal!$B:$B, \"<=\"&'Detailed Stats'!AU$3,Journal!$N:$N,\"<0\")","v":0},{"$f":"SUMIFS(Journal!$N:$N,Journal!$A:$A,$B$7,Journal!$B:$B,\">=\"&'Detailed Stats'!AV$2,Journal!$B:$B, \"<=\"&'Detailed Stats'!AV$3,Journal!$N:$N,\"<0\")","v":0},{"$f":"SUMIFS(Journal!$N:$N,Journal!$A:$A,$B$7,Journal!$B:$B,\">=\"&'Detailed Stats'!AW$2,Journal!$B:$B, \"<=\"&'Detailed Stats'!AW$3,Journal!$N:$N,\"<0\")","v":0},{"$f":"SUMIFS(Journal!$N:$N,Journal!$A:$A,$B$7,Journal!$B:$B,\">=\"&'Detailed Stats'!AX$2,Journal!$B:$B, \"<=\"&'Detailed Stats'!AX$3,Journal!$N:$N,\"<0\")","v":0},{"$f":"SUMIFS(Journal!$N:$N,Journal!$A:$A,$B$7,Journal!$B:$B,\">=\"&'Detailed Stats'!AY$2,Journal!$B:$B, \"<=\"&'Detailed Stats'!AY$3,Journal!$N:$N,\"<0\")","v":0},{"$f":"SUMIFS(Journal!$N:$N,Journal!$A:$A,$B$7,Journal!$B:$B,\">=\"&'Detailed Stats'!AZ$2,Journal!$B:$B, \"<=\"&'Detailed Stats'!AZ$3,Journal!$N:$N,\"<0\")","v":0},{"$f":"SUMIFS(Journal!$N:$N,Journal!$A:$A,$B$7,Journal!$B:$B,\">=\"&'Detailed Stats'!BA$2,Journal!$B:$B, \"<=\"&'Detailed Stats'!BA$3,Journal!$N:$N,\"<0\")","v":0},{"$f":"SUMIFS(Journal!$N:$N,Journal!$A:$A,$B$7,Journal!$B:$B,\">=\"&'Detailed Stats'!BB$2,Journal!$B:$B, \"<=\"&'Detailed Stats'!BB$3,Journal!$N:$N,\"<0\")","v":0},{"$f":"SUMIFS(Journal!$N:$N,Journal!$A:$A,$B$7,Journal!$B:$B,\">=\"&'Detailed Stats'!BC$2,Journal!$B:$B, \"<=\"&'Detailed Stats'!BC$3,Journal!$N:$N,\"<0\")","v":0},{"$f":"SUMIFS(Journal!$N:$N,Journal!$A:$A,$B$7,Journal!$B:$B,\">=\"&'Detailed Stats'!BD$2,Journal!$B:$B, \"<=\"&'Detailed Stats'!BD$3,Journal!$N:$N,\"<0\")","v":0},{"$f":"SUMIFS(Journal!$N:$N,Journal!$A:$A,$B$7,Journal!$B:$B,\">=\"&'Detailed Stats'!BE$2,Journal!$B:$B, \"<=\"&'Detailed Stats'!BE$3,Journal!$N:$N,\"<0\")","v":0}]
[null,"Thu",{"$f":"SUMIFS(Journal!$N:$N,Journal!$A:$A,'Detailed Stats'!B27,Journal!$N:$N,\"<0\")","v":0},null,{"$f":"B27","v":"Thu"},{"$f":"SUMIFS(Journal!$N:$N,Journal!$A:$A,$B$8,Journal!$B:$B,\">=\"&'Detailed Stats'!F$2,Journal!$B:$B, \"<=\"&'Detailed Stats'!F$3,Journal!$N:$N,\"<0\")","v":0},{"$f":"SUMIFS(Journal!$N:$N,Journal!$A:$A,$B$8,Journal!$B:$B,\">=\"&'Detailed Stats'!G$2,Journal!$B:$B, \"<=\"&'Detailed Stats'!G$3,Journal!$N:$N,\"<0\")","v":0},{"$f":"SUMIFS(Journal!$N:$N,Journal!$A:$A,$B$8,Journal!$B:$B,\">=\"&'Detailed Stats'!H$2,Journal!$B:$B, \"<=\"&'Detailed Stats'!H$3,Journal!$N:$N,\"<0\")","v":0},{"$f":"SUMIFS(Journal!$N:$N,Journal!$A:$A,$B$8,Journal!$B:$B,\">=\"&'Detailed Stats'!I$2,Journal!$B:$B, \"<=\"&'Detailed Stats'!I$3,Journal!$N:$N,\"<0\")","v":0},{"$f":"SUMIFS(Journal!$N:$N,Journal!$A:$A,$B$8,Journal!$B:$B,\">=\"&'Detailed Stats'!J$2,Journal!$B:$B, \"<=\"&'Detailed Stats'!J$3,Journal!$N:$N,\"<0\")","v":0},{"$f":"SUMIFS(Journal!$N:$N,Journal!$A:$A,$B$8,Journal!$B:$B,\">=\"&'Detailed Stats'!K$2,Journal!$B:$B, \"<=\"&'Detailed Stats'!K$3,Journal!$N:$N,\"<0\")","v":0},{"$f":"SUMIFS(Journal!$N:$N,Journal!$A:$A,$B$8,Journal!$B:$B,\">=\"&'Detailed Stats'!L$2,Journal!$B:$B, \"<=\"&'Detailed Stats'!L$3,Journal!$N:$N,\"<0\")","v":0},{"$f":"SUMIFS(Journal!$N:$N,Journal!$A:$A,$B$8,Journal!$B:$B,\">=\"&'Detailed Stats'!M$2,Journal!$B:$B, \"<=\"&'Detailed Stats'!M$3,Journal!$N:$N,\"<0\")","v":0},{"$f":"SUMIFS(Journal!$N:$N,Journal!$A:$A,$B$8,Journal!$B:$B,\">=\"&'Detailed Stats'!N$2,Journal!$B:$B, \"<=\"&'Detailed Stats'!N$3,Journal!$N:$N,\"<0\")","v":0},{"$f":"SUMIFS(Journal!$N:$N,Journal!$A:$A,$B$8,Journal!$B:$B,\">=\"&'Detailed Stats'!O$2,Journal!$B:$B, \"<=\"&'Detailed Stats'!O$3,Journal!$N:$N,\"<0\")","v":0},{"$f":"SUMIFS(Journal!$N:$N,Journal!$A:$A,$B$8,Journal!$B:$B,\">=\"&'Detailed Stats'!P$2,Journal!$B:$B, \"<=\"&'Detailed Stats'!P$3,Journal!$N:$N,\"<0\")","v":0},{"$f":"SUMIFS(Journal!$N:$N,Journal!$A:$A,$B$8,Journal!$B:$B,\">=\"&'Detailed Stats'!Q$2,Journal!$B:$B, \"<=\"&'Detailed Stats'!Q$3,Journal!$N:$N,\"<0\")","v":0},{"$f":"SUMIFS(Journal!$N:$N,Journal!$A:$A,$B$8,Journal!$B:$B,\">=\"&'Detailed Stats'!R$2,Journal!$B:$B, \"<=\"&'Detailed Stats'!R$3,Journal!$N:$N,\"<0\")","v":0},{"$f":"SUMIFS(Journal!$N:$N,Journal!$A:$A,$B$8,Journal!$B:$B,\">=\"&'Detailed Stats'!S$2,Journal!$B:$B, \"<=\"&'Detailed Stats'!S$3,Journal!$N:$N,\"<0\")","v":0},{"$f":"SUMIFS(Journal!$N:$N,Journal!$A:$A,$B$8,Journal!$B:$B,\">=\"&'Detailed Stats'!T$2,Journal!$B:$B, \"<=\"&'Detailed Stats'!T$3,Journal!$N:$N,\"<0\")","v":0},{"$f":"SUMIFS(Journal!$N:$N,Journal!$A:$A,$B$8,Journal!$B:$B,\">=\"&'Detailed Stats'!U$2,Journal!$B:$B, \"<=\"&'Detailed Stats'!U$3,Journal!$N:$N,\"<0\")","v":0},{"$f":"SUMIFS(Journal!$N:$N,Journal!$A:$A,$B$8,Journal!$B:$B,\">=\"&'Detailed Stats'!V$2,Journal!$B:$B, \"<=\"&'Detailed Stats'!V$3,Journal!$N:$N,\"<0\")","v":0},{"$f":"SUMIFS(Journal!$N:$N,Journal!$A:$A,$B$8,Journal!$B:$B,\">=\"&'Detailed Stats'!W$2,Journal!$B:$B, \"<=\"&'Detailed Stats'!W$3,Journal!$N:$N,\"<0\")","v":0},{"$f":"SUMIFS(Journal!$N:$N,Journal!$A:$A,$B$8,Journal!$B:$B,\">=\"&'Detailed Stats'!X$2,Journal!$B:$B, \"<=\"&'Detailed Stats'!X$3,Journal!$N:$N,\"<0\")","v":0},{"$f":"SUMIFS(Journal!$N:$N,Journal!$A:$A,$B$8,Journal!$B:$B,\">=\"&'Detailed Stats'!Y$2,Journal!$B:$B, \"<=\"&'Detailed Stats'!Y$3,Journal!$N:$N,\"<0\")","v":0},{"$f":"SUMIFS(Journal!$N:$N,Journal!$A:$A,$B$8,Journal!$B:$B,\">=\"&'Detailed Stats'!Z$2,Journal!$B:$B, \"<=\"&'Detailed Stats'!Z$3,Journal!$N:$N,\"<0\")","v":0},{"$f":"SUMIFS(Journal!$N:$N,Journal!$A:$A,$B$8,Journal!$B:$B,\">=\"&'Detailed Stats'!AA$2,Journal!$B:$B, \"<=\"&'Detailed Stats'!AA$3,Journal!$N:$N,\"<0\")","v":0},{"$f":"SUMIFS(Journal!$N:$N,Journal!$A:$A,$B$8,Journal!$B:$B,\">=\"&'Detailed Stats'!AB$2,Journal!$B:$B, \"<=\"&'Detailed Stats'!AB$3,Journal!$N:$N,\"<0\")","v":0},{"$f":"SUMIFS(Journal!$N:$N,Journal!$A:$A,$B$8,Journal!$B:$B,\">=\"&'Detailed Stats'!AC$2,Journal!$B:$B, \"<=\"&'Detailed Stats'!AC$3,Journal!$N:$N,\"<0\")","v":0},{"$f":"SUMIFS(Journal!$N:$N,Journal!$A:$A,$B$8,Journal!$B:$B,\">=\"&'Detailed Stats'!AD$2,Journal!$B:$B, \"<=\"&'Detailed Stats'!AD$3,Journal!$N:$N,\"<0\")","v":0},{"$f":"SUMIFS(Journal!$N:$N,Journal!$A:$A,$B$8,Journal!$B:$B,\">=\"&'Detailed Stats'!AE$2,Journal!$B:$B, \"<=\"&'Detailed Stats'!AE$3,Journal!$N:$N,\"<0\")","v":0},{"$f":"SUMIFS(Journal!$N:$N,Journal!$A:$A,$B$8,Journal!$B:$B,\">=\"&'Detailed Stats'!AF$2,Journal!$B:$B, \"<=\"&'Detailed Stats'!AF$3,Journal!$N:$N,\"<0\")","v":0},{"$f":"SUMIFS(Journal!$N:$N,Journal!$A:$A,$B$8,Journal!$B:$B,\">=\"&'Detailed Stats'!AG$2,Journal!$B:$B, \"<=\"&'Detailed Stats'!AG$3,Journal!$N:$N,\"<0\")","v":0},{"$f":"SUMIFS(Journal!$N:$N,Journal!$A:$A,$B$8,Journal!$B:$B,\">=\"&'Detailed Stats'!AH$2,Journal!$B:$B, \"<=\"&'Detailed Stats'!AH$3,Journal!$N:$N,\"<0\")","v":0},{"$f":"SUMIFS(Journal!$N:$N,Journal!$A:$A,$B$8,Journal!$B:$B,\">=\"&'Detailed Stats'!AI$2,Journal!$B:$B, \"<=\"&'Detailed Stats'!AI$3,Journal!$N:$N,\"<0\")","v":0},{"$f":"SUMIFS(Journal!$N:$N,Journal!$A:$A,$B$8,Journal!$B:$B,\">=\"&'Detailed Stats'!AJ$2,Journal!$B:$B, \"<=\"&'Detailed Stats'!AJ$3,Journal!$N:$N,\"<0\")","v":0},{"$f":"SUMIFS(Journal!$N:$N,Journal!$A:$A,$B$8,Journal!$B:$B,\">=\"&'Detailed Stats'!AK$2,Journal!$B:$B, \"<=\"&'Detailed Stats'!AK$3,Journal!$N:$N,\"<0\")","v":0},{"$f":"SUMIFS(Journal!$N:$N,Journal!$A:$A,$B$8,Journal!$B:$B,\">=\"&'Detailed Stats'!AL$2,Journal!$B:$B, \"<=\"&'Detailed Stats'!AL$3,Journal!$N:$N,\"<0\")","v":0},{"$f":"SUMIFS(Journal!$N:$N,Journal!$A:$A,$B$8,Journal!$B:$B,\">=\"&'Detailed Stats'!AM$2,Journal!$B:$B, \"<=\"&'Detailed Stats'!AM$3,Journal!$N:$N,\"<0\")","v":0},{"$f":"SUMIFS(Journal!$N:$N,Journal!$A:$A,$B$8,Journal!$B:$B,\">=\"&'Detailed Stats'!AN$2,Journal!$B:$B, \"<=\"&'Detailed Stats'!AN$3,Journal!$N:$N,\"<0\")","v":0},{"$f":"SUMIFS(Journal!$N:$N,Journal!$A:$A,$B$8,Journal!$B:$B,\">=\"&'Detailed Stats'!AO$2,Journal!$B:$B, \"<=\"&'Detailed Stats'!AO$3,Journal!$N:$N,\"<0\")","v":0},{"$f":"SUMIFS(Journal!$N:$N,Journal!$A:$A,$B$8,Journal!$B:$B,\">=\"&'Detailed Stats'!AP$2,Journal!$B:$B, \"<=\"&'Detailed Stats'!AP$3,Journal!$N:$N,\"<0\")","v":0},{"$f":"SUMIFS(Journal!$N:$N,Journal!$A:$A,$B$8,Journal!$B:$B,\">=\"&'Detailed Stats'!AQ$2,Journal!$B:$B, \"<=\"&'Detailed Stats'!AQ$3,Journal!$N:$N,\"<0\")","v":0},{"$f":"SUMIFS(Journal!$N:$N,Journal!$A:$A,$B$8,Journal!$B:$B,\">=\"&'Detailed Stats'!AR$2,Journal!$B:$B, \"<=\"&'Detailed Stats'!AR$3,Journal!$N:$N,\"<0\")","v":0},{"$f":"SUMIFS(Journal!$N:$N,Journal!$A:$A,$B$8,Journal!$B:$B,\">=\"&'Detailed Stats'!AS$2,Journal!$B:$B, \"<=\"&'Detailed Stats'!AS$3,Journal!$N:$N,\"<0\")","v":0},{"$f":"SUMIFS(Journal!$N:$N,Journal!$A:$A,$B$8,Journal!$B:$B,\">=\"&'Detailed Stats'!AT$2,Journal!$B:$B, \"<=\"&'Detailed Stats'!AT$3,Journal!$N:$N,\"<0\")","v":0},{"$f":"SUMIFS(Journal!$N:$N,Journal!$A:$A,$B$8,Journal!$B:$B,\">=\"&'Detailed Stats'!AU$2,Journal!$B:$B, \"<=\"&'Detailed Stats'!AU$3,Journal!$N:$N,\"<0\")","v":0},{"$f":"SUMIFS(Journal!$N:$N,Journal!$A:$A,$B$8,Journal!$B:$B,\">=\"&'Detailed Stats'!AV$2,Journal!$B:$B, \"<=\"&'Detailed Stats'!AV$3,Journal!$N:$N,\"<0\")","v":0},{"$f":"SUMIFS(Journal!$N:$N,Journal!$A:$A,$B$8,Journal!$B:$B,\">=\"&'Detailed Stats'!AW$2,Journal!$B:$B, \"<=\"&'Detailed Stats'!AW$3,Journal!$N:$N,\"<0\")","v":0},{"$f":"SUMIFS(Journal!$N:$N,Journal!$A:$A,$B$8,Journal!$B:$B,\">=\"&'Detailed Stats'!AX$2,Journal!$B:$B, \"<=\"&'Detailed Stats'!AX$3,Journal!$N:$N,\"<0\")","v":0},{"$f":"SUMIFS(Journal!$N:$N,Journal!$A:$A,$B$8,Journal!$B:$B,\">=\"&'Detailed Stats'!AY$2,Journal!$B:$B, \"<=\"&'Detailed Stats'!AY$3,Journal!$N:$N,\"<0\")","v":0},{"$f":"SUMIFS(Journal!$N:$N,Journal!$A:$A,$B$8,Journal!$B:$B,\">=\"&'Detailed Stats'!AZ$2,Journal!$B:$B, \"<=\"&'Detailed Stats'!AZ$3,Journal!$N:$N,\"<0\")","v":0},{"$f":"SUMIFS(Journal!$N:$N,Journal!$A:$A,$B$8,Journal!$B:$B,\">=\"&'Detailed Stats'!BA$2,Journal!$B:$B, \"<=\"&'Detailed Stats'!BA$3,Journal!$N:$N,\"<0\")","v":0},{"$f":"SUMIFS(Journal!$N:$N,Journal!$A:$A,$B$8,Journal!$B:$B,\">=\"&'Detailed Stats'!BB$2,Journal!$B:$B, \"<=\"&'Detailed Stats'!BB$3,Journal!$N:$N,\"<0\")","v":0},{"$f":"SUMIFS(Journal!$N:$N,Journal!$A:$A,$B$8,Journal!$B:$B,\">=\"&'Detailed Stats'!BC$2,Journal!$B:$B, \"<=\"&'Detailed Stats'!BC$3,Journal!$N:$N,\"<0\")","v":0},{"$f":"SUMIFS(Journal!$N:$N,Journal!$A:$A,$B$8,Journal!$B:$B,\">=\"&'Detailed Stats'!BD$2,Journal!$B:$B, \"<=\"&'Detailed Stats'!BD$3,Journal!$N:$N,\"<0\")","v":0},{"$f":"SUMIFS(Journal!$N:$N,Journal!$A:$A,$B$8,Journal!$B:$B,\">=\"&'Detailed Stats'!BE$2,Journal!$B:$B, \"<=\"&'Detailed Stats'!BE$3,Journal!$N:$N,\"<0\")","v":0}]
[null,"Fri",{"$f":"SUMIFS(Journal!$N:$N,Journal!$A:$A,'Detailed Stats'!B28,Journal!$N:$N,\"<0\")","v":0},null,{"$f":"B28","v":"Fri"},{"$f":"SUMIFS(Journal!$N:$N,Journal!$A:$A,$B$9,Journal!$B:$B,\">=\"&'Detailed Stats'!F$2,Journal!$B:$B, \"<=\"&'Detailed Stats'!F$3,Journal!$N:$N,\"<0\")","v":0},{"$f":"SUMIFS(Journal!$N:$N,Journal!$A:$A,$B$9,Journal!$B:$B,\">=\"&'Detailed Stats'!G$2,Journal!$B:$B, \"<=\"&'Detailed Stats'!G$3,Journal!$N:$N,\"<0\")","v":0},{"$f":"SUMIFS(Journal!$N:$N,Journal!$A:$A,$B$9,Journal!$B:$B,\">=\"&'Detailed Stats'!H$2,Journal!$B:$B, \"<=\"&'Detailed Stats'!H$3,Journal!$N:$N,\"<0\")","v":0},{"$f":"SUMIFS(Journal!$N:$N,Journal!$A:$A,$B$9,Journal!$B:$B,\">=\"&'Detailed Stats'!I$2,Journal!$B:$B, \"<=\"&'Detailed Stats'!I$3,Journal!$N:$N,\"<0\")","v":0},{"$f":"SUMIFS(Journal!$N:$N,Journal!$A:$A,$B$9,Journal!$B:$B,\">=\"&'Detailed Stats'!J$2,Journal!$B:$B, \"<=\"&'Detailed Stats'!J$3,Journal!$N:$N,\"<0\")","v":0},{"$f":"SUMIFS(Journal!$N:$N,Journal!$A:$A,$B$9,Journal!$B:$B,\">=\"&'Detailed Stats'!K$2,Journal!$B:$B, \"<=\"&'Detailed Stats'!K$3,Journal!$N:$N,\"<0\")","v":0},{"$f":"SUMIFS(Journal!$N:$N,Journal!$A:$A,$B$9,Journal!$B:$B,\">=\"&'Detailed Stats'!L$2,Journal!$B:$B, \"<=\"&'Detailed Stats'!L$3,Journal!$N:$N,\"<0\")","v":0},{"$f":"SUMIFS(Journal!$N:$N,Journal!$A:$A,$B$9,Journal!$B:$B,\">=\"&'Detailed Stats'!M$2,Journal!$B:$B, \"<=\"&'Detailed Stats'!M$3,Journal!$N:$N,\"<0\")","v":0},{"$f":"SUMIFS(Journal!$N:$N,Journal!$A:$A,$B$9,Journal!$B:$B,\">=\"&'Detailed Stats'!N$2,Journal!$B:$B, \"<=\"&'Detailed Stats'!N$3,Journal!$N:$N,\"<0\")","v":0},{"$f":"SUMIFS(Journal!$N:$N,Journal!$A:$A,$B$9,Journal!$B:$B,\">=\"&'Detailed Stats'!O$2,Journal!$B:$B, \"<=\"&'Detailed Stats'!O$3,Journal!$N:$N,\"<0\")","v":0},{"$f":"SUMIFS(Journal!$N:$N,Journal!$A:$A,$B$9,Journal!$B:$B,\">=\"&'Detailed Stats'!P$2,Journal!$B:$B, \"<=\"&'Detailed Stats'!P$3,Journal!$N:$N,\"<0\")","v":0},{"$f":"SUMIFS(Journal!$N:$N,Journal!$A:$A,$B$9,Journal!$B:$B,\">=\"&'Detailed Stats'!Q$2,Journal!$B:$B, \"<=\"&'Detailed Stats'!Q$3,Journal!$N:$N,\"<0\")","v":0},{"$f":"SUMIFS(Journal!$N:$N,Journal!$A:$A,$B$9,Journal!$B:$B,\">=\"&'Detailed Stats'!R$2,Journal!$B:$B, \"<=\"&'Detailed Stats'!R$3,Journal!$N:$N,\"<0\")","v":0},{"$f":"SUMIFS(Journal!$N:$N,Journal!$A:$A,$B$9,Journal!$B:$B,\">=\"&'Detailed Stats'!S$2,Journal!$B:$B, \"<=\"&'Detailed Stats'!S$3,Journal!$N:$N,\"<0\")","v":0},{"$f":"SUMIFS(Journal!$N:$N,Journal!$A:$A,$B$9,Journal!$B:$B,\">=\"&'Detailed Stats'!T$2,Journal!$B:$B, \"<=\"&'Detailed Stats'!T$3,Journal!$N:$N,\"<0\")","v":0},{"$f":"SUMIFS(Journal!$N:$N,Journal!$A:$A,$B$9,Journal!$B:$B,\">=\"&'Detailed Stats'!U$2,Journal!$B:$B, \"<=\"&'Detailed Stats'!U$3,Journal!$N:$N,\"<0\")","v":0},{"$f":"SUMIFS(Journal!$N:$N,Journal!$A:$A,$B$9,Journal!$B:$B,\">=\"&'Detailed Stats'!V$2,Journal!$B:$B, \"<=\"&'Detailed Stats'!V$3,Journal!$N:$N,\"<0\")","v":0},{"$f":"SUMIFS(Journal!$N:$N,Journal!$A:$A,$B$9,Journal!$B:$B,\">=\"&'Detailed Stats'!W$2,Journal!$B:$B, \"<=\"&'Detailed Stats'!W$3,Journal!$N:$N,\"<0\")","v":0},{"$f":"SUMIFS(Journal!$N:$N,Journal!$A:$A,$B$9,Journal!$B:$B,\">=\"&'Detailed Stats'!X$2,Journal!$B:$B, \"<=\"&'Detailed Stats'!X$3,Journal!$N:$N,\"<0\")","v":0},{"$f":"SUMIFS(Journal!$N:$N,Journal!$A:$A,$B$9,Journal!$B:$B,\">=\"&'Detailed Stats'!Y$2,Journal!$B:$B, \"<=\"&'Detailed Stats'!Y$3,Journal!$N:$N,\"<0\")","v":0},{"$f":"SUMIFS(Journal!$N:$N,Journal!$A:$A,$B$9,Journal!$B:$B,\">=\"&'Detailed Stats'!Z$2,Journal!$B:$B, \"<=\"&'Detailed Stats'!Z$3,Journal!$N:$N,\"<0\")","v":0},{"$f":"SUMIFS(Journal!$N:$N,Journal!$A:$A,$B$9,Journal!$B:$B,\">=\"&'Detailed Stats'!AA$2,Journal!$B:$B, \"<=\"&'Detailed Stats'!AA$3,Journal!$N:$N,\"<0\")","v":0},{"$f":"SUMIFS(Journal!$N:$N,Journal!$A:$A,$B$9,Journal!$B:$B,\">=\"&'Detailed Stats'!AB$2,Journal!$B:$B, \"<=\"&'Detailed Stats'!AB$3,Journal!$N:$N,\"<0\")","v":0},{"$f":"SUMIFS(Journal!$N:$N,Journal!$A:$A,$B$9,Journal!$B:$B,\">=\"&'Detailed Stats'!AC$2,Journal!$B:$B, \"<=\"&'Detailed Stats'!AC$3,Journal!$N:$N,\"<0\")","v":0},{"$f":"SUMIFS(Journal!$N:$N,Journal!$A:$A,$B$9,Journal!$B:$B,\">=\"&'Detailed Stats'!AD$2,Journal!$B:$B, \"<=\"&'Detailed Stats'!AD$3,Journal!$N:$N,\"<0\")","v":0},{"$f":"SUMIFS(Journal!$N:$N,Journal!$A:$A,$B$9,Journal!$B:$B,\">=\"&'Detailed Stats'!AE$2,Journal!$B:$B, \"<=\"&'Detailed Stats'!AE$3,Journal!$N:$N,\"<0\")","v":0},{"$f":"SUMIFS(Journal!$N:$N,Journal!$A:$A,$B$9,Journal!$B:$B,\">=\"&'Detailed Stats'!AF$2,Journal!$B:$B, \"<=\"&'Detailed Stats'!AF$3,Journal!$N:$N,\"<0\")","v":0},{"$f":"SUMIFS(Journal!$N:$N,Journal!$A:$A,$B$9,Journal!$B:$B,\">=\"&'Detailed Stats'!AG$2,Journal!$B:$B, \"<=\"&'Detailed Stats'!AG$3,Journal!$N:$N,\"<0\")","v":0},{"$f":"SUMIFS(Journal!$N:$N,Journal!$A:$A,$B$9,Journal!$B:$B,\">=\"&'Detailed Stats'!AH$2,Journal!$B:$B, \"<=\"&'Detailed Stats'!AH$3,Journal!$N:$N,\"<0\")","v":0},{"$f":"SUMIFS(Journal!$N:$N,Journal!$A:$A,$B$9,Journal!$B:$B,\">=\"&'Detailed Stats'!AI$2,Journal!$B:$B, \"<=\"&'Detailed Stats'!AI$3,Journal!$N:$N,\"<0\")","v":0},{"$f":"SUMIFS(Journal!$N:$N,Journal!$A:$A,$B$9,Journal!$B:$B,\">=\"&'Detailed Stats'!AJ$2,Journal!$B:$B, \"<=\"&'Detailed Stats'!AJ$3,Journal!$N:$N,\"<0\")","v":0},{"$f":"SUMIFS(Journal!$N:$N,Journal!$A:$A,$B$9,Journal!$B:$B,\">=\"&'Detailed Stats'!AK$2,Journal!$B:$B, \"<=\"&'Detailed Stats'!AK$3,Journal!$N:$N,\"<0\")","v":0},{"$f":"SUMIFS(Journal!$N:$N,Journal!$A:$A,$B$9,Journal!$B:$B,\">=\"&'Detailed Stats'!AL$2,Journal!$B:$B, \"<=\"&'Detailed Stats'!AL$3,Journal!$N:$N,\"<0\")","v":0},{"$f":"SUMIFS(Journal!$N:$N,Journal!$A:$A,$B$9,Journal!$B:$B,\">=\"&'Detailed Stats'!AM$2,Journal!$B:$B, \"<=\"&'Detailed Stats'!AM$3,Journal!$N:$N,\"<0\")","v":0},{"$f":"SUMIFS(Journal!$N:$N,Journal!$A:$A,$B$9,Journal!$B:$B,\">=\"&'Detailed Stats'!AN$2,Journal!$B:$B, \"<=\"&'Detailed Stats'!AN$3,Journal!$N:$N,\"<0\")","v":0},{"$f":"SUMIFS(Journal!$N:$N,Journal!$A:$A,$B$9,Journal!$B:$B,\">=\"&'Detailed Stats'!AO$2,Journal!$B:$B, \"<=\"&'Detailed Stats'!AO$3,Journal!$N:$N,\"<0\")","v":0},{"$f":"SUMIFS(Journal!$N:$N,Journal!$A:$A,$B$9,Journal!$B:$B,\">=\"&'Detailed Stats'!AP$2,Journal!$B:$B, \"<=\"&'Detailed Stats'!AP$3,Journal!$N:$N,\"<0\")","v":0},{"$f":"SUMIFS(Journal!$N:$N,Journal!$A:$A,$B$9,Journal!$B:$B,\">=\"&'Detailed Stats'!AQ$2,Journal!$B:$B, \"<=\"&'Detailed Stats'!AQ$3,Journal!$N:$N,\"<0\")","v":0},{"$f":"SUMIFS(Journal!$N:$N,Journal!$A:$A,$B$9,Journal!$B:$B,\">=\"&'Detailed Stats'!AR$2,Journal!$B:$B, \"<=\"&'Detailed Stats'!AR$3,Journal!$N:$N,\"<0\")","v":0},{"$f":"SUMIFS(Journal!$N:$N,Journal!$A:$A,$B$9,Journal!$B:$B,\">=\"&'Detailed Stats'!AS$2,Journal!$B:$B, \"<=\"&'Detailed Stats'!AS$3,Journal!$N:$N,\"<0\")","v":0},{"$f":"SUMIFS(Journal!$N:$N,Journal!$A:$A,$B$9,Journal!$B:$B,\">=\"&'Detailed Stats'!AT$2,Journal!$B:$B, \"<=\"&'Detailed Stats'!AT$3,Journal!$N:$N,\"<0\")","v":0},{"$f":"SUMIFS(Journal!$N:$N,Journal!$A:$A,$B$9,Journal!$B:$B,\">=\"&'Detailed Stats'!AU$2,Journal!$B:$B, \"<=\"&'Detailed Stats'!AU$3,Journal!$N:$N,\"<0\")","v":0},{"$f":"SUMIFS(Journal!$N:$N,Journal!$A:$A,$B$9,Journal!$B:$B,\">=\"&'Detailed Stats'!AV$2,Journal!$B:$B, \"<=\"&'Detailed Stats'!AV$3,Journal!$N:$N,\"<0\")","v":0},{"$f":"SUMIFS(Journal!$N:$N,Journal!$A:$A,$B$9,Journal!$B:$B,\">=\"&'Detailed Stats'!AW$2,Journal!$B:$B, \"<=\"&'Detailed Stats'!AW$3,Journal!$N:$N,\"<0\")","v":0},{"$f":"SUMIFS(Journal!$N:$N,Journal!$A:$A,$B$9,Journal!$B:$B,\">=\"&'Detailed Stats'!AX$2,Journal!$B:$B, \"<=\"&'Detailed Stats'!AX$3,Journal!$N:$N,\"<0\")","v":0},{"$f":"SUMIFS(Journal!$N:$N,Journal!$A:$A,$B$9,Journal!$B:$B,\">=\"&'Detailed Stats'!AY$2,Journal!$B:$B, \"<=\"&'Detailed Stats'!AY$3,Journal!$N:$N,\"<0\")","v":0},{"$f":"SUMIFS(Journal!$N:$N,Journal!$A:$A,$B$9,Journal!$B:$B,\">=\"&'Detailed Stats'!AZ$2,Journal!$B:$B, \"<=\"&'Detailed Stats'!AZ$3,Journal!$N:$N,\"<0\")","v":0},{"$f":"SUMIFS(Journal!$N:$N,Journal!$A:$A,$B$9,Journal!$B:$B,\">=\"&'Detailed Stats'!BA$2,Journal!$B:$B, \"<=\"&'Detailed Stats'!BA$3,Journal!$N:$N,\"<0\")","v":0},{"$f":"SUMIFS(Journal!$N:$N,Journal!$A:$A,$B$9,Journal!$B:$B,\">=\"&'Detailed Stats'!BB$2,Journal!$B:$B, \"<=\"&'Detailed Stats'!BB$3,Journal!$N:$N,\"<0\")","v":0},{"$f":"SUMIFS(Journal!$N:$N,Journal!$A:$A,$B$9,Journal!$B:$B,\">=\"&'Detailed Stats'!BC$2,Journal!$B:$B, \"<=\"&'Detailed Stats'!BC$3,Journal!$N:$N,\"<0\")","v":0},{"$f":"SUMIFS(Journal!$N:$N,Journal!$A:$A,$B$9,Journal!$B:$B,\">=\"&'Detailed Stats'!BD$2,Journal!$B:$B, \"<=\"&'Detailed Stats'!BD$3,Journal!$N:$N,\"<0\")","v":0},{"$f":"SUMIFS(Journal!$N:$N,Journal!$A:$A,$B$9,Journal!$B:$B,\">=\"&'Detailed Stats'!BE$2,Journal!$B:$B, \"<=\"&'Detailed Stats'!BE$3,Journal!$N:$N,\"<0\")","v":0}]
[null,"TOTAL",{"$f":"SUM(C24:C28)","v":0},null,null,{"$f":"SUM(F24:F28)","v":0},0,0,0,0,0,0,0,0,0,0,0,0,0,0,0,0,0,0,0,0,0,0,0,0,0,0,0,0,0,0,0,0,0,0,0,0,0,0,0,0,0,0,0,0,0,0,0,0,0,0,0]
[null,null,null,null,"Avg daily",{"$f":"IFERROR(AVERAGEIF(F24:F28,\"<>0\"),\"\")","v":""},{"$f":"IFERROR(AVERAGEIF(G24:G28,\"<>0\"),\"\")","v":""},"","","","","","","","","","","","","","","","","","","","","","","","","","","","","","","","","","","","","","","","","","","","","","","","","",""]
[]
["DAILY EXECUTIONS"]
[null,"No. executions per day(Overall)",null,null,null,"Week_1","Week_2","Week_3","Week_4","Week_5","Week_6","Week_7","Week_8","Week_9","Week_10","Week_11","Week_12","Week_13","Week_14","Week_15","Week_16","Week_17","Week_18","Week_19","Week_20","Week_21","Week_22","Week_23","Week_24","Week_25","Week_26","Week_27","Week_28","Week_29","Week_30","Week_31","Week_32","Week_33","Week_34","Week_35","Week_36","Week_37","Week_38","Week_39","Week_40","Week_41","Week_42","Week_43","Week_44","Week_45","Week_46","Week_47","Week_48","Week_49","Week_50","Week_51","Week_52"]
[null,"Mon",{"$f":"COUNTIFS(Journal!$B:$B,\">0\", Journal!$A:$A, 'Detailed Stats'!B34)","v":3},null,{"$f":"B34","v":"Mon"},{"$f":"COUNTIFS(Journal!$B:$B,\">0\", Journal!$A:$A, 'Detailed Stats'!$B$5,Journal!$B:$B,\">=\"&'Detailed Stats'!F$2,Journal!$B:$B, \"<=\"&'Detailed Stats'!F$3)","v":0},{"$f":"COUNTIFS(Journal!$B:$B,\">0\", Journal!$A:$A, 'Detailed Stats'!$B$5,Journal!$B:$B,\">=\"&'Detailed Stats'!G$2,Journal!$B:$B, \"<=\"&'Detailed Stats'!G$3)","v":0},{"$f":"COUNTIFS(Journal!$B:$B,\">0\", Journal!$A:$A, 'Detailed Stats'!$B$5,Journal!$B:$B,\">=\"&'Detailed Stats'!H$2,Journal!$B:$B, \"<=\"&'Detailed Stats'!H$3)","v":0},{"$f":"COUNTIFS(Journal!$B:$B,\">0\", Journal!$A:$A, 'Detailed Stats'!$B$5,Journal!$B:$B,\">=\"&'Detailed Stats'!I$2,Journal!$B:$B, \"<=\"&'Detailed Stats'!I$3)","v":0},{"$f":"COUNTIFS(Journal!$B:$B,\">0\", Journal!$A:$A, 'Detailed Stats'!$B$5,Journal!$B:$B,\">=\"&'Detailed Stats'!J$2,Journal!$B:$B, \"<=\"&'Detailed Stats'!J$3)","v":0},{"$f":"COUNTIFS(Journal!$B:$B,\">0\", Journal!$A:$A, 'Detailed Stats'!$B$5,Journal!$B:$B,\">=\"&'Detailed Stats'!K$2,Journal!$B:$B, \"<=\"&'Detailed Stats'!K$3)","v":0},{"$f":"COUNTIFS(Journal!$B:$B,\">0\", Journal!$A:$A, 'Detailed Stats'!$B$5,Journal!$B:$B,\">=\"&'Detailed Stats'!L$2,Journal!$B:$B, \"<=\"&'Detailed Stats'!L$3)","v":0},{"$f":"COUNTIFS(Journal!$B:$B,\">0\", Journal!$A:$A, 'Detailed Stats'!$B$5,Journal!$B:$B,\">=\"&'Detailed Stats'!M$2,Journal!$B:$B, \"<=\"&'Detailed Stats'!M$3)","v":0},{"$f":"COUNTIFS(Journal!$B:$B,\">0\", Journal!$A:$A, 'Detailed Stats'!$B$5,Journal!$B:$B,\">=\"&'Detailed Stats'!N$2,Journal!$B:$B, \"<=\"&'Detailed Stats'!N$3)","v":0},{"$f":"COUNTIFS(Journal!$B:$B,\">0\", Journal!$A:$A, 'Detailed Stats'!$B$5,Journal!$B:$B,\">=\"&'Detailed Stats'!O$2,Journal!$B:$B, \"<=\"&'Detailed Stats'!O$3)","v":0},{"$f":"COUNTIFS(Journal!$B:$B,\">0\", Journal!$A:$A, 'Detailed Stats'!$B$5,Journal!$B:$B,\">=\"&'Detailed Stats'!P$2,Journal!$B:$B, \"<=\"&'Detailed Stats'!P$3)","v":0},{"$f":"COUNTIFS(Journal!$B:$B,\">0\", Journal!$A:$A, 'Detailed Stats'!$B$5,Journal!$B:$B,\">=\"&'Detailed Stats'!Q$2,Journal!$B:$B, \"<=\"&'Detailed Stats'!Q$3)","v":0},{"$f":"COUNTIFS(Journal!$B:$B,\">0\", Journal!$A:$A, 'Detailed Stats'!$B$5,Journal!$B:$B,\">=\"&'Detailed Stats'!R$2,Journal!$B:$B, \"<=\"&'Detailed Stats'!R$3)","v":0},{"$f":"COUNTIFS(Journal!$B:$B,\">0\", Journal!$A:$A, 'Detailed Stats'!$B$5,Journal!$B:$B,\">=\"&'Detailed Stats'!S$2,Journal!$B:$B, \"<=\"&'Detailed Stats'!S$3)","v":0},{"$f":"COUNTIFS(Journal!$B:$B,\">0\", Journal!$A:$A, 'Detailed Stats'!$B$5,Journal!$B:$B,\">=\"&'Detailed Stats'!T$2,Journal!$B:$B, \"<=\"&'Detailed Stats'!T$3)","v":0},{"$f":"COUNTIFS(Journal!$B:$B,\">0\", Journal!$A:$A, 'Detailed Stats'!$B$5,Journal!$B:$B,\">=\"&'Detailed Stats'!U$2,Journal!$B:$B, \"<=\"&'Detailed Stats'!U$3)","v":0},{"$f":"COUNTIFS(Journal!$B:$B,\">0\", Journal!$A:$A, 'Detailed Stats'!$B$5,Journal!$B:$B,\">=\"&'Detailed Stats'!V$2,Journal!$B:$B, \"<=\"&'Detailed Stats'!V$3)","v":0},{"$f":"COUNTIFS(Journal!$B:$B,\">0\", Journal!$A:$A, 'Detailed Stats'!$B$5,Journal!$B:$B,\">=\"&'Detailed Stats'!W$2,Journal!$B:$B, \"<=\"&'Detailed Stats'!W$3)","v":0},{"$f":"COUNTIFS(Journal!$B:$B,\">0\", Journal!$A:$A, 'Detailed Stats'!$B$5,Journal!$B:$B,\">=\"&'Detailed Stats'!X$2,Journal!$B:$B, \"<=\"&'Detailed Stats'!X$3)","v":0},{"$f":"COUNTIFS(Journal!$B:$B,\">0\", Journal!$A:$A, 'Detailed Stats'!$B$5,Journal!$B:$B,\">=\"&'Detailed Stats'!Y$2,Journal!$B:$B, \"<=\"&'Detailed Stats'!Y$3)","v":0},{"$f":"COUNTIFS(Journal!$B:$B,\">0\", Journal!$A:$A, 'Detailed Stats'!$B$5,Journal!$B:$B,\">=\"&'Detailed Stats'!Z$2,Journal!$B:$B, \"<=\"&'Detailed Stats'!Z$3)","v":0},{"$f":"COUNTIFS(Journal!$B:$B,\">0\", Journal!$A:$A, 'Detailed Stats'!$B$5,Journal!$B:$B,\">=\"&'Detailed Stats'!AA$2,Journal!$B:$B, \"<=\"&'Detailed Stats'!AA$3)","v":0},{"$f":"COUNTIFS(Journal!$B:$B,\">0\", Journal!$A:$A, 'Detailed Stats'!$B$5,Journal!$B:$B,\">=\"&'Detailed Stats'!AB$2,Journal!$B:$B, \"<=\"&'Detailed Stats'!AB$3)","v":0},{"$f":"COUNTIFS(Journal!$B:$B,\">0\", Journal!$A:$A, 'Detailed Stats'!$B$5,Journal!$B:$B,\">=\"&'Detailed Stats'!AC$2,Journal!$B:$B, \"<=\"&'Detailed Stats'!AC$3)","v":0},{"$f":"COUNTIFS(Journal!$B:$B,\">0\", Journal!$A:$A, 'Detailed Stats'!$B$5,Journal!$B:$B,\">=\"&'Detailed Stats'!AD$2,Journal!$B:$B, \"<=\"&'Detailed Stats'!AD$3)","v":0},{"$f":"COUNTIFS(Journal!$B:$B,\">0\", Journal!$A:$A, 'Detailed Stats'!$B$5,Journal!$B:$B,\">=\"&'Detailed Stats'!AE$2,Journal!$B:$B, \"<=\"&'Detailed Stats'!AE$3)","v":0},{"$f":"COUNTIFS(Journal!$B:$B,\">0\", Journal!$A:$A, 'Detailed Stats'!$B$5,Journal!$B:$B,\">=\"&'Detailed Stats'!AF$2,Journal!$B:$B, \"<=\"&'Detailed Stats'!AF$3)","v":0},{"$f":"COUNTIFS(Journal!$B:$B,\">0\", Journal!$A:$A, 'Detailed Stats'!$B$5,Journal!$B:$B,\">=\"&'Detailed Stats'!AG$2,Journal!$B:$B, \"<=\"&'Detailed Stats'!AG$3)","v":0},{"$f":"COUNTIFS(Journal!$B:$B,\">0\", Journal!$A:$A, 'Detailed Stats'!$B$5,Journal!$B:$B,\">=\"&'Detailed Stats'!AH$2,Journal!$B:$B, \"<=\"&'Detailed Stats'!AH$3)","v":0},{"$f":"COUNTIFS(Journal!$B:$B,\">0\", Journal!$A:$A, 'Detailed Stats'!$B$5,Journal!$B:$B,\">=\"&'Detailed Stats'!AI$2,Journal!$B:$B, \"<=\"&'Detailed Stats'!AI$3)","v":0},{"$f":"COUNTIFS(Journal!$B:$B,\">0\", Journal!$A:$A, 'Detailed Stats'!$B$5,Journal!$B:$B,\">=\"&'Detailed Stats'!AJ$2,Journal!$B:$B, \"<=\"&'Detailed Stats'!AJ$3)","v":0},{"$f":"COUNTIFS(Journal!$B:$B,\">0\", Journal!$A:$A, 'Detailed Stats'!$B$5,Journal!$B:$B,\">=\"&'Detailed Stats'!AK$2,Journal!$B:$B, \"<=\"&'Detailed Stats'!AK$3)","v":0},{"$f":"COUNTIFS(Journal!$B:$B,\">0\", Journal!$A:$A, 'Detailed Stats'!$B$5,Journal!$B:$B,\">=\"&'Detailed Stats'!AL$2,Journal!$B:$B, \"<=\"&'Detailed Stats'!AL$3)","v":0},{"$f":"COUNTIFS(Journal!$B:$B,\">0\", Journal!$A:$A, 'Detailed Stats'!$B$5,Journal!$B:$B,\">=\"&'Detailed Stats'!AM$2,Journal!$B:$B, \"<=\"&'Detailed Stats'!AM$3)","v":0},{"$f":"COUNTIFS(Journal!$B:$B,\">0\", Journal!$A:$A, 'Detailed Stats'!$B$5,Journal!$B:$B,\">=\"&'Detailed Stats'!AN$2,Journal!$B:$B, \"<=\"&'Detailed Stats'!AN$3)","v":0},{"$f":"COUNTIFS(Journal!$B:$B,\">0\", Journal!$A:$A, 'Detailed Stats'!$B$5,Journal!$B:$B,\">=\"&'Detailed Stats'!AO$2,Journal!$B:$B, \"<=\"&'Detailed Stats'!AO$3)","v":0},{"$f":"COUNTIFS(Journal!$B:$B,\">0\", Journal!$A:$A, 'Detailed Stats'!$B$5,Journal!$B:$B,\">=\"&'Detailed Stats'!AP$2,Journal!$B:$B, \"<=\"&'Detailed Stats'!AP$3)","v":0},{"$f":"COUNTIFS(Journal!$B:$B,\">0\", Journal!$A:$A, 'Detailed Stats'!$B$5,Journal!$B:$B,\">=\"&'Detailed Stats'!AQ$2,Journal!$B:$B, \"<=\"&'Detailed Stats'!AQ$3)","v":0},{"$f":"COUNTIFS(Journal!$B:$B,\">0\", Journal!$A:$A, 'Detailed Stats'!$B$5,Journal!$B:$B,\">=\"&'Detailed Stats'!AR$2,Journal!$B:$B, \"<=\"&'Detailed Stats'!AR$3)","v":0},{"$f":"COUNTIFS(Journal!$B:$B,\">0\", Journal!$A:$A, 'Detailed Stats'!$B$5,Journal!$B:$B,\">=\"&'Detailed Stats'!AS$2,Journal!$B:$B, \"<=\"&'Detailed Stats'!AS$3)","v":0},{"$f":"COUNTIFS(Journal!$B:$B,\">0\", Journal!$A:$A, 'Detailed Stats'!$B$5,Journal!$B:$B,\">=\"&'Detailed Stats'!AT$2,Journal!$B:$B, \"<=\"&'Detailed Stats'!AT$3)","v":0},{"$f":"COUNTIFS(Journal!$B:$B,\">0\", Journal!$A:$A, 'Detailed Stats'!$B$5,Journal!$B:$B,\">=\"&'Detailed Stats'!AU$2,Journal!$B:$B, \"<=\"&'Detailed Stats'!AU$3)","v":0},{"$f":"COUNTIFS(Journal!$B:$B,\">0\", Journal!$A:$A, 'Detailed Stats'!$B$5,Journal!$B:$B,\">=\"&'Detailed Stats'!AV$2,Journal!$B:$B, \"<=\"&'Detailed Stats'!AV$3)","v":0},{"$f":"COUNTIFS(Journal!$B:$B,\">0\", Journal!$A:$A, 'Detailed Stats'!$B$5,Journal!$B:$B,\">=\"&'Detailed Stats'!AW$2,Journal!$B:$B, \"<=\"&'Detailed Stats'!AW$3)","v":0},{"$f":"COUNTIFS(Journal!$B:$B,\">0\", Journal!$A:$A, 'Detailed Stats'!$B$5,Journal!$B:$B,\">=\"&'Detailed Stats'!AX$2,Journal!$B:$B, \"<=\"&'Detailed Stats'!AX$3)","v":0},{"$f":"COUNTIFS(Journal!$B:$B,\">0\", Journal!$A:$A, 'Detailed Stats'!$B$5,Journal!$B:$B,\">=\"&'Detailed Stats'!AY$2,Journal!$B:$B, \"<=\"&'Detailed Stats'!AY$3)","v":0},{"$f":"COUNTIFS(Journal!$B:$B,\">0\", Journal!$A:$A, 'Detailed Stats'!$B$5,Journal!$B:$B,\">=\"&'Detailed Stats'!AZ$2,Journal!$B:$B, \"<=\"&'Detailed Stats'!AZ$3)","v":0},{"$f":"COUNTIFS(Journal!$B:$B,\">0\", Journal!$A:$A, 'Detailed Stats'!$B$5,Journal!$B:$B,\">=\"&'Detailed Stats'!BA$2,Journal!$B:$B, \"<=\"&'Detailed Stats'!BA$3)","v":0},{"$f":"COUNTIFS(Journal!$B:$B,\">0\", Journal!$A:$A, 'Detailed Stats'!$B$5,Journal!$B:$B,\">=\"&'Detailed Stats'!BB$2,Journal!$B:$B, \"<=\"&'Detailed Stats'!BB$3)","v":0},{"$f":"COUNTIFS(Journal!$B:$B,\">0\", Journal!$A:$A, 'Detailed Stats'!$B$5,Journal!$B:$B,\">=\"&'Detailed Stats'!BC$2,Journal!$B:$B, \"<=\"&'Detailed Stats'!BC$3)","v":0},{"$f":"COUNTIFS(Journal!$B:$B,\">0\", Journal!$A:$A, 'Detailed Stats'!$B$5,Journal!$B:$B,\">=\"&'Detailed Stats'!BD$2,Journal!$B:$B, \"<=\"&'Detailed Stats'!BD$3)","v":0},{"$f":"COUNTIFS(Journal!$B:$B,\">0\", Journal!$A:$A, 'Detailed Stats'!$B$5,Journal!$B:$B,\">=\"&'Detailed Stats'!BE$2,Journal!$B:$B, \"<=\"&'Detailed Stats'!BE$3)","v":0}]
[null,"Tue",{"$f":"COUNTIFS(Journal!$B:$B,\">0\", Journal!$A:$A, 'Detailed Stats'!B35)","v":0},null,{"$f":"B35","v":"Tue"},{"$f":"COUNTIFS(Journal!$B:$B,\">0\", Journal!$A:$A, 'Detailed Stats'!$B$6,Journal!$B:$B,\">=\"&'Detailed Stats'!F$2,Journal!$B:$B, \"<=\"&'Detailed Stats'!F$3)","v":0},{"$f":"COUNTIFS(Journal!$B:$B,\">0\", Journal!$A:$A, 'Detailed Stats'!$B$6,Journal!$B:$B,\">=\"&'Detailed Stats'!G$2,Journal!$B:$B, \"<=\"&'Detailed Stats'!G$3)","v":0},{"$f":"COUNTIFS(Journal!$B:$B,\">0\", Journal!$A:$A, 'Detailed Stats'!$B$6,Journal!$B:$B,\">=\"&'Detailed Stats'!H$2,Journal!$B:$B, \"<=\"&'Detailed Stats'!H$3)","v":0},{"$f":"COUNTIFS(Journal!$B:$B,\">0\", Journal!$A:$A, 'Detailed Stats'!$B$6,Journal!$B:$B,\">=\"&'Detailed Stats'!I$2,Journal!$B:$B, \"<=\"&'Detailed Stats'!I$3)","v":0},{"$f":"COUNTIFS(Journal!$B:$B,\">0\", Journal!$A:$A, 'Detailed Stats'!$B$6,Journal!$B:$B,\">=\"&'Detailed Stats'!J$2,Journal!$B:$B, \"<=\"&'Detailed Stats'!J$3)","v":0},{"$f":"COUNTIFS(Journal!$B:$B,\">0\", Journal!$A:$A, 'Detailed Stats'!$B$6,Journal!$B:$B,\">=\"&'Detailed Stats'!K$2,Journal!$B:$B, \"<=\"&'Detailed Stats'!K$3)","v":0},{"$f":"COUNTIFS(Journal!$B:$B,\">0\", Journal!$A:$A, 'Detailed Stats'!$B$6,Journal!$B:$B,\">=\"&'Detailed Stats'!L$2,Journal!$B:$B, \"<=\"&'Detailed Stats'!L$3)","v":0},{"$f":"COUNTIFS(Journal!$B:$B,\">0\", Journal!$A:$A, 'Detailed Stats'!$B$6,Journal!$B:$B,\">=\"&'Detailed Stats'!M$2,Journal!$B:$B, \"<=\"&'Detailed Stats'!M$3)","v":0},{"$f":"COUNTIFS(Journal!$B:$B,\">0\", Journal!$A:$A, 'Detailed Stats'!$B$6,Journal!$B:$B,\">=\"&'Detailed Stats'!N$2,Journal!$B:$B, \"<=\"&'Detailed Stats'!N$3)","v":0},{"$f":"COUNTIFS(Journal!$B:$B,\">0\", Journal!$A:$A, 'Detailed Stats'!$B$6,Journal!$B:$B,\">=\"&'Detailed Stats'!O$2,Journal!$B:$B, \"<=\"&'Detailed Stats'!O$3)","v":0},{"$f":"COUNTIFS(Journal!$B:$B,\">0\", Journal!$A:$A, 'Detailed Stats'!$B$6,Journal!$B:$B,\">=\"&'Detailed Stats'!P$2,Journal!$B:$B, \"<=\"&'Detailed Stats'!P$3)","v":0},{"$f":"COUNTIFS(Journal!$B:$B,\">0\", Journal!$A:$A, 'Detailed Stats'!$B$6,Journal!$B:$B,\">=\"&'Detailed Stats'!Q$2,Journal!$B:$B, \"<=\"&'Detailed Stats'!Q$3)","v":0},{"$f":"COUNTIFS(Journal!$B:$B,\">0\", Journal!$A:$A, 'Detailed Stats'!$B$6,Journal!$B:$B,\">=\"&'Detailed Stats'!R$2,Journal!$B:$B, \"<=\"&'Detailed Stats'!R$3)","v":0},{"$f":"COUNTIFS(Journal!$B:$B,\">0\", Journal!$A:$A, 'Detailed Stats'!$B$6,Journal!$B:$B,\">=\"&'Detailed Stats'!S$2,Journal!$B:$B, \"<=\"&'Detailed Stats'!S$3)","v":0},{"$f":"COUNTIFS(Journal!$B:$B,\">0\", Journal!$A:$A, 'Detailed Stats'!$B$6,Journal!$B:$B,\">=\"&'Detailed Stats'!T$2,Journal!$B:$B, \"<=\"&'Detailed Stats'!T$3)","v":0},{"$f":"COUNTIFS(Journal!$B:$B,\">0\", Journal!$A:$A, 'Detailed Stats'!$B$6,Journal!$B:$B,\">=\"&'Detailed Stats'!U$2,Journal!$B:$B, \"<=\"&'Detailed Stats'!U$3)","v":0},{"$f":"COUNTIFS(Journal!$B:$B,\">0\", Journal!$A:$A, 'Detailed Stats'!$B$6,Journal!$B:$B,\">=\"&'Detailed Stats'!V$2,Journal!$B:$B, \"<=\"&'Detailed Stats'!V$3)","v":0},{"$f":"COUNTIFS(Journal!$B:$B,\">0\", Journal!$A:$A, 'Detailed Stats'!$B$6,Journal!$B:$B,\">=\"&'Detailed Stats'!W$2,Journal!$B:$B, \"<=\"&'Detailed Stats'!W$3)","v":0},{"$f":"COUNTIFS(Journal!$B:$B,\">0\", Journal!$A:$A, 'Detailed Stats'!$B$6,Journal!$B:$B,\">=\"&'Detailed Stats'!X$2,Journal!$B:$B, \"<=\"&'Detailed Stats'!X$3)","v":0},{"$f":"COUNTIFS(Journal!$B:$B,\">0\", Journal!$A:$A, 'Detailed Stats'!$B$6,Journal!$B:$B,\">=\"&'Detailed Stats'!Y$2,Journal!$B:$B, \"<=\"&'Detailed Stats'!Y$3)","v":0},{"$f":"COUNTIFS(Journal!$B:$B,\">0\", Journal!$A:$A, 'Detailed Stats'!$B$6,Journal!$B:$B,\">=\"&'Detailed Stats'!Z$2,Journal!$B:$B, \"<=\"&'Detailed Stats'!Z$3)","v":0},{"$f":"COUNTIFS(Journal!$B:$B,\">0\", Journal!$A:$A, 'Detailed Stats'!$B$6,Journal!$B:$B,\">=\"&'Detailed Stats'!AA$2,Journal!$B:$B, \"<=\"&'Detailed Stats'!AA$3)","v":0},{"$f":"COUNTIFS(Journal!$B:$B,\">0\", Journal!$A:$A, 'Detailed Stats'!$B$6,Journal!$B:$B,\">=\"&'Detailed Stats'!AB$2,Journal!$B:$B, \"<=\"&'Detailed Stats'!AB$3)","v":0},{"$f":"COUNTIFS(Journal!$B:$B,\">0\", Journal!$A:$A, 'Detailed Stats'!$B$6,Journal!$B:$B,\">=\"&'Detailed Stats'!AC$2,Journal!$B:$B, \"<=\"&'Detailed Stats'!AC$3)","v":0},{"$f":"COUNTIFS(Journal!$B:$B,\">0\", Journal!$A:$A, 'Detailed Stats'!$B$6,Journal!$B:$B,\">=\"&'Detailed Stats'!AD$2,Journal!$B:$B, \"<=\"&'Detailed Stats'!AD$3)","v":0},{"$f":"COUNTIFS(Journal!$B:$B,\">0\", Journal!$A:$A, 'Detailed Stats'!$B$6,Journal!$B:$B,\">=\"&'Detailed Stats'!AE$2,Journal!$B:$B, \"<=\"&'Detailed Stats'!AE$3)","v":0},{"$f":"COUNTIFS(Journal!$B:$B,\">0\", Journal!$A:$A, 'Detailed Stats'!$B$6,Journal!$B:$B,\">=\"&'Detailed Stats'!AF$2,Journal!$B:$B, \"<=\"&'Detailed Stats'!AF$3)","v":0},{"$f":"COUNTIFS(Journal!$B:$B,\">0\", Journal!$A:$A, 'Detailed Stats'!$B$6,Journal!$B:$B,\">=\"&'Detailed Stats'!AG$2,Journal!$B:$B, \"<=\"&'Detailed Stats'!AG$3)","v":0},{"$f":"COUNTIFS(Journal!$B:$B,\">0\", Journal!$A:$A, 'Detailed Stats'!$B$6,Journal!$B:$B,\">=\"&'Detailed Stats'!AH$2,Journal!$B:$B, \"<=\"&'Detailed Stats'!AH$3)","v":0},{"$f":"COUNTIFS(Journal!$B:$B,\">0\", Journal!$A:$A, 'Detailed Stats'!$B$6,Journal!$B:$B,\">=\"&'Detailed Stats'!AI$2,Journal!$B:$B, \"<=\"&'Detailed Stats'!AI$3)","v":0},{"$f":"COUNTIFS(Journal!$B:$B,\">0\", Journal!$A:$A, 'Detailed Stats'!$B$6,Journal!$B:$B,\">=\"&'Detailed Stats'!AJ$2,Journal!$B:$B, \"<=\"&'Detailed Stats'!AJ$3)","v":0},{"$f":"COUNTIFS(Journal!$B:$B,\">0\", Journal!$A:$A, 'Detailed Stats'!$B$6,Journal!$B:$B,\">=\"&'Detailed Stats'!AK$2,Journal!$B:$B, \"<=\"&'Detailed Stats'!AK$3)","v":0},{"$f":"COUNTIFS(Journal!$B:$B,\">0\", Journal!$A:$A, 'Detailed Stats'!$B$6,Journal!$B:$B,\">=\"&'Detailed Stats'!AL$2,Journal!$B:$B, \"<=\"&'Detailed Stats'!AL$3)","v":0},{"$f":"COUNTIFS(Journal!$B:$B,\">0\", Journal!$A:$A, 'Detailed Stats'!$B$6,Journal!$B:$B,\">=\"&'Detailed Stats'!AM$2,Journal!$B:$B, \"<=\"&'Detailed Stats'!AM$3)","v":0},{"$f":"COUNTIFS(Journal!$B:$B,\">0\", Journal!$A:$A, 'Detailed Stats'!$B$6,Journal!$B:$B,\">=\"&'Detailed Stats'!AN$2,Journal!$B:$B, \"<=\"&'Detailed Stats'!AN$3)","v":0},{"$f":"COUNTIFS(Journal!$B:$B,\">0\", Journal!$A:$A, 'Detailed Stats'!$B$6,Journal!$B:$B,\">=\"&'Detailed Stats'!AO$2,Journal!$B:$B, \"<=\"&'Detailed Stats'!AO$3)","v":0},{"$f":"COUNTIFS(Journal!$B:$B,\">0\", Journal!$A:$A, 'Detailed Stats'!$B$6,Journal!$B:$B,\">=\"&'Detailed Stats'!AP$2,Journal!$B:$B, \"<=\"&'Detailed Stats'!AP$3)","v":0},{"$f":"COUNTIFS(Journal!$B:$B,\">0\", Journal!$A:$A, 'Detailed Stats'!$B$6,Journal!$B:$B,\">=\"&'Detailed Stats'!AQ$2,Journal!$B:$B, \"<=\"&'Detailed Stats'!AQ$3)","v":0},{"$f":"COUNTIFS(Journal!$B:$B,\">0\", Journal!$A:$A, 'Detailed Stats'!$B$6,Journal!$B:$B,\">=\"&'Detailed Stats'!AR$2,Journal!$B:$B, \"<=\"&'Detailed Stats'!AR$3)","v":0},{"$f":"COUNTIFS(Journal!$B:$B,\">0\", Journal!$A:$A, 'Detailed Stats'!$B$6,Journal!$B:$B,\">=\"&'Detailed Stats'!AS$2,Journal!$B:$B, \"<=\"&'Detailed Stats'!AS$3)","v":0},{"$f":"COUNTIFS(Journal!$B:$B,\">0\", Journal!$A:$A, 'Detailed Stats'!$B$6,Journal!$B:$B,\">=\"&'Detailed Stats'!AT$2,Journal!$B:$B, \"<=\"&'Detailed Stats'!AT$3)","v":0},{"$f":"COUNTIFS(Journal!$B:$B,\">0\", Journal!$A:$A, 'Detailed Stats'!$B$6,Journal!$B:$B,\">=\"&'Detailed Stats'!AU$2,Journal!$B:$B, \"<=\"&'Detailed Stats'!AU$3)","v":0},{"$f":"COUNTIFS(Journal!$B:$B,\">0\", Journal!$A:$A, 'Detailed Stats'!$B$6,Journal!$B:$B,\">=\"&'Detailed Stats'!AV$2,Journal!$B:$B, \"<=\"&'Detailed Stats'!AV$3)","v":0},{"$f":"COUNTIFS(Journal!$B:$B,\">0\", Journal!$A:$A, 'Detailed Stats'!$B$6,Journal!$B:$B,\">=\"&'Detailed Stats'!AW$2,Journal!$B:$B, \"<=\"&'Detailed Stats'!AW$3)","v":0},{"$f":"COUNTIFS(Journal!$B:$B,\">0\", Journal!$A:$A, 'Detailed Stats'!$B$6,Journal!$B:$B,\">=\"&'Detailed Stats'!AX$2,Journal!$B:$B, \"<=\"&'Detailed Stats'!AX$3)","v":0},{"$f":"COUNTIFS(Journal!$B:$B,\">0\", Journal!$A:$A, 'Detailed Stats'!$B$6,Journal!$B:$B,\">=\"&'Detailed Stats'!AY$2,Journal!$B:$B, \"<=\"&'Detailed Stats'!AY$3)","v":0},{"$f":"COUNTIFS(Journal!$B:$B,\">0\", Journal!$A:$A, 'Detailed Stats'!$B$6,Journal!$B:$B,\">=\"&'Detailed Stats'!AZ$2,Journal!$B:$B, \"<=\"&'Detailed Stats'!AZ$3)","v":0},{"$f":"COUNTIFS(Journal!$B:$B,\">0\", Journal!$A:$A, 'Detailed Stats'!$B$6,Journal!$B:$B,\">=\"&'Detailed Stats'!BA$2,Journal!$B:$B, \"<=\"&'Detailed Stats'!BA$3)","v":0},{"$f":"COUNTIFS(Journal!$B:$B,\">0\", Journal!$A:$A, 'Detailed Stats'!$B$6,Journal!$B:$B,\">=\"&'Detailed Stats'!BB$2,Journal!$B:$B, \"<=\"&'Detailed Stats'!BB$3)","v":0},{"$f":"COUNTIFS(Journal!$B:$B,\">0\", Journal!$A:$A, 'Detailed Stats'!$B$6,Journal!$B:$B,\">=\"&'Detailed Stats'!BC$2,Journal!$B:$B, \"<=\"&'Detailed Stats'!BC$3)","v":0},{"$f":"COUNTIFS(Journal!$B:$B,\">0\", Journal!$A:$A, 'Detailed Stats'!$B$6,Journal!$B:$B,\">=\"&'Detailed Stats'!BD$2,Journal!$B:$B, \"<=\"&'Detailed Stats'!BD$3)","v":0},{"$f":"COUNTIFS(Journal!$B:$B,\">0\", Journal!$A:$A, 'Detailed Stats'!$B$6,Journal!$B:$B,\">=\"&'Detailed Stats'!BE$2,Journal!$B:$B, \"<=\"&'Detailed Stats'!BE$3)","v":0}]
[null,"Wed",{"$f":"COUNTIFS(Journal!$B:$B,\">0\", Journal!$A:$A, 'Detailed Stats'!B36)","v":0},null,{"$f":"B36","v":"Wed"},{"$f":"COUNTIFS(Journal!$B:$B,\">0\", Journal!$A:$A, 'Detailed Stats'!$B$7,Journal!$B:$B,\">=\"&'Detailed Stats'!F$2,Journal!$B:$B, \"<=\"&'Detailed Stats'!F$3)","v":0},{"$f":"COUNTIFS(Journal!$B:$B,\">0\", Journal!$A:$A, 'Detailed Stats'!$B$7,Journal!$B:$B,\">=\"&'Detailed Stats'!G$2,Journal!$B:$B, \"<=\"&'Detailed Stats'!G$3)","v":0},{"$f":"COUNTIFS(Journal!$B:$B,\">0\", Journal!$A:$A, 'Detailed Stats'!$B$7,Journal!$B:$B,\">=\"&'Detailed Stats'!H$2,Journal!$B:$B, \"<=\"&'Detailed Stats'!H$3)","v":0},{"$f":"COUNTIFS(Journal!$B:$B,\">0\", Journal!$A:$A, 'Detailed Stats'!$B$7,Journal!$B:$B,\">=\"&'Detailed Stats'!I$2,Journal!$B:$B, \"<=\"&'Detailed Stats'!I$3)","v":0},{"$f":"COUNTIFS(Journal!$B:$B,\">0\", Journal!$A:$A, 'Detailed Stats'!$B$7,Journal!$B:$B,\">=\"&'Detailed Stats'!J$2,Journal!$B:$B, \"<=\"&'Detailed Stats'!J$3)","v":0},{"$f":"COUNTIFS(Journal!$B:$B,\">0\", Journal!$A:$A, 'Detailed Stats'!$B$7,Journal!$B:$B,\">=\"&'Detailed Stats'!K$2,Journal!$B:$B, \"<=\"&'Detailed Stats'!K$3)","v":0},{"$f":"COUNTIFS(Journal!$B:$B,\">0\", Journal!$A:$A, 'Detailed Stats'!$B$7,Journal!$B:$B,\">=\"&'Detailed Stats'!L$2,Journal!$B:$B, \"<=\"&'Detailed Stats'!L$3)","v":0},{"$f":"COUNTIFS(Journal!$B:$B,\">0\", Journal!$A:$A, 'Detailed Stats'!$B$7,Journal!$B:$B,\">=\"&'Detailed Stats'!M$2,Journal!$B:$B, \"<=\"&'Detailed Stats'!M$3)","v":0},{"$f":"COUNTIFS(Journal!$B:$B,\">0\", Journal!$A:$A, 'Detailed Stats'!$B$7,Journal!$B:$B,\">=\"&'Detailed Stats'!N$2,Journal!$B:$B, \"<=\"&'Detailed Stats'!N$3)","v":0},{"$f":"COUNTIFS(Journal!$B:$B,\">0\", Journal!$A:$A, 'Detailed Stats'!$B$7,Journal!$B:$B,\">=\"&'Detailed Stats'!O$2,Journal!$B:$B, \"<=\"&'Detailed Stats'!O$3)","v":0},{"$f":"COUNTIFS(Journal!$B:$B,\">0\", Journal!$A:$A, 'Detailed Stats'!$B$7,Journal!$B:$B,\">=\"&'Detailed Stats'!P$2,Journal!$B:$B, \"<=\"&'Detailed Stats'!P$3)","v":0},{"$f":"COUNTIFS(Journal!$B:$B,\">0\", Journal!$A:$A, 'Detailed Stats'!$B$7,Journal!$B:$B,\">=\"&'Detailed Stats'!Q$2,Journal!$B:$B, \"<=\"&'Detailed Stats'!Q$3)","v":0},{"$f":"COUNTIFS(Journal!$B:$B,\">0\", Journal!$A:$A, 'Detailed Stats'!$B$7,Journal!$B:$B,\">=\"&'Detailed Stats'!R$2,Journal!$B:$B, \"<=\"&'Detailed Stats'!R$3)","v":0},{"$f":"COUNTIFS(Journal!$B:$B,\">0\", Journal!$A:$A, 'Detailed Stats'!$B$7,Journal!$B:$B,\">=\"&'Detailed Stats'!S$2,Journal!$B:$B, \"<=\"&'Detailed Stats'!S$3)","v":0},{"$f":"COUNTIFS(Journal!$B:$B,\">0\", Journal!$A:$A, 'Detailed Stats'!$B$7,Journal!$B:$B,\">=\"&'Detailed Stats'!T$2,Journal!$B:$B, \"<=\"&'Detailed Stats'!T$3)","v":0},{"$f":"COUNTIFS(Journal!$B:$B,\">0\", Journal!$A:$A, 'Detailed Stats'!$B$7,Journal!$B:$B,\">=\"&'Detailed Stats'!U$2,Journal!$B:$B, \"<=\"&'Detailed Stats'!U$3)","v":0},{"$f":"COUNTIFS(Journal!$B:$B,\">0\", Journal!$A:$A, 'Detailed Stats'!$B$7,Journal!$B:$B,\">=\"&'Detailed Stats'!V$2,Journal!$B:$B, \"<=\"&'Detailed Stats'!V$3)","v":0},{"$f":"COUNTIFS(Journal!$B:$B,\">0\", Journal!$A:$A, 'Detailed Stats'!$B$7,Journal!$B:$B,\">=\"&'Detailed Stats'!W$2,Journal!$B:$B, \"<=\"&'Detailed Stats'!W$3)","v":0},{"$f":"COUNTIFS(Journal!$B:$B,\">0\", Journal!$A:$A, 'Detailed Stats'!$B$7,Journal!$B:$B,\">=\"&'Detailed Stats'!X$2,Journal!$B:$B, \"<=\"&'Detailed Stats'!X$3)","v":0},{"$f":"COUNTIFS(Journal!$B:$B,\">0\", Journal!$A:$A, 'Detailed Stats'!$B$7,Journal!$B:$B,\">=\"&'Detailed Stats'!Y$2,Journal!$B:$B, \"<=\"&'Detailed Stats'!Y$3)","v":0},{"$f":"COUNTIFS(Journal!$B:$B,\">0\", Journal!$A:$A, 'Detailed Stats'!$B$7,Journal!$B:$B,\">=\"&'Detailed Stats'!Z$2,Journal!$B:$B, \"<=\"&'Detailed Stats'!Z$3)","v":0},{"$f":"COUNTIFS(Journal!$B:$B,\">0\", Journal!$A:$A, 'Detailed Stats'!$B$7,Journal!$B:$B,\">=\"&'Detailed Stats'!AA$2,Journal!$B:$B, \"<=\"&'Detailed Stats'!AA$3)","v":0},{"$f":"COUNTIFS(Journal!$B:$B,\">0\", Journal!$A:$A, 'Detailed Stats'!$B$7,Journal!$B:$B,\">=\"&'Detailed Stats'!AB$2,Journal!$B:$B, \"<=\"&'Detailed Stats'!AB$3)","v":0},{"$f":"COUNTIFS(Journal!$B:$B,\">0\", Journal!$A:$A, 'Detailed Stats'!$B$7,Journal!$B:$B,\">=\"&'Detailed Stats'!AC$2,Journal!$B:$B, \"<=\"&'Detailed Stats'!AC$3)","v":0},{"$f":"COUNTIFS(Journal!$B:$B,\">0\", Journal!$A:$A, 'Detailed Stats'!$B$7,Journal!$B:$B,\">=\"&'Detailed Stats'!AD$2,Journal!$B:$B, \"<=\"&'Detailed Stats'!AD$3)","v":0},{"$f":"COUNTIFS(Journal!$B:$B,\">0\", Journal!$A:$A, 'Detailed Stats'!$B$7,Journal!$B:$B,\">=\"&'Detailed Stats'!AE$2,Journal!$B:$B, \"<=\"&'Detailed Stats'!AE$3)","v":0},{"$f":"COUNTIFS(Journal!$B:$B,\">0\", Journal!$A:$A, 'Detailed Stats'!$B$7,Journal!$B:$B,\">=\"&'Detailed Stats'!AF$2,Journal!$B:$B, \"<=\"&'Detailed Stats'!AF$3)","v":0},{"$f":"COUNTIFS(Journal!$B:$B,\">0\", Journal!$A:$A, 'Detailed Stats'!$B$7,Journal!$B:$B,\">=\"&'Detailed Stats'!AG$2,Journal!$B:$B, \"<=\"&'Detailed Stats'!AG$3)","v":0},{"$f":"COUNTIFS(Journal!$B:$B,\">0\", Journal!$A:$A, 'Detailed Stats'!$B$7,Journal!$B:$B,\">=\"&'Detailed Stats'!AH$2,Journal!$B:$B, \"<=\"&'Detailed Stats'!AH$3)","v":0},{"$f":"COUNTIFS(Journal!$B:$B,\">0\", Journal!$A:$A, 'Detailed Stats'!$B$7,Journal!$B:$B,\">=\"&'Detailed Stats'!AI$2,Journal!$B:$B, \"<=\"&'Detailed Stats'!AI$3)","v":0},{"$f":"COUNTIFS(Journal!$B:$B,\">0\", Journal!$A:$A, 'Detailed Stats'!$B$7,Journal!$B:$B,\">=\"&'Detailed Stats'!AJ$2,Journal!$B:$B, \"<=\"&'Detailed Stats'!AJ$3)","v":0},{"$f":"COUNTIFS(Journal!$B:$B,\">0\", Journal!$A:$A, 'Detailed Stats'!$B$7,Journal!$B:$B,\">=\"&'Detailed Stats'!AK$2,Journal!$B:$B, \"<=\"&'Detailed Stats'!AK$3)","v":0},{"$f":"COUNTIFS(Journal!$B:$B,\">0\", Journal!$A:$A, 'Detailed Stats'!$B$7,Journal!$B:$B,\">=\"&'Detailed Stats'!AL$2,Journal!$B:$B, \"<=\"&'Detailed Stats'!AL$3)","v":0},{"$f":"COUNTIFS(Journal!$B:$B,\">0\", Journal!$A:$A, 'Detailed Stats'!$B$7,Journal!$B:$B,\">=\"&'Detailed Stats'!AM$2,Journal!$B:$B, \"<=\"&'Detailed Stats'!AM$3)","v":0},{"$f":"COUNTIFS(Journal!$B:$B,\">0\", Journal!$A:$A, 'Detailed Stats'!$B$7,Journal!$B:$B,\">=\"&'Detailed Stats'!AN$2,Journal!$B:$B, \"<=\"&'Detailed Stats'!AN$3)","v":0},{"$f":"COUNTIFS(Journal!$B:$B,\">0\", Journal!$A:$A, 'Detailed Stats'!$B$7,Journal!$B:$B,\">=\"&'Detailed Stats'!AO$2,Journal!$B:$B, \"<=\"&'Detailed Stats'!AO$3)","v":0},{"$f":"COUNTIFS(Journal!$B:$B,\">0\", Journal!$A:$A, 'Detailed Stats'!$B$7,Journal!$B:$B,\">=\"&'Detailed Stats'!AP$2,Journal!$B:$B, \"<=\"&'Detailed Stats'!AP$3)","v":0},{"$f":"COUNTIFS(Journal!$B:$B,\">0\", Journal!$A:$A, 'Detailed Stats'!$B$7,Journal!$B:$B,\">=\"&'Detailed Stats'!AQ$2,Journal!$B:$B, \"<=\"&'Detailed Stats'!AQ$3)","v":0},{"$f":"COUNTIFS(Journal!$B:$B,\">0\", Journal!$A:$A, 'Detailed Stats'!$B$7,Journal!$B:$B,\">=\"&'Detailed Stats'!AR$2,Journal!$B:$B, \"<=\"&'Detailed Stats'!AR$3)","v":0},{"$f":"COUNTIFS(Journal!$B:$B,\">0\", Journal!$A:$A, 'Detailed Stats'!$B$7,Journal!$B:$B,\">=\"&'Detailed Stats'!AS$2,Journal!$B:$B, \"<=\"&'Detailed Stats'!AS$3)","v":0},{"$f":"COUNTIFS(Journal!$B:$B,\">0\", Journal!$A:$A, 'Detailed Stats'!$B$7,Journal!$B:$B,\">=\"&'Detailed Stats'!AT$2,Journal!$B:$B, \"<=\"&'Detailed Stats'!AT$3)","v":0},{"$f":"COUNTIFS(Journal!$B:$B,\">0\", Journal!$A:$A, 'Detailed Stats'!$B$7,Journal!$B:$B,\">=\"&'Detailed Stats'!AU$2,Journal!$B:$B, \"<=\"&'Detailed Stats'!AU$3)","v":0},{"$f":"COUNTIFS(Journal!$B:$B,\">0\", Journal!$A:$A, 'Detailed Stats'!$B$7,Journal!$B:$B,\">=\"&'Detailed Stats'!AV$2,Journal!$B:$B, \"<=\"&'Detailed Stats'!AV$3)","v":0},{"$f":"COUNTIFS(Journal!$B:$B,\">0\", Journal!$A:$A, 'Detailed Stats'!$B$7,Journal!$B:$B,\">=\"&'Detailed Stats'!AW$2,Journal!$B:$B, \"<=\"&'Detailed Stats'!AW$3)","v":0},{"$f":"COUNTIFS(Journal!$B:$B,\">0\", Journal!$A:$A, 'Detailed Stats'!$B$7,Journal!$B:$B,\">=\"&'Detailed Stats'!AX$2,Journal!$B:$B, \"<=\"&'Detailed Stats'!AX$3)","v":0},{"$f":"COUNTIFS(Journal!$B:$B,\">0\", Journal!$A:$A, 'Detailed Stats'!$B$7,Journal!$B:$B,\">=\"&'Detailed Stats'!AY$2,Journal!$B:$B, \"<=\"&'Detailed Stats'!AY$3)","v":0},{"$f":"COUNTIFS(Journal!$B:$B,\">0\", Journal!$A:$A, 'Detailed Stats'!$B$7,Journal!$B:$B,\">=\"&'Detailed Stats'!AZ$2,Journal!$B:$B, \"<=\"&'Detailed Stats'!AZ$3)","v":0},{"$f":"COUNTIFS(Journal!$B:$B,\">0\", Journal!$A:$A, 'Detailed Stats'!$B$7,Journal!$B:$B,\">=\"&'Detailed Stats'!BA$2,Journal!$B:$B, \"<=\"&'Detailed Stats'!BA$3)","v":0},{"$f":"COUNTIFS(Journal!$B:$B,\">0\", Journal!$A:$A, 'Detailed Stats'!$B$7,Journal!$B:$B,\">=\"&'Detailed Stats'!BB$2,Journal!$B:$B, \"<=\"&'Detailed Stats'!BB$3)","v":0},{"$f":"COUNTIFS(Journal!$B:$B,\">0\", Journal!$A:$A, 'Detailed Stats'!$B$7,Journal!$B:$B,\">=\"&'Detailed Stats'!BC$2,Journal!$B:$B, \"<=\"&'Detailed Stats'!BC$3)","v":0},{"$f":"COUNTIFS(Journal!$B:$B,\">0\", Journal!$A:$A, 'Detailed Stats'!$B$7,Journal!$B:$B,\">=\"&'Detailed Stats'!BD$2,Journal!$B:$B, \"<=\"&'Detailed Stats'!BD$3)","v":0},{"$f":"COUNTIFS(Journal!$B:$B,\">0\", Journal!$A:$A, 'Detailed Stats'!$B$7,Journal!$B:$B,\">=\"&'Detailed Stats'!BE$2,Journal!$B:$B, \"<=\"&'Detailed Stats'!BE$3)","v":0}]
[null,"Thu",{"$f":"COUNTIFS(Journal!$B:$B,\">0\", Journal!$A:$A, 'Detailed Stats'!B37)","v":0},null,{"$f":"B37","v":"Thu"},{"$f":"COUNTIFS(Journal!$B:$B,\">0\", Journal!$A:$A, 'Detailed Stats'!$B$8,Journal!$B:$B,\">=\"&'Detailed Stats'!F$2,Journal!$B:$B, \"<=\"&'Detailed Stats'!F$3)","v":0},{"$f":"COUNTIFS(Journal!$B:$B,\">0\", Journal!$A:$A, 'Detailed Stats'!$B$8,Journal!$B:$B,\">=\"&'Detailed Stats'!G$2,Journal!$B:$B, \"<=\"&'Detailed Stats'!G$3)","v":0},{"$f":"COUNTIFS(Journal!$B:$B,\">0\", Journal!$A:$A, 'Detailed Stats'!$B$8,Journal!$B:$B,\">=\"&'Detailed Stats'!H$2,Journal!$B:$B, \"<=\"&'Detailed Stats'!H$3)","v":0},{"$f":"COUNTIFS(Journal!$B:$B,\">0\", Journal!$A:$A, 'Detailed Stats'!$B$8,Journal!$B:$B,\">=\"&'Detailed Stats'!I$2,Journal!$B:$B, \"<=\"&'Detailed Stats'!I$3)","v":0},{"$f":"COUNTIFS(Journal!$B:$B,\">0\", Journal!$A:$A, 'Detailed Stats'!$B$8,Journal!$B:$B,\">=\"&'Detailed Stats'!J$2,Journal!$B:$B, \"<=\"&'Detailed Stats'!J$3)","v":0},{"$f":"COUNTIFS(Journal!$B:$B,\">0\", Journal!$A:$A, 'Detailed Stats'!$B$8,Journal!$B:$B,\">=\"&'Detailed Stats'!K$2,Journal!$B:$B, \"<=\"&'Detailed Stats'!K$3)","v":0},{"$f":"COUNTIFS(Journal!$B:$B,\">0\", Journal!$A:$A, 'Detailed Stats'!$B$8,Journal!$B:$B,\">=\"&'Detailed Stats'!L$2,Journal!$B:$B, \"<=\"&'Detailed Stats'!L$3)","v":0},{"$f":"COUNTIFS(Journal!$B:$B,\">0\", Journal!$A:$A, 'Detailed Stats'!$B$8,Journal!$B:$B,\">=\"&'Detailed Stats'!M$2,Journal!$B:$B, \"<=\"&'Detailed Stats'!M$3)","v":0},{"$f":"COUNTIFS(Journal!$B:$B,\">0\", Journal!$A:$A, 'Detailed Stats'!$B$8,Journal!$B:$B,\">=\"&'Detailed Stats'!N$2,Journal!$B:$B, \"<=\"&'Detailed Stats'!N$3)","v":0},{"$f":"COUNTIFS(Journal!$B:$B,\">0\", Journal!$A:$A, 'Detailed Stats'!$B$8,Journal!$B:$B,\">=\"&'Detailed Stats'!O$2,Journal!$B:$B, \"<=\"&'Detailed Stats'!O$3)","v":0},{"$f":"COUNTIFS(Journal!$B:$B,\">0\", Journal!$A:$A, 'Detailed Stats'!$B$8,Journal!$B:$B,\">=\"&'Detailed Stats'!P$2,Journal!$B:$B, \"<=\"&'Detailed Stats'!P$3)","v":0},{"$f":"COUNTIFS(Journal!$B:$B,\">0\", Journal!$A:$A, 'Detailed Stats'!$B$8,Journal!$B:$B,\">=\"&'Detailed Stats'!Q$2,Journal!$B:$B, \"<=\"&'Detailed Stats'!Q$3)","v":0},{"$f":"COUNTIFS(Journal!$B:$B,\">0\", Journal!$A:$A, 'Detailed Stats'!$B$8,Journal!$B:$B,\">=\"&'Detailed Stats'!R$2,Journal!$B:$B, \"<=\"&'Detailed Stats'!R$3)","v":0},{"$f":"COUNTIFS(Journal!$B:$B,\">0\", Journal!$A:$A, 'Detailed Stats'!$B$8,Journal!$B:$B,\">=\"&'Detailed Stats'!S$2,Journal!$B:$B, \"<=\"&'Detailed Stats'!S$3)","v":0},{"$f":"COUNTIFS(Journal!$B:$B,\">0\", Journal!$A:$A, 'Detailed Stats'!$B$8,Journal!$B:$B,\">=\"&'Detailed Stats'!T$2,Journal!$B:$B, \"<=\"&'Detailed Stats'!T$3)","v":0},{"$f":"COUNTIFS(Journal!$B:$B,\">0\", Journal!$A:$A, 'Detailed Stats'!$B$8,Journal!$B:$B,\">=\"&'Detailed Stats'!U$2,Journal!$B:$B, \"<=\"&'Detailed Stats'!U$3)","v":0},{"$f":"COUNTIFS(Journal!$B:$B,\">0\", Journal!$A:$A, 'Detailed Stats'!$B$8,Journal!$B:$B,\">=\"&'Detailed Stats'!V$2,Journal!$B:$B, \"<=\"&'Detailed Stats'!V$3)","v":0},{"$f":"COUNTIFS(Journal!$B:$B,\">0\", Journal!$A:$A, 'Detailed Stats'!$B$8,Journal!$B:$B,\">=\"&'Detailed Stats'!W$2,Journal!$B:$B, \"<=\"&'Detailed Stats'!W$3)","v":0},{"$f":"COUNTIFS(Journal!$B:$B,\">0\", Journal!$A:$A, 'Detailed Stats'!$B$8,Journal!$B:$B,\">=\"&'Detailed Stats'!X$2,Journal!$B:$B, \"<=\"&'Detailed Stats'!X$3)","v":0},{"$f":"COUNTIFS(Journal!$B:$B,\">0\", Journal!$A:$A, 'Detailed Stats'!$B$8,Journal!$B:$B,\">=\"&'Detailed Stats'!Y$2,Journal!$B:$B, \"<=\"&'Detailed Stats'!Y$3)","v":0},{"$f":"COUNTIFS(Journal!$B:$B,\">0\", Journal!$A:$A, 'Detailed Stats'!$B$8,Journal!$B:$B,\">=\"&'Detailed Stats'!Z$2,Journal!$B:$B, \"<=\"&'Detailed Stats'!Z$3)","v":0},{"$f":"COUNTIFS(Journal!$B:$B,\">0\", Journal!$A:$A, 'Detailed Stats'!$B$8,Journal!$B:$B,\">=\"&'Detailed Stats'!AA$2,Journal!$B:$B, \"<=\"&'Detailed Stats'!AA$3)","v":0},{"$f":"COUNTIFS(Journal!$B:$B,\">0\", Journal!$A:$A, 'Detailed Stats'!$B$8,Journal!$B:$B,\">=\"&'Detailed Stats'!AB$2,Journal!$B:$B, \"<=\"&'Detailed Stats'!AB$3)","v":0},{"$f":"COUNTIFS(Journal!$B:$B,\">0\", Journal!$A:$A, 'Detailed Stats'!$B$8,Journal!$B:$B,\">=\"&'Detailed Stats'!AC$2,Journal!$B:$B, \"<=\"&'Detailed Stats'!AC$3)","v":0},{"$f":"COUNTIFS(Journal!$B:$B,\">0\", Journal!$A:$A, 'Detailed Stats'!$B$8,Journal!$B:$B,\">=\"&'Detailed Stats'!AD$2,Journal!$B:$B, \"<=\"&'Detailed Stats'!AD$3)","v":0},{"$f":"COUNTIFS(Journal!$B:$B,\">0\", Journal!$A:$A, 'Detailed Stats'!$B$8,Journal!$B:$B,\">=\"&'Detailed Stats'!AE$2,Journal!$B:$B, \"<=\"&'Detailed Stats'!AE$3)","v":0},{"$f":"COUNTIFS(Journal!$B:$B,\">0\", Journal!$A:$A, 'Detailed Stats'!$B$8,Journal!$B:$B,\">=\"&'Detailed Stats'!AF$2,Journal!$B:$B, \"<=\"&'Detailed Stats'!AF$3)","v":0},{"$f":"COUNTIFS(Journal!$B:$B,\">0\", Journal!$A:$A, 'Detailed Stats'!$B$8,Journal!$B:$B,\">=\"&'Detailed Stats'!AG$2,Journal!$B:$B, \"<=\"&'Detailed Stats'!AG$3)","v":0},{"$f":"COUNTIFS(Journal!$B:$B,\">0\", Journal!$A:$A, 'Detailed Stats'!$B$8,Journal!$B:$B,\">=\"&'Detailed Stats'!AH$2,Journal!$B:$B, \"<=\"&'Detailed Stats'!AH$3)","v":0},{"$f":"COUNTIFS(Journal!$B:$B,\">0\", Journal!$A:$A, 'Detailed Stats'!$B$8,Journal!$B:$B,\">=\"&'Detailed Stats'!AI$2,Journal!$B:$B, \"<=\"&'Detailed Stats'!AI$3)","v":0},{"$f":"COUNTIFS(Journal!$B:$B,\">0\", Journal!$A:$A, 'Detailed Stats'!$B$8,Journal!$B:$B,\">=\"&'Detailed Stats'!AJ$2,Journal!$B:$B, \"<=\"&'Detailed Stats'!AJ$3)","v":0},{"$f":"COUNTIFS(Journal!$B:$B,\">0\", Journal!$A:$A, 'Detailed Stats'!$B$8,Journal!$B:$B,\">=\"&'Detailed Stats'!AK$2,Journal!$B:$B, \"<=\"&'Detailed Stats'!AK$3)","v":0},{"$f":"COUNTIFS(Journal!$B:$B,\">0\", Journal!$A:$A, 'Detailed Stats'!$B$8,Journal!$B:$B,\">=\"&'Detailed Stats'!AL$2,Journal!$B:$B, \"<=\"&'Detailed Stats'!AL$3)","v":0},{"$f":"COUNTIFS(Journal!$B:$B,\">0\", Journal!$A:$A, 'Detailed Stats'!$B$8,Journal!$B:$B,\">=\"&'Detailed Stats'!AM$2,Journal!$B:$B, \"<=\"&'Detailed Stats'!AM$3)","v":0},{"$f":"COUNTIFS(Journal!$B:$B,\">0\", Journal!$A:$A, 'Detailed Stats'!$B$8,Journal!$B:$B,\">=\"&'Detailed Stats'!AN$2,Journal!$B:$B, \"<=\"&'Detailed Stats'!AN$3)","v":0},{"$f":"COUNTIFS(Journal!$B:$B,\">0\", Journal!$A:$A, 'Detailed Stats'!$B$8,Journal!$B:$B,\">=\"&'Detailed Stats'!AO$2,Journal!$B:$B, \"<=\"&'Detailed Stats'!AO$3)","v":0},{"$f":"COUNTIFS(Journal!$B:$B,\">0\", Journal!$A:$A, 'Detailed Stats'!$B$8,Journal!$B:$B,\">=\"&'Detailed Stats'!AP$2,Journal!$B:$B, \"<=\"&'Detailed Stats'!AP$3)","v":0},{"$f":"COUNTIFS(Journal!$B:$B,\">0\", Journal!$A:$A, 'Detailed Stats'!$B$8,Journal!$B:$B,\">=\"&'Detailed Stats'!AQ$2,Journal!$B:$B, \"<=\"&'Detailed Stats'!AQ$3)","v":0},{"$f":"COUNTIFS(Journal!$B:$B,\">0\", Journal!$A:$A, 'Detailed Stats'!$B$8,Journal!$B:$B,\">=\"&'Detailed Stats'!AR$2,Journal!$B:$B, \"<=\"&'Detailed Stats'!AR$3)","v":0},{"$f":"COUNTIFS(Journal!$B:$B,\">0\", Journal!$A:$A, 'Detailed Stats'!$B$8,Journal!$B:$B,\">=\"&'Detailed Stats'!AS$2,Journal!$B:$B, \"<=\"&'Detailed Stats'!AS$3)","v":0},{"$f":"COUNTIFS(Journal!$B:$B,\">0\", Journal!$A:$A, 'Detailed Stats'!$B$8,Journal!$B:$B,\">=\"&'Detailed Stats'!AT$2,Journal!$B:$B, \"<=\"&'Detailed Stats'!AT$3)","v":0},{"$f":"COUNTIFS(Journal!$B:$B,\">0\", Journal!$A:$A, 'Detailed Stats'!$B$8,Journal!$B:$B,\">=\"&'Detailed Stats'!AU$2,Journal!$B:$B, \"<=\"&'Detailed Stats'!AU$3)","v":0},{"$f":"COUNTIFS(Journal!$B:$B,\">0\", Journal!$A:$A, 'Detailed Stats'!$B$8,Journal!$B:$B,\">=\"&'Detailed Stats'!AV$2,Journal!$B:$B, \"<=\"&'Detailed Stats'!AV$3)","v":0},{"$f":"COUNTIFS(Journal!$B:$B,\">0\", Journal!$A:$A, 'Detailed Stats'!$B$8,Journal!$B:$B,\">=\"&'Detailed Stats'!AW$2,Journal!$B:$B, \"<=\"&'Detailed Stats'!AW$3)","v":0},{"$f":"COUNTIFS(Journal!$B:$B,\">0\", Journal!$A:$A, 'Detailed Stats'!$B$8,Journal!$B:$B,\">=\"&'Detailed Stats'!AX$2,Journal!$B:$B, \"<=\"&'Detailed Stats'!AX$3)","v":0},{"$f":"COUNTIFS(Journal!$B:$B,\">0\", Journal!$A:$A, 'Detailed Stats'!$B$8,Journal!$B:$B,\">=\"&'Detailed Stats'!AY$2,Journal!$B:$B, \"<=\"&'Detailed Stats'!AY$3)","v":0},{"$f":"COUNTIFS(Journal!$B:$B,\">0\", Journal!$A:$A, 'Detailed Stats'!$B$8,Journal!$B:$B,\">=\"&'Detailed Stats'!AZ$2,Journal!$B:$B, \"<=\"&'Detailed Stats'!AZ$3)","v":0},{"$f":"COUNTIFS(Journal!$B:$B,\">0\", Journal!$A:$A, 'Detailed Stats'!$B$8,Journal!$B:$B,\">=\"&'Detailed Stats'!BA$2,Journal!$B:$B, \"<=\"&'Detailed Stats'!BA$3)","v":0},{"$f":"COUNTIFS(Journal!$B:$B,\">0\", Journal!$A:$A, 'Detailed Stats'!$B$8,Journal!$B:$B,\">=\"&'Detailed Stats'!BB$2,Journal!$B:$B, \"<=\"&'Detailed Stats'!BB$3)","v":0},{"$f":"COUNTIFS(Journal!$B:$B,\">0\", Journal!$A:$A, 'Detailed Stats'!$B$8,Journal!$B:$B,\">=\"&'Detailed Stats'!BC$2,Journal!$B:$B, \"<=\"&'Detailed Stats'!BC$3)","v":0},{"$f":"COUNTIFS(Journal!$B:$B,\">0\", Journal!$A:$A, 'Detailed Stats'!$B$8,Journal!$B:$B,\">=\"&'Detailed Stats'!BD$2,Journal!$B:$B, \"<=\"&'Detailed Stats'!BD$3)","v":0},{"$f":"COUNTIFS(Journal!$B:$B,\">0\", Journal!$A:$A, 'Detailed Stats'!$B$8,Journal!$B:$B,\">=\"&'Detailed Stats'!BE$2,Journal!$B:$B, \"<=\"&'Detailed Stats'!BE$3)","v":0}]
[null,"Fri",{"$f":"COUNTIFS(Journal!$B:$B,\">0\", Journal!$A:$A, 'Detailed Stats'!B38)","v":0},null,{"$f":"B38","v":"Fri"},{"$f":"COUNTIFS(Journal!$B:$B,\">0\", Journal!$A:$A, 'Detailed Stats'!$B$9,Journal!$B:$B,\">=\"&'Detailed Stats'!F$2,Journal!$B:$B, \"<=\"&'Detailed Stats'!F$3)","v":0},{"$f":"COUNTIFS(Journal!$B:$B,\">0\", Journal!$A:$A, 'Detailed Stats'!$B$9,Journal!$B:$B,\">=\"&'Detailed Stats'!G$2,Journal!$B:$B, \"<=\"&'Detailed Stats'!G$3)","v":0},{"$f":"COUNTIFS(Journal!$B:$B,\">0\", Journal!$A:$A, 'Detailed Stats'!$B$9,Journal!$B:$B,\">=\"&'Detailed Stats'!H$2,Journal!$B:$B, \"<=\"&'Detailed Stats'!H$3)","v":0},{"$f":"COUNTIFS(Journal!$B:$B,\">0\", Journal!$A:$A, 'Detailed Stats'!$B$9,Journal!$B:$B,\">=\"&'Detailed Stats'!I$2,Journal!$B:$B, \"<=\"&'Detailed Stats'!I$3)","v":0},{"$f":"COUNTIFS(Journal!$B:$B,\">0\", Journal!$A:$A, 'Detailed Stats'!$B$9,Journal!$B:$B,\">=\"&'Detailed Stats'!J$2,Journal!$B:$B, \"<=\"&'Detailed Stats'!J$3)","v":0},{"$f":"COUNTIFS(Journal!$B:$B,\">0\", Journal!$A:$A, 'Detailed Stats'!$B$9,Journal!$B:$B,\">=\"&'Detailed Stats'!K$2,Journal!$B:$B, \"<=\"&'Detailed Stats'!K$3)","v":0},{"$f":"COUNTIFS(Journal!$B:$B,\">0\", Journal!$A:$A, 'Detailed Stats'!$B$9,Journal!$B:$B,\">=\"&'Detailed Stats'!L$2,Journal!$B:$B, \"<=\"&'Detailed Stats'!L$3)","v":0},{"$f":"COUNTIFS(Journal!$B:$B,\">0\", Journal!$A:$A, 'Detailed Stats'!$B$9,Journal!$B:$B,\">=\"&'Detailed Stats'!M$2,Journal!$B:$B, \"<=\"&'Detailed Stats'!M$3)","v":0},{"$f":"COUNTIFS(Journal!$B:$B,\">0\", Journal!$A:$A, 'Detailed Stats'!$B$9,Journal!$B:$B,\">=\"&'Detailed Stats'!N$2,Journal!$B:$B, \"<=\"&'Detailed Stats'!N$3)","v":0},{"$f":"COUNTIFS(Journal!$B:$B,\">0\", Journal!$A:$A, 'Detailed Stats'!$B$9,Journal!$B:$B,\">=\"&'Detailed Stats'!O$2,Journal!$B:$B, \"<=\"&'Detailed Stats'!O$3)","v":0},{"$f":"COUNTIFS(Journal!$B:$B,\">0\", Journal!$A:$A, 'Detailed Stats'!$B$9,Journal!$B:$B,\">=\"&'Detailed Stats'!P$2,Journal!$B:$B, \"<=\"&'Detailed Stats'!P$3)","v":0},{"$f":"COUNTIFS(Journal!$B:$B,\">0\", Journal!$A:$A, 'Detailed Stats'!$B$9,Journal!$B:$B,\">=\"&'Detailed Stats'!Q$2,Journal!$B:$B, \"<=\"&'Detailed Stats'!Q$3)","v":0},{"$f":"COUNTIFS(Journal!$B:$B,\">0\", Journal!$A:$A, 'Detailed Stats'!$B$9,Journal!$B:$B,\">=\"&'Detailed Stats'!R$2,Journal!$B:$B, \"<=\"&'Detailed Stats'!R$3)","v":0},{"$f":"COUNTIFS(Journal!$B:$B,\">0\", Journal!$A:$A, 'Detailed Stats'!$B$9,Journal!$B:$B,\">=\"&'Detailed Stats'!S$2,Journal!$B:$B, \"<=\"&'Detailed Stats'!S$3)","v":0},{"$f":"COUNTIFS(Journal!$B:$B,\">0\", Journal!$A:$A, 'Detailed Stats'!$B$9,Journal!$B:$B,\">=\"&'Detailed Stats'!T$2,Journal!$B:$B, \"<=\"&'Detailed Stats'!T$3)","v":0},{"$f":"COUNTIFS(Journal!$B:$B,\">0\", Journal!$A:$A, 'Detailed Stats'!$B$9,Journal!$B:$B,\">=\"&'Detailed Stats'!U$2,Journal!$B:$B, \"<=\"&'Detailed Stats'!U$3)","v":0},{"$f":"COUNTIFS(Journal!$B:$B,\">0\", Journal!$A:$A, 'Detailed Stats'!$B$9,Journal!$B:$B,\">=\"&'Detailed Stats'!V$2,Journal!$B:$B, \"<=\"&'Detailed Stats'!V$3)","v":0},{"$f":"COUNTIFS(Journal!$B:$B,\">0\", Journal!$A:$A, 'Detailed Stats'!$B$9,Journal!$B:$B,\">=\"&'Detailed Stats'!W$2,Journal!$B:$B, \"<=\"&'Detailed Stats'!W$3)","v":0},{"$f":"COUNTIFS(Journal!$B:$B,\">0\", Journal!$A:$A, 'Detailed Stats'!$B$9,Journal!$B:$B,\">=\"&'Detailed Stats'!X$2,Journal!$B:$B, \"<=\"&'Detailed Stats'!X$3)","v":0},{"$f":"COUNTIFS(Journal!$B:$B,\">0\", Journal!$A:$A, 'Detailed Stats'!$B$9,Journal!$B:$B,\">=\"&'Detailed Stats'!Y$2,Journal!$B:$B, \"<=\"&'Detailed Stats'!Y$3)","v":0},{"$f":"COUNTIFS(Journal!$B:$B,\">0\", Journal!$A:$A, 'Detailed Stats'!$B$9,Journal!$B:$B,\">=\"&'Detailed Stats'!Z$2,Journal!$B:$B, \"<=\"&'Detailed Stats'!Z$3)","v":0},{"$f":"COUNTIFS(Journal!$B:$B,\">0\", Journal!$A:$A, 'Detailed Stats'!$B$9,Journal!$B:$B,\">=\"&'Detailed Stats'!AA$2,Journal!$B:$B, \"<=\"&'Detailed Stats'!AA$3)","v":0},{"$f":"COUNTIFS(Journal!$B:$B,\">0\", Journal!$A:$A, 'Detailed Stats'!$B$9,Journal!$B:$B,\">=\"&'Detailed Stats'!AB$2,Journal!$B:$B, \"<=\"&'Detailed Stats'!AB$3)","v":0},{"$f":"COUNTIFS(Journal!$B:$B,\">0\", Journal!$A:$A, 'Detailed Stats'!$B$9,Journal!$B:$B,\">=\"&'Detailed Stats'!AC$2,Journal!$B:$B, \"<=\"&'Detailed Stats'!AC$3)","v":0},{"$f":"COUNTIFS(Journal!$B:$B,\">0\", Journal!$A:$A, 'Detailed Stats'!$B$9,Journal!$B:$B,\">=\"&'Detailed Stats'!AD$2,Journal!$B:$B, \"<=\"&'Detailed Stats'!AD$3)","v":0},{"$f":"COUNTIFS(Journal!$B:$B,\">0\", Journal!$A:$A, 'Detailed Stats'!$B$9,Journal!$B:$B,\">=\"&'Detailed Stats'!AE$2,Journal!$B:$B, \"<=\"&'Detailed Stats'!AE$3)","v":0},{"$f":"COUNTIFS(Journal!$B:$B,\">0\", Journal!$A:$A, 'Detailed Stats'!$B$9,Journal!$B:$B,\">=\"&'Detailed Stats'!AF$2,Journal!$B:$B, \"<=\"&'Detailed Stats'!AF$3)","v":0},{"$f":"COUNTIFS(Journal!$B:$B,\">0\", Journal!$A:$A, 'Detailed Stats'!$B$9,Journal!$B:$B,\">=\"&'Detailed Stats'!AG$2,Journal!$B:$B, \"<=\"&'Detailed Stats'!AG$3)","v":0},{"$f":"COUNTIFS(Journal!$B:$B,\">0\", Journal!$A:$A, 'Detailed Stats'!$B$9,Journal!$B:$B,\">=\"&'Detailed Stats'!AH$2,Journal!$B:$B, \"<=\"&'Detailed Stats'!AH$3)","v":0},{"$f":"COUNTIFS(Journal!$B:$B,\">0\", Journal!$A:$A, 'Detailed Stats'!$B$9,Journal!$B:$B,\">=\"&'Detailed Stats'!AI$2,Journal!$B:$B, \"<=\"&'Detailed Stats'!AI$3)","v":0},{"$f":"COUNTIFS(Journal!$B:$B,\">0\", Journal!$A:$A, 'Detailed Stats'!$B$9,Journal!$B:$B,\">=\"&'Detailed Stats'!AJ$2,Journal!$B:$B, \"<=\"&'Detailed Stats'!AJ$3)","v":0},{"$f":"COUNTIFS(Journal!$B:$B,\">0\", Journal!$A:$A, 'Detailed Stats'!$B$9,Journal!$B:$B,\">=\"&'Detailed Stats'!AK$2,Journal!$B:$B, \"<=\"&'Detailed Stats'!AK$3)","v":0},{"$f":"COUNTIFS(Journal!$B:$B,\">0\", Journal!$A:$A, 'Detailed Stats'!$B$9,Journal!$B:$B,\">=\"&'Detailed Stats'!AL$2,Journal!$B:$B, \"<=\"&'Detailed Stats'!AL$3)","v":0},{"$f":"COUNTIFS(Journal!$B:$B,\">0\", Journal!$A:$A, 'Detailed Stats'!$B$9,Journal!$B:$B,\">=\"&'Detailed Stats'!AM$2,Journal!$B:$B, \"<=\"&'Detailed Stats'!AM$3)","v":0},{"$f":"COUNTIFS(Journal!$B:$B,\">0\", Journal!$A:$A, 'Detailed Stats'!$B$9,Journal!$B:$B,\">=\"&'Detailed Stats'!AN$2,Journal!$B:$B, \"<=\"&'Detailed Stats'!AN$3)","v":0},{"$f":"COUNTIFS(Journal!$B:$B,\">0\", Journal!$A:$A, 'Detailed Stats'!$B$9,Journal!$B:$B,\">=\"&'Detailed Stats'!AO$2,Journal!$B:$B, \"<=\"&'Detailed Stats'!AO$3)","v":0},{"$f":"COUNTIFS(Journal!$B:$B,\">0\", Journal!$A:$A, 'Detailed Stats'!$B$9,Journal!$B:$B,\">=\"&'Detailed Stats'!AP$2,Journal!$B:$B, \"<=\"&'Detailed Stats'!AP$3)","v":0},{"$f":"COUNTIFS(Journal!$B:$B,\">0\", Journal!$A:$A, 'Detailed Stats'!$B$9,Journal!$B:$B,\">=\"&'Detailed Stats'!AQ$2,Journal!$B:$B, \"<=\"&'Detailed Stats'!AQ$3)","v":0},{"$f":"COUNTIFS(Journal!$B:$B,\">0\", Journal!$A:$A, 'Detailed Stats'!$B$9,Journal!$B:$B,\">=\"&'Detailed Stats'!AR$2,Journal!$B:$B, \"<=\"&'Detailed Stats'!AR$3)","v":0},{"$f":"COUNTIFS(Journal!$B:$B,\">0\", Journal!$A:$A, 'Detailed Stats'!$B$9,Journal!$B:$B,\">=\"&'Detailed Stats'!AS$2,Journal!$B:$B, \"<=\"&'Detailed Stats'!AS$3)","v":0},{"$f":"COUNTIFS(Journal!$B:$B,\">0\", Journal!$A:$A, 'Detailed Stats'!$B$9,Journal!$B:$B,\">=\"&'Detailed Stats'!AT$2,Journal!$B:$B, \"<=\"&'Detailed Stats'!AT$3)","v":0},{"$f":"COUNTIFS(Journal!$B:$B,\">0\", Journal!$A:$A, 'Detailed Stats'!$B$9,Journal!$B:$B,\">=\"&'Detailed Stats'!AU$2,Journal!$B:$B, \"<=\"&'Detailed Stats'!AU$3)","v":0},{"$f":"COUNTIFS(Journal!$B:$B,\">0\", Journal!$A:$A, 'Detailed Stats'!$B$9,Journal!$B:$B,\">=\"&'Detailed Stats'!AV$2,Journal!$B:$B, \"<=\"&'Detailed Stats'!AV$3)","v":0},{"$f":"COUNTIFS(Journal!$B:$B,\">0\", Journal!$A:$A, 'Detailed Stats'!$B$9,Journal!$B:$B,\">=\"&'Detailed Stats'!AW$2,Journal!$B:$B, \"<=\"&'Detailed Stats'!AW$3)","v":0},{"$f":"COUNTIFS(Journal!$B:$B,\">0\", Journal!$A:$A, 'Detailed Stats'!$B$9,Journal!$B:$B,\">=\"&'Detailed Stats'!AX$2,Journal!$B:$B, \"<=\"&'Detailed Stats'!AX$3)","v":0},{"$f":"COUNTIFS(Journal!$B:$B,\">0\", Journal!$A:$A, 'Detailed Stats'!$B$9,Journal!$B:$B,\">=\"&'Detailed Stats'!AY$2,Journal!$B:$B, \"<=\"&'Detailed Stats'!AY$3)","v":0},{"$f":"COUNTIFS(Journal!$B:$B,\">0\", Journal!$A:$A, 'Detailed Stats'!$B$9,Journal!$B:$B,\">=\"&'Detailed Stats'!AZ$2,Journal!$B:$B, \"<=\"&'Detailed Stats'!AZ$3)","v":0},{"$f":"COUNTIFS(Journal!$B:$B,\">0\", Journal!$A:$A, 'Detailed Stats'!$B$9,Journal!$B:$B,\">=\"&'Detailed Stats'!BA$2,Journal!$B:$B, \"<=\"&'Detailed Stats'!BA$3)","v":0},{"$f":"COUNTIFS(Journal!$B:$B,\">0\", Journal!$A:$A, 'Detailed Stats'!$B$9,Journal!$B:$B,\">=\"&'Detailed Stats'!BB$2,Journal!$B:$B, \"<=\"&'Detailed Stats'!BB$3)","v":0},{"$f":"COUNTIFS(Journal!$B:$B,\">0\", Journal!$A:$A, 'Detailed Stats'!$B$9,Journal!$B:$B,\">=\"&'Detailed Stats'!BC$2,Journal!$B:$B, \"<=\"&'Detailed Stats'!BC$3)","v":0},{"$f":"COUNTIFS(Journal!$B:$B,\">0\", Journal!$A:$A, 'Detailed Stats'!$B$9,Journal!$B:$B,\">=\"&'Detailed Stats'!BD$2,Journal!$B:$B, \"<=\"&'Detailed Stats'!BD$3)","v":0},{"$f":"COUNTIFS(Journal!$B:$B,\">0\", Journal!$A:$A, 'Detailed Stats'!$B$9,Journal!$B:$B,\">=\"&'Detailed Stats'!BE$2,Journal!$B:$B, \"<=\"&'Detailed Stats'!BE$3)","v":0}]
[null,"TOTAL",{"$f":"SUM(C34:C38)","v":3},null,null,{"$f":"SUM(F34:F38)","v":0},0,0,0,0,0,0,0,0,0,0,0,0,0,0,0,0,0,0,0,0,0,0,0,0,0,0,0,0,0,0,0,0,0,0,0,0,0,0,0,0,0,0,0,0,0,0,0,0,0,0,0]
[null,null,null,null,"Avg daily",{"$f":"IFERROR(AVERAGEIF(F34:F38,\"<>0\"),\"\")","v":""},{"$f":"IFERROR(AVERAGEIF(G34:G38,\"<>0\"),\"\")","v":""},"","","","","","","","","","","","","","","","","","","","","","","","","","","","","","","","","","","","","","","","","","","","","","","","","",""]
[]
["DAILY VOLUME","Average daily volume (Overall)",null,null,null,"Week_1","Week_2","Week_3","Week_4","Week_5","Week_6","Week_7","Week_8","Week_9","Week_10","Week_11","Week_12","Week_13","Week_14","Week_15","Week_16","Week_17","Week_18","Week_19","Week_20","Week_21","Week_22","Week_23","Week_24","Week_25","Week_26","Week_27","Week_28","Week_29","Week_30","Week_31","Week_32","Week_33","Week_34","Week_35","Week_36","Week_37","Week_38","Week_39","Week_40","Week_41","Week_42","Week_43","Week_44","Week_45","Week_46","Week_47","Week_48","Week_49","Week_50","Week_51","Week_52"]
[null,"Mon",{"$f":"SUMIFS(Journal!$G:$G,Journal!$A:$A,'Detailed Stats'!B43)","v":376},null,{"$f":"B43","v":"Mon"},{"$f":"SUMIFS(Journal!$G:$G,Journal!$A:$A,$B$5,Journal!$B:$B,\">=\"&'Detailed Stats'!F$2,Journal!$B:$B, \"<=\"&'Detailed Stats'!F$3)","v":0},{"$f":"SUMIFS(Journal!$G:$G,Journal!$A:$A,$B$5,Journal!$B:$B,\">=\"&'Detailed Stats'!G$2,Journal!$B:$B, \"<=\"&'Detailed Stats'!G$3)","v":0},{"$f":"SUMIFS(Journal!$G:$G,Journal!$A:$A,$B$5,Journal!$B:$B,\">=\"&'Detailed Stats'!H$2,Journal!$B:$B, \"<=\"&'Detailed Stats'!H$3)","v":0},{"$f":"SUMIFS(Journal!$G:$G,Journal!$A:$A,$B$5,Journal!$B:$B,\">=\"&'Detailed Stats'!I$2,Journal!$B:$B, \"<=\"&'Detailed Stats'!I$3)","v":0},{"$f":"SUMIFS(Journal!$G:$G,Journal!$A:$A,$B$5,Journal!$B:$B,\">=\"&'Detailed Stats'!J$2,Journal!$B:$B, \"<=\"&'Detailed Stats'!J$3)","v":0},{"$f":"SUMIFS(Journal!$G:$G,Journal!$A:$A,$B$5,Journal!$B:$B,\">=\"&'Detailed Stats'!K$2,Journal!$B:$B, \"<=\"&'Detailed Stats'!K$3)","v":0},{"$f":"SUMIFS(Journal!$G:$G,Journal!$A:$A,$B$5,Journal!$B:$B,\">=\"&'Detailed Stats'!L$2,Journal!$B:$B, \"<=\"&'Detailed Stats'!L$3)","v":0},{"$f":"SUMIFS(Journal!$G:$G,Journal!$A:$A,$B$5,Journal!$B:$B,\">=\"&'Detailed Stats'!M$2,Journal!$B:$B, \"<=\"&'Detailed Stats'!M$3)","v":0},{"$f":"SUMIFS(Journal!$G:$G,Journal!$A:$A,$B$5,Journal!$B:$B,\">=\"&'Detailed Stats'!N$2,Journal!$B:$B, \"<=\"&'Detailed Stats'!N$3)","v":0},{"$f":"SUMIFS(Journal!$G:$G,Journal!$A:$A,$B$5,Journal!$B:$B,\">=\"&'Detailed Stats'!O$2,Journal!$B:$B, \"<=\"&'Detailed Stats'!O$3)","v":0},{"$f":"SUMIFS(Journal!$G:$G,Journal!$A:$A,$B$5,Journal!$B:$B,\">=\"&'Detailed Stats'!P$2,Journal!$B:$B, \"<=\"&'Detailed Stats'!P$3)","v":0},{"$f":"SUMIFS(Journal!$G:$G,Journal!$A:$A,$B$5,Journal!$B:$B,\">=\"&'Detailed Stats'!Q$2,Journal!$B:$B, \"<=\"&'Detailed Stats'!Q$3)","v":0},{"$f":"SUMIFS(Journal!$G:$G,Journal!$A:$A,$B$5,Journal!$B:$B,\">=\"&'Detailed Stats'!R$2,Journal!$B:$B, \"<=\"&'Detailed Stats'!R$3)","v":0},{"$f":"SUMIFS(Journal!$G:$G,Journal!$A:$A,$B$5,Journal!$B:$B,\">=\"&'Detailed Stats'!S$2,Journal!$B:$B, \"<=\"&'Detailed Stats'!S$3)","v":0},{"$f":"SUMIFS(Journal!$G:$G,Journal!$A:$A,$B$5,Journal!$B:$B,\">=\"&'Detailed Stats'!T$2,Journal!$B:$B, \"<=\"&'Detailed Stats'!T$3)","v":0},{"$f":"SUMIFS(Journal!$G:$G,Journal!$A:$A,$B$5,Journal!$B:$B,\">=\"&'Detailed Stats'!U$2,Journal!$B:$B, \"<=\"&'Detailed Stats'!U$3)","v":0},{"$f":"SUMIFS(Journal!$G:$G,Journal!$A:$A,$B$5,Journal!$B:$B,\">=\"&'Detailed Stats'!V$2,Journal!$B:$B, \"<=\"&'Detailed Stats'!V$3)","v":0},{"$f":"SUMIFS(Journal!$G:$G,Journal!$A:$A,$B$5,Journal!$B:$B,\">=\"&'Detailed Stats'!W$2,Journal!$B:$B, \"<=\"&'Detailed Stats'!W$3)","v":0},{"$f":"SUMIFS(Journal!$G:$G,Journal!$A:$A,$B$5,Journal!$B:$B,\">=\"&'Detailed Stats'!X$2,Journal!$B:$B, \"<=\"&'Detailed Stats'!X$3)","v":0},{"$f":"SUMIFS(Journal!$G:$G,Journal!$A:$A,$B$5,Journal!$B:$B,\">=\"&'Detailed Stats'!Y$2,Journal!$B:$B, \"<=\"&'Detailed Stats'!Y$3)","v":0},{"$f":"SUMIFS(Journal!$G:$G,Journal!$A:$A,$B$5,Journal!$B:$B,\">=\"&'Detailed Stats'!Z$2,Journal!$B:$B, \"<=\"&'Detailed Stats'!Z$3)","v":0},{"$f":"SUMIFS(Journal!$G:$G,Journal!$A:$A,$B$5,Journal!$B:$B,\">=\"&'Detailed Stats'!AA$2,Journal!$B:$B, \"<=\"&'Detailed Stats'!AA$3)","v":0},{"$f":"SUMIFS(Journal!$G:$G,Journal!$A:$A,$B$5,Journal!$B:$B,\">=\"&'Detailed Stats'!AB$2,Journal!$B:$B, \"<=\"&'Detailed Stats'!AB$3)","v":0},{"$f":"SUMIFS(Journal!$G:$G,Journal!$A:$A,$B$5,Journal!$B:$B,\">=\"&'Detailed Stats'!AC$2,Journal!$B:$B, \"<=\"&'Detailed Stats'!AC$3)","v":0},{"$f":"SUMIFS(Journal!$G:$G,Journal!$A:$A,$B$5,Journal!$B:$B,\">=\"&'Detailed Stats'!AD$2,Journal!$B:$B, \"<=\"&'Detailed Stats'!AD$3)","v":0},{"$f":"SUMIFS(Journal!$G:$G,Journal!$A:$A,$B$5,Journal!$B:$B,\">=\"&'Detailed Stats'!AE$2,Journal!$B:$B, \"<=\"&'Detailed Stats'!AE$3)","v":0},{"$f":"SUMIFS(Journal!$G:$G,Journal!$A:$A,$B$5,Journal!$B:$B,\">=\"&'Detailed Stats'!AF$2,Journal!$B:$B, \"<=\"&'Detailed Stats'!AF$3)","v":0},{"$f":"SUMIFS(Journal!$G:$G,Journal!$A:$A,$B$5,Journal!$B:$B,\">=\"&'Detailed Stats'!AG$2,Journal!$B:$B, \"<=\"&'Detailed Stats'!AG$3)","v":0},{"$f":"SUMIFS(Journal!$G:$G,Journal!$A:$A,$B$5,Journal!$B:$B,\">=\"&'Detailed Stats'!AH$2,Journal!$B:$B, \"<=\"&'Detailed Stats'!AH$3)","v":0},{"$f":"SUMIFS(Journal!$G:$G,Journal!$A:$A,$B$5,Journal!$B:$B,\">=\"&'Detailed Stats'!AI$2,Journal!$B:$B, \"<=\"&'Detailed Stats'!AI$3)","v":0},{"$f":"SUMIFS(Journal!$G:$G,Journal!$A:$A,$B$5,Journal!$B:$B,\">=\"&'Detailed Stats'!AJ$2,Journal!$B:$B, \"<=\"&'Detailed Stats'!AJ$3)","v":0},{"$f":"SUMIFS(Journal!$G:$G,Journal!$A:$A,$B$5,Journal!$B:$B,\">=\"&'Detailed Stats'!AK$2,Journal!$B:$B, \"<=\"&'Detailed Stats'!AK$3)","v":0},{"$f":"SUMIFS(Journal!$G:$G,Journal!$A:$A,$B$5,Journal!$B:$B,\">=\"&'Detailed Stats'!AL$2,Journal!$B:$B, \"<=\"&'Detailed Stats'!AL$3)","v":0},{"$f":"SUMIFS(Journal!$G:$G,Journal!$A:$A,$B$5,Journal!$B:$B,\">=\"&'Detailed Stats'!AM$2,Journal!$B:$B, \"<=\"&'Detailed Stats'!AM$3)","v":0},{"$f":"SUMIFS(Journal!$G:$G,Journal!$A:$A,$B$5,Journal!$B:$B,\">=\"&'Detailed Stats'!AN$2,Journal!$B:$B, \"<=\"&'Detailed Stats'!AN$3)","v":0},{"$f":"SUMIFS(Journal!$G:$G,Journal!$A:$A,$B$5,Journal!$B:$B,\">=\"&'Detailed Stats'!AO$2,Journal!$B:$B, \"<=\"&'Detailed Stats'!AO$3)","v":0},{"$f":"SUMIFS(Journal!$G:$G,Journal!$A:$A,$B$5,Journal!$B:$B,\">=\"&'Detailed Stats'!AP$2,Journal!$B:$B, \"<=\"&'Detailed Stats'!AP$3)","v":0},{"$f":"SUMIFS(Journal!$G:$G,Journal!$A:$A,$B$5,Journal!$B:$B,\">=\"&'Detailed Stats'!AQ$2,Journal!$B:$B, \"<=\"&'Detailed Stats'!AQ$3)","v":0},{"$f":"SUMIFS(Journal!$G:$G,Journal!$A:$A,$B$5,Journal!$B:$B,\">=\"&'Detailed Stats'!AR$2,Journal!$B:$B, \"<=\"&'Detailed Stats'!AR$3)","v":0},{"$f":"SUMIFS(Journal!$G:$G,Journal!$A:$A,$B$5,Journal!$B:$B,\">=\"&'Detailed Stats'!AS$2,Journal!$B:$B, \"<=\"&'Detailed Stats'!AS$3)","v":0},{"$f":"SUMIFS(Journal!$G:$G,Journal!$A:$A,$B$5,Journal!$B:$B,\">=\"&'Detailed Stats'!AT$2,Journal!$B:$B, \"<=\"&'Detailed Stats'!AT$3)","v":0},{"$f":"SUMIFS(Journal!$G:$G,Journal!$A:$A,$B$5,Journal!$B:$B,\">=\"&'Detailed Stats'!AU$2,Journal!$B:$B, \"<=\"&'Detailed Stats'!AU$3)","v":0},{"$f":"SUMIFS(Journal!$G:$G,Journal!$A:$A,$B$5,Journal!$B:$B,\">=\"&'Detailed Stats'!AV$2,Journal!$B:$B, \"<=\"&'Detailed Stats'!AV$3)","v":0},{"$f":"SUMIFS(Journal!$G:$G,Journal!$A:$A,$B$5,Journal!$B:$B,\">=\"&'Detailed Stats'!AW$2,Journal!$B:$B, \"<=\"&'Detailed Stats'!AW$3)","v":0},{"$f":"SUMIFS(Journal!$G:$G,Journal!$A:$A,$B$5,Journal!$B:$B,\">=\"&'Detailed Stats'!AX$2,Journal!$B:$B, \"<=\"&'Detailed Stats'!AX$3)","v":0},{"$f":"SUMIFS(Journal!$G:$G,Journal!$A:$A,$B$5,Journal!$B:$B,\">=\"&'Detailed Stats'!AY$2,Journal!$B:$B, \"<=\"&'Detailed Stats'!AY$3)","v":0},{"$f":"SUMIFS(Journal!$G:$G,Journal!$A:$A,$B$5,Journal!$B:$B,\">=\"&'Detailed Stats'!AZ$2,Journal!$B:$B, \"<=\"&'Detailed Stats'!AZ$3)","v":0},{"$f":"SUMIFS(Journal!$G:$G,Journal!$A:$A,$B$5,Journal!$B:$B,\">=\"&'Detailed Stats'!BA$2,Journal!$B:$B, \"<=\"&'Detailed Stats'!BA$3)","v":0},{"$f":"SUMIFS(Journal!$G:$G,Journal!$A:$A,$B$5,Journal!$B:$B,\">=\"&'Detailed Stats'!BB$2,Journal!$B:$B, \"<=\"&'Detailed Stats'!BB$3)","v":0},{"$f":"SUMIFS(Journal!$G:$G,Journal!$A:$A,$B$5,Journal!$B:$B,\">=\"&'Detailed Stats'!BC$2,Journal!$B:$B, \"<=\"&'Detailed Stats'!BC$3)","v":0},{"$f":"SUMIFS(Journal!$G:$G,Journal!$A:$A,$B$5,Journal!$B:$B,\">=\"&'Detailed Stats'!BD$2,Journal!$B:$B, \"<=\"&'Detailed Stats'!BD$3)","v":0},{"$f":"SUMIFS(Journal!$G:$G,Journal!$A:$A,$B$5,Journal!$B:$B,\">=\"&'Detailed Stats'!BE$2,Journal!$B:$B, \"<=\"&'Detailed Stats'!BE$3)","v":0}]
[null,"Tue",{"$f":"SUMIFS(Journal!$G:$G,Journal!$A:$A,'Detailed Stats'!B44)","v":0},null,{"$f":"B44","v":"Tue"},{"$f":"SUMIFS(Journal!$G:$G,Journal!$A:$A,$B$6,Journal!$B:$B,\">=\"&'Detailed Stats'!F$2,Journal!$B:$B, \"<=\"&'Detailed Stats'!F$3)","v":0},{"$f":"SUMIFS(Journal!$G:$G,Journal!$A:$A,$B$6,Journal!$B:$B,\">=\"&'Detailed Stats'!G$2,Journal!$B:$B, \"<=\"&'Detailed Stats'!G$3)","v":0},{"$f":"SUMIFS(Journal!$G:$G,Journal!$A:$A,$B$6,Journal!$B:$B,\">=\"&'Detailed Stats'!H$2,Journal!$B:$B, \"<=\"&'Detailed Stats'!H$3)","v":0},{"$f":"SUMIFS(Journal!$G:$G,Journal!$A:$A,$B$6,Journal!$B:$B,\">=\"&'Detailed Stats'!I$2,Journal!$B:$B, \"<=\"&'Detailed Stats'!I$3)","v":0},{"$f":"SUMIFS(Journal!$G:$G,Journal!$A:$A,$B$6,Journal!$B:$B,\">=\"&'Detailed Stats'!J$2,Journal!$B:$B, \"<=\"&'Detailed Stats'!J$3)","v":0},{"$f":"SUMIFS(Journal!$G:$G,Journal!$A:$A,$B$6,Journal!$B:$B,\">=\"&'Detailed Stats'!K$2,Journal!$B:$B, \"<=\"&'Detailed Stats'!K$3)","v":0},{"$f":"SUMIFS(Journal!$G:$G,Journal!$A:$A,$B$6,Journal!$B:$B,\">=\"&'Detailed Stats'!L$2,Journal!$B:$B, \"<=\"&'Detailed Stats'!L$3)","v":0},{"$f":"SUMIFS(Journal!$G:$G,Journal!$A:$A,$B$6,Journal!$B:$B,\">=\"&'Detailed Stats'!M$2,Journal!$B:$B, \"<=\"&'Detailed Stats'!M$3)","v":0},{"$f":"SUMIFS(Journal!$G:$G,Journal!$A:$A,$B$6,Journal!$B:$B,\">=\"&'Detailed Stats'!N$2,Journal!$B:$B, \"<=\"&'Detailed Stats'!N$3)","v":0},{"$f":"SUMIFS(Journal!$G:$G,Journal!$A:$A,$B$6,Journal!$B:$B,\">=\"&'Detailed Stats'!O$2,Journal!$B:$B, \"<=\"&'Detailed Stats'!O$3)","v":0},{"$f":"SUMIFS(Journal!$G:$G,Journal!$A:$A,$B$6,Journal!$B:$B,\">=\"&'Detailed Stats'!P$2,Journal!$B:$B, \"<=\"&'Detailed Stats'!P$3)","v":0},{"$f":"SUMIFS(Journal!$G:$G,Journal!$A:$A,$B$6,Journal!$B:$B,\">=\"&'Detailed Stats'!Q$2,Journal!$B:$B, \"<=\"&'Detailed Stats'!Q$3)","v":0},{"$f":"SUMIFS(Journal!$G:$G,Journal!$A:$A,$B$6,Journal!$B:$B,\">=\"&'Detailed Stats'!R$2,Journal!$B:$B, \"<=\"&'Detailed Stats'!R$3)","v":0},{"$f":"SUMIFS(Journal!$G:$G,Journal!$A:$A,$B$6,Journal!$B:$B,\">=\"&'Detailed Stats'!S$2,Journal!$B:$B, \"<=\"&'Detailed Stats'!S$3)","v":0},{"$f":"SUMIFS(Journal!$G:$G,Journal!$A:$A,$B$6,Journal!$B:$B,\">=\"&'Detailed Stats'!T$2,Journal!$B:$B, \"<=\"&'Detailed Stats'!T$3)","v":0},{"$f":"SUMIFS(Journal!$G:$G,Journal!$A:$A,$B$6,Journal!$B:$B,\">=\"&'Detailed Stats'!U$2,Journal!$B:$B, \"<=\"&'Detailed Stats'!U$3)","v":0},{"$f":"SUMIFS(Journal!$G:$G,Journal!$A:$A,$B$6,Journal!$B:$B,\">=\"&'Detailed Stats'!V$2,Journal!$B:$B, \"<=\"&'Detailed Stats'!V$3)","v":0},{"$f":"SUMIFS(Journal!$G:$G,Journal!$A:$A,$B$6,Journal!$B:$B,\">=\"&'Detailed Stats'!W$2,Journal!$B:$B, \"<=\"&'Detailed Stats'!W$3)","v":0},{"$f":"SUMIFS(Journal!$G:$G,Journal!$A:$A,$B$6,Journal!$B:$B,\">=\"&'Detailed Stats'!X$2,Journal!$B:$B, \"<=\"&'Detailed Stats'!X$3)","v":0},{"$f":"SUMIFS(Journal!$G:$G,Journal!$A:$A,$B$6,Journal!$B:$B,\">=\"&'Detailed Stats'!Y$2,Journal!$B:$B, \"<=\"&'Detailed Stats'!Y$3)","v":0},{"$f":"SUMIFS(Journal!$G:$G,Journal!$A:$A,$B$6,Journal!$B:$B,\">=\"&'Detailed Stats'!Z$2,Journal!$B:$B, \"<=\"&'Detailed Stats'!Z$3)","v":0},{"$f":"SUMIFS(Journal!$G:$G,Journal!$A:$A,$B$6,Journal!$B:$B,\">=\"&'Detailed Stats'!AA$2,Journal!$B:$B, \"<=\"&'Detailed Stats'!AA$3)","v":0},{"$f":"SUMIFS(Journal!$G:$G,Journal!$A:$A,$B$6,Journal!$B:$B,\">=\"&'Detailed Stats'!AB$2,Journal!$B:$B, \"<=\"&'Detailed Stats'!AB$3)","v":0},{"$f":"SUMIFS(Journal!$G:$G,Journal!$A:$A,$B$6,Journal!$B:$B,\">=\"&'Detailed Stats'!AC$2,Journal!$B:$B, \"<=\"&'Detailed Stats'!AC$3)","v":0},{"$f":"SUMIFS(Journal!$G:$G,Journal!$A:$A,$B$6,Journal!$B:$B,\">=\"&'Detailed Stats'!AD$2,Journal!$B:$B, \"<=\"&'Detailed Stats'!AD$3)","v":0},{"$f":"SUMIFS(Journal!$G:$G,Journal!$A:$A,$B$6,Journal!$B:$B,\">=\"&'Detailed Stats'!AE$2,Journal!$B:$B, \"<=\"&'Detailed Stats'!AE$3)","v":0},{"$f":"SUMIFS(Journal!$G:$G,Journal!$A:$A,$B$6,Journal!$B:$B,\">=\"&'Detailed Stats'!AF$2,Journal!$B:$B, \"<=\"&'Detailed Stats'!AF$3)","v":0},{"$f":"SUMIFS(Journal!$G:$G,Journal!$A:$A,$B$6,Journal!$B:$B,\">=\"&'Detailed Stats'!AG$2,Journal!$B:$B, \"<=\"&'Detailed Stats'!AG$3)","v":0},{"$f":"SUMIFS(Journal!$G:$G,Journal!$A:$A,$B$6,Journal!$B:$B,\">=\"&'Detailed Stats'!AH$2,Journal!$B:$B, \"<=\"&'Detailed Stats'!AH$3)","v":0},{"$f":"SUMIFS(Journal!$G:$G,Journal!$A:$A,$B$6,Journal!$B:$B,\">=\"&'Detailed Stats'!AI$2,Journal!$B:$B, \"<=\"&'Detailed Stats'!AI$3)","v":0},{"$f":"SUMIFS(Journal!$G:$G,Journal!$A:$A,$B$6,Journal!$B:$B,\">=\"&'Detailed Stats'!AJ$2,Journal!$B:$B, \"<=\"&'Detailed Stats'!AJ$3)","v":0},{"$f":"SUMIFS(Journal!$G:$G,Journal!$A:$A,$B$6,Journal!$B:$B,\">=\"&'Detailed Stats'!AK$2,Journal!$B:$B, \"<=\"&'Detailed Stats'!AK$3)","v":0},{"$f":"SUMIFS(Journal!$G:$G,Journal!$A:$A,$B$6,Journal!$B:$B,\">=\"&'Detailed Stats'!AL$2,Journal!$B:$B, \"<=\"&'Detailed Stats'!AL$3)","v":0},{"$f":"SUMIFS(Journal!$G:$G,Journal!$A:$A,$B$6,Journal!$B:$B,\">=\"&'Detailed Stats'!AM$2,Journal!$B:$B, \"<=\"&'Detailed Stats'!AM$3)","v":0},{"$f":"SUMIFS(Journal!$G:$G,Journal!$A:$A,$B$6,Journal!$B:$B,\">=\"&'Detailed Stats'!AN$2,Journal!$B:$B, \"<=\"&'Detailed Stats'!AN$3)","v":0},{"$f":"SUMIFS(Journal!$G:$G,Journal!$A:$A,$B$6,Journal!$B:$B,\">=\"&'Detailed Stats'!AO$2,Journal!$B:$B, \"<=\"&'Detailed Stats'!AO$3)","v":0},{"$f":"SUMIFS(Journal!$G:$G,Journal!$A:$A,$B$6,Journal!$B:$B,\">=\"&'Detailed Stats'!AP$2,Journal!$B:$B, \"<=\"&'Detailed Stats'!AP$3)","v":0},{"$f":"SUMIFS(Journal!$G:$G,Journal!$A:$A,$B$6,Journal!$B:$B,\">=\"&'Detailed Stats'!AQ$2,Journal!$B:$B, \"<=\"&'Detailed Stats'!AQ$3)","v":0},{"$f":"SUMIFS(Journal!$G:$G,Journal!$A:$A,$B$6,Journal!$B:$B,\">=\"&'Detailed Stats'!AR$2,Journal!$B:$B, \"<=\"&'Detailed Stats'!AR$3)","v":0},{"$f":"SUMIFS(Journal!$G:$G,Journal!$A:$A,$B$6,Journal!$B:$B,\">=\"&'Detailed Stats'!AS$2,Journal!$B:$B, \"<=\"&'Detailed Stats'!AS$3)","v":0},{"$f":"SUMIFS(Journal!$G:$G,Journal!$A:$A,$B$6,Journal!$B:$B,\">=\"&'Detailed Stats'!AT$2,Journal!$B:$B, \"<=\"&'Detailed Stats'!AT$3)","v":0},{"$f":"SUMIFS(Journal!$G:$G,Journal!$A:$A,$B$6,Journal!$B:$B,\">=\"&'Detailed Stats'!AU$2,Journal!$B:$B, \"<=\"&'Detailed Stats'!AU$3)","v":0},{"$f":"SUMIFS(Journal!$G:$G,Journal!$A:$A,$B$6,Journal!$B:$B,\">=\"&'Detailed Stats'!AV$2,Journal!$B:$B, \"<=\"&'Detailed Stats'!AV$3)","v":0},{"$f":"SUMIFS(Journal!$G:$G,Journal!$A:$A,$B$6,Journal!$B:$B,\">=\"&'Detailed Stats'!AW$2,Journal!$B:$B, \"<=\"&'Detailed Stats'!AW$3)","v":0},{"$f":"SUMIFS(Journal!$G:$G,Journal!$A:$A,$B$6,Journal!$B:$B,\">=\"&'Detailed Stats'!AX$2,Journal!$B:$B, \"<=\"&'Detailed Stats'!AX$3)","v":0},{"$f":"SUMIFS(Journal!$G:$G,Journal!$A:$A,$B$6,Journal!$B:$B,\">=\"&'Detailed Stats'!AY$2,Journal!$B:$B, \"<=\"&'Detailed Stats'!AY$3)","v":0},{"$f":"SUMIFS(Journal!$G:$G,Journal!$A:$A,$B$6,Journal!$B:$B,\">=\"&'Detailed Stats'!AZ$2,Journal!$B:$B, \"<=\"&'Detailed Stats'!AZ$3)","v":0},{"$f":"SUMIFS(Journal!$G:$G,Journal!$A:$A,$B$6,Journal!$B:$B,\">=\"&'Detailed Stats'!BA$2,Journal!$B:$B, \"<=\"&'Detailed Stats'!BA$3)","v":0},{"$f":"SUMIFS(Journal!$G:$G,Journal!$A:$A,$B$6,Journal!$B:$B,\">=\"&'Detailed Stats'!BB$2,Journal!$B:$B, \"<=\"&'Detailed Stats'!BB$3)","v":0},{"$f":"SUMIFS(Journal!$G:$G,Journal!$A:$A,$B$6,Journal!$B:$B,\">=\"&'Detailed Stats'!BC$2,Journal!$B:$B, \"<=\"&'Detailed Stats'!BC$3)","v":0},{"$f":"SUMIFS(Journal!$G:$G,Journal!$A:$A,$B$6,Journal!$B:$B,\">=\"&'Detailed Stats'!BD$2,Journal!$B:$B, \"<=\"&'Detailed Stats'!BD$3)","v":0},{"$f":"SUMIFS(Journal!$G:$G,Journal!$A:$A,$B$6,Journal!$B:$B,\">=\"&'Detailed Stats'!BE$2,Journal!$B:$B, \"<=\"&'Detailed Stats'!BE$3)","v":0}]
[null,"Wed",{"$f":"SUMIFS(Journal!$G:$G,Journal!$A:$A,'Detailed Stats'!B45)","v":0},null,{"$f":"B45","v":"Wed"},{"$f":"SUMIFS(Journal!$G:$G,Journal!$A:$A,$B$7,Journal!$B:$B,\">=\"&'Detailed Stats'!F$2,Journal!$B:$B, \"<=\"&'Detailed Stats'!F$3)","v":0},{"$f":"SUMIFS(Journal!$G:$G,Journal!$A:$A,$B$7,Journal!$B:$B,\">=\"&'Detailed Stats'!G$2,Journal!$B:$B, \"<=\"&'Detailed Stats'!G$3)","v":0},{"$f":"SUMIFS(Journal!$G:$G,Journal!$A:$A,$B$7,Journal!$B:$B,\">=\"&'Detailed Stats'!H$2,Journal!$B:$B, \"<=\"&'Detailed Stats'!H$3)","v":0},{"$f":"SUMIFS(Journal!$G:$G,Journal!$A:$A,$B$7,Journal!$B:$B,\">=\"&'Detailed Stats'!I$2,Journal!$B:$B, \"<=\"&'Detailed Stats'!I$3)","v":0},{"$f":"SUMIFS(Journal!$G:$G,Journal!$A:$A,$B$7,Journal!$B:$B,\">=\"&'Detailed Stats'!J$2,Journal!$B:$B, \"<=\"&'Detailed Stats'!J$3)","v":0},{"$f":"SUMIFS(Journal!$G:$G,Journal!$A:$A,$B$7,Journal!$B:$B,\">=\"&'Detailed Stats'!K$2,Journal!$B:$B, \"<=\"&'Detailed Stats'!K$3)","v":0},{"$f":"SUMIFS(Journal!$G:$G,Journal!$A:$A,$B$7,Journal!$B:$B,\">=\"&'Detailed Stats'!L$2,Journal!$B:$B, \"<=\"&'Detailed Stats'!L$3)","v":0},{"$f":"SUMIFS(Journal!$G:$G,Journal!$A:$A,$B$7,Journal!$B:$B,\">=\"&'Detailed Stats'!M$2,Journal!$B:$B, \"<=\"&'Detailed Stats'!M$3)","v":0},{"$f":"SUMIFS(Journal!$G:$G,Journal!$A:$A,$B$7,Journal!$B:$B,\">=\"&'Detailed Stats'!N$2,Journal!$B:$B, \"<=\"&'Detailed Stats'!N$3)","v":0},{"$f":"SUMIFS(Journal!$G:$G,Journal!$A:$A,$B$7,Journal!$B:$B,\">=\"&'Detailed Stats'!O$2,Journal!$B:$B, \"<=\"&'Detailed Stats'!O$3)","v":0},{"$f":"SUMIFS(Journal!$G:$G,Journal!$A:$A,$B$7,Journal!$B:$B,\">=\"&'Detailed Stats'!P$2,Journal!$B:$B, \"<=\"&'Detailed Stats'!P$3)","v":0},{"$f":"SUMIFS(Journal!$G:$G,Journal!$A:$A,$B$7,Journal!$B:$B,\">=\"&'Detailed Stats'!Q$2,Journal!$B:$B, \"<=\"&'Detailed Stats'!Q$3)","v":0},{"$f":"SUMIFS(Journal!$G:$G,Journal!$A:$A,$B$7,Journal!$B:$B,\">=\"&'Detailed Stats'!R$2,Journal!$B:$B, \"<=\"&'Detailed Stats'!R$3)","v":0},{"$f":"SUMIFS(Journal!$G:$G,Journal!$A:$A,$B$7,Journal!$B:$B,\">=\"&'Detailed Stats'!S$2,Journal!$B:$B, \"<=\"&'Detailed Stats'!S$3)","v":0},{"$f":"SUMIFS(Journal!$G:$G,Journal!$A:$A,$B$7,Journal!$B:$B,\">=\"&'Detailed Stats'!T$2,Journal!$B:$B, \"<=\"&'Detailed Stats'!T$3)","v":0},{"$f":"SUMIFS(Journal!$G:$G,Journal!$A:$A,$B$7,Journal!$B:$B,\">=\"&'Detailed Stats'!U$2,Journal!$B:$B, \"<=\"&'Detailed Stats'!U$3)","v":0},{"$f":"SUMIFS(Journal!$G:$G,Journal!$A:$A,$B$7,Journal!$B:$B,\">=\"&'Detailed Stats'!V$2,Journal!$B:$B, \"<=\"&'Detailed Stats'!V$3)","v":0},{"$f":"SUMIFS(Journal!$G:$G,Journal!$A:$A,$B$7,Journal!$B:$B,\">=\"&'Detailed Stats'!W$2,Journal!$B:$B, \"<=\"&'Detailed Stats'!W$3)","v":0},{"$f":"SUMIFS(Journal!$G:$G,Journal!$A:$A,$B$7,Journal!$B:$B,\">=\"&'Detailed Stats'!X$2,Journal!$B:$B, \"<=\"&'Detailed Stats'!X$3)","v":0},{"$f":"SUMIFS(Journal!$G:$G,Journal!$A:$A,$B$7,Journal!$B:$B,\">=\"&'Detailed Stats'!Y$2,Journal!$B:$B, \"<=\"&'Detailed Stats'!Y$3)","v":0},{"$f":"SUMIFS(Journal!$G:$G,Journal!$A:$A,$B$7,Journal!$B:$B,\">=\"&'Detailed Stats'!Z$2,Journal!$B:$B, \"<=\"&'Detailed Stats'!Z$3)","v":0},{"$f":"SUMIFS(Journal!$G:$G,Journal!$A:$A,$B$7,Journal!$B:$B,\">=\"&'Detailed Stats'!AA$2,Journal!$B:$B, \"<=\"&'Detailed Stats'!AA$3)","v":0},{"$f":"SUMIFS(Journal!$G:$G,Journal!$A:$A,$B$7,Journal!$B:$B,\">=\"&'Detailed Stats'!AB$2,Journal!$B:$B, \"<=\"&'Detailed Stats'!AB$3)","v":0},{"$f":"SUMIFS(Journal!$G:$G,Journal!$A:$A,$B$7,Journal!$B:$B,\">=\"&'Detailed Stats'!AC$2,Journal!$B:$B, \"<=\"&'Detailed Stats'!AC$3)","v":0},{"$f":"SUMIFS(Journal!$G:$G,Journal!$A:$A,$B$7,Journal!$B:$B,\">=\"&'Detailed Stats'!AD$2,Journal!$B:$B, \"<=\"&'Detailed Stats'!AD$3)","v":0},{"$f":"SUMIFS(Journal!$G:$G,Journal!$A:$A,$B$7,Journal!$B:$B,\">=\"&'Detailed Stats'!AE$2,Journal!$B:$B, \"<=\"&'Detailed Stats'!AE$3)","v":0},{"$f":"SUMIFS(Journal!$G:$G,Journal!$A:$A,$B$7,Journal!$B:$B,\">=\"&'Detailed Stats'!AF$2,Journal!$B:$B, \"<=\"&'Detailed Stats'!AF$3)","v":0},{"$f":"SUMIFS(Journal!$G:$G,Journal!$A:$A,$B$7,Journal!$B:$B,\">=\"&'Detailed Stats'!AG$2,Journal!$B:$B, \"<=\"&'Detailed Stats'!AG$3)","v":0},{"$f":"SUMIFS(Journal!$G:$G,Journal!$A:$A,$B$7,Journal!$B:$B,\">=\"&'Detailed Stats'!AH$2,Journal!$B:$B, \"<=\"&'Detailed Stats'!AH$3)","v":0},{"$f":"SUMIFS(Journal!$G:$G,Journal!$A:$A,$B$7,Journal!$B:$B,\">=\"&'Detailed Stats'!AI$2,Journal!$B:$B, \"<=\"&'Detailed Stats'!AI$3)","v":0},{"$f":"SUMIFS(Journal!$G:$G,Journal!$A:$A,$B$7,Journal!$B:$B,\">=\"&'Detailed Stats'!AJ$2,Journal!$B:$B, \"<=\"&'Detailed Stats'!AJ$3)","v":0},{"$f":"SUMIFS(Journal!$G:$G,Journal!$A:$A,$B$7,Journal!$B:$B,\">=\"&'Detailed Stats'!AK$2,Journal!$B:$B, \"<=\"&'Detailed Stats'!AK$3)","v":0},{"$f":"SUMIFS(Journal!$G:$G,Journal!$A:$A,$B$7,Journal!$B:$B,\">=\"&'Detailed Stats'!AL$2,Journal!$B:$B, \"<=\"&'Detailed Stats'!AL$3)","v":0},{"$f":"SUMIFS(Journal!$G:$G,Journal!$A:$A,$B$7,Journal!$B:$B,\">=\"&'Detailed Stats'!AM$2,Journal!$B:$B, \"<=\"&'Detailed Stats'!AM$3)","v":0},{"$f":"SUMIFS(Journal!$G:$G,Journal!$A:$A,$B$7,Journal!$B:$B,\">=\"&'Detailed Stats'!AN$2,Journal!$B:$B, \"<=\"&'Detailed Stats'!AN$3)","v":0},{"$f":"SUMIFS(Journal!$G:$G,Journal!$A:$A,$B$7,Journal!$B:$B,\">=\"&'Detailed Stats'!AO$2,Journal!$B:$B, \"<=\"&'Detailed Stats'!AO$3)","v":0},{"$f":"SUMIFS(Journal!$G:$G,Journal!$A:$A,$B$7,Journal!$B:$B,\">=\"&'Detailed Stats'!AP$2,Journal!$B:$B, \"<=\"&'Detailed Stats'!AP$3)","v":0},{"$f":"SUMIFS(Journal!$G:$G,Journal!$A:$A,$B$7,Journal!$B:$B,\">=\"&'Detailed Stats'!AQ$2,Journal!$B:$B, \"<=\"&'Detailed Stats'!AQ$3)","v":0},{"$f":"SUMIFS(Journal!$G:$G,Journal!$A:$A,$B$7,Journal!$B:$B,\">=\"&'Detailed Stats'!AR$2,Journal!$B:$B, \"<=\"&'Detailed Stats'!AR$3)","v":0},{"$f":"SUMIFS(Journal!$G:$G,Journal!$A:$A,$B$7,Journal!$B:$B,\">=\"&'Detailed Stats'!AS$2,Journal!$B:$B, \"<=\"&'Detailed Stats'!AS$3)","v":0},{"$f":"SUMIFS(Journal!$G:$G,Journal!$A:$A,$B$7,Journal!$B:$B,\">=\"&'Detailed Stats'!AT$2,Journal!$B:$B, \"<=\"&'Detailed Stats'!AT$3)","v":0},{"$f":"SUMIFS(Journal!$G:$G,Journal!$A:$A,$B$7,Journal!$B:$B,\">=\"&'Detailed Stats'!AU$2,Journal!$B:$B, \"<=\"&'Detailed Stats'!AU$3)","v":0},{"$f":"SUMIFS(Journal!$G:$G,Journal!$A:$A,$B$7,Journal!$B:$B,\">=\"&'Detailed Stats'!AV$2,Journal!$B:$B, \"<=\"&'Detailed Stats'!AV$3)","v":0},{"$f":"SUMIFS(Journal!$G:$G,Journal!$A:$A,$B$7,Journal!$B:$B,\">=\"&'Detailed Stats'!AW$2,Journal!$B:$B, \"<=\"&'Detailed Stats'!AW$3)","v":0},{"$f":"SUMIFS(Journal!$G:$G,Journal!$A:$A,$B$7,Journal!$B:$B,\">=\"&'Detailed Stats'!AX$2,Journal!$B:$B, \"<=\"&'Detailed Stats'!AX$3)","v":0},{"$f":"SUMIFS(Journal!$G:$G,Journal!$A:$A,$B$7,Journal!$B:$B,\">=\"&'Detailed Stats'!AY$2,Journal!$B:$B, \"<=\"&'Detailed Stats'!AY$3)","v":0},{"$f":"SUMIFS(Journal!$G:$G,Journal!$A:$A,$B$7,Journal!$B:$B,\">=\"&'Detailed Stats'!AZ$2,Journal!$B:$B, \"<=\"&'Detailed Stats'!AZ$3)","v":0},{"$f":"SUMIFS(Journal!$G:$G,Journal!$A:$A,$B$7,Journal!$B:$B,\">=\"&'Detailed Stats'!BA$2,Journal!$B:$B, \"<=\"&'Detailed Stats'!BA$3)","v":0},{"$f":"SUMIFS(Journal!$G:$G,Journal!$A:$A,$B$7,Journal!$B:$B,\">=\"&'Detailed Stats'!BB$2,Journal!$B:$B, \"<=\"&'Detailed Stats'!BB$3)","v":0},{"$f":"SUMIFS(Journal!$G:$G,Journal!$A:$A,$B$7,Journal!$B:$B,\">=\"&'Detailed Stats'!BC$2,Journal!$B:$B, \"<=\"&'Detailed Stats'!BC$3)","v":0},{"$f":"SUMIFS(Journal!$G:$G,Journal!$A:$A,$B$7,Journal!$B:$B,\">=\"&'Detailed Stats'!BD$2,Journal!$B:$B, \"<=\"&'Detailed Stats'!BD$3)","v":0},{"$f":"SUMIFS(Journal!$G:$G,Journal!$A:$A,$B$7,Journal!$B:$B,\">=\"&'Detailed Stats'!BE$2,Journal!$B:$B, \"<=\"&'Detailed Stats'!BE$3)","v":0}]
[null,"Thu",{"$f":"SUMIFS(Journal!$G:$G,Journal!$A:$A,'Detailed Stats'!B46)","v":0},null,{"$f":"B46","v":"Thu"},{"$f":"SUMIFS(Journal!$G:$G,Journal!$A:$A,$B$8,Journal!$B:$B,\">=\"&'Detailed Stats'!F$2,Journal!$B:$B, \"<=\"&'Detailed Stats'!F$3)","v":0},{"$f":"SUMIFS(Journal!$G:$G,Journal!$A:$A,$B$8,Journal!$B:$B,\">=\"&'Detailed Stats'!G$2,Journal!$B:$B, \"<=\"&'Detailed Stats'!G$3)","v":0},{"$f":"SUMIFS(Journal!$G:$G,Journal!$A:$A,$B$8,Journal!$B:$B,\">=\"&'Detailed Stats'!H$2,Journal!$B:$B, \"<=\"&'Detailed Stats'!H$3)","v":0},{"$f":"SUMIFS(Journal!$G:$G,Journal!$A:$A,$B$8,Journal!$B:$B,\">=\"&'Detailed Stats'!I$2,Journal!$B:$B, \"<=\"&'Detailed Stats'!I$3)","v":0},{"$f":"SUMIFS(Journal!$G:$G,Journal!$A:$A,$B$8,Journal!$B:$B,\">=\"&'Detailed Stats'!J$2,Journal!$B:$B, \"<=\"&'Detailed Stats'!J$3)","v":0},{"$f":"SUMIFS(Journal!$G:$G,Journal!$A:$A,$B$8,Journal!$B:$B,\">=\"&'Detailed Stats'!K$2,Journal!$B:$B, \"<=\"&'Detailed Stats'!K$3)","v":0},{"$f":"SUMIFS(Journal!$G:$G,Journal!$A:$A,$B$8,Journal!$B:$B,\">=\"&'Detailed Stats'!L$2,Journal!$B:$B, \"<=\"&'Detailed Stats'!L$3)","v":0},{"$f":"SUMIFS(Journal!$G:$G,Journal!$A:$A,$B$8,Journal!$B:$B,\">=\"&'Detailed Stats'!M$2,Journal!$B:$B, \"<=\"&'Detailed Stats'!M$3)","v":0},{"$f":"SUMIFS(Journal!$G:$G,Journal!$A:$A,$B$8,Journal!$B:$B,\">=\"&'Detailed Stats'!N$2,Journal!$B:$B, \"<=\"&'Detailed Stats'!N$3)","v":0},{"$f":"SUMIFS(Journal!$G:$G,Journal!$A:$A,$B$8,Journal!$B:$B,\">=\"&'Detailed Stats'!O$2,Journal!$B:$B, \"<=\"&'Detailed Stats'!O$3)","v":0},{"$f":"SUMIFS(Journal!$G:$G,Journal!$A:$A,$B$8,Journal!$B:$B,\">=\"&'Detailed Stats'!P$2,Journal!$B:$B, \"<=\"&'Detailed Stats'!P$3)","v":0},{"$f":"SUMIFS(Journal!$G:$G,Journal!$A:$A,$B$8,Journal!$B:$B,\">=\"&'Detailed Stats'!Q$2,Journal!$B:$B, \"<=\"&'Detailed Stats'!Q$3)","v":0},{"$f":"SUMIFS(Journal!$G:$G,Journal!$A:$A,$B$8,Journal!$B:$B,\">=\"&'Detailed Stats'!R$2,Journal!$B:$B, \"<=\"&'Detailed Stats'!R$3)","v":0},{"$f":"SUMIFS(Journal!$G:$G,Journal!$A:$A,$B$8,Journal!$B:$B,\">=\"&'Detailed Stats'!S$2,Journal!$B:$B, \"<=\"&'Detailed Stats'!S$3)","v":0},{"$f":"SUMIFS(Journal!$G:$G,Journal!$A:$A,$B$8,Journal!$B:$B,\">=\"&'Detailed Stats'!T$2,Journal!$B:$B, \"<=\"&'Detailed Stats'!T$3)","v":0},{"$f":"SUMIFS(Journal!$G:$G,Journal!$A:$A,$B$8,Journal!$B:$B,\">=\"&'Detailed Stats'!U$2,Journal!$B:$B, \"<=\"&'Detailed Stats'!U$3)","v":0},{"$f":"SUMIFS(Journal!$G:$G,Journal!$A:$A,$B$8,Journal!$B:$B,\">=\"&'Detailed Stats'!V$2,Journal!$B:$B, \"<=\"&'Detailed Stats'!V$3)","v":0},{"$f":"SUMIFS(Journal!$G:$G,Journal!$A:$A,$B$8,Journal!$B:$B,\">=\"&'Detailed Stats'!W$2,Journal!$B:$B, \"<=\"&'Detailed Stats'!W$3)","v":0},{"$f":"SUMIFS(Journal!$G:$G,Journal!$A:$A,$B$8,Journal!$B:$B,\">=\"&'Detailed Stats'!X$2,Journal!$B:$B, \"<=\"&'Detailed Stats'!X$3)","v":0},{"$f":"SUMIFS(Journal!$G:$G,Journal!$A:$A,$B$8,Journal!$B:$B,\">=\"&'Detailed Stats'!Y$2,Journal!$B:$B, \"<=\"&'Detailed Stats'!Y$3)","v":0},{"$f":"SUMIFS(Journal!$G:$G,Journal!$A:$A,$B$8,Journal!$B:$B,\">=\"&'Detailed Stats'!Z$2,Journal!$B:$B, \"<=\"&'Detailed Stats'!Z$3)","v":0},{"$f":"SUMIFS(Journal!$G:$G,Journal!$A:$A,$B$8,Journal!$B:$B,\">=\"&'Detailed Stats'!AA$2,Journal!$B:$B, \"<=\"&'Detailed Stats'!AA$3)","v":0},{"$f":"SUMIFS(Journal!$G:$G,Journal!$A:$A,$B$8,Journal!$B:$B,\">=\"&'Detailed Stats'!AB$2,Journal!$B:$B, \"<=\"&'Detailed Stats'!AB$3)","v":0},{"$f":"SUMIFS(Journal!$G:$G,Journal!$A:$A,$B$8,Journal!$B:$B,\">=\"&'Detailed Stats'!AC$2,Journal!$B:$B, \"<=\"&'Detailed Stats'!AC$3)","v":0},{"$f":"SUMIFS(Journal!$G:$G,Journal!$A:$A,$B$8,Journal!$B:$B,\">=\"&'Detailed Stats'!AD$2,Journal!$B:$B, \"<=\"&'Detailed Stats'!AD$3)","v":0},{"$f":"SUMIFS(Journal!$G:$G,Journal!$A:$A,$B$8,Journal!$B:$B,\">=\"&'Detailed Stats'!AE$2,Journal!$B:$B, \"<=\"&'Detailed Stats'!AE$3)","v":0},{"$f":"SUMIFS(Journal!$G:$G,Journal!$A:$A,$B$8,Journal!$B:$B,\">=\"&'Detailed Stats'!AF$2,Journal!$B:$B, \"<=\"&'Detailed Stats'!AF$3)","v":0},{"$f":"SUMIFS(Journal!$G:$G,Journal!$A:$A,$B$8,Journal!$B:$B,\">=\"&'Detailed Stats'!AG$2,Journal!$B:$B, \"<=\"&'Detailed Stats'!AG$3)","v":0},{"$f":"SUMIFS(Journal!$G:$G,Journal!$A:$A,$B$8,Journal!$B:$B,\">=\"&'Detailed Stats'!AH$2,Journal!$B:$B, \"<=\"&'Detailed Stats'!AH$3)","v":0},{"$f":"SUMIFS(Journal!$G:$G,Journal!$A:$A,$B$8,Journal!$B:$B,\">=\"&'Detailed Stats'!AI$2,Journal!$B:$B, \"<=\"&'Detailed Stats'!AI$3)","v":0},{"$f":"SUMIFS(Journal!$G:$G,Journal!$A:$A,$B$8,Journal!$B:$B,\">=\"&'Detailed Stats'!AJ$2,Journal!$B:$B, \"<=\"&'Detailed Stats'!AJ$3)","v":0},{"$f":"SUMIFS(Journal!$G:$G,Journal!$A:$A,$B$8,Journal!$B:$B,\">=\"&'Detailed Stats'!AK$2,Journal!$B:$B, \"<=\"&'Detailed Stats'!AK$3)","v":0},{"$f":"SUMIFS(Journal!$G:$G,Journal!$A:$A,$B$8,Journal!$B:$B,\">=\"&'Detailed Stats'!AL$2,Journal!$B:$B, \"<=\"&'Detailed Stats'!AL$3)","v":0},{"$f":"SUMIFS(Journal!$G:$G,Journal!$A:$A,$B$8,Journal!$B:$B,\">=\"&'Detailed Stats'!AM$2,Journal!$B:$B, \"<=\"&'Detailed Stats'!AM$3)","v":0},{"$f":"SUMIFS(Journal!$G:$G,Journal!$A:$A,$B$8,Journal!$B:$B,\">=\"&'Detailed Stats'!AN$2,Journal!$B:$B, \"<=\"&'Detailed Stats'!AN$3)","v":0},{"$f":"SUMIFS(Journal!$G:$G,Journal!$A:$A,$B$8,Journal!$B:$B,\">=\"&'Detailed Stats'!AO$2,Journal!$B:$B, \"<=\"&'Detailed Stats'!AO$3)","v":0},{"$f":"SUMIFS(Journal!$G:$G,Journal!$A:$A,$B$8,Journal!$B:$B,\">=\"&'Detailed Stats'!AP$2,Journal!$B:$B, \"<=\"&'Detailed Stats'!AP$3)","v":0},{"$f":"SUMIFS(Journal!$G:$G,Journal!$A:$A,$B$8,Journal!$B:$B,\">=\"&'Detailed Stats'!AQ$2,Journal!$B:$B, \"<=\"&'Detailed Stats'!AQ$3)","v":0},{"$f":"SUMIFS(Journal!$G:$G,Journal!$A:$A,$B$8,Journal!$B:$B,\">=\"&'Detailed Stats'!AR$2,Journal!$B:$B, \"<=\"&'Detailed Stats'!AR$3)","v":0},{"$f":"SUMIFS(Journal!$G:$G,Journal!$A:$A,$B$8,Journal!$B:$B,\">=\"&'Detailed Stats'!AS$2,Journal!$B:$B, \"<=\"&'Detailed Stats'!AS$3)","v":0},{"$f":"SUMIFS(Journal!$G:$G,Journal!$A:$A,$B$8,Journal!$B:$B,\">=\"&'Detailed Stats'!AT$2,Journal!$B:$B, \"<=\"&'Detailed Stats'!AT$3)","v":0},{"$f":"SUMIFS(Journal!$G:$G,Journal!$A:$A,$B$8,Journal!$B:$B,\">=\"&'Detailed Stats'!AU$2,Journal!$B:$B, \"<=\"&'Detailed Stats'!AU$3)","v":0},{"$f":"SUMIFS(Journal!$G:$G,Journal!$A:$A,$B$8,Journal!$B:$B,\">=\"&'Detailed Stats'!AV$2,Journal!$B:$B, \"<=\"&'Detailed Stats'!AV$3)","v":0},{"$f":"SUMIFS(Journal!$G:$G,Journal!$A:$A,$B$8,Journal!$B:$B,\">=\"&'Detailed Stats'!AW$2,Journal!$B:$B, \"<=\"&'Detailed Stats'!AW$3)","v":0},{"$f":"SUMIFS(Journal!$G:$G,Journal!$A:$A,$B$8,Journal!$B:$B,\">=\"&'Detailed Stats'!AX$2,Journal!$B:$B, \"<=\"&'Detailed Stats'!AX$3)","v":0},{"$f":"SUMIFS(Journal!$G:$G,Journal!$A:$A,$B$8,Journal!$B:$B,\">=\"&'Detailed Stats'!AY$2,Journal!$B:$B, \"<=\"&'Detailed Stats'!AY$3)","v":0},{"$f":"SUMIFS(Journal!$G:$G,Journal!$A:$A,$B$8,Journal!$B:$B,\">=\"&'Detailed Stats'!AZ$2,Journal!$B:$B, \"<=\"&'Detailed Stats'!AZ$3)","v":0},{"$f":"SUMIFS(Journal!$G:$G,Journal!$A:$A,$B$8,Journal!$B:$B,\">=\"&'Detailed Stats'!BA$2,Journal!$B:$B, \"<=\"&'Detailed Stats'!BA$3)","v":0},{"$f":"SUMIFS(Journal!$G:$G,Journal!$A:$A,$B$8,Journal!$B:$B,\">=\"&'Detailed Stats'!BB$2,Journal!$B:$B, \"<=\"&'Detailed Stats'!BB$3)","v":0},{"$f":"SUMIFS(Journal!$G:$G,Journal!$A:$A,$B$8,Journal!$B:$B,\">=\"&'Detailed Stats'!BC$2,Journal!$B:$B, \"<=\"&'Detailed Stats'!BC$3)","v":0},{"$f":"SUMIFS(Journal!$G:$G,Journal!$A:$A,$B$8,Journal!$B:$B,\">=\"&'Detailed Stats'!BD$2,Journal!$B:$B, \"<=\"&'Detailed Stats'!BD$3)","v":0},{"$f":"SUMIFS(Journal!$G:$G,Journal!$A:$A,$B$8,Journal!$B:$B,\">=\"&'Detailed Stats'!BE$2,Journal!$B:$B, \"<=\"&'Detailed Stats'!BE$3)","v":0}]
[null,"Fri",{"$f":"SUMIFS(Journal!$G:$G,Journal!$A:$A,'Detailed Stats'!B47)","v":0},null,{"$f":"B47","v":"Fri"},{"$f":"SUMIFS(Journal!$G:$G,Journal!$A:$A,$B$9,Journal!$B:$B,\">=\"&'Detailed Stats'!F$2,Journal!$B:$B, \"<=\"&'Detailed Stats'!F$3)","v":0},{"$f":"SUMIFS(Journal!$G:$G,Journal!$A:$A,$B$9,Journal!$B:$B,\">=\"&'Detailed Stats'!G$2,Journal!$B:$B, \"<=\"&'Detailed Stats'!G$3)","v":0},{"$f":"SUMIFS(Journal!$G:$G,Journal!$A:$A,$B$9,Journal!$B:$B,\">=\"&'Detailed Stats'!H$2,Journal!$B:$B, \"<=\"&'Detailed Stats'!H$3)","v":0},{"$f":"SUMIFS(Journal!$G:$G,Journal!$A:$A,$B$9,Journal!$B:$B,\">=\"&'Detailed Stats'!I$2,Journal!$B:$B, \"<=\"&'Detailed Stats'!I$3)","v":0},{"$f":"SUMIFS(Journal!$G:$G,Journal!$A:$A,$B$9,Journal!$B:$B,\">=\"&'Detailed Stats'!J$2,Journal!$B:$B, \"<=\"&'Detailed Stats'!J$3)","v":0},{"$f":"SUMIFS(Journal!$G:$G,Journal!$A:$A,$B$9,Journal!$B:$B,\">=\"&'Detailed Stats'!K$2,Journal!$B:$B, \"<=\"&'Detailed Stats'!K$3)","v":0},{"$f":"SUMIFS(Journal!$G:$G,Journal!$A:$A,$B$9,Journal!$B:$B,\">=\"&'Detailed Stats'!L$2,Journal!$B:$B, \"<=\"&'Detailed Stats'!L$3)","v":0},{"$f":"SUMIFS(Journal!$G:$G,Journal!$A:$A,$B$9,Journal!$B:$B,\">=\"&'Detailed Stats'!M$2,Journal!$B:$B, \"<=\"&'Detailed Stats'!M$3)","v":0},{"$f":"SUMIFS(Journal!$G:$G,Journal!$A:$A,$B$9,Journal!$B:$B,\">=\"&'Detailed Stats'!N$2,Journal!$B:$B, \"<=\"&'Detailed Stats'!N$3)","v":0},{"$f":"SUMIFS(Journal!$G:$G,Journal!$A:$A,$B$9,Journal!$B:$B,\">=\"&'Detailed Stats'!O$2,Journal!$B:$B, \"<=\"&'Detailed Stats'!O$3)","v":0},{"$f":"SUMIFS(Journal!$G:$G,Journal!$A:$A,$B$9,Journal!$B:$B,\">=\"&'Detailed Stats'!P$2,Journal!$B:$B, \"<=\"&'Detailed Stats'!P$3)","v":0},{"$f":"SUMIFS(Journal!$G:$G,Journal!$A:$A,$B$9,Journal!$B:$B,\">=\"&'Detailed Stats'!Q$2,Journal!$B:$B, \"<=\"&'Detailed Stats'!Q$3)","v":0},{"$f":"SUMIFS(Journal!$G:$G,Journal!$A:$A,$B$9,Journal!$B:$B,\">=\"&'Detailed Stats'!R$2,Journal!$B:$B, \"<=\"&'Detailed Stats'!R$3)","v":0},{"$f":"SUMIFS(Journal!$G:$G,Journal!$A:$A,$B$9,Journal!$B:$B,\">=\"&'Detailed Stats'!S$2,Journal!$B:$B, \"<=\"&'Detailed Stats'!S$3)","v":0},{"$f":"SUMIFS(Journal!$G:$G,Journal!$A:$A,$B$9,Journal!$B:$B,\">=\"&'Detailed Stats'!T$2,Journal!$B:$B, \"<=\"&'Detailed Stats'!T$3)","v":0},{"$f":"SUMIFS(Journal!$G:$G,Journal!$A:$A,$B$9,Journal!$B:$B,\">=\"&'Detailed Stats'!U$2,Journal!$B:$B, \"<=\"&'Detailed Stats'!U$3)","v":0},{"$f":"SUMIFS(Journal!$G:$G,Journal!$A:$A,$B$9,Journal!$B:$B,\">=\"&'Detailed Stats'!V$2,Journal!$B:$B, \"<=\"&'Detailed Stats'!V$3)","v":0},{"$f":"SUMIFS(Journal!$G:$G,Journal!$A:$A,$B$9,Journal!$B:$B,\">=\"&'Detailed Stats'!W$2,Journal!$B:$B, \"<=\"&'Detailed Stats'!W$3)","v":0},{"$f":"SUMIFS(Journal!$G:$G,Journal!$A:$A,$B$9,Journal!$B:$B,\">=\"&'Detailed Stats'!X$2,Journal!$B:$B, \"<=\"&'Detailed Stats'!X$3)","v":0},{"$f":"SUMIFS(Journal!$G:$G,Journal!$A:$A,$B$9,Journal!$B:$B,\">=\"&'Detailed Stats'!Y$2,Journal!$B:$B, \"<=\"&'Detailed Stats'!Y$3)","v":0},{"$f":"SUMIFS(Journal!$G:$G,Journal!$A:$A,$B$9,Journal!$B:$B,\">=\"&'Detailed Stats'!Z$2,Journal!$B:$B, \"<=\"&'Detailed Stats'!Z$3)","v":0},{"$f":"SUMIFS(Journal!$G:$G,Journal!$A:$A,$B$9,Journal!$B:$B,\">=\"&'Detailed Stats'!AA$2,Journal!$B:$B, \"<=\"&'Detailed Stats'!AA$3)","v":0},{"$f":"SUMIFS(Journal!$G:$G,Journal!$A:$A,$B$9,Journal!$B:$B,\">=\"&'Detailed Stats'!AB$2,Journal!$B:$B, \"<=\"&'Detailed Stats'!AB$3)","v":0},{"$f":"SUMIFS(Journal!$G:$G,Journal!$A:$A,$B$9,Journal!$B:$B,\">=\"&'Detailed Stats'!AC$2,Journal!$B:$B, \"<=\"&'Detailed Stats'!AC$3)","v":0},{"$f":"SUMIFS(Journal!$G:$G,Journal!$A:$A,$B$9,Journal!$B:$B,\">=\"&'Detailed Stats'!AD$2,Journal!$B:$B, \"<=\"&'Detailed Stats'!AD$3)","v":0},{"$f":"SUMIFS(Journal!$G:$G,Journal!$A:$A,$B$9,Journal!$B:$B,\">=\"&'Detailed Stats'!AE$2,Journal!$B:$B, \"<=\"&'Detailed Stats'!AE$3)","v":0},{"$f":"SUMIFS(Journal!$G:$G,Journal!$A:$A,$B$9,Journal!$B:$B,\">=\"&'Detailed Stats'!AF$2,Journal!$B:$B, \"<=\"&'Detailed Stats'!AF$3)","v":0},{"$f":"SUMIFS(Journal!$G:$G,Journal!$A:$A,$B$9,Journal!$B:$B,\">=\"&'Detailed Stats'!AG$2,Journal!$B:$B, \"<=\"&'Detailed Stats'!AG$3)","v":0},{"$f":"SUMIFS(Journal!$G:$G,Journal!$A:$A,$B$9,Journal!$B:$B,\">=\"&'Detailed Stats'!AH$2,Journal!$B:$B, \"<=\"&'Detailed Stats'!AH$3)","v":0},{"$f":"SUMIFS(Journal!$G:$G,Journal!$A:$A,$B$9,Journal!$B:$B,\">=\"&'Detailed Stats'!AI$2,Journal!$B:$B, \"<=\"&'Detailed Stats'!AI$3)","v":0},{"$f":"SUMIFS(Journal!$G:$G,Journal!$A:$A,$B$9,Journal!$B:$B,\">=\"&'Detailed Stats'!AJ$2,Journal!$B:$B, \"<=\"&'Detailed Stats'!AJ$3)","v":0},{"$f":"SUMIFS(Journal!$G:$G,Journal!$A:$A,$B$9,Journal!$B:$B,\">=\"&'Detailed Stats'!AK$2,Journal!$B:$B, \"<=\"&'Detailed Stats'!AK$3)","v":0},{"$f":"SUMIFS(Journal!$G:$G,Journal!$A:$A,$B$9,Journal!$B:$B,\">=\"&'Detailed Stats'!AL$2,Journal!$B:$B, \"<=\"&'Detailed Stats'!AL$3)","v":0},{"$f":"SUMIFS(Journal!$G:$G,Journal!$A:$A,$B$9,Journal!$B:$B,\">=\"&'Detailed Stats'!AM$2,Journal!$B:$B, \"<=\"&'Detailed Stats'!AM$3)","v":0},{"$f":"SUMIFS(Journal!$G:$G,Journal!$A:$A,$B$9,Journal!$B:$B,\">=\"&'Detailed Stats'!AN$2,Journal!$B:$B, \"<=\"&'Detailed Stats'!AN$3)","v":0},{"$f":"SUMIFS(Journal!$G:$G,Journal!$A:$A,$B$9,Journal!$B:$B,\">=\"&'Detailed Stats'!AO$2,Journal!$B:$B, \"<=\"&'Detailed Stats'!AO$3)","v":0},{"$f":"SUMIFS(Journal!$G:$G,Journal!$A:$A,$B$9,Journal!$B:$B,\">=\"&'Detailed Stats'!AP$2,Journal!$B:$B, \"<=\"&'Detailed Stats'!AP$3)","v":0},{"$f":"SUMIFS(Journal!$G:$G,Journal!$A:$A,$B$9,Journal!$B:$B,\">=\"&'Detailed Stats'!AQ$2,Journal!$B:$B, \"<=\"&'Detailed Stats'!AQ$3)","v":0},{"$f":"SUMIFS(Journal!$G:$G,Journal!$A:$A,$B$9,Journal!$B:$B,\">=\"&'Detailed Stats'!AR$2,Journal!$B:$B, \"<=\"&'Detailed Stats'!AR$3)","v":0},{"$f":"SUMIFS(Journal!$G:$G,Journal!$A:$A,$B$9,Journal!$B:$B,\">=\"&'Detailed Stats'!AS$2,Journal!$B:$B, \"<=\"&'Detailed Stats'!AS$3)","v":0},{"$f":"SUMIFS(Journal!$G:$G,Journal!$A:$A,$B$9,Journal!$B:$B,\">=\"&'Detailed Stats'!AT$2,Journal!$B:$B, \"<=\"&'Detailed Stats'!AT$3)","v":0},{"$f":"SUMIFS(Journal!$G:$G,Journal!$A:$A,$B$9,Journal!$B:$B,\">=\"&'Detailed Stats'!AU$2,Journal!$B:$B, \"<=\"&'Detailed Stats'!AU$3)","v":0},{"$f":"SUMIFS(Journal!$G:$G,Journal!$A:$A,$B$9,Journal!$B:$B,\">=\"&'Detailed Stats'!AV$2,Journal!$B:$B, \"<=\"&'Detailed Stats'!AV$3)","v":0},{"$f":"SUMIFS(Journal!$G:$G,Journal!$A:$A,$B$9,Journal!$B:$B,\">=\"&'Detailed Stats'!AW$2,Journal!$B:$B, \"<=\"&'Detailed Stats'!AW$3)","v":0},{"$f":"SUMIFS(Journal!$G:$G,Journal!$A:$A,$B$9,Journal!$B:$B,\">=\"&'Detailed Stats'!AX$2,Journal!$B:$B, \"<=\"&'Detailed Stats'!AX$3)","v":0},{"$f":"SUMIFS(Journal!$G:$G,Journal!$A:$A,$B$9,Journal!$B:$B,\">=\"&'Detailed Stats'!AY$2,Journal!$B:$B, \"<=\"&'Detailed Stats'!AY$3)","v":0},{"$f":"SUMIFS(Journal!$G:$G,Journal!$A:$A,$B$9,Journal!$B:$B,\">=\"&'Detailed Stats'!AZ$2,Journal!$B:$B, \"<=\"&'Detailed Stats'!AZ$3)","v":0},{"$f":"SUMIFS(Journal!$G:$G,Journal!$A:$A,$B$9,Journal!$B:$B,\">=\"&'Detailed Stats'!BA$2,Journal!$B:$B, \"<=\"&'Detailed Stats'!BA$3)","v":0},{"$f":"SUMIFS(Journal!$G:$G,Journal!$A:$A,$B$9,Journal!$B:$B,\">=\"&'Detailed Stats'!BB$2,Journal!$B:$B, \"<=\"&'Detailed Stats'!BB$3)","v":0},{"$f":"SUMIFS(Journal!$G:$G,Journal!$A:$A,$B$9,Journal!$B:$B,\">=\"&'Detailed Stats'!BC$2,Journal!$B:$B, \"<=\"&'Detailed Stats'!BC$3)","v":0},{"$f":"SUMIFS(Journal!$G:$G,Journal!$A:$A,$B$9,Journal!$B:$B,\">=\"&'Detailed Stats'!BD$2,Journal!$B:$B, \"<=\"&'Detailed Stats'!BD$3)","v":0},{"$f":"SUMIFS(Journal!$G:$G,Journal!$A:$A,$B$9,Journal!$B:$B,\">=\"&'Detailed Stats'!BE$2,Journal!$B:$B, \"<=\"&'Detailed Stats'!BE$3)","v":0}]
[null,"TOTAL",{"$f":"SUM(C43:C47)","v":376},null,null,{"$f":"SUM(F43:F47)","v":0},0,0,0,0,0,0,0,0,0,0,0,0,0,0,0,0,0,0,0,0,0,0,0,0,0,0,0,0,0,0,0,0,0,0,0,0,0,0,0,0,0,0,0,0,0,0,0,0,0,0,0]
[null,null,null,null,"Avg daily",{"$f":"IFERROR(AVERAGEIF(F43:F47,\"<>0\"),\"\")","v":""},{"$f":"IFERROR(AVERAGEIF(G43:G47,\"<>0\"),\"\")","v":""},"","","","","","","","","","","","","","","","","","","","","","","","","","","","","","","","","","","","","","","","","","","","","","","","","",""]
[]
[]
["DAILY PROFIT (Net)","Gross profit per weekday (Overall)",null,null,null,"Week_1","Week_2","Week_3","Week_4","Week_5","Week_6","Week_7","Week_8","Week_9","Week_10","Week_11","Week_12","Week_13","Week_14","Week_15","Week_16","Week_17","Week_18","Week_19","Week_20","Week_21","Week_22","Week_23","Week_24","Week_25","Week_26","Week_27","Week_28","Week_29","Week_30","Week_31","Week_32","Week_33","Week_34","Week_35","Week_36","Week_37","Week_38","Week_39","Week_40","Week_41","Week_42","Week_43","Week_44","Week_45","Week_46","Week_47","Week_48","Week_49","Week_50","Week_51","Week_52"]
[null,"Mon",{"$f":"SUMIFS(Journal!$N:$N,Journal!$A:$A,'Detailed Stats'!B53)","v":25.380000000000003},null,{"$f":"B53","v":"Mon"},{"$f":"SUMIFS(Journal!$N:$N,Journal!$A:$A,$B$5,Journal!$B:$B,\">=\"&'Detailed Stats'!F$2,Journal!$B:$B, \"<=\"&'Detailed Stats'!F$3)","v":0},{"$f":"SUMIFS(Journal!$N:$N,Journal!$A:$A,$B$5,Journal!$B:$B,\">=\"&'Detailed Stats'!G$2,Journal!$B:$B, \"<=\"&'Detailed Stats'!G$3)","v":0},{"$f":"SUMIFS(Journal!$N:$N,Journal!$A:$A,$B$5,Journal!$B:$B,\">=\"&'Detailed Stats'!H$2,Journal!$B:$B, \"<=\"&'Detailed Stats'!H$3)","v":0},{"$f":"SUMIFS(Journal!$N:$N,Journal!$A:$A,$B$5,Journal!$B:$B,\">=\"&'Detailed Stats'!I$2,Journal!$B:$B, \"<=\"&'Detailed Stats'!I$3)","v":0},{"$f":"SUMIFS(Journal!$N:$N,Journal!$A:$A,$B$5,Journal!$B:$B,\">=\"&'Detailed Stats'!J$2,Journal!$B:$B, \"<=\"&'Detailed Stats'!J$3)","v":0},{"$f":"SUMIFS(Journal!$N:$N,Journal!$A:$A,$B$5,Journal!$B:$B,\">=\"&'Detailed Stats'!K$2,Journal!$B:$B, \"<=\"&'Detailed Stats'!K$3)","v":0},{"$f":"SUMIFS(Journal!$N:$N,Journal!$A:$A,$B$5,Journal!$B:$B,\">=\"&'Detailed Stats'!L$2,Journal!$B:$B, \"<=\"&'Detailed Stats'!L$3)","v":0},{"$f":"SUMIFS(Journal!$N:$N,Journal!$A:$A,$B$5,Journal!$B:$B,\">=\"&'Detailed Stats'!M$2,Journal!$B:$B, \"<=\"&'Detailed Stats'!M$3)","v":0},{"$f":"SUMIFS(Journal!$N:$N,Journal!$A:$A,$B$5,Journal!$B:$B,\">=\"&'Detailed Stats'!N$2,Journal!$B:$B, \"<=\"&'Detailed Stats'!N$3)","v":0},{"$f":"SUMIFS(Journal!$N:$N,Journal!$A:$A,$B$5,Journal!$B:$B,\">=\"&'Detailed Stats'!O$2,Journal!$B:$B, \"<=\"&'Detailed Stats'!O$3)","v":0},{"$f":"SUMIFS(Journal!$N:$N,Journal!$A:$A,$B$5,Journal!$B:$B,\">=\"&'Detailed Stats'!P$2,Journal!$B:$B, \"<=\"&'Detailed Stats'!P$3)","v":0},{"$f":"SUMIFS(Journal!$N:$N,Journal!$A:$A,$B$5,Journal!$B:$B,\">=\"&'Detailed Stats'!Q$2,Journal!$B:$B, \"<=\"&'Detailed Stats'!Q$3)","v":0},{"$f":"SUMIFS(Journal!$N:$N,Journal!$A:$A,$B$5,Journal!$B:$B,\">=\"&'Detailed Stats'!R$2,Journal!$B:$B, \"<=\"&'Detailed Stats'!R$3)","v":0},{"$f":"SUMIFS(Journal!$N:$N,Journal!$A:$A,$B$5,Journal!$B:$B,\">=\"&'Detailed Stats'!S$2,Journal!$B:$B, \"<=\"&'Detailed Stats'!S$3)","v":0},{"$f":"SUMIFS(Journal!$N:$N,Journal!$A:$A,$B$5,Journal!$B:$B,\">=\"&'Detailed Stats'!T$2,Journal!$B:$B, \"<=\"&'Detailed Stats'!T$3)","v":0},{"$f":"SUMIFS(Journal!$N:$N,Journal!$A:$A,$B$5,Journal!$B:$B,\">=\"&'Detailed Stats'!U$2,Journal!$B:$B, \"<=\"&'Detailed Stats'!U$3)","v":0},{"$f":"SUMIFS(Journal!$N:$N,Journal!$A:$A,$B$5,Journal!$B:$B,\">=\"&'Detailed Stats'!V$2,Journal!$B:$B, \"<=\"&'Detailed Stats'!V$3)","v":0},{"$f":"SUMIFS(Journal!$N:$N,Journal!$A:$A,$B$5,Journal!$B:$B,\">=\"&'Detailed Stats'!W$2,Journal!$B:$B, \"<=\"&'Detailed Stats'!W$3)","v":0},{"$f":"SUMIFS(Journal!$N:$N,Journal!$A:$A,$B$5,Journal!$B:$B,\">=\"&'Detailed Stats'!X$2,Journal!$B:$B, \"<=\"&'Detailed Stats'!X$3)","v":0},{"$f":"SUMIFS(Journal!$N:$N,Journal!$A:$A,$B$5,Journal!$B:$B,\">=\"&'Detailed Stats'!Y$2,Journal!$B:$B, \"<=\"&'Detailed Stats'!Y$3)","v":0},{"$f":"SUMIFS(Journal!$N:$N,Journal!$A:$A,$B$5,Journal!$B:$B,\">=\"&'Detailed Stats'!Z$2,Journal!$B:$B, \"<=\"&'Detailed Stats'!Z$3)","v":0},{"$f":"SUMIFS(Journal!$N:$N,Journal!$A:$A,$B$5,Journal!$B:$B,\">=\"&'Detailed Stats'!AA$2,Journal!$B:$B, \"<=\"&'Detailed Stats'!AA$3)","v":0},{"$f":"SUMIFS(Journal!$N:$N,Journal!$A:$A,$B$5,Journal!$B:$B,\">=\"&'Detailed Stats'!AB$2,Journal!$B:$B, \"<=\"&'Detailed Stats'!AB$3)","v":0},{"$f":"SUMIFS(Journal!$N:$N,Journal!$A:$A,$B$5,Journal!$B:$B,\">=\"&'Detailed Stats'!AC$2,Journal!$B:$B, \"<=\"&'Detailed Stats'!AC$3)","v":0},{"$f":"SUMIFS(Journal!$N:$N,Journal!$A:$A,$B$5,Journal!$B:$B,\">=\"&'Detailed Stats'!AD$2,Journal!$B:$B, \"<=\"&'Detailed Stats'!AD$3)","v":0},{"$f":"SUMIFS(Journal!$N:$N,Journal!$A:$A,$B$5,Journal!$B:$B,\">=\"&'Detailed Stats'!AE$2,Journal!$B:$B, \"<=\"&'Detailed Stats'!AE$3)","v":0},{"$f":"SUMIFS(Journal!$N:$N,Journal!$A:$A,$B$5,Journal!$B:$B,\">=\"&'Detailed Stats'!AF$2,Journal!$B:$B, \"<=\"&'Detailed Stats'!AF$3)","v":0},{"$f":"SUMIFS(Journal!$N:$N,Journal!$A:$A,$B$5,Journal!$B:$B,\">=\"&'Detailed Stats'!AG$2,Journal!$B:$B, \"<=\"&'Detailed Stats'!AG$3)","v":0},{"$f":"SUMIFS(Journal!$N:$N,Journal!$A:$A,$B$5,Journal!$B:$B,\">=\"&'Detailed Stats'!AH$2,Journal!$B:$B, \"<=\"&'Detailed Stats'!AH$3)","v":0},{"$f":"SUMIFS(Journal!$N:$N,Journal!$A:$A,$B$5,Journal!$B:$B,\">=\"&'Detailed Stats'!AI$2,Journal!$B:$B, \"<=\"&'Detailed Stats'!AI$3)","v":0},{"$f":"SUMIFS(Journal!$N:$N,Journal!$A:$A,$B$5,Journal!$B:$B,\">=\"&'Detailed Stats'!AJ$2,Journal!$B:$B, \"<=\"&'Detailed Stats'!AJ$3)","v":0},{"$f":"SUMIFS(Journal!$N:$N,Journal!$A:$A,$B$5,Journal!$B:$B,\">=\"&'Detailed Stats'!AK$2,Journal!$B:$B, \"<=\"&'Detailed Stats'!AK$3)","v":0},{"$f":"SUMIFS(Journal!$N:$N,Journal!$A:$A,$B$5,Journal!$B:$B,\">=\"&'Detailed Stats'!AL$2,Journal!$B:$B, \"<=\"&'Detailed Stats'!AL$3)","v":0},{"$f":"SUMIFS(Journal!$N:$N,Journal!$A:$A,$B$5,Journal!$B:$B,\">=\"&'Detailed Stats'!AM$2,Journal!$B:$B, \"<=\"&'Detailed Stats'!AM$3)","v":0},{"$f":"SUMIFS(Journal!$N:$N,Journal!$A:$A,$B$5,Journal!$B:$B,\">=\"&'Detailed Stats'!AN$2,Journal!$B:$B, \"<=\"&'Detailed Stats'!AN$3)","v":0},{"$f":"SUMIFS(Journal!$N:$N,Journal!$A:$A,$B$5,Journal!$B:$B,\">=\"&'Detailed Stats'!AO$2,Journal!$B:$B, \"<=\"&'Detailed Stats'!AO$3)","v":0},{"$f":"SUMIFS(Journal!$N:$N,Journal!$A:$A,$B$5,Journal!$B:$B,\">=\"&'Detailed Stats'!AP$2,Journal!$B:$B, \"<=\"&'Detailed Stats'!AP$3)","v":0},{"$f":"SUMIFS(Journal!$N:$N,Journal!$A:$A,$B$5,Journal!$B:$B,\">=\"&'Detailed Stats'!AQ$2,Journal!$B:$B, \"<=\"&'Detailed Stats'!AQ$3)","v":0},{"$f":"SUMIFS(Journal!$N:$N,Journal!$A:$A,$B$5,Journal!$B:$B,\">=\"&'Detailed Stats'!AR$2,Journal!$B:$B, \"<=\"&'Detailed Stats'!AR$3)","v":0},{"$f":"SUMIFS(Journal!$N:$N,Journal!$A:$A,$B$5,Journal!$B:$B,\">=\"&'Detailed Stats'!AS$2,Journal!$B:$B, \"<=\"&'Detailed Stats'!AS$3)","v":0},{"$f":"SUMIFS(Journal!$N:$N,Journal!$A:$A,$B$5,Journal!$B:$B,\">=\"&'Detailed Stats'!AT$2,Journal!$B:$B, \"<=\"&'Detailed Stats'!AT$3)","v":0},{"$f":"SUMIFS(Journal!$N:$N,Journal!$A:$A,$B$5,Journal!$B:$B,\">=\"&'Detailed Stats'!AU$2,Journal!$B:$B, \"<=\"&'Detailed Stats'!AU$3)","v":0},{"$f":"SUMIFS(Journal!$N:$N,Journal!$A:$A,$B$5,Journal!$B:$B,\">=\"&'Detailed Stats'!AV$2,Journal!$B:$B, \"<=\"&'Detailed Stats'!AV$3)","v":0},{"$f":"SUMIFS(Journal!$N:$N,Journal!$A:$A,$B$5,Journal!$B:$B,\">=\"&'Detailed Stats'!AW$2,Journal!$B:$B, \"<=\"&'Detailed Stats'!AW$3)","v":0},{"$f":"SUMIFS(Journal!$N:$N,Journal!$A:$A,$B$5,Journal!$B:$B,\">=\"&'Detailed Stats'!AX$2,Journal!$B:$B, \"<=\"&'Detailed Stats'!AX$3)","v":0},{"$f":"SUMIFS(Journal!$N:$N,Journal!$A:$A,$B$5,Journal!$B:$B,\">=\"&'Detailed Stats'!AY$2,Journal!$B:$B, \"<=\"&'Detailed Stats'!AY$3)","v":0},{"$f":"SUMIFS(Journal!$N:$N,Journal!$A:$A,$B$5,Journal!$B:$B,\">=\"&'Detailed Stats'!AZ$2,Journal!$B:$B, \"<=\"&'Detailed Stats'!AZ$3)","v":0},{"$f":"SUMIFS(Journal!$N:$N,Journal!$A:$A,$B$5,Journal!$B:$B,\">=\"&'Detailed Stats'!BA$2,Journal!$B:$B, \"<=\"&'Detailed Stats'!BA$3)","v":0},{"$f":"SUMIFS(Journal!$N:$N,Journal!$A:$A,$B$5,Journal!$B:$B,\">=\"&'Detailed Stats'!BB$2,Journal!$B:$B, \"<=\"&'Detailed Stats'!BB$3)","v":0},{"$f":"SUMIFS(Journal!$N:$N,Journal!$A:$A,$B$5,Journal!$B:$B,\">=\"&'Detailed Stats'!BC$2,Journal!$B:$B, \"<=\"&'Detailed Stats'!BC$3)","v":0},{"$f":"SUMIFS(Journal!$N:$N,Journal!$A:$A,$B$5,Journal!$B:$B,\">=\"&'Detailed Stats'!BD$2,Journal!$B:$B, \"<=\"&'Detailed Stats'!BD$3)","v":0},{"$f":"SUMIFS(Journal!$N:$N,Journal!$A:$A,$B$5,Journal!$B:$B,\">=\"&'Detailed Stats'!BE$2,Journal!$B:$B, \"<=\"&'Detailed Stats'!BE$3)","v":0}]
[null,"Tue",{"$f":"SUMIFS(Journal!$N:$N,Journal!$A:$A,'Detailed Stats'!B54)","v":0},null,{"$f":"B54","v":"Tue"},{"$f":"SUMIFS(Journal!$N:$N,Journal!$A:$A,$B$6,Journal!$B:$B,\">=\"&'Detailed Stats'!F$2,Journal!$B:$B, \"<=\"&'Detailed Stats'!F$3)","v":0},{"$f":"SUMIFS(Journal!$N:$N,Journal!$A:$A,$B$6,Journal!$B:$B,\">=\"&'Detailed Stats'!G$2,Journal!$B:$B, \"<=\"&'Detailed Stats'!G$3)","v":0},{"$f":"SUMIFS(Journal!$N:$N,Journal!$A:$A,$B$6,Journal!$B:$B,\">=\"&'Detailed Stats'!H$2,Journal!$B:$B, \"<=\"&'Detailed Stats'!H$3)","v":0},{"$f":"SUMIFS(Journal!$N:$N,Journal!$A:$A,$B$6,Journal!$B:$B,\">=\"&'Detailed Stats'!I$2,Journal!$B:$B, \"<=\"&'Detailed Stats'!I$3)","v":0},{"$f":"SUMIFS(Journal!$N:$N,Journal!$A:$A,$B$6,Journal!$B:$B,\">=\"&'Detailed Stats'!J$2,Journal!$B:$B, \"<=\"&'Detailed Stats'!J$3)","v":0},{"$f":"SUMIFS(Journal!$N:$N,Journal!$A:$A,$B$6,Journal!$B:$B,\">=\"&'Detailed Stats'!K$2,Journal!$B:$B, \"<=\"&'Detailed Stats'!K$3)","v":0},{"$f":"SUMIFS(Journal!$N:$N,Journal!$A:$A,$B$6,Journal!$B:$B,\">=\"&'Detailed Stats'!L$2,Journal!$B:$B, \"<=\"&'Detailed Stats'!L$3)","v":0},{"$f":"SUMIFS(Journal!$N:$N,Journal!$A:$A,$B$6,Journal!$B:$B,\">=\"&'Detailed Stats'!M$2,Journal!$B:$B, \"<=\"&'Detailed Stats'!M$3)","v":0},{"$f":"SUMIFS(Journal!$N:$N,Journal!$A:$A,$B$6,Journal!$B:$B,\">=\"&'Detailed Stats'!N$2,Journal!$B:$B, \"<=\"&'Detailed Stats'!N$3)","v":0},{"$f":"SUMIFS(Journal!$N:$N,Journal!$A:$A,$B$6,Journal!$B:$B,\">=\"&'Detailed Stats'!O$2,Journal!$B:$B, \"<=\"&'Detailed Stats'!O$3)","v":0},{"$f":"SUMIFS(Journal!$N:$N,Journal!$A:$A,$B$6,Journal!$B:$B,\">=\"&'Detailed Stats'!P$2,Journal!$B:$B, \"<=\"&'Detailed Stats'!P$3)","v":0},{"$f":"SUMIFS(Journal!$N:$N,Journal!$A:$A,$B$6,Journal!$B:$B,\">=\"&'Detailed Stats'!Q$2,Journal!$B:$B, \"<=\"&'Detailed Stats'!Q$3)","v":0},{"$f":"SUMIFS(Journal!$N:$N,Journal!$A:$A,$B$6,Journal!$B:$B,\">=\"&'Detailed Stats'!R$2,Journal!$B:$B, \"<=\"&'Detailed Stats'!R$3)","v":0},{"$f":"SUMIFS(Journal!$N:$N,Journal!$A:$A,$B$6,Journal!$B:$B,\">=\"&'Detailed Stats'!S$2,Journal!$B:$B, \"<=\"&'Detailed Stats'!S$3)","v":0},{"$f":"SUMIFS(Journal!$N:$N,Journal!$A:$A,$B$6,Journal!$B:$B,\">=\"&'Detailed Stats'!T$2,Journal!$B:$B, \"<=\"&'Detailed Stats'!T$3)","v":0},{"$f":"SUMIFS(Journal!$N:$N,Journal!$A:$A,$B$6,Journal!$B:$B,\">=\"&'Detailed Stats'!U$2,Journal!$B:$B, \"<=\"&'Detailed Stats'!U$3)","v":0},{"$f":"SUMIFS(Journal!$N:$N,Journal!$A:$A,$B$6,Journal!$B:$B,\">=\"&'Detailed Stats'!V$2,Journal!$B:$B, \"<=\"&'Detailed Stats'!V$3)","v":0},{"$f":"SUMIFS(Journal!$N:$N,Journal!$A:$A,$B$6,Journal!$B:$B,\">=\"&'Detailed Stats'!W$2,Journal!$B:$B, \"<=\"&'Detailed Stats'!W$3)","v":0},{"$f":"SUMIFS(Journal!$N:$N,Journal!$A:$A,$B$6,Journal!$B:$B,\">=\"&'Detailed Stats'!X$2,Journal!$B:$B, \"<=\"&'Detailed Stats'!X$3)","v":0},{"$f":"SUMIFS(Journal!$N:$N,Journal!$A:$A,$B$6,Journal!$B:$B,\">=\"&'Detailed Stats'!Y$2,Journal!$B:$B, \"<=\"&'Detailed Stats'!Y$3)","v":0},{"$f":"SUMIFS(Journal!$N:$N,Journal!$A:$A,$B$6,Journal!$B:$B,\">=\"&'Detailed Stats'!Z$2,Journal!$B:$B, \"<=\"&'Detailed Stats'!Z$3)","v":0},{"$f":"SUMIFS(Journal!$N:$N,Journal!$A:$A,$B$6,Journal!$B:$B,\">=\"&'Detailed Stats'!AA$2,Journal!$B:$B, \"<=\"&'Detailed Stats'!AA$3)","v":0},{"$f":"SUMIFS(Journal!$N:$N,Journal!$A:$A,$B$6,Journal!$B:$B,\">=\"&'Detailed Stats'!AB$2,Journal!$B:$B, \"<=\"&'Detailed Stats'!AB$3)","v":0},{"$f":"SUMIFS(Journal!$N:$N,Journal!$A:$A,$B$6,Journal!$B:$B,\">=\"&'Detailed Stats'!AC$2,Journal!$B:$B, \"<=\"&'Detailed Stats'!AC$3)","v":0},{"$f":"SUMIFS(Journal!$N:$N,Journal!$A:$A,$B$6,Journal!$B:$B,\">=\"&'Detailed Stats'!AD$2,Journal!$B:$B, \"<=\"&'Detailed Stats'!AD$3)","v":0},{"$f":"SUMIFS(Journal!$N:$N,Journal!$A:$A,$B$6,Journal!$B:$B,\">=\"&'Detailed Stats'!AE$2,Journal!$B:$B, \"<=\"&'Detailed Stats'!AE$3)","v":0},{"$f":"SUMIFS(Journal!$N:$N,Journal!$A:$A,$B$6,Journal!$B:$B,\">=\"&'Detailed Stats'!AF$2,Journal!$B:$B, \"<=\"&'Detailed Stats'!AF$3)","v":0},{"$f":"SUMIFS(Journal!$N:$N,Journal!$A:$A,$B$6,Journal!$B:$B,\">=\"&'Detailed Stats'!AG$2,Journal!$B:$B, \"<=\"&'Detailed Stats'!AG$3)","v":0},{"$f":"SUMIFS(Journal!$N:$N,Journal!$A:$A,$B$6,Journal!$B:$B,\">=\"&'Detailed Stats'!AH$2,Journal!$B:$B, \"<=\"&'Detailed Stats'!AH$3)","v":0},{"$f":"SUMIFS(Journal!$N:$N,Journal!$A:$A,$B$6,Journal!$B:$B,\">=\"&'Detailed Stats'!AI$2,Journal!$B:$B, \"<=\"&'Detailed Stats'!AI$3)","v":0},{"$f":"SUMIFS(Journal!$N:$N,Journal!$A:$A,$B$6,Journal!$B:$B,\">=\"&'Detailed Stats'!AJ$2,Journal!$B:$B, \"<=\"&'Detailed Stats'!AJ$3)","v":0},{"$f":"SUMIFS(Journal!$N:$N,Journal!$A:$A,$B$6,Journal!$B:$B,\">=\"&'Detailed Stats'!AK$2,Journal!$B:$B, \"<=\"&'Detailed Stats'!AK$3)","v":0},{"$f":"SUMIFS(Journal!$N:$N,Journal!$A:$A,$B$6,Journal!$B:$B,\">=\"&'Detailed Stats'!AL$2,Journal!$B:$B, \"<=\"&'Detailed Stats'!AL$3)","v":0},{"$f":"SUMIFS(Journal!$N:$N,Journal!$A:$A,$B$6,Journal!$B:$B,\">=\"&'Detailed Stats'!AM$2,Journal!$B:$B, \"<=\"&'Detailed Stats'!AM$3)","v":0},{"$f":"SUMIFS(Journal!$N:$N,Journal!$A:$A,$B$6,Journal!$B:$B,\">=\"&'Detailed Stats'!AN$2,Journal!$B:$B, \"<=\"&'Detailed Stats'!AN$3)","v":0},{"$f":"SUMIFS(Journal!$N:$N,Journal!$A:$A,$B$6,Journal!$B:$B,\">=\"&'Detailed Stats'!AO$2,Journal!$B:$B, \"<=\"&'Detailed Stats'!AO$3)","v":0},{"$f":"SUMIFS(Journal!$N:$N,Journal!$A:$A,$B$6,Journal!$B:$B,\">=\"&'Detailed Stats'!AP$2,Journal!$B:$B, \"<=\"&'Detailed Stats'!AP$3)","v":0},{"$f":"SUMIFS(Journal!$N:$N,Journal!$A:$A,$B$6,Journal!$B:$B,\">=\"&'Detailed Stats'!AQ$2,Journal!$B:$B, \"<=\"&'Detailed Stats'!AQ$3)","v":0},{"$f":"SUMIFS(Journal!$N:$N,Journal!$A:$A,$B$6,Journal!$B:$B,\">=\"&'Detailed Stats'!AR$2,Journal!$B:$B, \"<=\"&'Detailed Stats'!AR$3)","v":0},{"$f":"SUMIFS(Journal!$N:$N,Journal!$A:$A,$B$6,Journal!$B:$B,\">=\"&'Detailed Stats'!AS$2,Journal!$B:$B, \"<=\"&'Detailed Stats'!AS$3)","v":0},{"$f":"SUMIFS(Journal!$N:$N,Journal!$A:$A,$B$6,Journal!$B:$B,\">=\"&'Detailed Stats'!AT$2,Journal!$B:$B, \"<=\"&'Detailed Stats'!AT$3)","v":0},{"$f":"SUMIFS(Journal!$N:$N,Journal!$A:$A,$B$6,Journal!$B:$B,\">=\"&'Detailed Stats'!AU$2,Journal!$B:$B, \"<=\"&'Detailed Stats'!AU$3)","v":0},{"$f":"SUMIFS(Journal!$N:$N,Journal!$A:$A,$B$6,Journal!$B:$B,\">=\"&'Detailed Stats'!AV$2,Journal!$B:$B, \"<=\"&'Detailed Stats'!AV$3)","v":0},{"$f":"SUMIFS(Journal!$N:$N,Journal!$A:$A,$B$6,Journal!$B:$B,\">=\"&'Detailed Stats'!AW$2,Journal!$B:$B, \"<=\"&'Detailed Stats'!AW$3)","v":0},{"$f":"SUMIFS(Journal!$N:$N,Journal!$A:$A,$B$6,Journal!$B:$B,\">=\"&'Detailed Stats'!AX$2,Journal!$B:$B, \"<=\"&'Detailed Stats'!AX$3)","v":0},{"$f":"SUMIFS(Journal!$N:$N,Journal!$A:$A,$B$6,Journal!$B:$B,\">=\"&'Detailed Stats'!AY$2,Journal!$B:$B, \"<=\"&'Detailed Stats'!AY$3)","v":0},{"$f":"SUMIFS(Journal!$N:$N,Journal!$A:$A,$B$6,Journal!$B:$B,\">=\"&'Detailed Stats'!AZ$2,Journal!$B:$B, \"<=\"&'Detailed Stats'!AZ$3)","v":0},{"$f":"SUMIFS(Journal!$N:$N,Journal!$A:$A,$B$6,Journal!$B:$B,\">=\"&'Detailed Stats'!BA$2,Journal!$B:$B, \"<=\"&'Detailed Stats'!BA$3)","v":0},{"$f":"SUMIFS(Journal!$N:$N,Journal!$A:$A,$B$6,Journal!$B:$B,\">=\"&'Detailed Stats'!BB$2,Journal!$B:$B, \"<=\"&'Detailed Stats'!BB$3)","v":0},{"$f":"SUMIFS(Journal!$N:$N,Journal!$A:$A,$B$6,Journal!$B:$B,\">=\"&'Detailed Stats'!BC$2,Journal!$B:$B, \"<=\"&'Detailed Stats'!BC$3)","v":0},{"$f":"SUMIFS(Journal!$N:$N,Journal!$A:$A,$B$6,Journal!$B:$B,\">=\"&'Detailed Stats'!BD$2,Journal!$B:$B, \"<=\"&'Detailed Stats'!BD$3)","v":0},{"$f":"SUMIFS(Journal!$N:$N,Journal!$A:$A,$B$6,Journal!$B:$B,\">=\"&'Detailed Stats'!BE$2,Journal!$B:$B, \"<=\"&'Detailed Stats'!BE$3)","v":0}]
[null,"Wed",{"$f":"SUMIFS(Journal!$N:$N,Journal!$A:$A,'Detailed Stats'!B55)","v":0},null,{"$f":"B55","v":"Wed"},{"$f":"SUMIFS(Journal!$N:$N,Journal!$A:$A,$B$7,Journal!$B:$B,\">=\"&'Detailed Stats'!F$2,Journal!$B:$B, \"<=\"&'Detailed Stats'!F$3)","v":0},{"$f":"SUMIFS(Journal!$N:$N,Journal!$A:$A,$B$7,Journal!$B:$B,\">=\"&'Detailed Stats'!G$2,Journal!$B:$B, \"<=\"&'Detailed Stats'!G$3)","v":0},{"$f":"SUMIFS(Journal!$N:$N,Journal!$A:$A,$B$7,Journal!$B:$B,\">=\"&'Detailed Stats'!H$2,Journal!$B:$B, \"<=\"&'Detailed Stats'!H$3)","v":0},{"$f":"SUMIFS(Journal!$N:$N,Journal!$A:$A,$B$7,Journal!$B:$B,\">=\"&'Detailed Stats'!I$2,Journal!$B:$B, \"<=\"&'Detailed Stats'!I$3)","v":0},{"$f":"SUMIFS(Journal!$N:$N,Journal!$A:$A,$B$7,Journal!$B:$B,\">=\"&'Detailed Stats'!J$2,Journal!$B:$B, \"<=\"&'Detailed Stats'!J$3)","v":0},{"$f":"SUMIFS(Journal!$N:$N,Journal!$A:$A,$B$7,Journal!$B:$B,\">=\"&'Detailed Stats'!K$2,Journal!$B:$B, \"<=\"&'Detailed Stats'!K$3)","v":0},{"$f":"SUMIFS(Journal!$N:$N,Journal!$A:$A,$B$7,Journal!$B:$B,\">=\"&'Detailed Stats'!L$2,Journal!$B:$B, \"<=\"&'Detailed Stats'!L$3)","v":0},{"$f":"SUMIFS(Journal!$N:$N,Journal!$A:$A,$B$7,Journal!$B:$B,\">=\"&'Detailed Stats'!M$2,Journal!$B:$B, \"<=\"&'Detailed Stats'!M$3)","v":0},{"$f":"SUMIFS(Journal!$N:$N,Journal!$A:$A,$B$7,Journal!$B:$B,\">=\"&'Detailed Stats'!N$2,Journal!$B:$B, \"<=\"&'Detailed Stats'!N$3)","v":0},{"$f":"SUMIFS(Journal!$N:$N,Journal!$A:$A,$B$7,Journal!$B:$B,\">=\"&'Detailed Stats'!O$2,Journal!$B:$B, \"<=\"&'Detailed Stats'!O$3)","v":0},{"$f":"SUMIFS(Journal!$N:$N,Journal!$A:$A,$B$7,Journal!$B:$B,\">=\"&'Detailed Stats'!P$2,Journal!$B:$B, \"<=\"&'Detailed Stats'!P$3)","v":0},{"$f":"SUMIFS(Journal!$N:$N,Journal!$A:$A,$B$7,Journal!$B:$B,\">=\"&'Detailed Stats'!Q$2,Journal!$B:$B, \"<=\"&'Detailed Stats'!Q$3)","v":0},{"$f":"SUMIFS(Journal!$N:$N,Journal!$A:$A,$B$7,Journal!$B:$B,\">=\"&'Detailed Stats'!R$2,Journal!$B:$B, \"<=\"&'Detailed Stats'!R$3)","v":0},{"$f":"SUMIFS(Journal!$N:$N,Journal!$A:$A,$B$7,Journal!$B:$B,\">=\"&'Detailed Stats'!S$2,Journal!$B:$B, \"<=\"&'Detailed Stats'!S$3)","v":0},{"$f":"SUMIFS(Journal!$N:$N,Journal!$A:$A,$B$7,Journal!$B:$B,\">=\"&'Detailed Stats'!T$2,Journal!$B:$B, \"<=\"&'Detailed Stats'!T$3)","v":0},{"$f":"SUMIFS(Journal!$N:$N,Journal!$A:$A,$B$7,Journal!$B:$B,\">=\"&'Detailed Stats'!U$2,Journal!$B:$B, \"<=\"&'Detailed Stats'!U$3)","v":0},{"$f":"SUMIFS(Journal!$N:$N,Journal!$A:$A,$B$7,Journal!$B:$B,\">=\"&'Detailed Stats'!V$2,Journal!$B:$B, \"<=\"&'Detailed Stats'!V$3)","v":0},{"$f":"SUMIFS(Journal!$N:$N,Journal!$A:$A,$B$7,Journal!$B:$B,\">=\"&'Detailed Stats'!W$2,Journal!$B:$B, \"<=\"&'Detailed Stats'!W$3)","v":0},{"$f":"SUMIFS(Journal!$N:$N,Journal!$A:$A,$B$7,Journal!$B:$B,\">=\"&'Detailed Stats'!X$2,Journal!$B:$B, \"<=\"&'Detailed Stats'!X$3)","v":0},{"$f":"SUMIFS(Journal!$N:$N,Journal!$A:$A,$B$7,Journal!$B:$B,\">=\"&'Detailed Stats'!Y$2,Journal!$B:$B, \"<=\"&'Detailed Stats'!Y$3)","v":0},{"$f":"SUMIFS(Journal!$N:$N,Journal!$A:$A,$B$7,Journal!$B:$B,\">=\"&'Detailed Stats'!Z$2,Journal!$B:$B, \"<=\"&'Detailed Stats'!Z$3)","v":0},{"$f":"SUMIFS(Journal!$N:$N,Journal!$A:$A,$B$7,Journal!$B:$B,\">=\"&'Detailed Stats'!AA$2,Journal!$B:$B, \"<=\"&'Detailed Stats'!AA$3)","v":0},{"$f":"SUMIFS(Journal!$N:$N,Journal!$A:$A,$B$7,Journal!$B:$B,\">=\"&'Detailed Stats'!AB$2,Journal!$B:$B, \"<=\"&'Detailed Stats'!AB$3)","v":0},{"$f":"SUMIFS(Journal!$N:$N,Journal!$A:$A,$B$7,Journal!$B:$B,\">=\"&'Detailed Stats'!AC$2,Journal!$B:$B, \"<=\"&'Detailed Stats'!AC$3)","v":0},{"$f":"SUMIFS(Journal!$N:$N,Journal!$A:$A,$B$7,Journal!$B:$B,\">=\"&'Detailed Stats'!AD$2,Journal!$B:$B, \"<=\"&'Detailed Stats'!AD$3)","v":0},{"$f":"SUMIFS(Journal!$N:$N,Journal!$A:$A,$B$7,Journal!$B:$B,\">=\"&'Detailed Stats'!AE$2,Journal!$B:$B, \"<=\"&'Detailed Stats'!AE$3)","v":0},{"$f":"SUMIFS(Journal!$N:$N,Journal!$A:$A,$B$7,Journal!$B:$B,\">=\"&'Detailed Stats'!AF$2,Journal!$B:$B, \"<=\"&'Detailed Stats'!AF$3)","v":0},{"$f":"SUMIFS(Journal!$N:$N,Journal!$A:$A,$B$7,Journal!$B:$B,\">=\"&'Detailed Stats'!AG$2,Journal!$B:$B, \"<=\"&'Detailed Stats'!AG$3)","v":0},{"$f":"SUMIFS(Journal!$N:$N,Journal!$A:$A,$B$7,Journal!$B:$B,\">=\"&'Detailed Stats'!AH$2,Journal!$B:$B, \"<=\"&'Detailed Stats'!AH$3)","v":0},{"$f":"SUMIFS(Journal!$N:$N,Journal!$A:$A,$B$7,Journal!$B:$B,\">=\"&'Detailed Stats'!AI$2,Journal!$B:$B, \"<=\"&'Detailed Stats'!AI$3)","v":0},{"$f":"SUMIFS(Journal!$N:$N,Journal!$A:$A,$B$7,Journal!$B:$B,\">=\"&'Detailed Stats'!AJ$2,Journal!$B:$B, \"<=\"&'Detailed Stats'!AJ$3)","v":0},{"$f":"SUMIFS(Journal!$N:$N,Journal!$A:$A,$B$7,Journal!$B:$B,\">=\"&'Detailed Stats'!AK$2,Journal!$B:$B, \"<=\"&'Detailed Stats'!AK$3)","v":0},{"$f":"SUMIFS(Journal!$N:$N,Journal!$A:$A,$B$7,Journal!$B:$B,\">=\"&'Detailed Stats'!AL$2,Journal!$B:$B, \"<=\"&'Detailed Stats'!AL$3)","v":0},{"$f":"SUMIFS(Journal!$N:$N,Journal!$A:$A,$B$7,Journal!$B:$B,\">=\"&'Detailed Stats'!AM$2,Journal!$B:$B, \"<=\"&'Detailed Stats'!AM$3)","v":0},{"$f":"SUMIFS(Journal!$N:$N,Journal!$A:$A,$B$7,Journal!$B:$B,\">=\"&'Detailed Stats'!AN$2,Journal!$B:$B, \"<=\"&'Detailed Stats'!AN$3)","v":0},{"$f":"SUMIFS(Journal!$N:$N,Journal!$A:$A,$B$7,Journal!$B:$B,\">=\"&'Detailed Stats'!AO$2,Journal!$B:$B, \"<=\"&'Detailed Stats'!AO$3)","v":0},{"$f":"SUMIFS(Journal!$N:$N,Journal!$A:$A,$B$7,Journal!$B:$B,\">=\"&'Detailed Stats'!AP$2,Journal!$B:$B, \"<=\"&'Detailed Stats'!AP$3)","v":0},{"$f":"SUMIFS(Journal!$N:$N,Journal!$A:$A,$B$7,Journal!$B:$B,\">=\"&'Detailed Stats'!AQ$2,Journal!$B:$B, \"<=\"&'Detailed Stats'!AQ$3)","v":0},{"$f":"SUMIFS(Journal!$N:$N,Journal!$A:$A,$B$7,Journal!$B:$B,\">=\"&'Detailed Stats'!AR$2,Journal!$B:$B, \"<=\"&'Detailed Stats'!AR$3)","v":0},{"$f":"SUMIFS(Journal!$N:$N,Journal!$A:$A,$B$7,Journal!$B:$B,\">=\"&'Detailed Stats'!AS$2,Journal!$B:$B, \"<=\"&'Detailed Stats'!AS$3)","v":0},{"$f":"SUMIFS(Journal!$N:$N,Journal!$A:$A,$B$7,Journal!$B:$B,\">=\"&'Detailed Stats'!AT$2,Journal!$B:$B, \"<=\"&'Detailed Stats'!AT$3)","v":0},{"$f":"SUMIFS(Journal!$N:$N,Journal!$A:$A,$B$7,Journal!$B:$B,\">=\"&'Detailed Stats'!AU$2,Journal!$B:$B, \"<=\"&'Detailed Stats'!AU$3)","v":0},{"$f":"SUMIFS(Journal!$N:$N,Journal!$A:$A,$B$7,Journal!$B:$B,\">=\"&'Detailed Stats'!AV$2,Journal!$B:$B, \"<=\"&'Detailed Stats'!AV$3)","v":0},{"$f":"SUMIFS(Journal!$N:$N,Journal!$A:$A,$B$7,Journal!$B:$B,\">=\"&'Detailed Stats'!AW$2,Journal!$B:$B, \"<=\"&'Detailed Stats'!AW$3)","v":0},{"$f":"SUMIFS(Journal!$N:$N,Journal!$A:$A,$B$7,Journal!$B:$B,\">=\"&'Detailed Stats'!AX$2,Journal!$B:$B, \"<=\"&'Detailed Stats'!AX$3)","v":0},{"$f":"SUMIFS(Journal!$N:$N,Journal!$A:$A,$B$7,Journal!$B:$B,\">=\"&'Detailed Stats'!AY$2,Journal!$B:$B, \"<=\"&'Detailed Stats'!AY$3)","v":0},{"$f":"SUMIFS(Journal!$N:$N,Journal!$A:$A,$B$7,Journal!$B:$B,\">=\"&'Detailed Stats'!AZ$2,Journal!$B:$B, \"<=\"&'Detailed Stats'!AZ$3)","v":0},{"$f":"SUMIFS(Journal!$N:$N,Journal!$A:$A,$B$7,Journal!$B:$B,\">=\"&'Detailed Stats'!BA$2,Journal!$B:$B, \"<=\"&'Detailed Stats'!BA$3)","v":0},{"$f":"SUMIFS(Journal!$N:$N,Journal!$A:$A,$B$7,Journal!$B:$B,\">=\"&'Detailed Stats'!BB$2,Journal!$B:$B, \"<=\"&'Detailed Stats'!BB$3)","v":0},{"$f":"SUMIFS(Journal!$N:$N,Journal!$A:$A,$B$7,Journal!$B:$B,\">=\"&'Detailed Stats'!BC$2,Journal!$B:$B, \"<=\"&'Detailed Stats'!BC$3)","v":0},{"$f":"SUMIFS(Journal!$N:$N,Journal!$A:$A,$B$7,Journal!$B:$B,\">=\"&'Detailed Stats'!BD$2,Journal!$B:$B, \"<=\"&'Detailed Stats'!BD$3)","v":0},{"$f":"SUMIFS(Journal!$N:$N,Journal!$A:$A,$B$7,Journal!$B:$B,\">=\"&'Detailed Stats'!BE$2,Journal!$B:$B, \"<=\"&'Detailed Stats'!BE$3)","v":0}]
[null,"Thu",{"$f":"SUMIFS(Journal!$N:$N,Journal!$A:$A,'Detailed Stats'!B56)","v":0},null,{"$f":"B56","v":"Thu"},{"$f":"SUMIFS(Journal!$N:$N,Journal!$A:$A,$B$8,Journal!$B:$B,\">=\"&'Detailed Stats'!F$2,Journal!$B:$B, \"<=\"&'Detailed Stats'!F$3)","v":0},{"$f":"SUMIFS(Journal!$N:$N,Journal!$A:$A,$B$8,Journal!$B:$B,\">=\"&'Detailed Stats'!G$2,Journal!$B:$B, \"<=\"&'Detailed Stats'!G$3)","v":0},{"$f":"SUMIFS(Journal!$N:$N,Journal!$A:$A,$B$8,Journal!$B:$B,\">=\"&'Detailed Stats'!H$2,Journal!$B:$B, \"<=\"&'Detailed Stats'!H$3)","v":0},{"$f":"SUMIFS(Journal!$N:$N,Journal!$A:$A,$B$8,Journal!$B:$B,\">=\"&'Detailed Stats'!I$2,Journal!$B:$B, \"<=\"&'Detailed Stats'!I$3)","v":0},{"$f":"SUMIFS(Journal!$N:$N,Journal!$A:$A,$B$8,Journal!$B:$B,\">=\"&'Detailed Stats'!J$2,Journal!$B:$B, \"<=\"&'Detailed Stats'!J$3)","v":0},{"$f":"SUMIFS(Journal!$N:$N,Journal!$A:$A,$B$8,Journal!$B:$B,\">=\"&'Detailed Stats'!K$2,Journal!$B:$B, \"<=\"&'Detailed Stats'!K$3)","v":0},{"$f":"SUMIFS(Journal!$N:$N,Journal!$A:$A,$B$8,Journal!$B:$B,\">=\"&'Detailed Stats'!L$2,Journal!$B:$B, \"<=\"&'Detailed Stats'!L$3)","v":0},{"$f":"SUMIFS(Journal!$N:$N,Journal!$A:$A,$B$8,Journal!$B:$B,\">=\"&'Detailed Stats'!M$2,Journal!$B:$B, \"<=\"&'Detailed Stats'!M$3)","v":0},{"$f":"SUMIFS(Journal!$N:$N,Journal!$A:$A,$B$8,Journal!$B:$B,\">=\"&'Detailed Stats'!N$2,Journal!$B:$B, \"<=\"&'Detailed Stats'!N$3)","v":0},{"$f":"SUMIFS(Journal!$N:$N,Journal!$A:$A,$B$8,Journal!$B:$B,\">=\"&'Detailed Stats'!O$2,Journal!$B:$B, \"<=\"&'Detailed Stats'!O$3)","v":0},{"$f":"SUMIFS(Journal!$N:$N,Journal!$A:$A,$B$8,Journal!$B:$B,\">=\"&'Detailed Stats'!P$2,Journal!$B:$B, \"<=\"&'Detailed Stats'!P$3)","v":0},{"$f":"SUMIFS(Journal!$N:$N,Journal!$A:$A,$B$8,Journal!$B:$B,\">=\"&'Detailed Stats'!Q$2,Journal!$B:$B, \"<=\"&'Detailed Stats'!Q$3)","v":0},{"$f":"SUMIFS(Journal!$N:$N,Journal!$A:$A,$B$8,Journal!$B:$B,\">=\"&'Detailed Stats'!R$2,Journal!$B:$B, \"<=\"&'Detailed Stats'!R$3)","v":0},{"$f":"SUMIFS(Journal!$N:$N,Journal!$A:$A,$B$8,Journal!$B:$B,\">=\"&'Detailed Stats'!S$2,Journal!$B:$B, \"<=\"&'Detailed Stats'!S$3)","v":0},{"$f":"SUMIFS(Journal!$N:$N,Journal!$A:$A,$B$8,Journal!$B:$B,\">=\"&'Detailed Stats'!T$2,Journal!$B:$B, \"<=\"&'Detailed Stats'!T$3)","v":0},{"$f":"SUMIFS(Journal!$N:$N,Journal!$A:$A,$B$8,Journal!$B:$B,\">=\"&'Detailed Stats'!U$2,Journal!$B:$B, \"<=\"&'Detailed Stats'!U$3)","v":0},{"$f":"SUMIFS(Journal!$N:$N,Journal!$A:$A,$B$8,Journal!$B:$B,\">=\"&'Detailed Stats'!V$2,Journal!$B:$B, \"<=\"&'Detailed Stats'!V$3)","v":0},{"$f":"SUMIFS(Journal!$N:$N,Journal!$A:$A,$B$8,Journal!$B:$B,\">=\"&'Detailed Stats'!W$2,Journal!$B:$B, \"<=\"&'Detailed Stats'!W$3)","v":0},{"$f":"SUMIFS(Journal!$N:$N,Journal!$A:$A,$B$8,Journal!$B:$B,\">=\"&'Detailed Stats'!X$2,Journal!$B:$B, \"<=\"&'Detailed Stats'!X$3)","v":0},{"$f":"SUMIFS(Journal!$N:$N,Journal!$A:$A,$B$8,Journal!$B:$B,\">=\"&'Detailed Stats'!Y$2,Journal!$B:$B, \"<=\"&'Detailed Stats'!Y$3)","v":0},{"$f":"SUMIFS(Journal!$N:$N,Journal!$A:$A,$B$8,Journal!$B:$B,\">=\"&'Detailed Stats'!Z$2,Journal!$B:$B, \"<=\"&'Detailed Stats'!Z$3)","v":0},{"$f":"SUMIFS(Journal!$N:$N,Journal!$A:$A,$B$8,Journal!$B:$B,\">=\"&'Detailed Stats'!AA$2,Journal!$B:$B, \"<=\"&'Detailed Stats'!AA$3)","v":0},{"$f":"SUMIFS(Journal!$N:$N,Journal!$A:$A,$B$8,Journal!$B:$B,\">=\"&'Detailed Stats'!AB$2,Journal!$B:$B, \"<=\"&'Detailed Stats'!AB$3)","v":0},{"$f":"SUMIFS(Journal!$N:$N,Journal!$A:$A,$B$8,Journal!$B:$B,\">=\"&'Detailed Stats'!AC$2,Journal!$B:$B, \"<=\"&'Detailed Stats'!AC$3)","v":0},{"$f":"SUMIFS(Journal!$N:$N,Journal!$A:$A,$B$8,Journal!$B:$B,\">=\"&'Detailed Stats'!AD$2,Journal!$B:$B, \"<=\"&'Detailed Stats'!AD$3)","v":0},{"$f":"SUMIFS(Journal!$N:$N,Journal!$A:$A,$B$8,Journal!$B:$B,\">=\"&'Detailed Stats'!AE$2,Journal!$B:$B, \"<=\"&'Detailed Stats'!AE$3)","v":0},{"$f":"SUMIFS(Journal!$N:$N,Journal!$A:$A,$B$8,Journal!$B:$B,\">=\"&'Detailed Stats'!AF$2,Journal!$B:$B, \"<=\"&'Detailed Stats'!AF$3)","v":0},{"$f":"SUMIFS(Journal!$N:$N,Journal!$A:$A,$B$8,Journal!$B:$B,\">=\"&'Detailed Stats'!AG$2,Journal!$B:$B, \"<=\"&'Detailed Stats'!AG$3)","v":0},{"$f":"SUMIFS(Journal!$N:$N,Journal!$A:$A,$B$8,Journal!$B:$B,\">=\"&'Detailed Stats'!AH$2,Journal!$B:$B, \"<=\"&'Detailed Stats'!AH$3)","v":0},{"$f":"SUMIFS(Journal!$N:$N,Journal!$A:$A,$B$8,Journal!$B:$B,\">=\"&'Detailed Stats'!AI$2,Journal!$B:$B, \"<=\"&'Detailed Stats'!AI$3)","v":0},{"$f":"SUMIFS(Journal!$N:$N,Journal!$A:$A,$B$8,Journal!$B:$B,\">=\"&'Detailed Stats'!AJ$2,Journal!$B:$B, \"<=\"&'Detailed Stats'!AJ$3)","v":0},{"$f":"SUMIFS(Journal!$N:$N,Journal!$A:$A,$B$8,Journal!$B:$B,\">=\"&'Detailed Stats'!AK$2,Journal!$B:$B, \"<=\"&'Detailed Stats'!AK$3)","v":0},{"$f":"SUMIFS(Journal!$N:$N,Journal!$A:$A,$B$8,Journal!$B:$B,\">=\"&'Detailed Stats'!AL$2,Journal!$B:$B, \"<=\"&'Detailed Stats'!AL$3)","v":0},{"$f":"SUMIFS(Journal!$N:$N,Journal!$A:$A,$B$8,Journal!$B:$B,\">=\"&'Detailed Stats'!AM$2,Journal!$B:$B, \"<=\"&'Detailed Stats'!AM$3)","v":0},{"$f":"SUMIFS(Journal!$N:$N,Journal!$A:$A,$B$8,Journal!$B:$B,\">=\"&'Detailed Stats'!AN$2,Journal!$B:$B, \"<=\"&'Detailed Stats'!AN$3)","v":0},{"$f":"SUMIFS(Journal!$N:$N,Journal!$A:$A,$B$8,Journal!$B:$B,\">=\"&'Detailed Stats'!AO$2,Journal!$B:$B, \"<=\"&'Detailed Stats'!AO$3)","v":0},{"$f":"SUMIFS(Journal!$N:$N,Journal!$A:$A,$B$8,Journal!$B:$B,\">=\"&'Detailed Stats'!AP$2,Journal!$B:$B, \"<=\"&'Detailed Stats'!AP$3)","v":0},{"$f":"SUMIFS(Journal!$N:$N,Journal!$A:$A,$B$8,Journal!$B:$B,\">=\"&'Detailed Stats'!AQ$2,Journal!$B:$B, \"<=\"&'Detailed Stats'!AQ$3)","v":0},{"$f":"SUMIFS(Journal!$N:$N,Journal!$A:$A,$B$8,Journal!$B:$B,\">=\"&'Detailed Stats'!AR$2,Journal!$B:$B, \"<=\"&'Detailed Stats'!AR$3)","v":0},{"$f":"SUMIFS(Journal!$N:$N,Journal!$A:$A,$B$8,Journal!$B:$B,\">=\"&'Detailed Stats'!AS$2,Journal!$B:$B, \"<=\"&'Detailed Stats'!AS$3)","v":0},{"$f":"SUMIFS(Journal!$N:$N,Journal!$A:$A,$B$8,Journal!$B:$B,\">=\"&'Detailed Stats'!AT$2,Journal!$B:$B, \"<=\"&'Detailed Stats'!AT$3)","v":0},{"$f":"SUMIFS(Journal!$N:$N,Journal!$A:$A,$B$8,Journal!$B:$B,\">=\"&'Detailed Stats'!AU$2,Journal!$B:$B, \"<=\"&'Detailed Stats'!AU$3)","v":0},{"$f":"SUMIFS(Journal!$N:$N,Journal!$A:$A,$B$8,Journal!$B:$B,\">=\"&'Detailed Stats'!AV$2,Journal!$B:$B, \"<=\"&'Detailed Stats'!AV$3)","v":0},{"$f":"SUMIFS(Journal!$N:$N,Journal!$A:$A,$B$8,Journal!$B:$B,\">=\"&'Detailed Stats'!AW$2,Journal!$B:$B, \"<=\"&'Detailed Stats'!AW$3)","v":0},{"$f":"SUMIFS(Journal!$N:$N,Journal!$A:$A,$B$8,Journal!$B:$B,\">=\"&'Detailed Stats'!AX$2,Journal!$B:$B, \"<=\"&'Detailed Stats'!AX$3)","v":0},{"$f":"SUMIFS(Journal!$N:$N,Journal!$A:$A,$B$8,Journal!$B:$B,\">=\"&'Detailed Stats'!AY$2,Journal!$B:$B, \"<=\"&'Detailed Stats'!AY$3)","v":0},{"$f":"SUMIFS(Journal!$N:$N,Journal!$A:$A,$B$8,Journal!$B:$B,\">=\"&'Detailed Stats'!AZ$2,Journal!$B:$B, \"<=\"&'Detailed Stats'!AZ$3)","v":0},{"$f":"SUMIFS(Journal!$N:$N,Journal!$A:$A,$B$8,Journal!$B:$B,\">=\"&'Detailed Stats'!BA$2,Journal!$B:$B, \"<=\"&'Detailed Stats'!BA$3)","v":0},{"$f":"SUMIFS(Journal!$N:$N,Journal!$A:$A,$B$8,Journal!$B:$B,\">=\"&'Detailed Stats'!BB$2,Journal!$B:$B, \"<=\"&'Detailed Stats'!BB$3)","v":0},{"$f":"SUMIFS(Journal!$N:$N,Journal!$A:$A,$B$8,Journal!$B:$B,\">=\"&'Detailed Stats'!BC$2,Journal!$B:$B, \"<=\"&'Detailed Stats'!BC$3)","v":0},{"$f":"SUMIFS(Journal!$N:$N,Journal!$A:$A,$B$8,Journal!$B:$B,\">=\"&'Detailed Stats'!BD$2,Journal!$B:$B, \"<=\"&'Detailed Stats'!BD$3)","v":0},{"$f":"SUMIFS(Journal!$N:$N,Journal!$A:$A,$B$8,Journal!$B:$B,\">=\"&'Detailed Stats'!BE$2,Journal!$B:$B, \"<=\"&'Detailed Stats'!BE$3)","v":0}]
[null,"Fri",{"$f":"SUMIFS(Journal!$N:$N,Journal!$A:$A,'Detailed Stats'!B57)","v":0},null,{"$f":"B57","v":"Fri"},{"$f":"SUMIFS(Journal!$N:$N,Journal!$A:$A,$B$9,Journal!$B:$B,\">=\"&'Detailed Stats'!F$2,Journal!$B:$B, \"<=\"&'Detailed Stats'!F$3)","v":0},{"$f":"SUMIFS(Journal!$N:$N,Journal!$A:$A,$B$9,Journal!$B:$B,\">=\"&'Detailed Stats'!G$2,Journal!$B:$B, \"<=\"&'Detailed Stats'!G$3)","v":0},{"$f":"SUMIFS(Journal!$N:$N,Journal!$A:$A,$B$9,Journal!$B:$B,\">=\"&'Detailed Stats'!H$2,Journal!$B:$B, \"<=\"&'Detailed Stats'!H$3)","v":0},{"$f":"SUMIFS(Journal!$N:$N,Journal!$A:$A,$B$9,Journal!$B:$B,\">=\"&'Detailed Stats'!I$2,Journal!$B:$B, \"<=\"&'Detailed Stats'!I$3)","v":0},{"$f":"SUMIFS(Journal!$N:$N,Journal!$A:$A,$B$9,Journal!$B:$B,\">=\"&'Detailed Stats'!J$2,Journal!$B:$B, \"<=\"&'Detailed Stats'!J$3)","v":0},{"$f":"SUMIFS(Journal!$N:$N,Journal!$A:$A,$B$9,Journal!$B:$B,\">=\"&'Detailed Stats'!K$2,Journal!$B:$B, \"<=\"&'Detailed Stats'!K$3)","v":0},{"$f":"SUMIFS(Journal!$N:$N,Journal!$A:$A,$B$9,Journal!$B:$B,\">=\"&'Detailed Stats'!L$2,Journal!$B:$B, \"<=\"&'Detailed Stats'!L$3)","v":0},{"$f":"SUMIFS(Journal!$N:$N,Journal!$A:$A,$B$9,Journal!$B:$B,\">=\"&'Detailed Stats'!M$2,Journal!$B:$B, \"<=\"&'Detailed Stats'!M$3)","v":0},{"$f":"SUMIFS(Journal!$N:$N,Journal!$A:$A,$B$9,Journal!$B:$B,\">=\"&'Detailed Stats'!N$2,Journal!$B:$B, \"<=\"&'Detailed Stats'!N$3)","v":0},{"$f":"SUMIFS(Journal!$N:$N,Journal!$A:$A,$B$9,Journal!$B:$B,\">=\"&'Detailed Stats'!O$2,Journal!$B:$B, \"<=\"&'Detailed Stats'!O$3)","v":0},{"$f":"SUMIFS(Journal!$N:$N,Journal!$A:$A,$B$9,Journal!$B:$B,\">=\"&'Detailed Stats'!P$2,Journal!$B:$B, \"<=\"&'Detailed Stats'!P$3)","v":0},{"$f":"SUMIFS(Journal!$N:$N,Journal!$A:$A,$B$9,Journal!$B:$B,\">=\"&'Detailed Stats'!Q$2,Journal!$B:$B, \"<=\"&'Detailed Stats'!Q$3)","v":0},{"$f":"SUMIFS(Journal!$N:$N,Journal!$A:$A,$B$9,Journal!$B:$B,\">=\"&'Detailed Stats'!R$2,Journal!$B:$B, \"<=\"&'Detailed Stats'!R$3)","v":0},{"$f":"SUMIFS(Journal!$N:$N,Journal!$A:$A,$B$9,Journal!$B:$B,\">=\"&'Detailed Stats'!S$2,Journal!$B:$B, \"<=\"&'Detailed Stats'!S$3)","v":0},{"$f":"SUMIFS(Journal!$N:$N,Journal!$A:$A,$B$9,Journal!$B:$B,\">=\"&'Detailed Stats'!T$2,Journal!$B:$B, \"<=\"&'Detailed Stats'!T$3)","v":0},{"$f":"SUMIFS(Journal!$N:$N,Journal!$A:$A,$B$9,Journal!$B:$B,\">=\"&'Detailed Stats'!U$2,Journal!$B:$B, \"<=\"&'Detailed Stats'!U$3)","v":0},{"$f":"SUMIFS(Journal!$N:$N,Journal!$A:$A,$B$9,Journal!$B:$B,\">=\"&'Detailed Stats'!V$2,Journal!$B:$B, \"<=\"&'Detailed Stats'!V$3)","v":0},{"$f":"SUMIFS(Journal!$N:$N,Journal!$A:$A,$B$9,Journal!$B:$B,\">=\"&'Detailed Stats'!W$2,Journal!$B:$B, \"<=\"&'Detailed Stats'!W$3)","v":0},{"$f":"SUMIFS(Journal!$N:$N,Journal!$A:$A,$B$9,Journal!$B:$B,\">=\"&'Detailed Stats'!X$2,Journal!$B:$B, \"<=\"&'Detailed Stats'!X$3)","v":0},{"$f":"SUMIFS(Journal!$N:$N,Journal!$A:$A,$B$9,Journal!$B:$B,\">=\"&'Detailed Stats'!Y$2,Journal!$B:$B, \"<=\"&'Detailed Stats'!Y$3)","v":0},{"$f":"SUMIFS(Journal!$N:$N,Journal!$A:$A,$B$9,Journal!$B:$B,\">=\"&'Detailed Stats'!Z$2,Journal!$B:$B, \"<=\"&'Detailed Stats'!Z$3)","v":0},{"$f":"SUMIFS(Journal!$N:$N,Journal!$A:$A,$B$9,Journal!$B:$B,\">=\"&'Detailed Stats'!AA$2,Journal!$B:$B, \"<=\"&'Detailed Stats'!AA$3)","v":0},{"$f":"SUMIFS(Journal!$N:$N,Journal!$A:$A,$B$9,Journal!$B:$B,\">=\"&'Detailed Stats'!AB$2,Journal!$B:$B, \"<=\"&'Detailed Stats'!AB$3)","v":0},{"$f":"SUMIFS(Journal!$N:$N,Journal!$A:$A,$B$9,Journal!$B:$B,\">=\"&'Detailed Stats'!AC$2,Journal!$B:$B, \"<=\"&'Detailed Stats'!AC$3)","v":0},{"$f":"SUMIFS(Journal!$N:$N,Journal!$A:$A,$B$9,Journal!$B:$B,\">=\"&'Detailed Stats'!AD$2,Journal!$B:$B, \"<=\"&'Detailed Stats'!AD$3)","v":0},{"$f":"SUMIFS(Journal!$N:$N,Journal!$A:$A,$B$9,Journal!$B:$B,\">=\"&'Detailed Stats'!AE$2,Journal!$B:$B, \"<=\"&'Detailed Stats'!AE$3)","v":0},{"$f":"SUMIFS(Journal!$N:$N,Journal!$A:$A,$B$9,Journal!$B:$B,\">=\"&'Detailed Stats'!AF$2,Journal!$B:$B, \"<=\"&'Detailed Stats'!AF$3)","v":0},{"$f":"SUMIFS(Journal!$N:$N,Journal!$A:$A,$B$9,Journal!$B:$B,\">=\"&'Detailed Stats'!AG$2,Journal!$B:$B, \"<=\"&'Detailed Stats'!AG$3)","v":0},{"$f":"SUMIFS(Journal!$N:$N,Journal!$A:$A,$B$9,Journal!$B:$B,\">=\"&'Detailed Stats'!AH$2,Journal!$B:$B, \"<=\"&'Detailed Stats'!AH$3)","v":0},{"$f":"SUMIFS(Journal!$N:$N,Journal!$A:$A,$B$9,Journal!$B:$B,\">=\"&'Detailed Stats'!AI$2,Journal!$B:$B, \"<=\"&'Detailed Stats'!AI$3)","v":0},{"$f":"SUMIFS(Journal!$N:$N,Journal!$A:$A,$B$9,Journal!$B:$B,\">=\"&'Detailed Stats'!AJ$2,Journal!$B:$B, \"<=\"&'Detailed Stats'!AJ$3)","v":0},{"$f":"SUMIFS(Journal!$N:$N,Journal!$A:$A,$B$9,Journal!$B:$B,\">=\"&'Detailed Stats'!AK$2,Journal!$B:$B, \"<=\"&'Detailed Stats'!AK$3)","v":0},{"$f":"SUMIFS(Journal!$N:$N,Journal!$A:$A,$B$9,Journal!$B:$B,\">=\"&'Detailed Stats'!AL$2,Journal!$B:$B, \"<=\"&'Detailed Stats'!AL$3)","v":0},{"$f":"SUMIFS(Journal!$N:$N,Journal!$A:$A,$B$9,Journal!$B:$B,\">=\"&'Detailed Stats'!AM$2,Journal!$B:$B, \"<=\"&'Detailed Stats'!AM$3)","v":0},{"$f":"SUMIFS(Journal!$N:$N,Journal!$A:$A,$B$9,Journal!$B:$B,\">=\"&'Detailed Stats'!AN$2,Journal!$B:$B, \"<=\"&'Detailed Stats'!AN$3)","v":0},{"$f":"SUMIFS(Journal!$N:$N,Journal!$A:$A,$B$9,Journal!$B:$B,\">=\"&'Detailed Stats'!AO$2,Journal!$B:$B, \"<=\"&'Detailed Stats'!AO$3)","v":0},{"$f":"SUMIFS(Journal!$N:$N,Journal!$A:$A,$B$9,Journal!$B:$B,\">=\"&'Detailed Stats'!AP$2,Journal!$B:$B, \"<=\"&'Detailed Stats'!AP$3)","v":0},{"$f":"SUMIFS(Journal!$N:$N,Journal!$A:$A,$B$9,Journal!$B:$B,\">=\"&'Detailed Stats'!AQ$2,Journal!$B:$B, \"<=\"&'Detailed Stats'!AQ$3)","v":0},{"$f":"SUMIFS(Journal!$N:$N,Journal!$A:$A,$B$9,Journal!$B:$B,\">=\"&'Detailed Stats'!AR$2,Journal!$B:$B, \"<=\"&'Detailed Stats'!AR$3)","v":0},{"$f":"SUMIFS(Journal!$N:$N,Journal!$A:$A,$B$9,Journal!$B:$B,\">=\"&'Detailed Stats'!AS$2,Journal!$B:$B, \"<=\"&'Detailed Stats'!AS$3)","v":0},{"$f":"SUMIFS(Journal!$N:$N,Journal!$A:$A,$B$9,Journal!$B:$B,\">=\"&'Detailed Stats'!AT$2,Journal!$B:$B, \"<=\"&'Detailed Stats'!AT$3)","v":0},{"$f":"SUMIFS(Journal!$N:$N,Journal!$A:$A,$B$9,Journal!$B:$B,\">=\"&'Detailed Stats'!AU$2,Journal!$B:$B, \"<=\"&'Detailed Stats'!AU$3)","v":0},{"$f":"SUMIFS(Journal!$N:$N,Journal!$A:$A,$B$9,Journal!$B:$B,\">=\"&'Detailed Stats'!AV$2,Journal!$B:$B, \"<=\"&'Detailed Stats'!AV$3)","v":0},{"$f":"SUMIFS(Journal!$N:$N,Journal!$A:$A,$B$9,Journal!$B:$B,\">=\"&'Detailed Stats'!AW$2,Journal!$B:$B, \"<=\"&'Detailed Stats'!AW$3)","v":0},{"$f":"SUMIFS(Journal!$N:$N,Journal!$A:$A,$B$9,Journal!$B:$B,\">=\"&'Detailed Stats'!AX$2,Journal!$B:$B, \"<=\"&'Detailed Stats'!AX$3)","v":0},{"$f":"SUMIFS(Journal!$N:$N,Journal!$A:$A,$B$9,Journal!$B:$B,\">=\"&'Detailed Stats'!AY$2,Journal!$B:$B, \"<=\"&'Detailed Stats'!AY$3)","v":0},{"$f":"SUMIFS(Journal!$N:$N,Journal!$A:$A,$B$9,Journal!$B:$B,\">=\"&'Detailed Stats'!AZ$2,Journal!$B:$B, \"<=\"&'Detailed Stats'!AZ$3)","v":0},{"$f":"SUMIFS(Journal!$N:$N,Journal!$A:$A,$B$9,Journal!$B:$B,\">=\"&'Detailed Stats'!BA$2,Journal!$B:$B, \"<=\"&'Detailed Stats'!BA$3)","v":0},{"$f":"SUMIFS(Journal!$N:$N,Journal!$A:$A,$B$9,Journal!$B:$B,\">=\"&'Detailed Stats'!BB$2,Journal!$B:$B, \"<=\"&'Detailed Stats'!BB$3)","v":0},{"$f":"SUMIFS(Journal!$N:$N,Journal!$A:$A,$B$9,Journal!$B:$B,\">=\"&'Detailed Stats'!BC$2,Journal!$B:$B, \"<=\"&'Detailed Stats'!BC$3)","v":0},{"$f":"SUMIFS(Journal!$N:$N,Journal!$A:$A,$B$9,Journal!$B:$B,\">=\"&'Detailed Stats'!BD$2,Journal!$B:$B, \"<=\"&'Detailed Stats'!BD$3)","v":0},{"$f":"SUMIFS(Journal!$N:$N,Journal!$A:$A,$B$9,Journal!$B:$B,\">=\"&'Detailed Stats'!BE$2,Journal!$B:$B, \"<=\"&'Detailed Stats'!BE$3)","v":0}]
[null,"TOTAL",{"$f":"SUM(C53:C57)","v":25.380000000000003},null,null,{"$f":"SUM(F53:F57)","v":0},0,0,0,0,0,0,0,0,0,0,0,0,0,0,0,0,0,0,0,0,0,0,0,0,0,0,0,0,0,0,0,0,0,0,0,0,0,0,0,0,0,0,0,0,0,0,0,0,0,0,0]
[null,null,null,null,"Avg daily",{"$f":"IFERROR(AVERAGEIF(F53:F57,\"<>0\"),\"\")","v":""},{"$f":"IFERROR(AVERAGEIF(G53:G57,\"<>0\"),\"\")","v":""},"","","","","","","","","","","","","","","","","","","","","","","","","","","","","","","","","","","","","","","","","","","","","","","","","",""]

{"sheet":"Updating Fields","index":24,"n_rows":36,"n_cols":4,"rows_kept":36,"cut":false,"hidden":false,"merged":[[21,3,21,12],[34,3,34,12],[5,0,7,0],[7,3,7,12]]}
[null,null,null,"If you have any queries with any of the settings please email bart@daytradearcade.com"]
[null,null,"Instructions for increasing date range of 'Daily Net P&L' chart:"]
[null,null,"Part 1 -Changing Net P&L date range (line chart)"]
[null,null,1,"Go to worksheet 'RAW DATA-DON'T EDIT OR DELETE'"]
[null,null,2,"Find table titled \"For: DAILY NET P&L CHART + DAILY SNAPSHOT\""]
[null,null,3,"Scroll down to desired date, noting the row number (eg 259)"]
[null,null,4,"Go to worksheet \"Stats\" and click the chart line showing P&L (data points should appear selected)"]
[null,null,5,"In the formula bar change $J$91 to the desired row number. Note column needs to remain as J (ie $J$350). Make sure cell reference is absolute (meaning it has $ marks before the row letter and after). i.e. $J$350"]
[null,null,6,"Click anywhere outside of the chart to confirm the action"]
[null,null,"Part 2 - Changing No. of trades date range (column chart)"]
[null,null,7,"Repeat steps 1-3. "]
[null,null,8,"Go to worksheet \"Stats\" and click the chart line showing no. of trades (data points should appear selected)"]
[null,null,9,"Repeat step 5.  This time the locked column must be L. eg L$350"]
[null,null,10,"Click anywhere outside of the chart to confirm the action"]
[]
[null,null,"Instructions for increasing date range of 'Cumulative Gross Profit (week on week)' chart"]
[null,null,"Part 1 -Changing Gross P&L date range (line chart)"]
[null,null,1,"Go to worksheet 'RAW DATA-DON'T EDIT OR DELETE'"]
[null,null,2,"Find table titled \"For: CUMULATIVE GROSS PROFIT CHART\""]
[null,null,3,"Scroll down to desired date, noting the row number (eg 259)"]
[null,null,4,"Go to worksheet \"Stats\" and click the chart line showing P&L (data points should appear selected)"]
[null,null,5,"In the formula bar change BOTH columns A and C to the same desired row number. Note columns need to remain as A and C. Make sure cell reference is absolute (meaning it has $ marks before the row letter and after). i.e. $A$350 and $C$350. Both columns should have the same row number"]
[null,null,6,"Click anywhere outside of the chart to confirm the action"]
[null,null,"Part 2 - Changing Weekly P&L (column chart)"]
[null,null,7,"Repeat steps 1-3. "]
[null,null,8,"Go to worksheet \"Stats\" and click the column chart showing no. of weeks (data points should appear selected)"]
[null,null,9,"Repeat step 5.  This time the locked columns must be A nd B, i.e. $A$50 and $B$50. Both columns should have the same row number"]
[null,null,10,"Click anywhere outside of the chart to confirm the action"]
[]
[null,null,"Instructions for increasing no. of trades of 'Net Equity Curve v No. of trades' chart"]
[null,null,1,"Go to worksheet 'RAW DATA-DON'T EDIT OR DELETE'"]
[null,null,2,"Find table titled \"EQUITY CURVE V NO. OF TRADES\""]
[null,null,3,"Scroll down to desired trade no. noting the row number (eg 259)"]
[null,null,4,"Go to worksheet \"Stats\" and click the chart line showing the net equity curve (data points should appear selected)"]
[null,null,5,"In the formula bar change BOTH columns S and V to the same desired row number. Note columns needs to remain as S and V. Make sure cell reference is absolute (meaning it has $ marks before the row letter and after). i.e. $S$350 and $V$350. Both columns should have the same row number"]
[null,null,6,"Click anywhere outside of the chart to confirm the action"]

{"sheet":"Demon Finder","index":25,"n_rows":100,"n_cols":100,"rows_kept":100,"cut":false,"hidden":false,"merged":[[18,11,18,12],[19,11,19,12],[20,11,20,12],[21,11,21,12],[23,2,24,11],[17,11,17,12],[0,0,0,12],[1,0,2,12],[8,11,8,12],[9,11,9,12],[10,11,10,12],[11,11,11,12],[12,11,12,12],[13,11,13,12],[14,11,14,12],[15,11,15,12],[16,11,16,12]]}
["Expired"]
["DEMON FINDER*",null,null,null,null,null,null,null,null,null,null,null,null,null,"How to complete the Demon Finder"]
[null,null,null,null,null,null,null,null,null,null,null,null,null,null,"1. Place a tick in the corresponding box each time I commit an error."]
["e.g.",null,null,null,null,null,null,null,null,null,null,null,null,null,"2. Determine which demon is outpacing the rest and KILL THAT DEMON as quickly as possible."]
["Date:","2018-06-15",null,null,null,null,null,null,null,null,null,null,null,null,"3. Once I have killed the worst demon move on the next one."]
["Symbol:","MU",null,null,null,null,null,null,null,null,null,null,null,null,"4. If I suffer the same demon 10 times in a row, I must stop and review why it is happening. Serious analysis is required."]
["Direction:","Long"]
["<enter your own demons below>"]
["Demon #",1,2,3,4,5,6,7,8,9,10,"STOP TRADING!",null,null,"The colour coding will show you where you have errors you need to focus on."]
["Fat fingers (entered wrong data on DAS)","Y","Y",null,null,null,null,null,null,null,null,{"$f":"COUNTIF(B10:K10, \"Y\")","v":2},null,null,null,"7 +will be RED - these are your most dangerous demons and need urgent attention."]
["Entered too soon",null,null,null,null,null,null,null,null,null,null,{"$f":"COUNTIF(B11:K11, \"Y\")","v":0},null,null,null,"4 to 6 will be ORANGE - these demons need a close eye as they may indicate danger."]
["Entered too late",null,null,null,null,null,null,null,null,null,null,{"$f":"COUNTIF(B12:K12, \"Y\")","v":0},null,null,null,"3 or less - will be in GREEN. These demons are under control - make sure they don't get out of hand!"]
["Exited too soon","Y",null,null,null,null,null,null,null,null,null,1]
["Exited too late",null,null,null,null,null,null,null,null,null,null,0]
["Trade against my rules","Y","Y","Y","Y","Y","Y","Y",null,null,null,7]
["Revenge Trading","Y","Y","Y","Y","Y","Y","Y","Y","Y","Y",10]
["Wrong position size","Y","Y","Y","Y","Y","Y","Y","Y",null,null,8]
["Didn’t take planned trade",null,null,null,null,null,null,null,null,null,null,0]
["Random Trade or no A+ setup",null,null,null,null,null,null,null,null,null,null,0]
["Not using major R/S when entering trade",null,null,null,null,null,null,null,null,null,null,0]
["Overmanagement once in trade",null,null,null,null,null,null,null,null,null,null,0]
["Averaging down!",null,null,null,null,null,null,null,null,null,null,0]
[]
[null,null,"DEMONS WILL DESTROY MY EDGE"]
[]
[]
[null,null,"Learn from my errors. It is the only way to achieve success."]
[]
[null,null,"My future of profitability depends on me killing the demons!"]
[]
[]
[]
[]
["*Credit to Tom for helping design this"]
[]
[]
[]
[]
[]
[]
[]
[]
[]
[]
[]
[]
[]
[]
[]
[]
[]
[]
[]
[]
[]
[]
[]
[]
[]
[]
[]
[]
[]
[]
[]
[]
[]
[]
[]
[]
[]
[]
[]
[]
[]
[]
[]
[]
[]
[]
[]
[]
[]
[]
[]
[]
[]
[]
[]
[]
[]
[]
[]
[]
[]
[]
[]
[]
[]
[null,null,null,null,null,null,null,null,null,null,null,null,null,null,null,null,null,null,null,null,null,null,null,null,null,null,null,null,null,null,null,null,null,null,null,null,null,null,null,null,null,null,null,null,null,null,null,null,null,null,null,null,null,null,null,null,null,null,null,null,null,null,null,null,null,null,null,null,null,null,null,null,null,null,null,null,null,null,null,null,null,null,null,null,null,null,null,null,null,null,null,null,null,null,null,null,null,null,null,43264.599652777797]

{"sheet":"About","index":26,"n_rows":18,"n_cols":6,"rows_kept":18,"cut":false,"hidden":false,"merged":[[7,1,7,3],[0,0,0,2],[2,0,2,16],[3,4,3,10],[5,0,5,2],[6,1,6,3],[10,0,10,2],[11,0,11,16],[12,0,12,16],[13,0,13,5],[17,5,17,14]]}
["What is Total Trader?"]
[]
["Total Trader is a trading journal designed over the course of 2017 and 2018. I scoured the web for a journal and even though I found a few good ones they didn’t exactly have what I needed. So  I decided to create my own – I took the best out of what I found and tailored it. \n\nTotal Trader is easy to use and contains a number of metrics to measure trading perfomance, including a journal, daily snapshot, dashboard and a number of reports and visual charts. It is mostly automated thanks to macros that enable a simple copy and paste of raw data before analysing it.\n\nAs part of any software, I know there can be enhancements made – I would be grateful for all comments you have regarding using it. Send me all good and bad! I will try to make it a better tool if I can.\n\nI spent about 200 hours designing and testing it including $200 for some programming. If you like it, I would be grateful for a donation via the Paypal link below."]
[]
[]
["Contact"]
["Blog:","http://daytradearcade.com"]
["Email:","bart@daytradearcade.com"]
[]
[]
["Credits"]
["I'm grateful to the following for their assistance with parts of the journal: Eric and Ryan for testing (Eric also with 'Trader Personality'), and Tom (Demon Finder). Thanks guys!"]
["I'm also grateful to a talented programmer who helped build the macros. If you need any excel work done please visit Imteyaz and tell him I sent you for a discount!"]
["https://www.freelancer.com/hireme/imteyazkhan85"]
[]
[]
[]
[null,null,null,null,null,"© Copyright 2018 Bart Puszko "]